{"text_format":"1","workbook":"xlsx","n_sheets":20,"sheets":["Brassage","Feuille de Brassage","Profil d'eau","Calculateur","Stock","Etiquettes","Profil matériel","Houblons","Levures","BJCCP","Paramètres","Feuil2","Feuil1","BJCCP (2)","Feuil3","Etiquettes longues","Feuill2","Listing ingrédients","Comptage cellulaire","Levures (2)"],"not_rendered":{"charts":0,"images":38,"macros":1,"external_links":2,"defined_names":18,"comments":6,"pivot_tables":0},"unopened":[],"bounds":{"document_bytes":16777216,"sheet_cells":100000,"rows_first":2000,"rows_last":500,"rows_between":2000,"halvings":0,"cell_chars":16384,"cell_head_chars":4096},"cells_cut":0,"cells_raw":0,"read":"whole","date_system":"1900"}

{"sheet":"Brassage","index":0,"n_rows":71,"n_cols":22,"rows_kept":71,"cut":false,"hidden":false,"merged":[[59,0,60,0],[43,0,56,0],[37,0,40,0],[23,0,29,0],[17,8,18,9],[17,10,18,11],[12,10,15,10],[11,10,11,11],[34,11,34,12],[13,0,17,0],[15,5,15,6],[16,5,16,6],[17,5,17,6],[16,2,17,2],[21,5,21,7],[31,0,32,0],[19,0,21,0],[37,1,37,2],[26,8,30,9],[20,8,24,9],[20,11,20,12],[19,3,19,4],[19,5,19,7],[23,10,24,10],[33,13,33,14],[22,11,22,12],[23,13,24,14],[0,15,0,21],[2,15,2,21],[3,15,4,15],[3,16,4,16],[3,17,4,17],[3,18,4,18],[3,19,4,19],[3,20,4,20],[3,21,4,21],[17,14,18,14],[2,12,2,13],[7,12,7,13],[5,12,5,13],[10,13,10,14],[17,13,18,13],[20,13,20,14],[28,13,28,14],[23,11,24,12],[27,11,27,12],[28,11,28,12],[8,9,8,10],[3,5,3,6],[4,5,4,6],[5,5,5,6],[6,5,6,6],[7,5,7,6],[8,5,8,6],[2,8,5,8],[12,7,13,7],[9,10,9,11],[9,5,9,6],[10,5,10,6],[10,10,10,12],[10,8,15,9],[8,12,8,13],[0,0,0,7],[0,8,0,14],[2,1,2,2],[3,1,3,2],[4,1,4,2],[2,9,2,10],[7,9,7,10],[4,9,4,10],[5,9,5,10],[4,12,4,13],[6,12,6,13],[2,5,2,7],[3,12,3,13],[5,0,5,1],[3,9,3,10],[6,9,6,10],[21,3,21,4],[61,1,61,2],[44,10,44,14],[39,10,43,10],[39,8,51,9],[41,1,41,2],[58,10,59,10],[58,12,58,13],[57,13,57,14],[39,5,39,6],[61,8,61,9],[54,13,54,14],[54,11,54,12],[55,13,55,14],[55,11,55,12],[53,13,53,14],[53,11,53,12],[39,1,39,2],[40,1,40,2],[60,1,60,2],[56,13,56,14],[56,11,56,12],[57,11,57,12],[34,13,34,14],[20,3,20,4],[53,8,60,9],[59,12,59,13],[59,1,59,2],[26,13,26,14],[22,13,22,14],[21,13,21,14],[32,13,32,14],[38,5,38,6],[37,5,37,6],[20,5,20,6],[32,8,36,9],[35,10,36,10],[35,11,36,12],[35,13,36,14],[38,1,38,2],[26,11,26,12],[21,11,21,12],[30,10,30,13],[27,13,27,14],[40,5,40,6],[41,5,41,6],[32,11,32,12],[33,11,33,12]]}
["# Projet - Weissbier exemple",null,null,null,null,null,null,null,{"$f":"A1","v":"# Projet - Weissbier exemple"},null,null,null,null,null,null,{"$f":"A1","v":"# Projet - Weissbier exemple"}]
[]
["Style","10A - Weissbier",null,{"$f":"VLOOKUP(Brassage!B3,BJCCP!A2:AC119,29,FALSE)","v":"10-German Wheat Beer"},"Brassin","BJCCP 2015 min/max",null,null,"Profil exemple","Température du malt",null,17,"Température cuve d'empatage",null,70.3,"Sels de brassage"]
["Volume",28,null,"DI",{"$f":"L28","v":1.05},{"$f":"IF($B$3=\"\",\"\",VLOOKUP($B$3,BJCCP!$A$1:$AH$119,2,FALSE))","v":1.044},null,{"$f":"IF($B$3=\"\",\"\",VLOOKUP($B$3,BJCCP!$A$1:$AH$119,3,FALSE))","v":1.052},null,"Humidité du malt",null,0.04,"c*m cuve empatage",null,{"$f":"5.83*500","v":2915},"Nom générique","Nomenclature UICPA","Formule chimique","Ajout en g/L","Ajout Empatage","Ajout Rinçage","Ajout Total"]
["Date","2023-10-15",null,"DF",{"$f":"IF(D5=\"DF\",L28-((L28-1)*MAX(E61,E62)),N62)","v":1.0115231},{"$f":"IF($B$3=\"\",\"\",VLOOKUP($B$3,BJCCP!$A$1:$AH$119,4,FALSE))","v":1.01},null,{"$f":"IF($B$3=\"\",\"\",VLOOKUP($B$3,BJCCP!$A$1:$AH$119,5,FALSE))","v":1.014},null,"Rétention grains",null,1,"Facteur correctif T°empatage",null,{"$f":"-((232.2934*(Brassage!$L$4*100)^2 -7471.1515*(Brassage!$L$4*100)+63999.0441)*0.5*Brassage!$H$34/1000)/((Brassage!$H$34/1000)*(23.9246*Brassage!$L$4*100+1585.0029)+Brassage!$M$10*4185)","v":-1.1584598880465786}]
["Rendement d'empatage",null,0.7,"Couleur",{"$f":"2.9396*((4.23*(C25*H25+C26*H26+C27*H27+C28*H28+C29*H29+C30*H30+C31*H31+C32*H32+C33*H33)/1000)/ L29 )^0.6859","v":12.373951200268424},{"$f":"IF($B$3=\"\",\"\",VLOOKUP($B$3,BJCCP!$A$1:$AH$119,6,FALSE))","v":3.94},null,{"$f":"IF($B$3=\"\",\"\",VLOOKUP($B$3,BJCCP!$A$1:$AH$119,7,FALSE))","v":11.82},null,"Durée d'ébulition",null,60,"Pertes cuve filtration",null,1,"Gypse","Sulfate de Calcium","CaSO4",{"$f":"'Profil d''eau'!C36","v":0.02},{"$f":"'Profil d''eau'!D36","v":0.51057707563025256},{"$f":"'Profil d''eau'!F36","v":0.31085764439108943},{"$f":"'Profil d''eau'!H36","v":0.82143472002134199}]
["Palier 1",66,60,"Amertume",{"$f":"H58","v":11.713368546101247},{"$f":"IF($B$3=\"\",\"\",VLOOKUP($B$3,BJCCP!$A$1:$AH$119,8,FALSE))","v":8},null,{"$f":"IF($B$3=\"\",\"\",VLOOKUP($B$3,BJCCP!$A$1:$AH$119,9,FALSE))","v":15},null,"% d'évaporation/h",null,0.1,"Pertes cuve ébu",null,0.5,"Sel de table","Chlorure de Sodium","NaCl",{"$f":"'Profil d''eau'!C37","v":0.03},{"$f":"'Profil d''eau'!D37","v":0.76586561344537885},{"$f":"'Profil d''eau'!F37","v":0.46628646658663414},{"$f":"'Profil d''eau'!H37","v":1.2321520800320129}]
["Palier 2",null,null,"ABV",{"$f":"IF(D8=\"ABV\",1000*(E4-E5)/7.6,(76.08*((E4+(L61/2.57452)/1000)-E5)/(1.775-(E4+(L61/2.57452)/1000))*(E5/0.794)))","v":5.0627500000000047},{"$f":"IF($B$3=\"\",\"\",VLOOKUP($B$3,BJCCP!$A$1:$AH$119,10,FALSE))","v":4.3},null,{"$f":"IF($B$3=\"\",\"\",VLOOKUP($B$3,BJCCP!$A$1:$AH$119,11,FALSE))","v":5.6},null,{"$f":"IFERROR(\"Ratio d'empatage (\"&ROUND(L9/(H34/1000),2)&\" max)\",\"Ratio d'empatage\")","v":"Ratio d'empatage (5,63 max)"},null,3.5,"Pertes cuve tampon",null,1,"Sel d'Epsom","Sulfate de Magnésium","MgSO4",{"$f":"'Profil d''eau'!C38","v":0.14000000000000001},{"$f":"'Profil d''eau'!D38","v":3.5740395294117686},{"$f":"'Profil d''eau'!F38","v":2.1760035107376261},{"$f":"'Profil d''eau'!H38","v":5.7500430401493947}]
["Palier 3",null,null,"vol CO2",3.6,{"$f":"IF($B$3=\"\",\"\",VLOOKUP($B$3,BJCCP!$A$1:$AH$119,20,FALSE))","v":3.3},null,{"$f":"IF($B$3=\"\",\"\",VLOOKUP($B$3,BJCCP!$A$1:$AH$119,21,FALSE))","v":4.3},null,"Volume d'eau total",null,{"$f":"M10+M18","v":41.071736001067102},"Pertes fermenteur",null,1,"E509","Chlorure de Calcium","CaCl2",{"$f":"'Profil d''eau'!C39","v":0.08},{"$f":"'Profil d''eau'!D39","v":2.0423083025210103},{"$f":"'Profil d''eau'!F39","v":1.2434305775643577},{"$f":"'Profil d''eau'!H39","v":3.285738880085368}]
["Mash-Out",null,null,"IBU/DI",{"$f":"E7/((E4-1)*1000)","v":0.23426737092202474},{"$f":"F7/((H4-1)*1000)","v":0.15384615384615372},null,{"$f":"H7/((F4-1)*1000)","v":0.34090909090909061},"Chauffe Directe",100,"Eau d'empatage",null,{"$f":"H34*L8/1000","v":25.52885378151263},"à",{"$f":"B7+O5+(((H34/1000)*(23.9246*L4*100+1585.0029))*(B7 - L3)+(O4*(B7-O3)))/(M10 *4185)","v":70.346635631598645},"Bicarbonate de soude","Hydrogénocarbonate de Sodium","NaHCO3",{"$f":"'Profil d''eau'!C40","v":0},{"$f":"'Profil d''eau'!D40","v":0},{"$f":"'Profil d''eau'!F40","v":0},{"$f":"'Profil d''eau'!H40","v":0}]
["Total hors MO",{"$f":"B7*C7/C11+B8*C8/C11+B9*C9/C11","v":66},{"$f":"SUM(C7:C9)","v":60},"RBR : IBU/RE",{"$f":"E7/(0.1808*(259-(259/E4))+(0.8192*(259-(259/E5))))","v":2.5206826527543011},{"$f":"F7/(0.1808*(259-(259/H4))+(0.8192*(259-(259/F5))))","v":1.8118513481113967},null,{"$f":"H7/(0.1808*(259-(259/F4))+(0.8192*(259-(259/H5))))","v":3.059371604281782},"Empatage",null,"Volume de la maische à l'empatage",null,null,{"$f":"IF(I10=\"Infusion\",H36/1000*1.65+(M10-H36/1000),H36/1000*1.65+(M10-H36/1000))","v":30.26992662665069},null,"Craie/Desacid/Blanc de Medon","Carbonate de Calcium","CaCO3",{"$f":"'Profil d''eau'!C41","v":0},{"$f":"'Profil d''eau'!D41","v":0},{"$f":"'Profil d''eau'!F41","v":0},{"$f":"'Profil d''eau'!H41","v":0}]
["x","x","x","x","x","x","x","x",null,null,"pH Ez-water",null,{"$f":"VLOOKUP(K12,F16:H18,3,FALSE)","v":5.5236836159313256},"ph réel"]
["BJCCP",{"$f":"IF($B$3=\"\",\"\",VLOOKUP($B$3,BJCCP!$A$1:$AH$119,22,FALSE))","v":"50-100"},{"$f":"IF($B$3=\"\",\"\",VLOOKUP($B$3,BJCCP!$A$1:$AH$119,23,FALSE))","v":"0-30"},{"$f":"IF($B$3=\"\",\"\",VLOOKUP($B$3,BJCCP!$A$1:$AH$119,24,FALSE))","v":"0-80"},{"$f":"IF($B$3=\"\",\"\",VLOOKUP($B$3,BJCCP!$A$1:$AH$119,25,FALSE))","v":"0-50"},{"$f":"IF($B$3=\"\",\"\",VLOOKUP($B$3,BJCCP!$A$1:$AH$119,26,FALSE))","v":"0-100"}," (0-250)","Profil utilisé",null,null,"Profil",{"$f":"A7","v":"Palier 1"},{"$f":"B7","v":66},{"$f":"IF(C7=0,\"\",C7)","v":60},{"$f":"IF($I$10=\"Chauffe Directe\",\"\",IF($I$10=\"Infusion\",M10,\"\"))","v":""}]
["Eau","Ca (50-150)","Mg (10-40)","Na (0-150)","SO4 (50-250)","Cl (0-250)","HCO3",null,null,null,null,{"$f":"A8","v":"Palier 2"},{"$f":"IF($I$10=\"Chauffe Directe\",IF(B8=0,\"\",B8),IF(B8=0,M13,B8))","v":""},{"$f":"IF(C8=0,\"\",C8)","v":""},{"$f":"IF($I$10=\"Chauffe Directe\",\"\",IF($I$10=\"Infusion\",((M14-M13)*(0.41*$H$34/1000+($M$10))/($J$10-M14)),(M14-M13)/($J$10-M13)*$N$11))","v":""},{"$f":"VLOOKUP(K12,F16:H18,2,FALSE)","v":0}]
[null,56.464399999999998,16.805399999999999,20.801699999999997,68.722200000000015,66.784599999999998,111,"Weissbier V2",null,null,null,{"$f":"A9","v":"Palier 3"},{"$f":"IF($I$10=\"Chauffe Directe\",IF(B9=0,\"\",B9),IF(B9=0,M14,B9))","v":""},{"$f":"IF(C9=0,\"\",C9)","v":""},{"$f":"IF($I$10=\"Chauffe Directe\",\"\",IF($I$10=\"Infusion\",((M15-M14)*(0.41*$H$34/1000+($O$13+O14))/(J10-M15)),(M15-M14)/($J$10-M14)*$N$11))","v":""}]
[null,{"$f":"B15/20","v":2.8232200000000001},{"$f":"C15/12.15","v":1.3831604938271604},"A. Totale","A. Résiduelle","pH 25°C",null,{"$f":"D34+H21*0.084","v":5.649110667629877},null,null,null,{"$f":"A10","v":"Mash-Out"},{"$f":"IF($I$10=\"Chauffe Directe\",IF(B10=0,\"\",B10),IF(B10=0,M15,B10))","v":""},{"$f":"IF(C10=0,\"\",C10)","v":""},{"$f":"IF($I$10=\"Chauffe Directe\",\"\",IF($I$10=\"Infusion\",((M16-M15)*(0.41*$H$34/1000+($O$13+O14+O15))/(J10-M16)),(M16-M15)/($J$10-M15)*$N$11))","v":""}]
[null,"ratio SO4/Cl",{"$f":"INDEX({\"Extrêmement maltée\";\"Très maltée\";\"Maltée\";\"Equilibrée\";\"Légèrement amère\";\"Amère\";\"Très amère\";\"Extrêmement amère\";\"Hors-Limites\"},MATCH(B18,{0;0.4;0.6;0.8;1.5;2;6;8;18},1))","v":"Equilibrée"},{"$f":"G15/1.22","v":90.983606557377058},{"$f":"D17-(B15/1.4+C15/1.7)","v":40.766362859898067},"pH 65°C",null,{"$f":"H16-0.35","v":5.2991106676298774},"x","x","x","x","x","x","x"]
[null,{"$f":"E15/F15","v":1.0290126765751388},null,{"$f":"G15/61","v":1.819672131147541},{"$f":"D18-(B16/3.5)-(C16/7)","v":0.81544348917223219},"pH Ez-water",null,{"$f":"D34+(0.1085*(M10/3.785412)/(H34*2.20462/1000)+0.013)*F21/50","v":5.5236836159313256},"Rinçage",null,"Eau de rinçage",null,{"$f":"IF($I$10=\"Infusion\",L23/(1+0.04)-SUM(O13:O16)+H34*L5/1000+O6,L23/(1+0.04)-M10+H34*L5/1000+O6)","v":15.542882219554471},"Densité fin de rinçage",null,{"$f":"IF($I$10=\"Infusion\",L23-O16+H34*L5/1000+O6,L23-M10+H34*L5/1000+O6)","v":16.853993330665581}]
["x","x","x","x","x","x","x","x",null,null,null,null,78]
["Acide Lactique","Concentration","Quantié","Alcalinité totale corrigée",null,"A. Résiduelle corrigée",null,null,"x","x","x","x","x","x","x"]
[null,0.88,7,{"$f":"D17-(176.1*B21*C21*2)/(M10*0.264172)","v":-230.71706221576909},null,{"$f":"D21-(B15/1.4+C15/1.7)","v":-280.93430591324807},null,{"$f":"E18-B22/M10","v":-2.4201110996443211},"Pré-ébullition",null,null,"Théorique",null,"Réel"]
[null,{"$f":"IFERROR(C21*VLOOKUP(B21,Paramètres!H45:I48,2,FALSE),0)","v":82.600000000000009},"BJCCP =>",{"$f":"IF($B$3=\"\",\"\",VLOOKUP($B$3,BJCCP!$A$1:$AH$119,27,FALSE))","v":"<100"},null,{"$f":"IF($B$3=\"\",\"\",VLOOKUP($B$3,BJCCP!$A$1:$AH$119,28,FALSE))","v":"30 - 30"},null,null,null,null,"Densité",{"$f":"1+(((E34*C6*H34))/(2.57452*L23)/1000)","v":1.0449999999999999},null,1.046]
["x","x","x","x","DI cible",1.05,"x","x",null,null,"Volume",{"$f":"((B4+O7+O8)/(1-L7*L6/60))*(1+0.04)","v":34.088888888888889},null,33]
["Grains","Type","EBC","pH","Rmax théo","% max","%","Poids",null,null,"Rendement d'empatage",{"$f":"C6","v":0.7},null,{"$f":"(2.57452*(N22-1)*N23*1000)/(H34*E34)","v":0.69269882659713167}]
[null,"Pale ale Swaen",{"$f":"IF(B25=\"\",0,VLOOKUP(B25,Paramètres!$A$1:$E$300,3,FALSE))","v":7.1},{"$f":"IF(B25=\"\",0,VLOOKUP(B25,Paramètres!$A$1:$E$300,5,FALSE))","v":5.7},{"$f":"IF(B25=\"\",0,VLOOKUP(B25,Paramètres!$A$1:$E$300,2,FALSE))","v":0.8},{"$f":"IF(B25=\"\",0,VLOOKUP(B25,Paramètres!$A$1:$E$300,4,FALSE))","v":1},0.49,{"$f":"((1000*($F$23-1)*2.57452*$L$29*$F$34/$F$36)/($C$6*$E$34))*G25/$G$34","v":3574.0395294117679}]
[null,"Froment - Vieux Silo",{"$f":"IF(B26=\"\",0,VLOOKUP(B26,Paramètres!$A$1:$E$300,3,FALSE))","v":4.5},{"$f":"IF(B26=\"\",0,VLOOKUP(B26,Paramètres!$A$1:$E$300,5,FALSE))","v":6.04},{"$f":"IF(B26=\"\",0,VLOOKUP(B26,Paramètres!$A$1:$E$300,2,FALSE))","v":0.75},{"$f":"IF(B26=\"\",0,VLOOKUP(B26,Paramètres!$A$1:$E$300,4,FALSE))","v":0.35},0.49,{"$f":"((1000*($F$23-1)*2.57452*$L$29*$F$34/$F$36)/($C$6*$E$34))*G26/$G$34","v":3574.0395294117679},"x","x","x","x","x","x","x"]
[null,"Cara Gold - Vieux Silo",{"$f":"IF(B27=\"\",0,VLOOKUP(B27,Paramètres!$A$1:$E$300,3,FALSE))","v":120},{"$f":"IF(B27=\"\",0,VLOOKUP(B27,Paramètres!$A$1:$E$300,5,FALSE))","v":4.99},{"$f":"IF(B27=\"\",0,VLOOKUP(B27,Paramètres!$A$1:$E$300,2,FALSE))","v":0.7},{"$f":"IF(B27=\"\",0,VLOOKUP(B27,Paramètres!$A$1:$E$300,4,FALSE))","v":0.2},0.02,{"$f":"((1000*($F$23-1)*2.57452*$L$29*$F$34/$F$36)/($C$6*$E$34))*G27/$G$34","v":145.87916446578646},"Post-ébullition",null,null,"Théorique",null,"Réel"]
[null,null,{"$f":"IF(B28=\"\",0,VLOOKUP(B28,Paramètres!$A$1:$E$300,3,FALSE))","v":0},{"$f":"IF(B28=\"\",0,VLOOKUP(B28,Paramètres!$A$1:$E$300,5,FALSE))","v":0},{"$f":"IF(B28=\"\",0,VLOOKUP(B28,Paramètres!$A$1:$E$300,2,FALSE))","v":0},{"$f":"IF(B28=\"\",0,VLOOKUP(B28,Paramètres!$A$1:$E$300,4,FALSE))","v":0},0,{"$f":"((1000*($F$23-1)*2.57452*$L$29*$F$34/$F$36)/($C$6*$E$34))*G28/$G$34","v":0},null,null,"Densité",{"$f":"1+(((E34*C6*H34)+(E32*H32+E33*H33))/(2.57452*L29)/1000)","v":1.05},null,1.0489999999999999]
[null,null,{"$f":"IF(B29=\"\",0,VLOOKUP(B29,Paramètres!$A$1:$E$300,3,FALSE))","v":0},{"$f":"IF(B29=\"\",0,VLOOKUP(B29,Paramètres!$A$1:$E$300,5,FALSE))","v":0},{"$f":"IF(B29=\"\",0,VLOOKUP(B29,Paramètres!$A$1:$E$300,2,FALSE))","v":0},{"$f":"IF(B29=\"\",0,VLOOKUP(B29,Paramètres!$A$1:$E$300,4,FALSE))","v":0},0,{"$f":"((1000*($F$23-1)*2.57452*$L$29*$F$34/$F$36)/($C$6*$E$34))*G29/$G$34","v":0},null,null,"Volume",{"$f":"L23*(1-L7*L6/60)","v":30.68},null,31]
[null,null,{"$f":"IF(B30=\"\",0,VLOOKUP(B30,Paramètres!$A$1:$E$300,3,FALSE))","v":0},{"$f":"IF(B30=\"\",0,VLOOKUP(B30,Paramètres!$A$1:$E$300,5,FALSE))","v":0},{"$f":"IF(B30=\"\",0,VLOOKUP(B30,Paramètres!$A$1:$E$300,2,FALSE))","v":0},{"$f":"IF(B30=\"\",0,VLOOKUP(B30,Paramètres!$A$1:$E$300,4,FALSE))","v":0},0,{"$f":"((1000*($F$23-1)*2.57452*$L$29*$F$34/$F$36)/($C$6*$E$34))*G30/$G$34","v":0},null,null,"Evaporation",{"$f":"L7*100","v":10},{"$f":"L7*L23*L6/60","v":3.4088888888888889},{"$f":"((N23-N29)/N23)*100*60/L6","v":6.0606060606060606},{"$f":"N30/100*N23","v":2}]
["Selon stock",null,{"$f":"IF(B31=\"\",0,VLOOKUP(B31,Paramètres!$A$1:$E$300,3,FALSE))","v":0},{"$f":"IF(B31=\"\",0,VLOOKUP(B31,Paramètres!$A$1:$E$300,5,FALSE))","v":0},{"$f":"IF(B31=\"\",0,VLOOKUP(B31,Paramètres!$A$1:$E$300,2,FALSE))","v":0},{"$f":"IF(B31=\"\",0,VLOOKUP(B31,Paramètres!$A$1:$E$300,4,FALSE))","v":0},0,{"$f":"((1000*($F$23-1)*2.57452*$L$29*$F$34/$F$36)/($C$6*$E$34))*G31/$G$34","v":0},null,null,"Vérif' : Différence quantité de sucre pré et post-ébu",null,null,null,{"$f":"((N22-1)*1000)*N23*2.57452-((N28-1)*1000)*N29*2.57452","v":-2.5745199999905708}]
["Sucres",null,{"$f":"IF(B32=\"\",0,VLOOKUP(B32,Paramètres!$F$18:$I$31,3,FALSE))","v":0},null,{"$f":"IF(B32=\"\",0,VLOOKUP(B32,Paramètres!$F$18:$I$31,2,FALSE))","v":0},null,0,{"$f":"IFERROR((1000*($F$23-1)*2.57452*$L$29*$F$35/$F$36*$E$35)*(G32/$G$35),0)","v":0},"x","x","x","x","x","x","x"]
[null,null,{"$f":"IF(B33=\"\",0,VLOOKUP(B33,Paramètres!$F$18:$I$31,3,FALSE))","v":0},null,{"$f":"IF(B33=\"\",0,VLOOKUP(B33,Paramètres!$F$18:$I$31,2,FALSE))","v":0},null,0,{"$f":"IFERROR((1000*($F$23-1)*2.57452*$L$29*$F$35/$F$36*$E$35)*(G33/$G$35),0)","v":0},"En fermenteur",null,null,"Théorique",null,"Réel"]
["Total","grains",{"$f":"2.9396*((4.23*(C25*H25+C26*H26+C27*H27+C28*H28+C29*H29+C30*H30+C31*H31)/1000)/ L29 )^0.6859","v":12.373951200268424},{"$f":"(D25*H25+D26*H26+D27*H27+D28*H28+D29*H29+D30*H30+D31*H31)/H34","v":5.8524000000000003},{"$f":"SUMPRODUCT(Tableau2[Rmax théo],Tableau2[%])/SUM(Tableau2[%])","v":0.77350000000000008},{"$f":"E34*C6*G34","v":0.54144999999999999},{"$f":"SUM(G25:G31)","v":1},{"$f":"SUM(H25:H31)","v":7293.9582232893226},null,null,"DI",{"$f":"L28","v":1.05},null,1.0489999999999999]
["Total","sucres",{"$f":"IFERROR(2.9396*((4.23*SUMPRODUCT(C32:C33,H32:H33)/1000)/ L29 )^0.6859,0)","v":0},null,{"$f":"IFERROR(SUMPRODUCT(E32:E33,G32:G33)/SUM(G32:G33),0)","v":0},{"$f":"IFERROR(G35/E35,0)","v":0},{"$f":"SUM(G32:G33)","v":0},{"$f":"SUM(H32:H33)","v":0},null,null,"Volume",{"$f":"L29/(1+0.04)-O8-O7","v":28},null,29]
["Total","général",{"$f":"2.9396*((4.23*SUMPRODUCT(C25:C33,H25:H33)/1000)/ L29 )^0.6859","v":12.373951200268424},{"$f":"SUMPRODUCT(D25:D31,H25:H31)/H34","v":5.8524000000000003},{"$f":"SUMPRODUCT(E25:E33,G25:G33)","v":0.77350000000000008},{"$f":"SUM(F34:F35)","v":0.54144999999999999},{"$f":"SUM(G34:G35)","v":1},{"$f":"SUM(H25:H33)","v":7293.9582232893226},null,null,"Efficacité du brassage",{"$f":"(2.57452*L35*(L34-1)*1000)/(E36*H36)","v":0.63885267275097768},null,{"$f":"(2.57452*N35*(N34-1)*1000)/(E36*H36)","v":0.64843546284224085}]
[]
["Autre","Type",null,"Utilisation","Durée","Quantité",null,"Notes"]
[null,null,null,null,null,null,null,null,"x","x","x","x","x","x","x",null,null,null,{"$f":"S36/G34*G33","v":0}]
[null,null,null,null,null,null,null,null,"Fermentation",null,"Profil","T°C","Durée","Fin théorique","Fin réelle"]
[null,null,null,null,null,null,null,null,null,null,null,21,21,{"$f":"B5+M41","v":"2023-11-05"},"2023-11-01"]
["Tous",null,null,null,null,null,null,null,null,null,null,2,2,{"$f":"IF(M42=\"\",\"\",N41+M42)","v":"2023-11-07"},"2023-11-06"]
["x","x","x","x","x","x","x","x",null,null,null,null,null,{"$f":"IF(M43=\"\",\"\",N42+M43)","v":""}]
["Houblons","Type","Acide Alpha","Utilisation","Durée","Poids","g/L","IBUs",null,null,null,null,null,{"$f":"IF(M44=\"\",\"\",N43+M44)","v":""},null,null,{"$f":"R42/(2.57452*L29)","v":0}]
[null,"Magnum",0.13900000000000001,"Ebullition",60,8,{"$f":"F45/$B$4","v":0.2857142857142857},{"$f":"IFERROR(IF(D45=\"Ebullition\",((1.65*(0.000125^($L$28-1))*((1-EXP(-0.04*E45))/4.15))*C45*F45*1000)/($L$29)*Paramètres!$H$2,IF(D45=\"DH\",((1.65*(0.000125^($L$28-1))*((1-EXP(-0.04*E45))/4.15))*C45*F45*1000)/($L$29)*Paramètres!$H$3,IF(D45=\"Hop-stand\",((1.65*(0.000125^($L$28-1))*((1-EXP(-0.04*E45))/4.15))*C45*F45*1000)/($L$29)*Paramètres!$H$4,IF(D45=\"FWH\",((1.65*(0.000125^($L$28-1))*((1-EXP(-0.04*E45))/4.15))*C45*F45*1000)/($L$29)*Paramètres!$H$5,IF(D45=\"Mash-hop\",((1.65*(0.000125^($L$28-1))*((1-EXP(-0.04*E45))/4.15))*C45*F45*1000)/($L$29)*Paramètres!$H$6,IF(D45=\"Flame-out\",((1.65*(0.000125^($L$28-1))*((1-EXP(-0.04*E45))/4.15))*C45*F45*1000)/($L$29)*Paramètres!$H$7,\"\")))))),0)","v":8.3604450424779095},null,null,"Suivi de la fermentation"]
[null,"Tettnanger",4.1000000000000002E-2,"Ebullition",10,30,{"$f":"F46/$B$4","v":1.0714285714285714},{"$f":"IFERROR(IF(D46=\"Ebullition\",((1.65*(0.000125^($L$28-1))*((1-EXP(-0.04*E46))/4.15))*C46*F46*1000)/($L$29)*Paramètres!$H$2,IF(D46=\"DH\",((1.65*(0.000125^($L$28-1))*((1-EXP(-0.04*E46))/4.15))*C46*F46*1000)/($L$29)*Paramètres!$H$3,IF(D46=\"Hop-stand\",((1.65*(0.000125^($L$28-1))*((1-EXP(-0.04*E46))/4.15))*C46*F46*1000)/($L$29)*Paramètres!$H$4,IF(D46=\"FWH\",((1.65*(0.000125^($L$28-1))*((1-EXP(-0.04*E46))/4.15))*C46*F46*1000)/($L$29)*Paramètres!$H$5,IF(D46=\"Mash-hop\",((1.65*(0.000125^($L$28-1))*((1-EXP(-0.04*E46))/4.15))*C46*F46*1000)/($L$29)*Paramètres!$H$6,IF(D46=\"Flame-out\",((1.65*(0.000125^($L$28-1))*((1-EXP(-0.04*E46))/4.15))*C46*F46*1000)/($L$29)*Paramètres!$H$7,\"\")))))),0)","v":3.3529235036233365},null,null,"Date","Brix","Densité","Atténuation","Progression"]
[null,null,null,null,null,null,0,{"$f":"IFERROR(IF(D47=\"Ebullition\",((1.65*(0.000125^($L$28-1))*((1-EXP(-0.04*E47))/4.15))*C47*F47*1000)/($L$29)*Paramètres!$H$2,IF(D47=\"DH\",((1.65*(0.000125^($L$28-1))*((1-EXP(-0.04*E47))/4.15))*C47*F47*1000)/($L$29)*Paramètres!$H$3,IF(D47=\"Hop-stand\",((1.65*(0.000125^($L$28-1))*((1-EXP(-0.04*E47))/4.15))*C47*F47*1000)/($L$29)*Paramètres!$H$4,IF(D47=\"FWH\",((1.65*(0.000125^($L$28-1))*((1-EXP(-0.04*E47))/4.15))*C47*F47*1000)/($L$29)*Paramètres!$H$5,IF(D47=\"Mash-hop\",((1.65*(0.000125^($L$28-1))*((1-EXP(-0.04*E47))/4.15))*C47*F47*1000)/($L$29)*Paramètres!$H$6,IF(D47=\"Flame-out\",((1.65*(0.000125^($L$28-1))*((1-EXP(-0.04*E47))/4.15))*C47*F47*1000)/($L$29)*Paramètres!$H$7,\"\")))))),0)","v":""},null,null,"2023-10-22",8,{"$f":"IF(L47=0,\"\",1-0.000856829*(-616.868 + 1111.14 * $N$34- 630.272 * $N$34^ 2+135.997 *$N$34^3)+0.00349412*(L47/1.04))","v":1.0164673170560161},{"$f":"IF(M47=\"\",\"\",($N$34-M47)/($N$34-1))","v":0.66393230497926248},{"$f":"IF(N47=\"\",\"\",N47/$L$57)","v":0.86276740717061606}]
[null,null,null,null,null,null,0,{"$f":"IFERROR(IF(D48=\"Ebullition\",((1.65*(0.000125^($L$28-1))*((1-EXP(-0.04*E48))/4.15))*C48*F48*1000)/($L$29)*Paramètres!$H$2,IF(D48=\"DH\",((1.65*(0.000125^($L$28-1))*((1-EXP(-0.04*E48))/4.15))*C48*F48*1000)/($L$29)*Paramètres!$H$3,IF(D48=\"Hop-stand\",((1.65*(0.000125^($L$28-1))*((1-EXP(-0.04*E48))/4.15))*C48*F48*1000)/($L$29)*Paramètres!$H$4,IF(D48=\"FWH\",((1.65*(0.000125^($L$28-1))*((1-EXP(-0.04*E48))/4.15))*C48*F48*1000)/($L$29)*Paramètres!$H$5,IF(D48=\"Mash-hop\",((1.65*(0.000125^($L$28-1))*((1-EXP(-0.04*E48))/4.15))*C48*F48*1000)/($L$29)*Paramètres!$H$6,IF(D48=\"Flame-out\",((1.65*(0.000125^($L$28-1))*((1-EXP(-0.04*E48))/4.15))*C48*F48*1000)/($L$29)*Paramètres!$H$7,\"\")))))),0)","v":""},null,null,"2023-10-29",6,1.0097478555175545,0.80106417311113187,1.0409676625600435]
[null,null,null,null,null,null,0,{"$f":"IFERROR(IF(D49=\"Ebullition\",((1.65*(0.000125^($L$28-1))*((1-EXP(-0.04*E49))/4.15))*C49*F49*1000)/($L$29)*Paramètres!$H$2,IF(D49=\"DH\",((1.65*(0.000125^($L$28-1))*((1-EXP(-0.04*E49))/4.15))*C49*F49*1000)/($L$29)*Paramètres!$H$3,IF(D49=\"Hop-stand\",((1.65*(0.000125^($L$28-1))*((1-EXP(-0.04*E49))/4.15))*C49*F49*1000)/($L$29)*Paramètres!$H$4,IF(D49=\"FWH\",((1.65*(0.000125^($L$28-1))*((1-EXP(-0.04*E49))/4.15))*C49*F49*1000)/($L$29)*Paramètres!$H$5,IF(D49=\"Mash-hop\",((1.65*(0.000125^($L$28-1))*((1-EXP(-0.04*E49))/4.15))*C49*F49*1000)/($L$29)*Paramètres!$H$6,IF(D49=\"Flame-out\",((1.65*(0.000125^($L$28-1))*((1-EXP(-0.04*E49))/4.15))*C49*F49*1000)/($L$29)*Paramètres!$H$7,\"\")))))),0)","v":""},null,null,"2023-11-01",6,1.0097478555175545,0.80106417311113187,1.0409676625600435]
[null,null,null,null,null,null,0,{"$f":"IFERROR(IF(D50=\"Ebullition\",((1.65*(0.000125^($L$28-1))*((1-EXP(-0.04*E50))/4.15))*C50*F50*1000)/($L$29)*Paramètres!$H$2,IF(D50=\"DH\",((1.65*(0.000125^($L$28-1))*((1-EXP(-0.04*E50))/4.15))*C50*F50*1000)/($L$29)*Paramètres!$H$3,IF(D50=\"Hop-stand\",((1.65*(0.000125^($L$28-1))*((1-EXP(-0.04*E50))/4.15))*C50*F50*1000)/($L$29)*Paramètres!$H$4,IF(D50=\"FWH\",((1.65*(0.000125^($L$28-1))*((1-EXP(-0.04*E50))/4.15))*C50*F50*1000)/($L$29)*Paramètres!$H$5,IF(D50=\"Mash-hop\",((1.65*(0.000125^($L$28-1))*((1-EXP(-0.04*E50))/4.15))*C50*F50*1000)/($L$29)*Paramètres!$H$6,IF(D50=\"Flame-out\",((1.65*(0.000125^($L$28-1))*((1-EXP(-0.04*E50))/4.15))*C50*F50*1000)/($L$29)*Paramètres!$H$7,\"\")))))),0)","v":""},null,null,null,null,"","",""]
[null,null,null,null,null,null,0,{"$f":"IFERROR(IF(D51=\"Ebullition\",((1.65*(0.000125^($L$28-1))*((1-EXP(-0.04*E51))/4.15))*C51*F51*1000)/($L$29)*Paramètres!$H$2,IF(D51=\"DH\",((1.65*(0.000125^($L$28-1))*((1-EXP(-0.04*E51))/4.15))*C51*F51*1000)/($L$29)*Paramètres!$H$3,IF(D51=\"Hop-stand\",((1.65*(0.000125^($L$28-1))*((1-EXP(-0.04*E51))/4.15))*C51*F51*1000)/($L$29)*Paramètres!$H$4,IF(D51=\"FWH\",((1.65*(0.000125^($L$28-1))*((1-EXP(-0.04*E51))/4.15))*C51*F51*1000)/($L$29)*Paramètres!$H$5,IF(D51=\"Mash-hop\",((1.65*(0.000125^($L$28-1))*((1-EXP(-0.04*E51))/4.15))*C51*F51*1000)/($L$29)*Paramètres!$H$6,IF(D51=\"Flame-out\",((1.65*(0.000125^($L$28-1))*((1-EXP(-0.04*E51))/4.15))*C51*F51*1000)/($L$29)*Paramètres!$H$7,\"\")))))),0)","v":""},null,null,null,null,"","",""]
[null,null,null,null,null,null,0,{"$f":"IFERROR(IF(D52=\"Ebullition\",((1.65*(0.000125^($L$28-1))*((1-EXP(-0.04*E52))/4.15))*C52*F52*1000)/($L$29)*Paramètres!$H$2,IF(D52=\"DH\",((1.65*(0.000125^($L$28-1))*((1-EXP(-0.04*E52))/4.15))*C52*F52*1000)/($L$29)*Paramètres!$H$3,IF(D52=\"Hop-stand\",((1.65*(0.000125^($L$28-1))*((1-EXP(-0.04*E52))/4.15))*C52*F52*1000)/($L$29)*Paramètres!$H$4,IF(D52=\"FWH\",((1.65*(0.000125^($L$28-1))*((1-EXP(-0.04*E52))/4.15))*C52*F52*1000)/($L$29)*Paramètres!$H$5,IF(D52=\"Mash-hop\",((1.65*(0.000125^($L$28-1))*((1-EXP(-0.04*E52))/4.15))*C52*F52*1000)/($L$29)*Paramètres!$H$6,IF(D52=\"Flame-out\",((1.65*(0.000125^($L$28-1))*((1-EXP(-0.04*E52))/4.15))*C52*F52*1000)/($L$29)*Paramètres!$H$7,\"\")))))),0)","v":""},null,null,null,null,"","",""]
[null,null,null,null,null,null,0,{"$f":"IFERROR(IF(D53=\"Ebullition\",((1.65*(0.000125^($L$28-1))*((1-EXP(-0.04*E53))/4.15))*C53*F53*1000)/($L$29)*Paramètres!$H$2,IF(D53=\"DH\",((1.65*(0.000125^($L$28-1))*((1-EXP(-0.04*E53))/4.15))*C53*F53*1000)/($L$29)*Paramètres!$H$3,IF(D53=\"Hop-stand\",((1.65*(0.000125^($L$28-1))*((1-EXP(-0.04*E53))/4.15))*C53*F53*1000)/($L$29)*Paramètres!$H$4,IF(D53=\"FWH\",((1.65*(0.000125^($L$28-1))*((1-EXP(-0.04*E53))/4.15))*C53*F53*1000)/($L$29)*Paramètres!$H$5,IF(D53=\"Mash-hop\",((1.65*(0.000125^($L$28-1))*((1-EXP(-0.04*E53))/4.15))*C53*F53*1000)/($L$29)*Paramètres!$H$6,IF(D53=\"Flame-out\",((1.65*(0.000125^($L$28-1))*((1-EXP(-0.04*E53))/4.15))*C53*F53*1000)/($L$29)*Paramètres!$H$7,\"\")))))),0)","v":""},"x","x","x","x","x","x","x"]
[null,null,null,null,null,null,0,{"$f":"IFERROR(IF(D54=\"Ebullition\",((1.65*(0.000125^($L$28-1))*((1-EXP(-0.04*E54))/4.15))*C54*F54*1000)/($L$29)*Paramètres!$H$2,IF(D54=\"DH\",((1.65*(0.000125^($L$28-1))*((1-EXP(-0.04*E54))/4.15))*C54*F54*1000)/($L$29)*Paramètres!$H$3,IF(D54=\"Hop-stand\",((1.65*(0.000125^($L$28-1))*((1-EXP(-0.04*E54))/4.15))*C54*F54*1000)/($L$29)*Paramètres!$H$4,IF(D54=\"FWH\",((1.65*(0.000125^($L$28-1))*((1-EXP(-0.04*E54))/4.15))*C54*F54*1000)/($L$29)*Paramètres!$H$5,IF(D54=\"Mash-hop\",((1.65*(0.000125^($L$28-1))*((1-EXP(-0.04*E54))/4.15))*C54*F54*1000)/($L$29)*Paramètres!$H$6,IF(D54=\"Flame-out\",((1.65*(0.000125^($L$28-1))*((1-EXP(-0.04*E54))/4.15))*C54*F54*1000)/($L$29)*Paramètres!$H$7,\"\")))))),0)","v":""},"Embouteillage",null,"2023-11-06","Théorique",null,"Réel"]
[null,null,null,null,null,null,0,{"$f":"IFERROR(IF(D55=\"Ebullition\",((1.65*(0.000125^($L$28-1))*((1-EXP(-0.04*E55))/4.15))*C55*F55*1000)/($L$29)*Paramètres!$H$2,IF(D55=\"DH\",((1.65*(0.000125^($L$28-1))*((1-EXP(-0.04*E55))/4.15))*C55*F55*1000)/($L$29)*Paramètres!$H$3,IF(D55=\"Hop-stand\",((1.65*(0.000125^($L$28-1))*((1-EXP(-0.04*E55))/4.15))*C55*F55*1000)/($L$29)*Paramètres!$H$4,IF(D55=\"FWH\",((1.65*(0.000125^($L$28-1))*((1-EXP(-0.04*E55))/4.15))*C55*F55*1000)/($L$29)*Paramètres!$H$5,IF(D55=\"Mash-hop\",((1.65*(0.000125^($L$28-1))*((1-EXP(-0.04*E55))/4.15))*C55*F55*1000)/($L$29)*Paramètres!$H$6,IF(D55=\"Flame-out\",((1.65*(0.000125^($L$28-1))*((1-EXP(-0.04*E55))/4.15))*C55*F55*1000)/($L$29)*Paramètres!$H$7,\"\")))))),0)","v":""},null,null,"Volume",{"$f":"L35-O9","v":27},null,28.5]
[null,null,null,null,null,null,0,{"$f":"IFERROR(IF(D56=\"Ebullition\",((1.65*(0.000125^($L$28-1))*((1-EXP(-0.04*E56))/4.15))*C56*F56*1000)/($L$29)*Paramètres!$H$2,IF(D56=\"DH\",((1.65*(0.000125^($L$28-1))*((1-EXP(-0.04*E56))/4.15))*C56*F56*1000)/($L$29)*Paramètres!$H$3,IF(D56=\"Hop-stand\",((1.65*(0.000125^($L$28-1))*((1-EXP(-0.04*E56))/4.15))*C56*F56*1000)/($L$29)*Paramètres!$H$4,IF(D56=\"FWH\",((1.65*(0.000125^($L$28-1))*((1-EXP(-0.04*E56))/4.15))*C56*F56*1000)/($L$29)*Paramètres!$H$5,IF(D56=\"Mash-hop\",((1.65*(0.000125^($L$28-1))*((1-EXP(-0.04*E56))/4.15))*C56*F56*1000)/($L$29)*Paramètres!$H$6,IF(D56=\"Flame-out\",((1.65*(0.000125^($L$28-1))*((1-EXP(-0.04*E56))/4.15))*C56*F56*1000)/($L$29)*Paramètres!$H$7,\"\")))))),0)","v":""},null,null,"DF",{"$f":"L28-((L28-1)*MAX(E61,E62))","v":1.0115231},null,1.01]
[null,null,null,null,null,null,0,{"$f":"IFERROR(IF(D57=\"Ebullition\",((1.65*(0.000125^($L$28-1))*((1-EXP(-0.04*E57))/4.15))*C57*F57*1000)/($L$29)*Paramètres!$H$2,IF(D57=\"DH\",((1.65*(0.000125^($L$28-1))*((1-EXP(-0.04*E57))/4.15))*C57*F57*1000)/($L$29)*Paramètres!$H$3,IF(D57=\"Hop-stand\",((1.65*(0.000125^($L$28-1))*((1-EXP(-0.04*E57))/4.15))*C57*F57*1000)/($L$29)*Paramètres!$H$4,IF(D57=\"FWH\",((1.65*(0.000125^($L$28-1))*((1-EXP(-0.04*E57))/4.15))*C57*F57*1000)/($L$29)*Paramètres!$H$5,IF(D57=\"Mash-hop\",((1.65*(0.000125^($L$28-1))*((1-EXP(-0.04*E57))/4.15))*C57*F57*1000)/($L$29)*Paramètres!$H$6,IF(D57=\"Flame-out\",((1.65*(0.000125^($L$28-1))*((1-EXP(-0.04*E57))/4.15))*C57*F57*1000)/($L$29)*Paramètres!$H$7,\"\")))))),0)","v":""},null,null,"Atténuation",{"$f":"E61","v":0.76953800000000105},null,{"$f":"(N34-N56)/(N34-1)","v":0.79591836734693833}]
["Selon stock","TOTAL",null,null,{"$f":"E45","v":60},{"$f":"SUM(F45:F57)","v":38},{"$f":"SUM(G45:G57)","v":1.3571428571428572},{"$f":"SUM(H45:H57)","v":11.713368546101247},null,null,"% alcool",{"$f":"(76.08 * (L34 - L56) / (1.775 - L34 )) * (L56 / 0.794)","v":5.1438450143298091},null,{"$f":"(76.08 * (N34 - N56) / (1.775 - N34 )) * (N56 / 0.794)","v":5.1987551262568328}]
[null,"x","x","x","x","x","x","x",null,null,"Carbonatation en keg","T°C","Pression d'équilibre",null,"% alcool"]
["Levures","Type",null,"Quantité recommandée","Atténuation corrigée","T°C min","T°C max","Quantité utilisée (mds)",null,null,null,4,{"$f":"( -16.6999 - 0.0101059*(32+L60*9/5)+ 0.00116512 *(32+L60*9/5)^2 + 0.173354 *(32+L60*9/5)*E9 + 4.24267 *E9 - 0.0684226*E9^2)/14.515","v":1.6221074957492252},null,{"$f":"N58","v":5.1987551262568328}]
[null,"Wyeast 3068 Weihenstephan Weizen",null,{"$f":"IF(B61=\"\",\"\",$L$35*(-676.67+1286.4*$L$34-800.47*$L$34^2+190.74*$L$34^3)*IF($E$4<Paramètres!$H$10,Paramètres!$H$11,Paramètres!$I$11)*IF(ISNUMBER(SEARCH(\"lager\",$B$3)),2,1))","v":259.08156750000614},{"$f":"IF(B61=\"\",\"\",(-0.003*$B$11^2+0.3904*$B$11-11.699)*VLOOKUP(B61,Paramètres!$J$2:$Q$300,4,FALSE))","v":0.76953800000000105},{"$f":"IF(B61=\"\",\"\",VLOOKUP(B61,Paramètres!$J$2:$Q$300,6,FALSE))","v":18},{"$f":"IF(B61=\"\",\"\",VLOOKUP(B61,Paramètres!$J$2:$Q$300,7,FALSE))","v":24},260,null,null,"Resucrage",{"$f":"(E9-(3.0378-5.0062*0.01*(MAX(L41:L43)*1.8+32)+2.6555*0.0001*(MAX(L41:L43)*1.8+32)^2))*4","v":11.051029511999999},"soit ",{"$f":"L61*N55","v":314.95434109199999},{"$f":"(76.08*((N34+(L61/2.57452)/1000)-N56)/(1.775-(N34+(L61/2.57452)/1000))*(N56/0.794))","v":5.8052699462092727}]
["Tous",null,null,{"$f":"IF(B62=\"\",\"\",$L$35*(-676.67+1286.4*$L$34-800.47*$L$34^2+190.74*$L$34^3)*IF($E$4<Paramètres!$H$10,Paramètres!$H$11,Paramètres!$I$11)*IF(ISNUMBER(SEARCH(\"lager\",$B$3)),2,1))","v":""},{"$f":"IF(B62=\"\",\"\",(-0.003*$B$11^2+0.3904*$B$11-11.699)*VLOOKUP(B62,Paramètres!$J$2:$Q$300,4,FALSE))","v":""},{"$f":"IF(B62=\"\",\"\",VLOOKUP(B62,Paramètres!$J$2:$Q$300,6,FALSE))","v":""},{"$f":"IF(B62=\"\",\"\",VLOOKUP(B62,Paramètres!$J$2:$Q$300,7,FALSE))","v":""},null,"Ajout de non-fermentiscibles",null,"Lactose",null,{"$f":"L62*N55","v":0},{"$f":"L56+(L62*(VLOOKUP(K62,Paramètres!F35:I41,2,FALSE))/2.57452)/1000","v":1.0115231},{"$f":"N56+(L62*(VLOOKUP(K62,Paramètres!F35:I41,2,FALSE))/2.57452)/1000","v":1.01}]
[]
[null,null,null,null,null,null,null,null,null,null,null,null,{"$f":"VLOOKUP(K62,Paramètres!F35:I41,2,TRUE)","v":""}]
[]
[]
[]
[]
[]
[null,{"$f":"IF(ROWS($1:7)<=COUNTIF(Utilisation,$F$64),INDEX(result,SMALL(IF(Utilisation=$F$64,ROW(INDIRECT(\"1:\"&ROWS(Utilisation)))),ROWS($1:7))),\"\")","v":""},null,null,{"$f":"IF(ROWS($1:7)<=COUNTIF(Utilisation,\"Ebullition\"),INDEX(poids,SMALL(IF(Utilisation=\"Ebullition\",ROW(INDIRECT(\"1:\"&ROWS(Utilisation)))),ROWS($1:7))),\"\")","v":""},{"$f":"IF(ROWS($1:7)<=COUNTIF(Utilisation,\"Ebullition\"),INDEX(Durée,SMALL(IF(Utilisation=\"Ebullition\",ROW(INDIRECT(\"1:\"&ROWS(Utilisation)))),ROWS($1:7))),\"\")","v":""}]
[null,{"$f":"IF(ROWS($1:8)<=COUNTIF(Utilisation,$F$64),INDEX(result,SMALL(IF(Utilisation=$F$64,ROW(INDIRECT(\"1:\"&ROWS(Utilisation)))),ROWS($1:8))),\"\")","v":""}]

{"sheet":"Feuille de Brassage","index":1,"n_rows":114,"n_cols":16,"rows_kept":114,"cut":false,"hidden":false,"merged":[[0,0,0,6],[67,0,67,2],[68,0,68,2],[69,0,69,2],[65,0,65,3],[44,4,44,6],[12,0,12,6],[16,0,16,6],[36,4,36,6],[41,4,41,6],[33,0,33,6],[46,0,46,6],[64,0,64,6],[19,4,19,6],[20,4,20,6],[21,4,21,6],[22,4,22,6],[23,4,23,6],[24,4,24,6],[25,4,25,6],[109,0,113,0],[113,1,113,2],[74,0,74,2],[39,4,39,6],[37,4,37,6],[38,4,38,6],[40,4,40,6],[42,4,42,6],[76,0,76,2],[85,0,85,5],[86,0,86,3],[88,4,88,6],[79,0,79,6],[77,0,77,2],[84,0,84,2],[81,0,81,2],[82,0,82,2],[104,0,104,1],[108,0,108,6],[95,0,95,1],[96,0,96,1],[97,0,97,1],[98,0,98,1],[99,0,99,1],[2,14,2,17],[13,3,13,4],[17,4,17,6],[27,4,27,6],[2,0,2,2],[2,3,2,6],[3,0,3,2],[4,1,4,2],[5,1,5,2],[6,1,6,2],[7,1,7,2],[8,1,8,2],[9,1,9,2],[10,1,10,2],[18,4,18,6],[26,4,26,6],[14,0,14,3],[93,4,93,5],[94,4,94,5],[83,0,83,2],[80,0,80,2],[61,3,61,4],[62,3,62,4],[34,0,34,3],[91,0,91,6],[89,0,89,1],[89,4,89,6],[92,4,92,5],[75,0,75,2],[43,4,43,6],[70,0,70,2],[71,0,71,2],[72,0,72,2],[47,2,48,2],[47,0,48,1],[66,0,66,3],[87,0,87,3],[35,0,35,6],[112,1,112,2],[49,3,49,4],[50,3,50,4],[51,3,51,4],[52,3,52,4],[53,3,53,4],[54,3,54,4],[55,3,55,4],[56,3,56,4],[57,3,57,4],[58,3,58,4],[59,3,59,4],[60,3,60,4],[105,0,105,1],[106,0,106,1],[109,1,109,2],[110,1,110,2],[111,1,111,2],[100,0,100,1],[101,0,101,1],[102,0,102,1],[103,0,103,1],[73,0,73,2],[88,0,88,1]]}
[{"$f":"Brassage!A1","v":"# Projet - Weissbier exemple"}]
["x","x","x","x","x","x","x"]
["Préparation du grain",null,null,"Préparation de l'eau"]
["Peser, (+/-conditionner) puis broyer :",null,null,null,"Empatage","Rinçage","Total"]
[{"$f":"Brassage!H25","v":3574.0395294117679},{"$f":"IF(A5=0,\"\",Brassage!B25&\" (\"&Brassage!C25&\" EBC)\")","v":"Pale ale Swaen (7,1 EBC)"},null,"Volume",{"$f":"Brassage!M10","v":25.52885378151263},{"$f":"Brassage!M18","v":15.542882219554471},{"$f":"E5+F5","v":41.071736001067102}]
[{"$f":"IF(Brassage!H26>0,Brassage!H26,\"-\")","v":3574.0395294117679},{"$f":"IF(A6=\"-\",\"\",Brassage!B26&\" (\"&Brassage!C26&\" EBC)\")","v":"Froment - Vieux Silo (4,5 EBC)"},null,{"$f":"Brassage!R6","v":"CaSO4"},{"$f":"Brassage!T6","v":0.51057707563025256},{"$f":"Brassage!U6","v":0.31085764439108943},{"$f":"Brassage!S6","v":0.02}]
[{"$f":"IF(Brassage!H27>0,Brassage!H27,\"-\")","v":145.87916446578646},{"$f":"IF(A7=\"-\",\"\",Brassage!B27&\" (\"&Brassage!C27&\" EBC)\")","v":"Cara Gold - Vieux Silo (120 EBC)"},null,{"$f":"Brassage!R7","v":"NaCl"},{"$f":"Brassage!T7","v":0.76586561344537885},{"$f":"Brassage!U7","v":0.46628646658663414},{"$f":"Brassage!S7","v":0.03}]
[{"$f":"IF(Brassage!H28>0,Brassage!H28,\"-\")","v":"-"},{"$f":"IF(A8=\"-\",\"\",Brassage!B28&\" (\"&Brassage!C28&\" EBC)\")","v":""},null,{"$f":"Brassage!R8","v":"MgSO4"},{"$f":"Brassage!T8","v":3.5740395294117686},{"$f":"Brassage!U8","v":2.1760035107376261},{"$f":"Brassage!S8","v":0.14000000000000001},null,null,null,null,null,null,null,{"$f":"Brassage!AC7","v":0},{"$f":"Brassage!AE8","v":0}]
[{"$f":"IF(Brassage!H29>0,Brassage!H29,\"-\")","v":"-"},{"$f":"IF(A9=\"-\",\"\",Brassage!B29&\" (\"&Brassage!C29&\" EBC)\")","v":""},null,{"$f":"Brassage!R9","v":"CaCl2"},{"$f":"Brassage!T9","v":2.0423083025210103},{"$f":"Brassage!U9","v":1.2434305775643577},{"$f":"Brassage!S9","v":0.08},null,null,null,null,null,null,null,{"$f":"Brassage!AC8","v":0},{"$f":"Brassage!AE9","v":0}]
[{"$f":"IF(Brassage!H30>0,Brassage!H30,\"-\")","v":"-"},{"$f":"IF(A10=\"-\",\"\",Brassage!B30&\" (\"&Brassage!C30&\" EBC)\")","v":""},null,{"$f":"Brassage!R10","v":"NaHCO3"},{"$f":"Brassage!T10","v":0},{"$f":"Brassage!U10","v":0},{"$f":"Brassage!S10","v":0},null,null,null,null,null,null,null,{"$f":"Brassage!AC9","v":0},{"$f":"Brassage!AE10","v":0}]
[{"$f":"IF(Brassage!H31>0,Brassage!H31,\"-\")","v":"-"},{"$f":"IF(A11=\"-\",\"\",Brassage!B31&\" (\"&Brassage!C31&\" EBC)\")","v":""},null,{"$f":"Brassage!R11","v":"CaCO3"},{"$f":"Brassage!T11","v":0},{"$f":"Brassage!U11","v":0},{"$f":"Brassage!S11","v":0},null,null,null,null,null,null,null,{"$f":"Brassage!AC10","v":0},{"$f":"Brassage!AE11","v":0}]
["x","x","x","x","x","x","x"]
["Correction du pH"]
[{"$f":"IF(Brassage!A20>0,\"Ajouter\",0)","v":"Ajouter"},{"$f":"IF(A14>0,Brassage!C21,\"\")","v":7},{"$f":"IF(A14>0,\"de\",\"\")","v":"de"},{"$f":"IF(A14>0,Brassage!A20,\"\")","v":"Acide Lactique"},null,{"$f":"IF(A14>0,\"à\",\"\")","v":"à"},{"$f":"IF(A14>0,Brassage!B21,\"\")","v":0.88}]
["Objectif : le pH à l'empatage doit être d'environ",null,null,null,{"$f":"Brassage!M12","v":5.5236836159313256},"ph réel"]
["x","x","x","x","x","x","x"]
["Empatage et Mash-Hop"]
[{"$f":"IF(B18=\"\",\"\",\"Ajouter\")","v":""},{"$f":"IF(ROWS($1:1)<=COUNTIF(Utilisation,\"Mash-Hop\"),INDEX(poids,SMALL(IF(Utilisation=\"Mash-Hop\",ROW(INDIRECT(\"1:\"&ROWS(Utilisation)))),ROWS($1:1))),\"\")","v":""},{"$f":"IF(B18=\"\",\"\",\"de\")","v":""},{"$f":"IF(ROWS($1:1)<=COUNTIF(Utilisation,\"Mash-Hop\"),INDEX(result,SMALL(IF(Utilisation=\"Mash-Hop\",ROW(INDIRECT(\"1:\"&ROWS(Utilisation)))),ROWS($1:1))),\"\")","v":""},{"$f":"IF(D18=\"\",\"\",\"pour le Mash-Hop\")","v":""}]
[{"$f":"IF(B19=\"\",\"\",\"Ajouter\")","v":""},{"$f":"IF(ROWS($1:2)<=COUNTIF(Utilisation,\"Mash-Hop\"),INDEX(poids,SMALL(IF(Utilisation=\"Mash-Hop\",ROW(INDIRECT(\"1:\"&ROWS(Utilisation)))),ROWS($1:2))),\"\")","v":""},{"$f":"IF(B19=\"\",\"\",\"de\")","v":""},{"$f":"IF(ROWS($1:2)<=COUNTIF(Utilisation,\"Mash-Hop\"),INDEX(result,SMALL(IF(Utilisation=\"Mash-Hop\",ROW(INDIRECT(\"1:\"&ROWS(Utilisation)))),ROWS($1:2))),\"\")","v":""},""]
["",{"$f":"IF(ROWS($1:3)<=COUNTIF(Utilisation,\"Mash-Hop\"),INDEX(poids,SMALL(IF(Utilisation=\"Mash-Hop\",ROW(INDIRECT(\"1:\"&ROWS(Utilisation)))),ROWS($1:3))),\"\")","v":""},"",{"$f":"IF(ROWS($1:3)<=COUNTIF(Utilisation,\"Mash-Hop\"),INDEX(result,SMALL(IF(Utilisation=\"Mash-Hop\",ROW(INDIRECT(\"1:\"&ROWS(Utilisation)))),ROWS($1:3))),\"\")","v":""},""]
["",{"$f":"IF(ROWS($1:4)<=COUNTIF(Utilisation,\"Mash-Hop\"),INDEX(poids,SMALL(IF(Utilisation=\"Mash-Hop\",ROW(INDIRECT(\"1:\"&ROWS(Utilisation)))),ROWS($1:4))),\"\")","v":""},"",{"$f":"IF(ROWS($1:4)<=COUNTIF(Utilisation,\"Mash-Hop\"),INDEX(result,SMALL(IF(Utilisation=\"Mash-Hop\",ROW(INDIRECT(\"1:\"&ROWS(Utilisation)))),ROWS($1:4))),\"\")","v":""},""]
["",{"$f":"IF(ROWS($1:5)<=COUNTIF(Utilisation,\"Mash-Hop\"),INDEX(poids,SMALL(IF(Utilisation=\"Mash-Hop\",ROW(INDIRECT(\"1:\"&ROWS(Utilisation)))),ROWS($1:5))),\"\")","v":""},"",{"$f":"IF(ROWS($1:5)<=COUNTIF(Utilisation,\"Mash-Hop\"),INDEX(result,SMALL(IF(Utilisation=\"Mash-Hop\",ROW(INDIRECT(\"1:\"&ROWS(Utilisation)))),ROWS($1:5))),\"\")","v":""},""]
["",{"$f":"IF(ROWS($1:6)<=COUNTIF(Utilisation,\"Mash-Hop\"),INDEX(poids,SMALL(IF(Utilisation=\"Mash-Hop\",ROW(INDIRECT(\"1:\"&ROWS(Utilisation)))),ROWS($1:6))),\"\")","v":""},"",{"$f":"IF(ROWS($1:6)<=COUNTIF(Utilisation,\"Mash-Hop\"),INDEX(result,SMALL(IF(Utilisation=\"Mash-Hop\",ROW(INDIRECT(\"1:\"&ROWS(Utilisation)))),ROWS($1:6))),\"\")","v":""},""]
["",{"$f":"IF(ROWS($1:7)<=COUNTIF(Utilisation,\"Mash-Hop\"),INDEX(poids,SMALL(IF(Utilisation=\"Mash-Hop\",ROW(INDIRECT(\"1:\"&ROWS(Utilisation)))),ROWS($1:7))),\"\")","v":""},"",{"$f":"IF(ROWS($1:7)<=COUNTIF(Utilisation,\"Mash-Hop\"),INDEX(result,SMALL(IF(Utilisation=\"Mash-Hop\",ROW(INDIRECT(\"1:\"&ROWS(Utilisation)))),ROWS($1:7))),\"\")","v":""},""]
["",{"$f":"IF(ROWS($1:8)<=COUNTIF(Utilisation,\"Mash-Hop\"),INDEX(poids,SMALL(IF(Utilisation=\"Mash-Hop\",ROW(INDIRECT(\"1:\"&ROWS(Utilisation)))),ROWS($1:8))),\"\")","v":""},"",{"$f":"IF(ROWS($1:8)<=COUNTIF(Utilisation,\"Mash-Hop\"),INDEX(result,SMALL(IF(Utilisation=\"Mash-Hop\",ROW(INDIRECT(\"1:\"&ROWS(Utilisation)))),ROWS($1:8))),\"\")","v":""},""]
["",{"$f":"IF(ROWS($1:9)<=COUNTIF(Utilisation,\"Mash-Hop\"),INDEX(poids,SMALL(IF(Utilisation=\"Mash-Hop\",ROW(INDIRECT(\"1:\"&ROWS(Utilisation)))),ROWS($1:9))),\"\")","v":""},"",{"$f":"IF(ROWS($1:9)<=COUNTIF(Utilisation,\"Mash-Hop\"),INDEX(result,SMALL(IF(Utilisation=\"Mash-Hop\",ROW(INDIRECT(\"1:\"&ROWS(Utilisation)))),ROWS($1:9))),\"\")","v":""},""]
["",{"$f":"IF(ROWS($1:10)<=COUNTIF(Utilisation,\"Mash-Hop\"),INDEX(poids,SMALL(IF(Utilisation=\"Mash-Hop\",ROW(INDIRECT(\"1:\"&ROWS(Utilisation)))),ROWS($1:10))),\"\")","v":""},"",{"$f":"IF(ROWS($1:10)<=COUNTIF(Utilisation,\"Mash-Hop\"),INDEX(result,SMALL(IF(Utilisation=\"Mash-Hop\",ROW(INDIRECT(\"1:\"&ROWS(Utilisation)))),ROWS($1:10))),\"\")","v":""},""]
["",{"$f":"IF(ROWS($1:11)<=COUNTIF(Utilisation,\"Mash-Hop\"),INDEX(poids,SMALL(IF(Utilisation=\"Mash-Hop\",ROW(INDIRECT(\"1:\"&ROWS(Utilisation)))),ROWS($1:11))),\"\")","v":""},"",{"$f":"IF(ROWS($1:11)<=COUNTIF(Utilisation,\"Mash-Hop\"),INDEX(result,SMALL(IF(Utilisation=\"Mash-Hop\",ROW(INDIRECT(\"1:\"&ROWS(Utilisation)))),ROWS($1:11))),\"\")","v":""},""]
[{"$f":"Brassage!A7","v":"Palier 1"},"Ajouter",{"$f":"Brassage!M10","v":25.52885378151263},"d'eau à ",{"$f":"Brassage!O10","v":70.346635631598645},{"$f":"Brassage!B7","v":66},{"$f":"Brassage!C7","v":60}]
[{"$f":"IF(Brassage!B8=\"\",\"\",Brassage!A8)","v":""},{"$f":"IF(F30=0,\"\",IF(Brassage!$I$10=\"Chauffe Directe\",\"Relancer\",IF(Brassage!$I$10=\"Décoction\",\"Prélever\",\"Ajouter\")))","v":""},{"$f":"IF(F30=0,\"\",IF(Brassage!$I$10=\"Chauffe Directe\",\"la chauffe\",IF(Brassage!$I$10=\"Décoction\",Brassage!$O$13,Brassage!$O$13)))","v":""},{"$f":"IF(F30=0,\"\",IF(Brassage!$I$10=\"Chauffe Directe\",\"jusqu'à\",IF(Brassage!$I$10=\"Décoction\",\"les porter à\",\"d'eau à\")))","v":""},{"$f":"IF(F30=0,\"\",IF(Brassage!$I$10=\"Chauffe Directe\",\"atteindre\",IF(Brassage!$I$10=\"Décoction\",Brassage!$J$10&\"°C \",Brassage!$J$10&\"°C \")))","v":""},{"$f":"Brassage!B8","v":0},{"$f":"Brassage!C8","v":0}]
[{"$f":"IF(Brassage!B9=\"\",\"\",Brassage!A9)","v":""},{"$f":"IF(F31=0,\"\",IF(Brassage!$I$10=\"Chauffe Directe\",\"Relancer\",IF(Brassage!$I$10=\"Décoction\",\"Prélever\",\"Ajouter\")))","v":""},{"$f":"IF(F31=0,\"\",IF(Brassage!$I$10=\"Chauffe Directe\",\"la chauffe\",IF(Brassage!$I$10=\"Décoction\",Brassage!$O$13,Brassage!$O$13)))","v":""},{"$f":"IF(F31=0,\"\",IF(Brassage!$I$10=\"Chauffe Directe\",\"jusqu'à\",IF(Brassage!$I$10=\"Décoction\",\"les porter à\",\"d'eau à\")))","v":""},{"$f":"IF(F31=0,\"\",IF(Brassage!$I$10=\"Chauffe Directe\",\"atteindre\",IF(Brassage!$I$10=\"Décoction\",Brassage!$J$10&\"°C \",Brassage!$J$10&\"°C \")))","v":""},{"$f":"Brassage!B9","v":0},{"$f":"Brassage!C9","v":0}]
[{"$f":"Brassage!A10","v":"Mash-Out"},{"$f":"IF(F32=0,\"\",IF(Brassage!$I$10=\"Chauffe Directe\",\"Relancer\",IF(Brassage!$I$10=\"Décoction\",\"Prélever\",\"Ajouter\")))","v":""},{"$f":"IF(F32=0,\"\",IF(Brassage!$I$10=\"Chauffe Directe\",\"la chauffe\",IF(Brassage!$I$10=\"Décoction\",Brassage!$O$13,Brassage!$O$13)))","v":""},{"$f":"IF(F32=0,\"\",IF(Brassage!$I$10=\"Chauffe Directe\",\"jusqu'à\",IF(Brassage!$I$10=\"Décoction\",\"les porter à\",\"d'eau à\")))","v":""},{"$f":"IF(F32=0,\"\",IF(Brassage!$I$10=\"Chauffe Directe\",\"atteindre\",IF(Brassage!$I$10=\"Décoction\",Brassage!$J$10&\"°C \",Brassage!$J$10&\"°C \")))","v":""},{"$f":"Brassage!B10","v":0},{"$f":"Brassage!C10","v":0}]
["x","x","x","x","x","x","x"]
["Filtration et FWH"]
["Filtrer les drêches et les rincer avec",null,null,null,{"$f":"Brassage!M18","v":15.542882219554471},"d'eau à",{"$f":"Brassage!M19","v":78}]
["Ajouter les sels minéraux nécessaires à l'eau de rinçage ou au mout avant ébullition"]
[{"$f":"IF(B37=\"\",\"\",\"Ajouter\")","v":""},{"$f":"IF(ROWS($1:1)<=COUNTIF(Utilisation,\"FWH\"),INDEX(poids,SMALL(IF(Utilisation=\"FWH\",ROW(INDIRECT(\"1:\"&ROWS(Utilisation)))),ROWS($1:1))),\"\")","v":""},{"$f":"IF(B37=\"\",\"\",\"de\")","v":""},{"$f":"IF(ROWS($1:1)<=COUNTIF(Utilisation,\"FWH\"),INDEX(result,SMALL(IF(Utilisation=\"FWH\",ROW(INDIRECT(\"1:\"&ROWS(Utilisation)))),ROWS($1:1))),\"\")","v":""},{"$f":"IF(B37=\"\",\"\",\"dans la cuve ébu pour le FWH\")","v":""}]
[{"$f":"IF(B38=\"\",\"\",\"Ajouter\")","v":""},{"$f":"IF(ROWS($1:2)<=COUNTIF(Utilisation,\"FWH\"),INDEX(poids,SMALL(IF(Utilisation=\"FWH\",ROW(INDIRECT(\"1:\"&ROWS(Utilisation)))),ROWS($1:2))),\"\")","v":""},{"$f":"IF(B38=\"\",\"\",\"de\")","v":""},{"$f":"IF(ROWS($1:2)<=COUNTIF(Utilisation,\"FWH\"),INDEX(result,SMALL(IF(Utilisation=\"FWH\",ROW(INDIRECT(\"1:\"&ROWS(Utilisation)))),ROWS($1:2))),\"\")","v":""},""]
["",{"$f":"IF(ROWS($1:3)<=COUNTIF(Utilisation,\"FWH\"),INDEX(poids,SMALL(IF(Utilisation=\"FWH\",ROW(INDIRECT(\"1:\"&ROWS(Utilisation)))),ROWS($1:3))),\"\")","v":""},"",{"$f":"IF(ROWS($1:3)<=COUNTIF(Utilisation,\"FWH\"),INDEX(result,SMALL(IF(Utilisation=\"FWH\",ROW(INDIRECT(\"1:\"&ROWS(Utilisation)))),ROWS($1:3))),\"\")","v":""},""]
["",{"$f":"IF(ROWS($1:4)<=COUNTIF(Utilisation,\"FWH\"),INDEX(poids,SMALL(IF(Utilisation=\"FWH\",ROW(INDIRECT(\"1:\"&ROWS(Utilisation)))),ROWS($1:4))),\"\")","v":""},"",{"$f":"IF(ROWS($1:4)<=COUNTIF(Utilisation,\"FWH\"),INDEX(result,SMALL(IF(Utilisation=\"FWH\",ROW(INDIRECT(\"1:\"&ROWS(Utilisation)))),ROWS($1:4))),\"\")","v":""},""]
["",{"$f":"IF(ROWS($1:5)<=COUNTIF(Utilisation,\"FWH\"),INDEX(poids,SMALL(IF(Utilisation=\"FWH\",ROW(INDIRECT(\"1:\"&ROWS(Utilisation)))),ROWS($1:5))),\"\")","v":""},"",{"$f":"IF(ROWS($1:5)<=COUNTIF(Utilisation,\"FWH\"),INDEX(result,SMALL(IF(Utilisation=\"FWH\",ROW(INDIRECT(\"1:\"&ROWS(Utilisation)))),ROWS($1:5))),\"\")","v":""},""]
["",{"$f":"IF(ROWS($1:6)<=COUNTIF(Utilisation,\"FWH\"),INDEX(poids,SMALL(IF(Utilisation=\"FWH\",ROW(INDIRECT(\"1:\"&ROWS(Utilisation)))),ROWS($1:6))),\"\")","v":""},"",{"$f":"IF(ROWS($1:6)<=COUNTIF(Utilisation,\"FWH\"),INDEX(result,SMALL(IF(Utilisation=\"FWH\",ROW(INDIRECT(\"1:\"&ROWS(Utilisation)))),ROWS($1:6))),\"\")","v":""},""]
["",{"$f":"IF(ROWS($1:7)<=COUNTIF(Utilisation,\"FWH\"),INDEX(poids,SMALL(IF(Utilisation=\"FWH\",ROW(INDIRECT(\"1:\"&ROWS(Utilisation)))),ROWS($1:7))),\"\")","v":""},"",{"$f":"IF(ROWS($1:7)<=COUNTIF(Utilisation,\"FWH\"),INDEX(result,SMALL(IF(Utilisation=\"FWH\",ROW(INDIRECT(\"1:\"&ROWS(Utilisation)))),ROWS($1:7))),\"\")","v":""},""]
["",{"$f":"IF(ROWS($1:8)<=COUNTIF(Utilisation,\"FWH\"),INDEX(poids,SMALL(IF(Utilisation=\"FWH\",ROW(INDIRECT(\"1:\"&ROWS(Utilisation)))),ROWS($1:8))),\"\")","v":""},"",{"$f":"IF(ROWS($1:8)<=COUNTIF(Utilisation,\"FWH\"),INDEX(result,SMALL(IF(Utilisation=\"FWH\",ROW(INDIRECT(\"1:\"&ROWS(Utilisation)))),ROWS($1:8))),\"\")","v":""},""]
["",{"$f":"IF(ROWS($1:9)<=COUNTIF(Utilisation,\"FWH\"),INDEX(poids,SMALL(IF(Utilisation=\"FWH\",ROW(INDIRECT(\"1:\"&ROWS(Utilisation)))),ROWS($1:9))),\"\")","v":""},"",{"$f":"IF(ROWS($1:9)<=COUNTIF(Utilisation,\"FWH\"),INDEX(result,SMALL(IF(Utilisation=\"FWH\",ROW(INDIRECT(\"1:\"&ROWS(Utilisation)))),ROWS($1:9))),\"\")","v":""},""]
["x","x","x","x","x","x","x"]
["Ebullition et houblonnage"]
["Porter à le mout à ébulition pendant ",null,{"$f":"Brassage!L6","v":60},"Objectif : ",{"$f":"Brassage!L23","v":34.088888888888889},{"$f":"Brassage!L22","v":1.0449999999999999},{"$f":" (-616.868 + 1111.14 *F48- 630.272 * F48^ 2+ 135.997 *F48^3)*1.04","v":11.643516249689988}]
[null,null,null,"Réel :"]
[{"$f":"IF(B50=\"\",\"\",\"Ajouter\")","v":"Ajouter"},{"$f":"IF(ROWS($1:1)<=COUNTIF(Utilisation,\"Ebullition\"),INDEX(poids,SMALL(IF(Utilisation=\"Ebullition\",ROW(INDIRECT(\"1:\"&ROWS(Utilisation)))),ROWS($1:1))),\"\")","v":8},{"$f":"IF(B50=\"\",\"\",\"de\")","v":"de"},{"$f":"IF(ROWS($1:1)<=COUNTIF(Utilisation,\"Ebullition\"),INDEX(result,SMALL(IF(Utilisation=\"Ebullition\",ROW(INDIRECT(\"1:\"&ROWS(Utilisation)))),ROWS($1:1))),\"\")","v":"Magnum"},null,{"$f":"IF(B50=\"\",\"\",\"pendant\")","v":"pendant"},{"$f":"IF(D50=\"\",\"\",IF(COUNTIF(Brassage!B32:B33,'Feuille de Brassage'!D50)>0,10,IF(ROWS($1:1)<=COUNTIF(Utilisation,\"Ebullition\"),INDEX(Durée,SMALL(IF(Utilisation=\"Ebullition\",ROW(INDIRECT(\"1:\"&ROWS(Utilisation)))),ROWS($1:1))),\"\")))","v":60}]
[{"$f":"IF(B51=\"\",\"\",\"Ajouter\")","v":"Ajouter"},{"$f":"IF(ROWS($1:2)<=COUNTIF(Utilisation,\"Ebullition\"),INDEX(poids,SMALL(IF(Utilisation=\"Ebullition\",ROW(INDIRECT(\"1:\"&ROWS(Utilisation)))),ROWS($1:2))),\"\")","v":30},{"$f":"IF(B51=\"\",\"\",\"de\")","v":"de"},{"$f":"IF(ROWS($1:2)<=COUNTIF(Utilisation,\"Ebullition\"),INDEX(result,SMALL(IF(Utilisation=\"Ebullition\",ROW(INDIRECT(\"1:\"&ROWS(Utilisation)))),ROWS($1:2))),\"\")","v":"Tettnanger"},null,{"$f":"IF(B51=\"\",\"\",\"pendant\")","v":"pendant"},{"$f":"IF(D51=\"\",\"\",IF(COUNTIF(Brassage!B33:B34,'Feuille de Brassage'!D51)>0,10,IF(ROWS($1:2)<=COUNTIF(Utilisation,\"Ebullition\"),INDEX(Durée,SMALL(IF(Utilisation=\"Ebullition\",ROW(INDIRECT(\"1:\"&ROWS(Utilisation)))),ROWS($1:2))),\"\")))","v":10}]
[{"$f":"IF(B52=\"\",\"\",\"Ajouter\")","v":""},{"$f":"IF(ROWS($1:3)<=COUNTIF(Utilisation,\"Ebullition\"),INDEX(poids,SMALL(IF(Utilisation=\"Ebullition\",ROW(INDIRECT(\"1:\"&ROWS(Utilisation)))),ROWS($1:3))),\"\")","v":""},{"$f":"IF(B52=\"\",\"\",\"de\")","v":""},{"$f":"IF(ROWS($1:3)<=COUNTIF(Utilisation,\"Ebullition\"),INDEX(result,SMALL(IF(Utilisation=\"Ebullition\",ROW(INDIRECT(\"1:\"&ROWS(Utilisation)))),ROWS($1:3))),\"\")","v":""},null,"",{"$f":"IF(D52=\"\",\"\",IF(COUNTIF(Brassage!B34:B36,'Feuille de Brassage'!D52)>0,10,IF(ROWS($1:3)<=COUNTIF(Utilisation,\"Ebullition\"),INDEX(Durée,SMALL(IF(Utilisation=\"Ebullition\",ROW(INDIRECT(\"1:\"&ROWS(Utilisation)))),ROWS($1:3))),\"\")))","v":""}]
["",{"$f":"IF(ROWS($1:4)<=COUNTIF(Utilisation,\"Ebullition\"),INDEX(poids,SMALL(IF(Utilisation=\"Ebullition\",ROW(INDIRECT(\"1:\"&ROWS(Utilisation)))),ROWS($1:4))),\"\")","v":""},"",{"$f":"IF(ROWS($1:4)<=COUNTIF(Utilisation,\"Ebullition\"),INDEX(result,SMALL(IF(Utilisation=\"Ebullition\",ROW(INDIRECT(\"1:\"&ROWS(Utilisation)))),ROWS($1:4))),\"\")","v":""},null,"",{"$f":"IF(D53=\"\",\"\",IF(COUNTIF(Brassage!B36:B36,'Feuille de Brassage'!D53)>0,10,IF(ROWS($1:4)<=COUNTIF(Utilisation,\"Ebullition\"),INDEX(Durée,SMALL(IF(Utilisation=\"Ebullition\",ROW(INDIRECT(\"1:\"&ROWS(Utilisation)))),ROWS($1:4))),\"\")))","v":""}]
["",{"$f":"IF(ROWS($1:5)<=COUNTIF(Utilisation,\"Ebullition\"),INDEX(poids,SMALL(IF(Utilisation=\"Ebullition\",ROW(INDIRECT(\"1:\"&ROWS(Utilisation)))),ROWS($1:5))),\"\")","v":""},"",{"$f":"IF(ROWS($1:5)<=COUNTIF(Utilisation,\"Ebullition\"),INDEX(result,SMALL(IF(Utilisation=\"Ebullition\",ROW(INDIRECT(\"1:\"&ROWS(Utilisation)))),ROWS($1:5))),\"\")","v":""},null,"",{"$f":"IF(D54=\"\",\"\",IF(COUNTIF(Brassage!B36:B38,'Feuille de Brassage'!D54)>0,10,IF(ROWS($1:5)<=COUNTIF(Utilisation,\"Ebullition\"),INDEX(Durée,SMALL(IF(Utilisation=\"Ebullition\",ROW(INDIRECT(\"1:\"&ROWS(Utilisation)))),ROWS($1:5))),\"\")))","v":""}]
["",{"$f":"IF(ROWS($1:6)<=COUNTIF(Utilisation,\"Ebullition\"),INDEX(poids,SMALL(IF(Utilisation=\"Ebullition\",ROW(INDIRECT(\"1:\"&ROWS(Utilisation)))),ROWS($1:6))),\"\")","v":""},"",{"$f":"IF(ROWS($1:6)<=COUNTIF(Utilisation,\"Ebullition\"),INDEX(result,SMALL(IF(Utilisation=\"Ebullition\",ROW(INDIRECT(\"1:\"&ROWS(Utilisation)))),ROWS($1:6))),\"\")","v":""},null,"",{"$f":"IF(D55=\"\",\"\",IF(COUNTIF(Brassage!B38:B39,'Feuille de Brassage'!D55)>0,10,IF(ROWS($1:6)<=COUNTIF(Utilisation,\"Ebullition\"),INDEX(Durée,SMALL(IF(Utilisation=\"Ebullition\",ROW(INDIRECT(\"1:\"&ROWS(Utilisation)))),ROWS($1:6))),\"\")))","v":""}]
["",{"$f":"IF(ROWS($1:7)<=COUNTIF(Utilisation,\"Ebullition\"),INDEX(poids,SMALL(IF(Utilisation=\"Ebullition\",ROW(INDIRECT(\"1:\"&ROWS(Utilisation)))),ROWS($1:7))),\"\")","v":""},"",{"$f":"IF(ROWS($1:7)<=COUNTIF(Utilisation,\"Ebullition\"),INDEX(result,SMALL(IF(Utilisation=\"Ebullition\",ROW(INDIRECT(\"1:\"&ROWS(Utilisation)))),ROWS($1:7))),\"\")","v":""},null,"",{"$f":"IF(D56=\"\",\"\",IF(COUNTIF(Brassage!B39:B40,'Feuille de Brassage'!D56)>0,10,IF(ROWS($1:7)<=COUNTIF(Utilisation,\"Ebullition\"),INDEX(Durée,SMALL(IF(Utilisation=\"Ebullition\",ROW(INDIRECT(\"1:\"&ROWS(Utilisation)))),ROWS($1:7))),\"\")))","v":""},null,{"$f":"IF(D56=\"\",\"\",IF(COUNTIF(Brassage!B39:B40,'Feuille de Brassage'!D56)>0,10,IF(ROWS($1:7)<=COUNTIF(Utilisation,\"Ebullition\"),INDEX(Durée,SMALL(IF(Utilisation=\"Ebullition\",ROW(INDIRECT(\"1:\"&ROWS(Utilisation)))),ROWS($1:7))),\"\")))","v":""}]
["",{"$f":"IF(ROWS($1:8)<=COUNTIF(Utilisation,\"Ebullition\"),INDEX(poids,SMALL(IF(Utilisation=\"Ebullition\",ROW(INDIRECT(\"1:\"&ROWS(Utilisation)))),ROWS($1:8))),\"\")","v":""},"",{"$f":"IF(ROWS($1:8)<=COUNTIF(Utilisation,\"Ebullition\"),INDEX(result,SMALL(IF(Utilisation=\"Ebullition\",ROW(INDIRECT(\"1:\"&ROWS(Utilisation)))),ROWS($1:8))),\"\")","v":""},null,"",{"$f":"IF(D57=\"\",\"\",IF(COUNTIF(Brassage!B40:B41,'Feuille de Brassage'!D57)>0,10,IF(ROWS($1:8)<=COUNTIF(Utilisation,\"Ebullition\"),INDEX(Durée,SMALL(IF(Utilisation=\"Ebullition\",ROW(INDIRECT(\"1:\"&ROWS(Utilisation)))),ROWS($1:8))),\"\")))","v":""},null,{"$f":"IF(D57=\"\",\"\",IF(COUNTIF(Brassage!B40:B41,'Feuille de Brassage'!D57)>0,10,IF(ROWS($1:8)<=COUNTIF(Utilisation,\"Ebullition\"),INDEX(Durée,SMALL(IF(Utilisation=\"Ebullition\",ROW(INDIRECT(\"1:\"&ROWS(Utilisation)))),ROWS($1:8))),\"\")))","v":""}]
["",{"$f":"IF(ROWS($1:9)<=COUNTIF(Utilisation,\"Ebullition\"),INDEX(poids,SMALL(IF(Utilisation=\"Ebullition\",ROW(INDIRECT(\"1:\"&ROWS(Utilisation)))),ROWS($1:9))),\"\")","v":""},"",{"$f":"IF(ROWS($1:9)<=COUNTIF(Utilisation,\"Ebullition\"),INDEX(result,SMALL(IF(Utilisation=\"Ebullition\",ROW(INDIRECT(\"1:\"&ROWS(Utilisation)))),ROWS($1:9))),\"\")","v":""},null,"",{"$f":"IF(D58=\"\",\"\",IF(COUNTIF(Brassage!B41:B43,'Feuille de Brassage'!D58)>0,10,IF(ROWS($1:9)<=COUNTIF(Utilisation,\"Ebullition\"),INDEX(Durée,SMALL(IF(Utilisation=\"Ebullition\",ROW(INDIRECT(\"1:\"&ROWS(Utilisation)))),ROWS($1:9))),\"\")))","v":""},null,{"$f":"IF(D58=\"\",\"\",IF(COUNTIF(Brassage!B41:B43,'Feuille de Brassage'!D58)>0,10,IF(ROWS($1:9)<=COUNTIF(Utilisation,\"Ebullition\"),INDEX(Durée,SMALL(IF(Utilisation=\"Ebullition\",ROW(INDIRECT(\"1:\"&ROWS(Utilisation)))),ROWS($1:9))),\"\")))","v":""}]
["",{"$f":"IF(ROWS($1:10)<=COUNTIF(Utilisation,\"Ebullition\"),INDEX(poids,SMALL(IF(Utilisation=\"Ebullition\",ROW(INDIRECT(\"1:\"&ROWS(Utilisation)))),ROWS($1:10))),\"\")","v":""},"",{"$f":"IF(ROWS($1:10)<=COUNTIF(Utilisation,\"Ebullition\"),INDEX(result,SMALL(IF(Utilisation=\"Ebullition\",ROW(INDIRECT(\"1:\"&ROWS(Utilisation)))),ROWS($1:10))),\"\")","v":""},null,"",{"$f":"IF(D59=\"\",\"\",IF(COUNTIF(Brassage!B43:B44,'Feuille de Brassage'!D59)>0,10,IF(ROWS($1:10)<=COUNTIF(Utilisation,\"Ebullition\"),INDEX(Durée,SMALL(IF(Utilisation=\"Ebullition\",ROW(INDIRECT(\"1:\"&ROWS(Utilisation)))),ROWS($1:10))),\"\")))","v":""},null,{"$f":"IF(D59=\"\",\"\",IF(COUNTIF(Brassage!B43:B44,'Feuille de Brassage'!D59)>0,10,IF(ROWS($1:10)<=COUNTIF(Utilisation,\"Ebullition\"),INDEX(Durée,SMALL(IF(Utilisation=\"Ebullition\",ROW(INDIRECT(\"1:\"&ROWS(Utilisation)))),ROWS($1:10))),\"\")))","v":""}]
["",{"$f":"IF(ROWS($1:11)<=COUNTIF(Utilisation,\"Ebullition\"),INDEX(poids,SMALL(IF(Utilisation=\"Ebullition\",ROW(INDIRECT(\"1:\"&ROWS(Utilisation)))),ROWS($1:11))),\"\")","v":""},"",{"$f":"IF(ROWS($1:11)<=COUNTIF(Utilisation,\"Ebullition\"),INDEX(result,SMALL(IF(Utilisation=\"Ebullition\",ROW(INDIRECT(\"1:\"&ROWS(Utilisation)))),ROWS($1:11))),\"\")","v":""},null,"",{"$f":"IF(D60=\"\",\"\",IF(COUNTIF(Brassage!B44:B45,'Feuille de Brassage'!D60)>0,10,IF(ROWS($1:11)<=COUNTIF(Utilisation,\"Ebullition\"),INDEX(Durée,SMALL(IF(Utilisation=\"Ebullition\",ROW(INDIRECT(\"1:\"&ROWS(Utilisation)))),ROWS($1:11))),\"\")))","v":""},null,{"$f":"IF(D60=\"\",\"\",IF(COUNTIF(Brassage!B44:B45,'Feuille de Brassage'!D60)>0,10,IF(ROWS($1:11)<=COUNTIF(Utilisation,\"Ebullition\"),INDEX(Durée,SMALL(IF(Utilisation=\"Ebullition\",ROW(INDIRECT(\"1:\"&ROWS(Utilisation)))),ROWS($1:11))),\"\")))","v":""}]
["",{"$f":"IF(ROWS($1:12)<=COUNTIF(Utilisation,\"Ebullition\"),INDEX(poids,SMALL(IF(Utilisation=\"Ebullition\",ROW(INDIRECT(\"1:\"&ROWS(Utilisation)))),ROWS($1:12))),\"\")","v":""},"",{"$f":"IF(ROWS($1:12)<=COUNTIF(Utilisation,\"Ebullition\"),INDEX(result,SMALL(IF(Utilisation=\"Ebullition\",ROW(INDIRECT(\"1:\"&ROWS(Utilisation)))),ROWS($1:12))),\"\")","v":""},null,"",{"$f":"IF(D61=\"\",\"\",IF(COUNTIF(Brassage!B45:B46,'Feuille de Brassage'!D61)>0,10,IF(ROWS($1:12)<=COUNTIF(Utilisation,\"Ebullition\"),INDEX(Durée,SMALL(IF(Utilisation=\"Ebullition\",ROW(INDIRECT(\"1:\"&ROWS(Utilisation)))),ROWS($1:12))),\"\")))","v":""},null,{"$f":"IF(D61=\"\",\"\",IF(COUNTIF(Brassage!B45:B46,'Feuille de Brassage'!D61)>0,10,IF(ROWS($1:12)<=COUNTIF(Utilisation,\"Ebullition\"),INDEX(Durée,SMALL(IF(Utilisation=\"Ebullition\",ROW(INDIRECT(\"1:\"&ROWS(Utilisation)))),ROWS($1:12))),\"\")))","v":""}]
["",{"$f":"IF(ROWS($1:13)<=COUNTIF(Utilisation,\"Ebullition\"),INDEX(poids,SMALL(IF(Utilisation=\"Ebullition\",ROW(INDIRECT(\"1:\"&ROWS(Utilisation)))),ROWS($1:13))),\"\")","v":""},"",{"$f":"IF(ROWS($1:13)<=COUNTIF(Utilisation,\"Ebullition\"),INDEX(result,SMALL(IF(Utilisation=\"Ebullition\",ROW(INDIRECT(\"1:\"&ROWS(Utilisation)))),ROWS($1:13))),\"\")","v":""},null,"",{"$f":"IF(D62=\"\",\"\",IF(COUNTIF(Brassage!B46:B47,'Feuille de Brassage'!D62)>0,10,IF(ROWS($1:13)<=COUNTIF(Utilisation,\"Ebullition\"),INDEX(Durée,SMALL(IF(Utilisation=\"Ebullition\",ROW(INDIRECT(\"1:\"&ROWS(Utilisation)))),ROWS($1:13))),\"\")))","v":""},null,{"$f":"IF(D62=\"\",\"\",IF(COUNTIF(Brassage!B46:B47,'Feuille de Brassage'!D62)>0,10,IF(ROWS($1:13)<=COUNTIF(Utilisation,\"Ebullition\"),INDEX(Durée,SMALL(IF(Utilisation=\"Ebullition\",ROW(INDIRECT(\"1:\"&ROWS(Utilisation)))),ROWS($1:13))),\"\")))","v":""}]
["",{"$f":"IF(ROWS($1:14)<=COUNTIF(Utilisation,\"Ebullition\"),INDEX(poids,SMALL(IF(Utilisation=\"Ebullition\",ROW(INDIRECT(\"1:\"&ROWS(Utilisation)))),ROWS($1:14))),\"\")","v":""},"",{"$f":"IF(ROWS($1:14)<=COUNTIF(Utilisation,\"Ebullition\"),INDEX(result,SMALL(IF(Utilisation=\"Ebullition\",ROW(INDIRECT(\"1:\"&ROWS(Utilisation)))),ROWS($1:14))),\"\")","v":""},null,"",{"$f":"IF(D63=\"\",\"\",IF(COUNTIF(Brassage!B47:B48,'Feuille de Brassage'!D63)>0,10,IF(ROWS($1:14)<=COUNTIF(Utilisation,\"Ebullition\"),INDEX(Durée,SMALL(IF(Utilisation=\"Ebullition\",ROW(INDIRECT(\"1:\"&ROWS(Utilisation)))),ROWS($1:14))),\"\")))","v":""},null,{"$f":"IF(D63=\"\",\"\",IF(COUNTIF(Brassage!B47:B48,'Feuille de Brassage'!D63)>0,10,IF(ROWS($1:14)<=COUNTIF(Utilisation,\"Ebullition\"),INDEX(Durée,SMALL(IF(Utilisation=\"Ebullition\",ROW(INDIRECT(\"1:\"&ROWS(Utilisation)))),ROWS($1:14))),\"\")))","v":""}]
["x","x","x","x","x","x","x"]
["Fin d'ébullition et Flame-out"]
["Objectif en fin d'ébullition :",null,null,null,{"$f":"Brassage!L29","v":30.68},{"$f":"Brassage!L28","v":1.05},{"$f":" (-616.868 + 1111.14 *F66- 630.272 * F66^ 2+ 135.997 *F66^3)*1.04","v":12.883153010000031}]
["Relevé réel  (à reporter dans l'onglet \"Brassage\") :"]
[{"$f":"IF(E68=\"\",\"\",\"Flame-out : Arrêter l'ébullition et ajouter\")","v":""},null,null,{"$f":"IF(ROWS($1:1)<=COUNTIF(Utilisation,\"Flame-out\"),INDEX(poids,SMALL(IF(Utilisation=\"Flame-out\",ROW(INDIRECT(\"1:\"&ROWS(Utilisation)))),ROWS($1:1))),\"\")","v":""},{"$f":"IF(ROWS($1:1)<=COUNTIF(Utilisation,\"Flame-out\"),INDEX(result,SMALL(IF(Utilisation=\"Flame-out\",ROW(INDIRECT(\"1:\"&ROWS(Utilisation)))),ROWS($1:1))),\"\")","v":""},{"$f":"IF(E68=\"\",\"\",\"pendant\")","v":""},{"$f":"IF(ROWS($1:1)<=COUNTIF(Utilisation,\"Flame-out\"),INDEX(Durée,SMALL(IF(Utilisation=\"Flame-out\",ROW(INDIRECT(\"1:\"&ROWS(Utilisation)))),ROWS($1:1))),\"\")","v":""}]
[{"$f":"IF(E69=\"\",\"\",\"Flame-out : Arrêter l'ébullition et ajouter\")","v":""},null,null,{"$f":"IF(ROWS($1:2)<=COUNTIF(Utilisation,\"Flame-out\"),INDEX(poids,SMALL(IF(Utilisation=\"Flame-out\",ROW(INDIRECT(\"1:\"&ROWS(Utilisation)))),ROWS($1:2))),\"\")","v":""},{"$f":"IF(ROWS($1:2)<=COUNTIF(Utilisation,\"Flame-out\"),INDEX(result,SMALL(IF(Utilisation=\"Flame-out\",ROW(INDIRECT(\"1:\"&ROWS(Utilisation)))),ROWS($1:2))),\"\")","v":""},{"$f":"IF(E69=\"\",\"\",\"pendant\")","v":""},{"$f":"IF(ROWS($1:2)<=COUNTIF(Utilisation,\"Flame-out\"),INDEX(Durée,SMALL(IF(Utilisation=\"Flame-out\",ROW(INDIRECT(\"1:\"&ROWS(Utilisation)))),ROWS($1:2))),\"\")","v":""}]
["",null,null,{"$f":"IF(ROWS($1:3)<=COUNTIF(Utilisation,\"Flame-out\"),INDEX(poids,SMALL(IF(Utilisation=\"Flame-out\",ROW(INDIRECT(\"1:\"&ROWS(Utilisation)))),ROWS($1:3))),\"\")","v":""},{"$f":"IF(ROWS($1:3)<=COUNTIF(Utilisation,\"Flame-out\"),INDEX(result,SMALL(IF(Utilisation=\"Flame-out\",ROW(INDIRECT(\"1:\"&ROWS(Utilisation)))),ROWS($1:3))),\"\")","v":""},"",{"$f":"IF(ROWS($1:3)<=COUNTIF(Utilisation,\"Flame-out\"),INDEX(Durée,SMALL(IF(Utilisation=\"Flame-out\",ROW(INDIRECT(\"1:\"&ROWS(Utilisation)))),ROWS($1:3))),\"\")","v":""}]
[{"$f":"IF(E71=\"\",\"\",\"Flame-out : Arrêter l'ébullition et ajouter\")","v":""},null,null,{"$f":"IF(ROWS($1:4)<=COUNTIF(Utilisation,\"Flame-out\"),INDEX(poids,SMALL(IF(Utilisation=\"Flame-out\",ROW(INDIRECT(\"1:\"&ROWS(Utilisation)))),ROWS($1:4))),\"\")","v":""},{"$f":"IF(ROWS($1:4)<=COUNTIF(Utilisation,\"Flame-out\"),INDEX(result,SMALL(IF(Utilisation=\"Flame-out\",ROW(INDIRECT(\"1:\"&ROWS(Utilisation)))),ROWS($1:4))),\"\")","v":""},"",{"$f":"IF(ROWS($1:4)<=COUNTIF(Utilisation,\"Flame-out\"),INDEX(Durée,SMALL(IF(Utilisation=\"Flame-out\",ROW(INDIRECT(\"1:\"&ROWS(Utilisation)))),ROWS($1:4))),\"\")","v":""}]
["",null,null,{"$f":"IF(ROWS($1:5)<=COUNTIF(Utilisation,\"Flame-out\"),INDEX(poids,SMALL(IF(Utilisation=\"Flame-out\",ROW(INDIRECT(\"1:\"&ROWS(Utilisation)))),ROWS($1:5))),\"\")","v":""},{"$f":"IF(ROWS($1:5)<=COUNTIF(Utilisation,\"Flame-out\"),INDEX(result,SMALL(IF(Utilisation=\"Flame-out\",ROW(INDIRECT(\"1:\"&ROWS(Utilisation)))),ROWS($1:5))),\"\")","v":""},"",{"$f":"IF(ROWS($1:5)<=COUNTIF(Utilisation,\"Flame-out\"),INDEX(Durée,SMALL(IF(Utilisation=\"Flame-out\",ROW(INDIRECT(\"1:\"&ROWS(Utilisation)))),ROWS($1:5))),\"\")","v":""}]
["",null,null,{"$f":"IF(ROWS($1:6)<=COUNTIF(Utilisation,\"Flame-out\"),INDEX(poids,SMALL(IF(Utilisation=\"Flame-out\",ROW(INDIRECT(\"1:\"&ROWS(Utilisation)))),ROWS($1:6))),\"\")","v":""},{"$f":"IF(ROWS($1:6)<=COUNTIF(Utilisation,\"Flame-out\"),INDEX(result,SMALL(IF(Utilisation=\"Flame-out\",ROW(INDIRECT(\"1:\"&ROWS(Utilisation)))),ROWS($1:6))),\"\")","v":""},"",{"$f":"IF(ROWS($1:6)<=COUNTIF(Utilisation,\"Flame-out\"),INDEX(Durée,SMALL(IF(Utilisation=\"Flame-out\",ROW(INDIRECT(\"1:\"&ROWS(Utilisation)))),ROWS($1:6))),\"\")","v":""}]
["",null,null,{"$f":"IF(ROWS($1:7)<=COUNTIF(Utilisation,\"Flame-out\"),INDEX(poids,SMALL(IF(Utilisation=\"Flame-out\",ROW(INDIRECT(\"1:\"&ROWS(Utilisation)))),ROWS($1:7))),\"\")","v":""},{"$f":"IF(ROWS($1:7)<=COUNTIF(Utilisation,\"Flame-out\"),INDEX(result,SMALL(IF(Utilisation=\"Flame-out\",ROW(INDIRECT(\"1:\"&ROWS(Utilisation)))),ROWS($1:7))),\"\")","v":""},"",{"$f":"IF(ROWS($1:7)<=COUNTIF(Utilisation,\"Flame-out\"),INDEX(Durée,SMALL(IF(Utilisation=\"Flame-out\",ROW(INDIRECT(\"1:\"&ROWS(Utilisation)))),ROWS($1:7))),\"\")","v":""}]
["",null,null,{"$f":"IF(ROWS($1:8)<=COUNTIF(Utilisation,\"Flame-out\"),INDEX(poids,SMALL(IF(Utilisation=\"Flame-out\",ROW(INDIRECT(\"1:\"&ROWS(Utilisation)))),ROWS($1:8))),\"\")","v":""},{"$f":"IF(ROWS($1:8)<=COUNTIF(Utilisation,\"Flame-out\"),INDEX(result,SMALL(IF(Utilisation=\"Flame-out\",ROW(INDIRECT(\"1:\"&ROWS(Utilisation)))),ROWS($1:8))),\"\")","v":""},"",{"$f":"IF(ROWS($1:8)<=COUNTIF(Utilisation,\"Flame-out\"),INDEX(Durée,SMALL(IF(Utilisation=\"Flame-out\",ROW(INDIRECT(\"1:\"&ROWS(Utilisation)))),ROWS($1:8))),\"\")","v":""}]
["",null,null,{"$f":"IF(ROWS($1:9)<=COUNTIF(Utilisation,\"Flame-out\"),INDEX(poids,SMALL(IF(Utilisation=\"Flame-out\",ROW(INDIRECT(\"1:\"&ROWS(Utilisation)))),ROWS($1:9))),\"\")","v":""},{"$f":"IF(ROWS($1:9)<=COUNTIF(Utilisation,\"Flame-out\"),INDEX(result,SMALL(IF(Utilisation=\"Flame-out\",ROW(INDIRECT(\"1:\"&ROWS(Utilisation)))),ROWS($1:9))),\"\")","v":""},"",{"$f":"IF(ROWS($1:9)<=COUNTIF(Utilisation,\"Flame-out\"),INDEX(Durée,SMALL(IF(Utilisation=\"Flame-out\",ROW(INDIRECT(\"1:\"&ROWS(Utilisation)))),ROWS($1:9))),\"\")","v":""}]
["",null,null,{"$f":"IF(ROWS($1:10)<=COUNTIF(Utilisation,\"Flame-out\"),INDEX(poids,SMALL(IF(Utilisation=\"Flame-out\",ROW(INDIRECT(\"1:\"&ROWS(Utilisation)))),ROWS($1:10))),\"\")","v":""},{"$f":"IF(ROWS($1:10)<=COUNTIF(Utilisation,\"Flame-out\"),INDEX(result,SMALL(IF(Utilisation=\"Flame-out\",ROW(INDIRECT(\"1:\"&ROWS(Utilisation)))),ROWS($1:10))),\"\")","v":""},"",{"$f":"IF(ROWS($1:10)<=COUNTIF(Utilisation,\"Flame-out\"),INDEX(Durée,SMALL(IF(Utilisation=\"Flame-out\",ROW(INDIRECT(\"1:\"&ROWS(Utilisation)))),ROWS($1:10))),\"\")","v":""}]
["",null,null,{"$f":"IF(ROWS($1:11)<=COUNTIF(Utilisation,\"Flame-out\"),INDEX(poids,SMALL(IF(Utilisation=\"Flame-out\",ROW(INDIRECT(\"1:\"&ROWS(Utilisation)))),ROWS($1:11))),\"\")","v":""},{"$f":"IF(ROWS($1:11)<=COUNTIF(Utilisation,\"Flame-out\"),INDEX(result,SMALL(IF(Utilisation=\"Flame-out\",ROW(INDIRECT(\"1:\"&ROWS(Utilisation)))),ROWS($1:11))),\"\")","v":""},"",{"$f":"IF(ROWS($1:11)<=COUNTIF(Utilisation,\"Flame-out\"),INDEX(Durée,SMALL(IF(Utilisation=\"Flame-out\",ROW(INDIRECT(\"1:\"&ROWS(Utilisation)))),ROWS($1:11))),\"\")","v":""}]
["x","x","x","x","x","x","x"]
["Refroidissement, Hop-Stand et ensemencement"]
[{"$f":"IF(E81=\"\",\"\",\"Hop-Stand : refroidir < 80°C et ajouter\")","v":""},null,null,{"$f":"IF(ROWS($1:1)<=COUNTIF(Utilisation,\"Hop-Stand\"),INDEX(poids,SMALL(IF(Utilisation=\"Hop-Stand\",ROW(INDIRECT(\"1:\"&ROWS(Utilisation)))),ROWS($1:1))),\"\")","v":""},{"$f":"IF(ROWS($1:1)<=COUNTIF(Utilisation,\"Hop-Stand\"),INDEX(result,SMALL(IF(Utilisation=\"Hop-Stand\",ROW(INDIRECT(\"1:\"&ROWS(Utilisation)))),ROWS($1:1))),\"\")","v":""},{"$f":"IF(E81=\"\",\"\",\"pendant\")","v":""},{"$f":"IF(ROWS($1:1)<=COUNTIF(Utilisation,\"Hop-Stand\"),INDEX(Durée,SMALL(IF(Utilisation=\"Hop-Stand\",ROW(INDIRECT(\"1:\"&ROWS(Utilisation)))),ROWS($1:1))),\"\")","v":""}]
[{"$f":"IF(E82=\"\",\"\",\"Hop-Stand : refroidir < 80°C et ajouter\")","v":""},null,null,{"$f":"IF(ROWS($1:2)<=COUNTIF(Utilisation,\"Hop-Stand\"),INDEX(poids,SMALL(IF(Utilisation=\"Hop-Stand\",ROW(INDIRECT(\"1:\"&ROWS(Utilisation)))),ROWS($1:2))),\"\")","v":""},{"$f":"IF(ROWS($1:2)<=COUNTIF(Utilisation,\"Hop-Stand\"),INDEX(result,SMALL(IF(Utilisation=\"Hop-Stand\",ROW(INDIRECT(\"1:\"&ROWS(Utilisation)))),ROWS($1:2))),\"\")","v":""},{"$f":"IF(E82=\"\",\"\",\"pendant\")","v":""},{"$f":"IF(ROWS($1:2)<=COUNTIF(Utilisation,\"Hop-Stand\"),INDEX(Durée,SMALL(IF(Utilisation=\"Hop-Stand\",ROW(INDIRECT(\"1:\"&ROWS(Utilisation)))),ROWS($1:2))),\"\")","v":""}]
["",null,null,{"$f":"IF(ROWS($1:3)<=COUNTIF(Utilisation,\"Hop-Stand\"),INDEX(poids,SMALL(IF(Utilisation=\"Hop-Stand\",ROW(INDIRECT(\"1:\"&ROWS(Utilisation)))),ROWS($1:3))),\"\")","v":""},{"$f":"IF(ROWS($1:3)<=COUNTIF(Utilisation,\"Hop-Stand\"),INDEX(result,SMALL(IF(Utilisation=\"Hop-Stand\",ROW(INDIRECT(\"1:\"&ROWS(Utilisation)))),ROWS($1:3))),\"\")","v":""},"",{"$f":"IF(ROWS($1:3)<=COUNTIF(Utilisation,\"Hop-Stand\"),INDEX(Durée,SMALL(IF(Utilisation=\"Hop-Stand\",ROW(INDIRECT(\"1:\"&ROWS(Utilisation)))),ROWS($1:3))),\"\")","v":""}]
["",null,null,{"$f":"IF(ROWS($1:4)<=COUNTIF(Utilisation,\"Hop-Stand\"),INDEX(poids,SMALL(IF(Utilisation=\"Hop-Stand\",ROW(INDIRECT(\"1:\"&ROWS(Utilisation)))),ROWS($1:4))),\"\")","v":""},{"$f":"IF(ROWS($1:4)<=COUNTIF(Utilisation,\"Hop-Stand\"),INDEX(result,SMALL(IF(Utilisation=\"Hop-Stand\",ROW(INDIRECT(\"1:\"&ROWS(Utilisation)))),ROWS($1:4))),\"\")","v":""},"",{"$f":"IF(ROWS($1:4)<=COUNTIF(Utilisation,\"Hop-Stand\"),INDEX(Durée,SMALL(IF(Utilisation=\"Hop-Stand\",ROW(INDIRECT(\"1:\"&ROWS(Utilisation)))),ROWS($1:4))),\"\")","v":""}]
["",null,null,{"$f":"IF(ROWS($1:5)<=COUNTIF(Utilisation,\"Hop-Stand\"),INDEX(poids,SMALL(IF(Utilisation=\"Hop-Stand\",ROW(INDIRECT(\"1:\"&ROWS(Utilisation)))),ROWS($1:5))),\"\")","v":""},{"$f":"IF(ROWS($1:5)<=COUNTIF(Utilisation,\"Hop-Stand\"),INDEX(result,SMALL(IF(Utilisation=\"Hop-Stand\",ROW(INDIRECT(\"1:\"&ROWS(Utilisation)))),ROWS($1:5))),\"\")","v":""},"",{"$f":"IF(ROWS($1:5)<=COUNTIF(Utilisation,\"Hop-Stand\"),INDEX(Durée,SMALL(IF(Utilisation=\"Hop-Stand\",ROW(INDIRECT(\"1:\"&ROWS(Utilisation)))),ROWS($1:5))),\"\")","v":""}]
["Selon l'installation effectuer whirpool, transfert(s) et refroidir jusqu'à",null,null,null,null,null,{"$f":"Brassage!L41","v":21}]
["Objectif en fermenteur : ",null,null,null,{"$f":"Brassage!L35","v":28},{"$f":"Brassage!L34","v":1.05},{"$f":" (-616.868 + 1111.14 *F87- 630.272 * F87^ 2+ 135.997 *F87^3)*1.04","v":12.883153010000031}]
["Relevé réel (à reporter dans l'onglet \"Brassage\") :"]
[{"$f":"IF(C89=\"\",\"\",\"Ensemencer avec\")","v":"Ensemencer avec"},null,{"$f":"IF(Brassage!H61>0,Brassage!H61,\"\")","v":260},{"$f":"IF(C89=\"\",\"\",\"de\")","v":"de"},{"$f":"IF(Brassage!B61>0,Brassage!B61,\"\")","v":"Wyeast 3068 Weihenstephan Weizen"}]
[{"$f":"IF(C90=\"\",\"\",\"Ensemencer avec\")","v":""},null,{"$f":"IF(Brassage!H62>0,Brassage!H62,\"\")","v":""},{"$f":"IF(C90=\"\",\"\",\"de\")","v":""},{"$f":"IF(Brassage!B62>0,Brassage!B62,\"\")","v":""}]
["x","x","x","x","x","x","x"]
["Fermentation"]
[{"$f":"IF(B93=0,\"\",\"Placer à \")","v":"Placer à "},{"$f":"Brassage!L41","v":21},{"$f":"IF(B93=0,\"\",\"pendant \")","v":"pendant "},{"$f":"Brassage!M41","v":21},{"$f":"IF(D93=0,\"\",\"théoriquement jusqu'au \")","v":"théoriquement jusqu'au "},null,{"$f":"Brassage!N41","v":"2023-11-05"}]
[{"$f":"IF(B94=0,\"\",\"puis placer à \")","v":"puis placer à "},{"$f":"Brassage!L42","v":2},{"$f":"IF(B94=0,\"\",\"pendant \")","v":"pendant "},{"$f":"Brassage!M42","v":2},{"$f":"IF(D94=0,\"\",\"théoriquement jusqu'au \")","v":"théoriquement jusqu'au "},null,{"$f":"Brassage!N42","v":"2023-11-07"}]
[{"$f":"IF(B95=0,\"\",\"puis placer à \")","v":""},{"$f":"Brassage!L43","v":0},"",{"$f":"Brassage!M43","v":0},"",null,{"$f":"Brassage!N43","v":""}]
[{"$f":"IF(C96=\"\",\"\",\"Faire un DH avec\")","v":""},null,{"$f":"IF(ROWS($1:1)<=COUNTIF(Utilisation,\"DH\"),INDEX(poids,SMALL(IF(Utilisation=\"DH\",ROW(INDIRECT(\"1:\"&ROWS(Utilisation)))),ROWS($1:1))),\"\")","v":""},{"$f":"IF(C96=\"\",\"\",\"de\")","v":""},{"$f":"IF(ROWS($1:1)<=COUNTIF(Utilisation,\"DH\"),INDEX(result,SMALL(IF(Utilisation=\"DH\",ROW(INDIRECT(\"1:\"&ROWS(Utilisation)))),ROWS($1:1))),\"\")","v":""},{"$f":"IF(C96=\"\",\"\",\"pendant\")","v":""},{"$f":"IF(ROWS($1:1)<=COUNTIF(Utilisation,\"DH\"),INDEX(Durée,SMALL(IF(Utilisation=\"DH\",ROW(INDIRECT(\"1:\"&ROWS(Utilisation)))),ROWS($1:1))),\"\")","v":""}]
[{"$f":"IF(C97=\"\",\"\",\"Faire un DH avec\")","v":""},null,{"$f":"IF(ROWS($1:2)<=COUNTIF(Utilisation,\"DH\"),INDEX(poids,SMALL(IF(Utilisation=\"DH\",ROW(INDIRECT(\"1:\"&ROWS(Utilisation)))),ROWS($1:2))),\"\")","v":""},"",{"$f":"IF(ROWS($1:2)<=COUNTIF(Utilisation,\"DH\"),INDEX(result,SMALL(IF(Utilisation=\"DH\",ROW(INDIRECT(\"1:\"&ROWS(Utilisation)))),ROWS($1:2))),\"\")","v":""},{"$f":"IF(C97=\"\",\"\",\"pendant\")","v":""},{"$f":"IF(ROWS($1:2)<=COUNTIF(Utilisation,\"DH\"),INDEX(Durée,SMALL(IF(Utilisation=\"DH\",ROW(INDIRECT(\"1:\"&ROWS(Utilisation)))),ROWS($1:2))),\"\")","v":""}]
["",null,{"$f":"IF(ROWS($1:3)<=COUNTIF(Utilisation,\"DH\"),INDEX(poids,SMALL(IF(Utilisation=\"DH\",ROW(INDIRECT(\"1:\"&ROWS(Utilisation)))),ROWS($1:3))),\"\")","v":""},"",{"$f":"IF(ROWS($1:3)<=COUNTIF(Utilisation,\"DH\"),INDEX(result,SMALL(IF(Utilisation=\"DH\",ROW(INDIRECT(\"1:\"&ROWS(Utilisation)))),ROWS($1:3))),\"\")","v":""},"",{"$f":"IF(ROWS($1:3)<=COUNTIF(Utilisation,\"DH\"),INDEX(Durée,SMALL(IF(Utilisation=\"DH\",ROW(INDIRECT(\"1:\"&ROWS(Utilisation)))),ROWS($1:3))),\"\")","v":""}]
["",null,{"$f":"IF(ROWS($1:4)<=COUNTIF(Utilisation,\"DH\"),INDEX(poids,SMALL(IF(Utilisation=\"DH\",ROW(INDIRECT(\"1:\"&ROWS(Utilisation)))),ROWS($1:4))),\"\")","v":""},"",{"$f":"IF(ROWS($1:4)<=COUNTIF(Utilisation,\"DH\"),INDEX(result,SMALL(IF(Utilisation=\"DH\",ROW(INDIRECT(\"1:\"&ROWS(Utilisation)))),ROWS($1:4))),\"\")","v":""},"",{"$f":"IF(ROWS($1:4)<=COUNTIF(Utilisation,\"DH\"),INDEX(Durée,SMALL(IF(Utilisation=\"DH\",ROW(INDIRECT(\"1:\"&ROWS(Utilisation)))),ROWS($1:4))),\"\")","v":""}]
["",null,{"$f":"IF(ROWS($1:5)<=COUNTIF(Utilisation,\"DH\"),INDEX(poids,SMALL(IF(Utilisation=\"DH\",ROW(INDIRECT(\"1:\"&ROWS(Utilisation)))),ROWS($1:5))),\"\")","v":""},"",{"$f":"IF(ROWS($1:5)<=COUNTIF(Utilisation,\"DH\"),INDEX(result,SMALL(IF(Utilisation=\"DH\",ROW(INDIRECT(\"1:\"&ROWS(Utilisation)))),ROWS($1:5))),\"\")","v":""},"",{"$f":"IF(ROWS($1:5)<=COUNTIF(Utilisation,\"DH\"),INDEX(Durée,SMALL(IF(Utilisation=\"DH\",ROW(INDIRECT(\"1:\"&ROWS(Utilisation)))),ROWS($1:5))),\"\")","v":""}]
["",null,{"$f":"IF(ROWS($1:6)<=COUNTIF(Utilisation,\"DH\"),INDEX(poids,SMALL(IF(Utilisation=\"DH\",ROW(INDIRECT(\"1:\"&ROWS(Utilisation)))),ROWS($1:6))),\"\")","v":""},"",{"$f":"IF(ROWS($1:6)<=COUNTIF(Utilisation,\"DH\"),INDEX(result,SMALL(IF(Utilisation=\"DH\",ROW(INDIRECT(\"1:\"&ROWS(Utilisation)))),ROWS($1:6))),\"\")","v":""},"",{"$f":"IF(ROWS($1:6)<=COUNTIF(Utilisation,\"DH\"),INDEX(Durée,SMALL(IF(Utilisation=\"DH\",ROW(INDIRECT(\"1:\"&ROWS(Utilisation)))),ROWS($1:6))),\"\")","v":""}]
["",null,{"$f":"IF(ROWS($1:7)<=COUNTIF(Utilisation,\"DH\"),INDEX(poids,SMALL(IF(Utilisation=\"DH\",ROW(INDIRECT(\"1:\"&ROWS(Utilisation)))),ROWS($1:7))),\"\")","v":""},"",{"$f":"IF(ROWS($1:7)<=COUNTIF(Utilisation,\"DH\"),INDEX(result,SMALL(IF(Utilisation=\"DH\",ROW(INDIRECT(\"1:\"&ROWS(Utilisation)))),ROWS($1:7))),\"\")","v":""},"",{"$f":"IF(ROWS($1:7)<=COUNTIF(Utilisation,\"DH\"),INDEX(Durée,SMALL(IF(Utilisation=\"DH\",ROW(INDIRECT(\"1:\"&ROWS(Utilisation)))),ROWS($1:7))),\"\")","v":""}]
["",null,{"$f":"IF(ROWS($1:8)<=COUNTIF(Utilisation,\"DH\"),INDEX(poids,SMALL(IF(Utilisation=\"DH\",ROW(INDIRECT(\"1:\"&ROWS(Utilisation)))),ROWS($1:8))),\"\")","v":""},"",{"$f":"IF(ROWS($1:8)<=COUNTIF(Utilisation,\"DH\"),INDEX(result,SMALL(IF(Utilisation=\"DH\",ROW(INDIRECT(\"1:\"&ROWS(Utilisation)))),ROWS($1:8))),\"\")","v":""},"",{"$f":"IF(ROWS($1:8)<=COUNTIF(Utilisation,\"DH\"),INDEX(Durée,SMALL(IF(Utilisation=\"DH\",ROW(INDIRECT(\"1:\"&ROWS(Utilisation)))),ROWS($1:8))),\"\")","v":""}]
["",null,{"$f":"IF(ROWS($1:9)<=COUNTIF(Utilisation,\"DH\"),INDEX(poids,SMALL(IF(Utilisation=\"DH\",ROW(INDIRECT(\"1:\"&ROWS(Utilisation)))),ROWS($1:9))),\"\")","v":""},"",{"$f":"IF(ROWS($1:9)<=COUNTIF(Utilisation,\"DH\"),INDEX(result,SMALL(IF(Utilisation=\"DH\",ROW(INDIRECT(\"1:\"&ROWS(Utilisation)))),ROWS($1:9))),\"\")","v":""},"",{"$f":"IF(ROWS($1:9)<=COUNTIF(Utilisation,\"DH\"),INDEX(Durée,SMALL(IF(Utilisation=\"DH\",ROW(INDIRECT(\"1:\"&ROWS(Utilisation)))),ROWS($1:9))),\"\")","v":""}]
["",null,{"$f":"IF(ROWS($1:10)<=COUNTIF(Utilisation,\"DH\"),INDEX(poids,SMALL(IF(Utilisation=\"DH\",ROW(INDIRECT(\"1:\"&ROWS(Utilisation)))),ROWS($1:10))),\"\")","v":""},"",{"$f":"IF(ROWS($1:10)<=COUNTIF(Utilisation,\"DH\"),INDEX(result,SMALL(IF(Utilisation=\"DH\",ROW(INDIRECT(\"1:\"&ROWS(Utilisation)))),ROWS($1:10))),\"\")","v":""},"",{"$f":"IF(ROWS($1:10)<=COUNTIF(Utilisation,\"DH\"),INDEX(Durée,SMALL(IF(Utilisation=\"DH\",ROW(INDIRECT(\"1:\"&ROWS(Utilisation)))),ROWS($1:10))),\"\")","v":""}]
["",null,{"$f":"IF(ROWS($1:11)<=COUNTIF(Utilisation,\"DH\"),INDEX(poids,SMALL(IF(Utilisation=\"DH\",ROW(INDIRECT(\"1:\"&ROWS(Utilisation)))),ROWS($1:11))),\"\")","v":""},"",{"$f":"IF(ROWS($1:11)<=COUNTIF(Utilisation,\"DH\"),INDEX(result,SMALL(IF(Utilisation=\"DH\",ROW(INDIRECT(\"1:\"&ROWS(Utilisation)))),ROWS($1:11))),\"\")","v":""},"",{"$f":"IF(ROWS($1:11)<=COUNTIF(Utilisation,\"DH\"),INDEX(Durée,SMALL(IF(Utilisation=\"DH\",ROW(INDIRECT(\"1:\"&ROWS(Utilisation)))),ROWS($1:11))),\"\")","v":""}]
["",null,{"$f":"IF(ROWS($1:12)<=COUNTIF(Utilisation,\"DH\"),INDEX(poids,SMALL(IF(Utilisation=\"DH\",ROW(INDIRECT(\"1:\"&ROWS(Utilisation)))),ROWS($1:12))),\"\")","v":""},"",{"$f":"IF(ROWS($1:12)<=COUNTIF(Utilisation,\"DH\"),INDEX(result,SMALL(IF(Utilisation=\"DH\",ROW(INDIRECT(\"1:\"&ROWS(Utilisation)))),ROWS($1:12))),\"\")","v":""},"",{"$f":"IF(ROWS($1:12)<=COUNTIF(Utilisation,\"DH\"),INDEX(Durée,SMALL(IF(Utilisation=\"DH\",ROW(INDIRECT(\"1:\"&ROWS(Utilisation)))),ROWS($1:12))),\"\")","v":""}]
["x","x","x","x","x","x","x"]
["Autres ingrédients"]
["A ajouter aux moments choisis : ",{"$f":"Brassage!B38","v":"Type"},null,{"$f":"Brassage!D38","v":"Utilisation"},{"$f":"Brassage!E38","v":"Durée"},{"$f":"Brassage!F38","v":"Quantité"},{"$f":"Brassage!H38","v":"Notes"}]
[null,{"$f":"Brassage!B39","v":0},null,{"$f":"Brassage!D39","v":0},{"$f":"Brassage!E39","v":0},{"$f":"Brassage!F39","v":0},{"$f":"Brassage!H39","v":0}]
[null,{"$f":"Brassage!B40","v":0},null,{"$f":"Brassage!D40","v":0},{"$f":"Brassage!E40","v":0},{"$f":"Brassage!F40","v":0},{"$f":"Brassage!H40","v":0}]
[null,{"$f":"Brassage!B41","v":0},null,{"$f":"Brassage!D41","v":0},{"$f":"Brassage!E41","v":0},{"$f":"Brassage!F41","v":0},{"$f":"Brassage!H41","v":0}]
[null,{"$f":"Brassage!B42","v":0},null,{"$f":"Brassage!D42","v":0},{"$f":"Brassage!E42","v":0},{"$f":"Brassage!F42","v":0},{"$f":"Brassage!H42","v":0}]

{"sheet":"Profil d'eau","index":2,"n_rows":41,"n_cols":17,"rows_kept":41,"cut":false,"hidden":false,"merged":[[35,9,40,9],[38,7,38,8],[39,7,39,8],[40,7,40,8],[33,0,34,2],[37,5,37,6],[36,5,36,6],[35,5,35,6],[35,7,35,8],[36,7,36,8],[37,7,37,8],[38,3,38,4],[39,3,39,4],[40,3,40,4],[40,5,40,6],[39,5,39,6],[38,5,38,6],[35,3,35,4],[36,3,36,4],[37,3,37,4],[33,3,33,4],[33,5,33,6],[33,7,33,8],[34,3,34,4],[34,5,34,6],[34,7,34,8],[23,0,23,1],[32,3,32,4],[32,5,32,6],[32,7,32,8],[18,0,18,1],[30,0,30,1],[31,0,31,2],[16,0,16,8],[19,0,19,1],[20,0,20,1],[21,0,21,1],[22,0,22,1],[0,10,0,16],[3,0,3,1],[5,0,5,1],[6,0,6,1],[13,0,13,2],[2,0,2,1],[0,0,0,8],[4,0,4,1]]}
["Outil de mélange d'eau",null,null,null,null,null,null,null,null,null,"Profils d'eau - ppm"]
[null,null,null,null,null,null,null,null,null,"Profil recette",{"$f":"VLOOKUP(Brassage!$H$15,'Profil d''eau'!$K$4:$Q$98,1,FALSE)","v":"Weissbier V2"},{"$f":"VLOOKUP(Brassage!$H$15,'Profil d''eau'!$K$4:$Q$98,2,FALSE)","v":50},{"$f":"VLOOKUP(Brassage!$H$15,'Profil d''eau'!$K$4:$Q$98,3,FALSE)","v":10},{"$f":"VLOOKUP(Brassage!$H$15,'Profil d''eau'!$K$4:$Q$98,4,FALSE)","v":16},{"$f":"VLOOKUP(Brassage!$H$15,'Profil d''eau'!$K$4:$Q$98,5,FALSE)","v":70},{"$f":"VLOOKUP(Brassage!$H$15,'Profil d''eau'!$K$4:$Q$98,6,FALSE)","v":70},{"$f":"VLOOKUP(Brassage!$H$15,'Profil d''eau'!$K$4:$Q$98,7,FALSE)","v":120}]
["PROFIL",null,"NOM","Ca\n(50-150)","Mg\n(10-40)","Na\n(0-150)","SO4\n(50-250)","Cl\n(0-250)","HCO3\n(0-250)",null,"Profil","Ca","Mg","Na","SO4","Cl","HCO3"]
["Style BJCCP",null,"10A - Weissbier",{"$f":"IF($C$4=\"\",\"\",VLOOKUP($C$4,BJCCP!$A$2:$AU$119,22,FALSE))","v":"50-100"},{"$f":"IF($C$4=\"\",\"\",VLOOKUP($C$4,BJCCP!$A$2:$AU$119,23,FALSE))","v":"0-30"},{"$f":"IF($C$4=\"\",\"\",VLOOKUP($C$4,BJCCP!$A$2:$AU$119,24,FALSE))","v":"0-80"},{"$f":"IF($C$4=\"\",\"\",VLOOKUP($C$4,BJCCP!$A$2:$AU$119,25,FALSE))","v":"0-50"},{"$f":"IF($C$4=\"\",\"\",VLOOKUP($C$4,BJCCP!$A$2:$AU$119,26,FALSE))","v":"0-100"},{"$f":"IF($C$4=\"\",\"\",VLOOKUP($C$4,BJCCP!$A$2:$AU$119,27,FALSE))","v":"<100"},null,"0 Recette actuelle 0",{"$f":"Brassage!B15","v":56.464399999999998},{"$f":"Brassage!C15","v":16.805399999999999},{"$f":"Brassage!D15","v":20.801699999999997},{"$f":"Brassage!E15","v":68.722200000000015},{"$f":"Brassage!F15","v":66.784599999999998},{"$f":"Brassage!G15","v":111}]
["Profil cible (manuel)",null,null,null,null,null,null,null,null,null,"00 Saint-Paulet",30,3,9,3,10,111]
["Profil cible (liste)",null,"Weissbier V2",{"$f":"IF($C$6=\"\",\"\",VLOOKUP($C$6,$K$4:$Q$98,2,FALSE))","v":50},{"$f":"IF($C$6=\"\",\"\",VLOOKUP($C$6,$K$4:$Q$98,3,FALSE))","v":10},{"$f":"IF($C$6=\"\",\"\",VLOOKUP($C$6,$K$4:$Q$98,4,FALSE))","v":16},{"$f":"IF($C$6=\"\",\"\",VLOOKUP($C$6,$K$4:$Q$98,5,FALSE))","v":70},{"$f":"IF($C$6=\"\",\"\",VLOOKUP($C$6,$K$4:$Q$98,6,FALSE))","v":70},{"$f":"IF($C$6=\"\",\"\",VLOOKUP($C$6,$K$4:$Q$98,7,FALSE))","v":120},null,"APA",60,20,70,200,100,111]
["Profil cible retenu",null,{"$f":"IF($C$6=\"\",C5,C6)","v":"Weissbier V2"},{"$f":"IF($C$6=\"\",D5,D6)","v":50},10,16,70,70,120,null,"APL",60,20,30,150,50,111]
["Eau de départ 1",10,"00 Saint-Paulet",{"$f":"IF($C8=\"\",0,VLOOKUP($C8,$K$4:$Q$98,2,FALSE))","v":30},{"$f":"IF($C8=\"\",0,VLOOKUP($C8,$K$4:$Q$98,3,FALSE))","v":3},{"$f":"IF($C8=\"\",0,VLOOKUP($C8,$K$4:$Q$98,4,FALSE))","v":9},{"$f":"IF($C8=\"\",0,VLOOKUP($C8,$K$4:$Q$98,5,FALSE))","v":3},{"$f":"IF($C8=\"\",0,VLOOKUP($C8,$K$4:$Q$98,6,FALSE))","v":10},{"$f":"IF($C8=\"\",0,VLOOKUP($C8,$K$4:$Q$98,7,FALSE))","v":111},null,"Buffalo, NY",34,9,11,23,19,110]
["Eau de départ 2",10,"Eau déminéralisée",{"$f":"IF($C9=\"\",0,VLOOKUP($C9,$K$4:$Q$98,2,FALSE))","v":0},{"$f":"IF($C9=\"\",0,VLOOKUP($C9,$K$4:$Q$98,3,FALSE))","v":0},{"$f":"IF($C9=\"\",0,VLOOKUP($C9,$K$4:$Q$98,4,FALSE))","v":0},{"$f":"IF($C9=\"\",0,VLOOKUP($C9,$K$4:$Q$98,5,FALSE))","v":0},{"$f":"IF($C9=\"\",0,VLOOKUP($C9,$K$4:$Q$98,6,FALSE))","v":0},{"$f":"IF($C9=\"\",0,VLOOKUP($C9,$K$4:$Q$98,7,FALSE))","v":0},null,"Burton-on-Trent",268,62,30,638,36,141]
["Eau de départ 3",null,null,{"$f":"IF($C10=\"\",0,VLOOKUP($C10,$K$4:$Q$98,2,FALSE))","v":0},{"$f":"IF($C10=\"\",0,VLOOKUP($C10,$K$4:$Q$98,3,FALSE))","v":0},{"$f":"IF($C10=\"\",0,VLOOKUP($C10,$K$4:$Q$98,4,FALSE))","v":0},{"$f":"IF($C10=\"\",0,VLOOKUP($C10,$K$4:$Q$98,5,FALSE))","v":0},{"$f":"IF($C10=\"\",0,VLOOKUP($C10,$K$4:$Q$98,6,FALSE))","v":0},{"$f":"IF($C10=\"\",0,VLOOKUP($C10,$K$4:$Q$98,7,FALSE))","v":0},null,"Dortmund",260,23,69,240,106,270]
["Eau de départ 4",null,null,{"$f":"IF($C11=\"\",0,VLOOKUP($C11,$K$4:$Q$98,2,FALSE))","v":0},{"$f":"IF($C11=\"\",0,VLOOKUP($C11,$K$4:$Q$98,3,FALSE))","v":0},{"$f":"IF($C11=\"\",0,VLOOKUP($C11,$K$4:$Q$98,4,FALSE))","v":0},{"$f":"IF($C11=\"\",0,VLOOKUP($C11,$K$4:$Q$98,5,FALSE))","v":0},{"$f":"IF($C11=\"\",0,VLOOKUP($C11,$K$4:$Q$98,6,FALSE))","v":0},{"$f":"IF($C11=\"\",0,VLOOKUP($C11,$K$4:$Q$98,7,FALSE))","v":0},null,"Dublin",118,4,12,54,19,319]
["Eau de départ 5",null,null,{"$f":"IF($C12=\"\",0,VLOOKUP($C12,$K$4:$Q$98,2,FALSE))","v":0},{"$f":"IF($C12=\"\",0,VLOOKUP($C12,$K$4:$Q$98,3,FALSE))","v":0},{"$f":"IF($C12=\"\",0,VLOOKUP($C12,$K$4:$Q$98,4,FALSE))","v":0},{"$f":"IF($C12=\"\",0,VLOOKUP($C12,$K$4:$Q$98,5,FALSE))","v":0},{"$f":"IF($C12=\"\",0,VLOOKUP($C12,$K$4:$Q$98,6,FALSE))","v":0},{"$f":"IF($C12=\"\",0,VLOOKUP($C12,$K$4:$Q$98,7,FALSE))","v":0},null,"East Flanders",134,22,52,76,47,306]
["Eau obtenue",{"$f":"SUM(B8:B12)","v":20},"Nouvelle eau",{"$f":"(D8*$B$8+D9*$B$9+D10*$B$10+D11*$B$11+D12*$B$12)/$B$13","v":15},{"$f":"(E8*$B$8+E9*$B$9+E10*$B$10+E11*$B$11+E12*$B$12)/$B$13","v":1.5},4.5,1.5,5,55.5,null,"Eau déminéralisée",0,0,0,0,0,0]
["Différence profil cible",null,null,{"$f":"D13-D7","v":-35},{"$f":"E13-E7","v":-8.5},-11.5,-68.5,-65,-64.5,null,"Edinburgh",140,36,92,231,60,270]
[null,null,null,null,null,null,null,null,null,null,"Erie County",31,8,10,24,18,102]
[null,null,null,null,null,null,null,null,null,null,"ESB bellebouche",152,18,18,185,66,120]
["Outil sels minéraux",null,null,null,null,null,null,null,null,null,"IRA",50,20,60,50,100,120]
[null,null,null,null,null,null,null,null,null,null,"Lockport",36,6,9,23,18,95]
["PROFIL",null,"NOM","Ca\n(50-150)","Mg\n(10-40)","Na\n(0-150)","SO4\n(50-250)","Cl\n(0-250)","HCO3\n(0-250)",null,"London",90,4,24,58,18,123]
["Style BJCCP",null,"10A - Weissbier",{"$f":"IF($C$4=\"\",\"\",VLOOKUP($C$4,BJCCP!$A$2:$AU$119,22,FALSE))","v":"50-100"},{"$f":"IF($C$4=\"\",\"\",VLOOKUP($C$4,BJCCP!$A$2:$AU$119,23,FALSE))","v":"0-30"},{"$f":"IF($C$4=\"\",\"\",VLOOKUP($C$4,BJCCP!$A$2:$AU$119,24,FALSE))","v":"0-80"},{"$f":"IF($C$4=\"\",\"\",VLOOKUP($C$4,BJCCP!$A$2:$AU$119,25,FALSE))","v":"0-50"},{"$f":"IF($C$4=\"\",\"\",VLOOKUP($C$4,BJCCP!$A$2:$AU$119,26,FALSE))","v":"0-100"},{"$f":"IF($C$4=\"\",\"\",VLOOKUP($C$4,BJCCP!$A$2:$AU$119,27,FALSE))","v":"<100"},null,"Mild Ale - Dark Lager",75,12,35,120,100,120]
["Profil cible (manuel)",null,null,null,null,null,null,null,null,null,"Munich",76,18,1,10,2,152]
["Profil cible (liste)",null,"Weissbier V2",{"$f":"IF($C$22=\"\",\"\",VLOOKUP($C$22,$K$4:$Q$98,2,FALSE))","v":50},{"$f":"IF($C$22=\"\",\"\",VLOOKUP($C$22,$K$4:$Q$98,3,FALSE))","v":10},{"$f":"IF($C$22=\"\",\"\",VLOOKUP($C$22,$K$4:$Q$98,4,FALSE))","v":16},{"$f":"IF($C$22=\"\",\"\",VLOOKUP($C$22,$K$4:$Q$98,5,FALSE))","v":70},{"$f":"IF($C$22=\"\",\"\",VLOOKUP($C$22,$K$4:$Q$98,6,FALSE))","v":70},{"$f":"IF($C$22=\"\",\"\",VLOOKUP($C$22,$K$4:$Q$98,7,FALSE))","v":120},null,"Niagara County",31,10,10,25,20,109]
["Profil cible retenu",null,{"$f":"IF($C$22=\"\",C21,C22)","v":"Weissbier V2"},50,10,16,70,70,120,null,"Niagara Falls",35,7,10,32,26,107]
["Eau de départ",null,"00 Saint-Paulet",{"$f":"IF($C24=\"\",0,VLOOKUP($C24,$K$4:$Q$98,2,FALSE))","v":30},{"$f":"IF($C24=\"\",0,VLOOKUP($C24,$K$4:$Q$98,3,FALSE))","v":3},{"$f":"IF($C24=\"\",0,VLOOKUP($C24,$K$4:$Q$98,4,FALSE))","v":9},{"$f":"IF($C24=\"\",0,VLOOKUP($C24,$K$4:$Q$98,5,FALSE))","v":3},{"$f":"IF($C24=\"\",0,VLOOKUP($C24,$K$4:$Q$98,6,FALSE))","v":10},{"$f":"IF($C24=\"\",0,VLOOKUP($C24,$K$4:$Q$98,7,FALSE))","v":111},null,"Pale Ale",110,18,17,350,50,70]
["Sulfate de Calcium","CaSO4",0.02,{"$f":"$C25*232.78","v":4.6555999999999997},null,null,{"$f":"$C25*557.93","v":11.1586},null,null,null,"Pale Lager",20,6,24,5,18,60]
["Chlorure de Sodium","NaCl",0.03,null,null,{"$f":"$C26*393.39","v":11.801699999999999},null,{"$f":"$C26*606.66","v":18.1998},null,null,"Pilsen",7,3,3,6,5,9]
["Sulfate de Magnésium","MgSO4",0.14000000000000001,null,{"$f":"$C27*98.61","v":13.805400000000001},null,{"$f":"$C27*389.74","v":54.563600000000008},null,null,null,"Pollock Pines",5,1,6,4,5,22]
["Chlorure de Calcium","CaCl2",0.08,{"$f":"$C28*272.61","v":21.808800000000002},null,null,null,{"$f":"$C28*482.31","v":38.584800000000001},null,null,"St Felix",27.8,3.1,8.3000000000000007,3.2,9.1,114]
["Bicarbonate de Sodium","NaHCO3",null,null,null,{"$f":"$C29*273.66","v":0},null,null,{"$f":"$C29*726.33","v":0},null,"Stout - Porter",50,12,60,46,175,170]
["Carbonate de Calcium","CaCO3",null,{"$f":"$C30*400.43","v":0},null,null,null,null,{"$f":"$C30*599.57","v":0},null,"Vienna",200,60,8,125,12,120]
["Profil obtenu",null,null,{"$f":"SUM(D24:D30)","v":56.464399999999998},{"$f":"SUM(E24:E30)","v":16.805399999999999},20.801699999999997,68.722200000000015,66.784599999999998,111,null,"Weissbier V2",50,10,16,70,70,120]
["Différence profil cible",null,null,{"$f":"D31-D23","v":6.4643999999999977},{"$f":"E31-E23","v":6.8053999999999988},4.8016999999999967,-1.2777999999999849,-3.2154000000000025,-9,null,"West Flanders",114,10,125,145,139,370]
[null,null,"Recette actuelle",{"$f":"Brassage!M10","v":25.52885378151263},null,{"$f":"Brassage!M18","v":15.542882219554471},null,{"$f":"Brassage!L9","v":41.071736001067102},null,null,"Yorkshire",105,17,23,66,30,153]
["Ajout des sels minéraux",null,null,"Empatage",null,"Rinçage",null,"Total",null,null,"Dark Strong Ale",50,30,100,155,155,114]
[null,null,null,25.52885378151263,null,15.542882219554471,null,41.071736001067102]
["Sulfate de Calcium","CaSO4",{"$f":"C25","v":0.02},{"$f":"$C36*$D$35","v":0.51057707563025256},null,{"$f":"$C36*$F$35","v":0.31085764439108943},null,{"$f":"D36+F36","v":0.82143472002134199},null,"Attention !\nLes volumes d'eau ne sont pas ceux de la recette en cours"]
["Chlorure de Sodium","NaCl",{"$f":"C26","v":0.03},{"$f":"$C37*$D$35","v":0.76586561344537885},null,{"$f":"$C37*$F$35","v":0.46628646658663414},null,1.2321520800320129]
["Sulfate de Magnésium","MgSO4",0.14000000000000001,3.5740395294117686,null,2.1760035107376261,null,{"$f":"D38+F38","v":5.7500430401493947}]
["Chlorure de Calcium","CaCl2",0.08,2.0423083025210103,null,1.2434305775643577,null,{"$f":"D39+F39","v":3.285738880085368}]
["Bicarbonate de Sodium","NaHCO3",0,0,null,0,null,0]
["Carbonate de Calcium","CaCO3",0,0,null,0,null,0]

{"sheet":"Calculateur","index":3,"n_rows":48,"n_cols":19,"rows_kept":48,"cut":false,"hidden":false,"merged":[[29,17,29,18],[31,5,31,6],[32,5,32,6],[27,5,27,6],[28,5,28,6],[29,5,29,6],[29,1,32,1],[27,1,28,1],[21,1,21,3],[26,1,26,3],[20,17,21,18],[22,17,22,18],[25,17,25,18],[23,17,23,18],[24,17,24,18],[30,17,30,18],[31,17,31,18],[27,13,27,18],[28,15,28,16],[28,17,28,18],[29,15,29,16],[30,15,30,16],[34,10,34,11],[41,13,41,14],[30,5,30,6],[29,9,29,11],[40,13,40,14],[39,13,39,16],[33,13,33,16],[31,15,31,16],[0,0,0,18],[3,14,3,15],[9,6,9,7],[10,6,10,7],[11,6,11,7],[2,1,2,3],[2,6,2,11],[2,13,2,18],[3,16,3,17],[4,6,4,7],[5,6,5,7],[6,6,6,7],[7,6,7,7],[8,6,8,7],[11,1,11,2],[15,1,15,2],[12,6,12,7],[13,6,13,7],[14,6,14,7],[19,13,19,15],[19,17,19,18],[19,5,19,6],[20,16,21,16],[15,6,15,7],[17,9,17,11],[17,5,17,7],[18,5,18,6],[20,13,21,13],[20,14,21,14],[20,15,21,15],[44,0,46,0],[37,0,43,0],[35,0,35,4],[35,5,35,8],[34,0,34,8]]}
["Calculateur/Convertisseur"]
[]
[null,"Densité",null,null,null,null,"Mout Fermenté",null,null,null,null,null,null,"Amertume"]
[null,1.032,{"$f":" -616.868 + 1111.14 * B4- 630.272 * B4^ 2+ 135.997 *B4^3","v":8.0486246056960056},{"$f":"C4*1.04","v":8.3705695899238464},null,null,"Facteur de correction",1.04,"DI/BRIX","BRIX","DI/DF","Trouvé DI",null,"Volume post-ébu",29.1,null,"Densité post-ébu",null,1.04]
[null,1.01,{"$f":" 1.00001 + 0.0038661*B5 + 1.3488* 10^-5*B5^2 + 4.3074 *10^-8*B5^3","v":1.0039285644879854},{"$f":"B5*1.04","v":1.0504},null,null,"DI",null,1.0640000000000001,{"$f":"1 + J6/ ( 258.6 - 0.8796 * J6)/1.04","v":1.0971702469368052},1.0860000000000001,{"$f":"(1+(L6/1.04)/(258.6-0.8796*(L6/1.04)))","v":1.0477725398817428}]
[null,8,{"$f":"B6/1.04","v":7.6923076923076916},{"$f":"1 + C6/ ( 258.6 - 0.8796 * C6)","v":1.0305451701976884},null,null,"DI °Brix",null,{"$f":" (-616.868 + 1111.14 * I5- 630.272 * I5^ 2+135.997 *I5^3)*1.04","v":16.298626054430823},24,{"$f":" (-616.868 + 1111.14 * K5- 630.272 * K5^ 2+135.997 *K5^3)*1.04","v":21.505113169105393},{"$f":"(1+(0.00349412/1.04)*L8-L7)*(1.04/0.000856829)","v":12.330021509542656},null,"Houblons","Acide Alpha","Utilisation","Durée","Poids","IBU"]
[null,null,null,null,null,null,"DF",null,{"$f":"I10","v":1.0067303697465462},{"$f":"J10","v":1.0121444653846154},1.028,1.01,null,"Magnum",0.13900000000000001,"FWH",60,15,{"$f":"IF(P7=\"Ebullition\",((1.65*(0.000125^($S$4-1))*((1-EXP(-0.04*Q7))/4.15))*O7*R7*1000)/($O$4)*Paramètres!$H$2,IF(P7=\"DH\",((1.65*(0.000125^($S$4-1))*((1-EXP(-0.04*Q7))/4.15))*O7*R7*1000)/($O$4)*Paramètres!$H$3,IF(P7=\"Hop-stand\",((1.65*(0.000125^($S$4-1))*((1-EXP(-0.04*Q7))/4.15))*O7*R7*1000)/($O$4)*Paramètres!$H$4,IF(P7=\"FWH\",((1.65*(0.000125^($S$4-1))*((1-EXP(-0.04*Q7))/4.15))*O7*R7*1000)/($O$4)*Paramètres!$H$5,IF(P7=\"Mash-hop\",((1.65*(0.000125^($S$4-1))*((1-EXP(-0.04*Q7))/4.15))*O7*R7*1000)/($O$4)*Paramètres!$H$6,IF(P7=\"Flame-out\",((1.65*(0.000125^($S$4-1))*((1-EXP(-0.04*Q7))/4.15))*O7*R7*1000)/($O$4)*Paramètres!$H$7,\"\"))))))","v":19.889168164188273}]
[null,null,null,null,null,null,"DF Brix",null,6,9.5,{"$f":"(K7-1+(0.000856829/1.04)*K6)*1.04/0.00349412","v":13.607490473015076},6,null,"Hallertau Hersbrucker",0.13900000000000001,"Ebullition",60,15,{"$f":"IF(P8=\"Ebullition\",((1.65*(0.000125^($S$4-1))*((1-EXP(-0.04*Q8))/4.15))*O8*R8*1000)/($O$4)*Paramètres!$H$2,IF(P8=\"DH\",((1.65*(0.000125^($S$4-1))*((1-EXP(-0.04*Q8))/4.15))*O8*R8*1000)/($O$4)*Paramètres!$H$3,IF(P8=\"Hop-stand\",((1.65*(0.000125^($S$4-1))*((1-EXP(-0.04*Q8))/4.15))*O8*R8*1000)/($O$4)*Paramètres!$H$4,IF(P8=\"FWH\",((1.65*(0.000125^($S$4-1))*((1-EXP(-0.04*Q8))/4.15))*O8*R8*1000)/($O$4)*Paramètres!$H$5,IF(P8=\"Mash-hop\",((1.65*(0.000125^($S$4-1))*((1-EXP(-0.04*Q8))/4.15))*O8*R8*1000)/($O$4)*Paramètres!$H$6,IF(P8=\"Flame-out\",((1.65*(0.000125^($S$4-1))*((1-EXP(-0.04*Q8))/4.15))*O8*R8*1000)/($O$4)*Paramètres!$H$7,\"\"))))))","v":18.081061967443883}]
[null,null,null,null,null,null,"DF Fct cubique",null,{"$f":"IF(I8=0, \"XXX\", 1 - 0.0044993*(I6/1.04) + 0.0117741*(I8/1.04) + 0.000275806*(I6/1.04)^2 - 0.00127169*(I8/1.04)^2 - 0.00000727999*(I6/1.04)^3 + 0.0000632929*(I8/1.04)^3)","v":1.0069603448267626},{"$f":"IF(J8=0, \"XXX\", 1 - 0.0044993*(J6/1.04) + 0.0117741*(J8/1.04) + 0.000275806*(J6/1.04)^2 - 0.00127169*(J8/1.04)^2 - 0.00000727999*(J6/1.04)^3 + 0.0000632929*(J8/1.04)^3)","v":1.0032641940870186},{"$f":"IF(K8=0, \"XXX\", 1 - 0.0044993*(K6/1.04) + 0.0117741*(K8/1.04) + 0.000275806*(K6/1.04)^2 - 0.00127169*(K8/1.04)^2 - 0.00000727999*(K6/1.04)^3 + 0.0000632929*(K8/1.04)^3)","v":1.038645779119534},{"$f":"IF(L8=0, \"XXX\", 1 - 0.0044993*(L6/1.04) + 0.0117741*(L8/1.04) + 0.000275806*(L6/1.04)^2 - 0.00127169*(L8/1.04)^2 - 0.00000727999*(L6/1.04)^3 + 0.0000632929*(L8/1.04)^3)","v":1.0110469971655025}]
[null,null,null,null,null,null,"DF Fct linéaire",null,{"$f":"IF(I8=0, \"XXX\", 1 - 0.000856829*(I6/1.04) + 0.00349412*(I8/1.04))","v":1.0067303697465462},{"$f":"IF(J8=0, \"XXX\", 1 - 0.000856829*(J6/1.04) + 0.00349412*(J8/1.04))","v":1.0121444653846154},{"$f":"1-0.000856829*(K6/1.04)+0.00349412*(K8/1.04)","v":1.028},{"$f":"IF(L8=0, \"XXX\", 1 - 0.000856829*(L6/1.04) + 0.00349412*(L8/1.04))","v":1.01}]
[null,null,null,null,null,null,"DF Fct univ-bière",null,{"$f":"IF(I8=0, \"XXX\", 1.001843-0.002318474*I6-0.000007775*I6^2-0.000000034*I6^3+0.00574*I8+0.00003344*I8^2+0.000000086*I8^3)","v":0.99750487557282475},{"$f":"IF(J8=0, \"XXX\", 1.001843-0.002318474*J6-0.000007775*J6^2-0.000000034*J6^3+0.00574*J8+0.00003344*J8^2+0.000000086*J8^3)","v":0.99887290225000003},{"$f":"IF(K8=0, \"XXX\", 1.001843-0.002318474*K6-0.000007775*K6^2-0.000000034*K6^3+0.00574*K8+0.00003344*K8^2+0.000000086*K8^3)","v":1.0325656644879013},{"$f":"IF(L8=0, \"XXX\", 1.001843-0.002318474*L6-0.000007775*L6^2-0.000000034*L6^3+0.00574*L8+0.00003344*L8^2+0.000000086*L8^3)","v":1.0076728190001183},null,null,null,null,null,null,{"$f":"IF(P11=\"Ebullition\",((1.65*(0.000125^($S$4-1))*((1-EXP(-0.04*Q11))/4.15))*O11*R11*1000)/($O$4)*Paramètres!$H$2,IF(P11=\"DH\",((1.65*(0.000125^($S$4-1))*((1-EXP(-0.04*Q11))/4.15))*O11*R11*1000)/($O$4)*Paramètres!$H$3,IF(P11=\"Hop-stand\",((1.65*(0.000125^($S$4-1))*((1-EXP(-0.04*Q11))/4.15))*O11*R11*1000)/($O$4)*Paramètres!$H$4,IF(P11=\"FWH\",((1.65*(0.000125^($S$4-1))*((1-EXP(-0.04*Q11))/4.15))*O11*R11*1000)/($O$4)*Paramètres!$H$5,IF(P11=\"Mash-hop\",((1.65*(0.000125^($S$4-1))*((1-EXP(-0.04*Q11))/4.15))*O11*R11*1000)/($O$4)*Paramètres!$H$6,IF(P11=\"Flame-out\",((1.65*(0.000125^($S$4-1))*((1-EXP(-0.04*Q11))/4.15))*O11*R11*1000)/($O$4)*Paramètres!$H$7,\"\"))))))","v":""}]
[null,"Volume",null,null,null,null,"Atténuation Apparente",null,{"$f":"(I5-I7)/(I5-1)","v":0.89483797271021615},{"$f":"(J5-J7)/(J5-1)","v":0.87501868352239953},{"$f":"(K5-K7)/(K5-1)","v":0.67441860465116277},{"$f":"(L5-L7)/(L5-1)","v":0.79067472600882782},null,null,null,null,null,null,{"$f":"IF(P12=\"Ebullition\",((1.65*(0.000125^($S$4-1))*((1-EXP(-0.04*Q12))/4.15))*O12*R12*1000)/($O$4)*Paramètres!$H$2,IF(P12=\"DH\",((1.65*(0.000125^($S$4-1))*((1-EXP(-0.04*Q12))/4.15))*O12*R12*1000)/($O$4)*Paramètres!$H$3,IF(P12=\"Hop-stand\",((1.65*(0.000125^($S$4-1))*((1-EXP(-0.04*Q12))/4.15))*O12*R12*1000)/($O$4)*Paramètres!$H$4,IF(P12=\"FWH\",((1.65*(0.000125^($S$4-1))*((1-EXP(-0.04*Q12))/4.15))*O12*R12*1000)/($O$4)*Paramètres!$H$5,IF(P12=\"Mash-hop\",((1.65*(0.000125^($S$4-1))*((1-EXP(-0.04*Q12))/4.15))*O12*R12*1000)/($O$4)*Paramètres!$H$6,IF(P12=\"Flame-out\",((1.65*(0.000125^($S$4-1))*((1-EXP(-0.04*Q12))/4.15))*O12*R12*1000)/($O$4)*Paramètres!$H$7,\"\"))))))","v":""}]
[null,1,{"$f":"3.785 *B13","v":3.7850000000000001},null,null,null,"Atténuation réelle",null,{"$f":" ((-676.67 + 1286.4 * I5- 800.47 * I5^ 2+ 190.74 *I5^3)-I14)/(-676.67 + 1286.4 * I5- 800.47 * I5^ 2+ 190.74 *I5^3)","v":0.72150620666144638},{"$f":" ((-676.67 + 1286.4 * J5- 800.47 * J5^ 2+ 190.74 *J5^3)-J14)/(-676.67 + 1286.4 * J5- 800.47 * J5^ 2+ 190.74 *J5^3)","v":0.70200693205919806},{"$f":" ((-676.67 + 1286.4 * K5- 800.47 * K5^ 2+ 190.74 *K5^3)-K14)/(-676.67 + 1286.4 * K5- 800.47 * K5^ 2+ 190.74 *K5^3)","v":0.5319431549066429},{"$f":" ((-676.67 + 1286.4 * L5- 800.47 * L5^ 2+ 190.74 *L5^3)-L14)/(-676.67 + 1286.4 * L5- 800.47 * L5^ 2+ 190.74 *L5^3)","v":0.63482905728254613},null,null,null,null,null,null,{"$f":"IF(P13=\"Ebullition\",((1.65*(0.000125^($S$4-1))*((1-EXP(-0.04*Q13))/4.15))*O13*R13*1000)/($O$4)*Paramètres!$H$2,IF(P13=\"DH\",((1.65*(0.000125^($S$4-1))*((1-EXP(-0.04*Q13))/4.15))*O13*R13*1000)/($O$4)*Paramètres!$H$3,IF(P13=\"Hop-stand\",((1.65*(0.000125^($S$4-1))*((1-EXP(-0.04*Q13))/4.15))*O13*R13*1000)/($O$4)*Paramètres!$H$4,IF(P13=\"FWH\",((1.65*(0.000125^($S$4-1))*((1-EXP(-0.04*Q13))/4.15))*O13*R13*1000)/($O$4)*Paramètres!$H$5,IF(P13=\"Mash-hop\",((1.65*(0.000125^($S$4-1))*((1-EXP(-0.04*Q13))/4.15))*O13*R13*1000)/($O$4)*Paramètres!$H$6,IF(P13=\"Flame-out\",((1.65*(0.000125^($S$4-1))*((1-EXP(-0.04*Q13))/4.15))*O13*R13*1000)/($O$4)*Paramètres!$H$7,\"\"))))))","v":""}]
[null,1,{"$f":"B14/3.785","v":0.26420079260237778},null,null,null,"Sucre Résiduel",null,{"$f":"0.188 * ( -676.67 + 1286.4 *I5- 800.47 * I5^ 2+ 190.74 *I5^3) + 0.8192 * ( -676.67 + 1286.4 *I7- 800.47 * I7^ 2+ 190.74 *I7^3)","v":4.3463438380764252},{"$f":"0.188 * ( -676.67 + 1286.4 *J5- 800.47 * J5^ 2+ 190.74 *J5^3) + 0.8192 * ( -676.67 + 1286.4 *J7- 800.47 * J7^ 2+ 190.74 *J7^3)","v":6.8713271581908684},{"$f":"0.188 * ( -676.67 + 1286.4 *K5- 800.47 * K5^ 2+ 190.74 *K5^3) + 0.8192 * ( -676.67 + 1286.4 *K7- 800.47 * K7^ 2+ 190.74 *K7^3)","v":9.6390055512048374},{"$f":"0.188 * ( -676.67 + 1286.4 *L5- 800.47 * L5^ 2+ 190.74 *L5^3) + 0.8192 * ( -676.67 + 1286.4 *L7- 800.47 * L7^ 2+ 190.74 *L7^3)","v":4.3126353211217667},null,null,null,null,null,null,{"$f":"IF(P14=\"Ebullition\",((1.65*(0.000125^($S$4-1))*((1-EXP(-0.04*Q14))/4.15))*O14*R14*1000)/($O$4)*Paramètres!$H$2,IF(P14=\"DH\",((1.65*(0.000125^($S$4-1))*((1-EXP(-0.04*Q14))/4.15))*O14*R14*1000)/($O$4)*Paramètres!$H$3,IF(P14=\"Hop-stand\",((1.65*(0.000125^($S$4-1))*((1-EXP(-0.04*Q14))/4.15))*O14*R14*1000)/($O$4)*Paramètres!$H$4,IF(P14=\"FWH\",((1.65*(0.000125^($S$4-1))*((1-EXP(-0.04*Q14))/4.15))*O14*R14*1000)/($O$4)*Paramètres!$H$5,IF(P14=\"Mash-hop\",((1.65*(0.000125^($S$4-1))*((1-EXP(-0.04*Q14))/4.15))*O14*R14*1000)/($O$4)*Paramètres!$H$6,IF(P14=\"Flame-out\",((1.65*(0.000125^($S$4-1))*((1-EXP(-0.04*Q14))/4.15))*O14*R14*1000)/($O$4)*Paramètres!$H$7,\"\"))))))","v":""}]
[null,null,null,null,null,null,"Sucre Résiduel",null,{"$f":"I14*10*I5","v":46.245098437133166},{"$f":"J14*10*J5","v":75.390157149358515},{"$f":"K14*10*K5","v":104.67960028608455},{"$f":"L14*10*L5","v":45.186608639954692},null,null,null,null,null,null,{"$f":"IF(P15=\"Ebullition\",((1.65*(0.000125^($S$4-1))*((1-EXP(-0.04*Q15))/4.15))*O15*R15*1000)/($O$4)*Paramètres!$H$2,IF(P15=\"DH\",((1.65*(0.000125^($S$4-1))*((1-EXP(-0.04*Q15))/4.15))*O15*R15*1000)/($O$4)*Paramètres!$H$3,IF(P15=\"Hop-stand\",((1.65*(0.000125^($S$4-1))*((1-EXP(-0.04*Q15))/4.15))*O15*R15*1000)/($O$4)*Paramètres!$H$4,IF(P15=\"FWH\",((1.65*(0.000125^($S$4-1))*((1-EXP(-0.04*Q15))/4.15))*O15*R15*1000)/($O$4)*Paramètres!$H$5,IF(P15=\"Mash-hop\",((1.65*(0.000125^($S$4-1))*((1-EXP(-0.04*Q15))/4.15))*O15*R15*1000)/($O$4)*Paramètres!$H$6,IF(P15=\"Flame-out\",((1.65*(0.000125^($S$4-1))*((1-EXP(-0.04*Q15))/4.15))*O15*R15*1000)/($O$4)*Paramètres!$H$7,\"\"))))))","v":""}]
[null,"Poids",null,null,null,null,"Taux d'alcool",null,{"$f":"1000 * (I5 -I7) / 7.6","v":7.535477664928143},{"$f":"1000 * (J5 -J7) / 7.6","v":11.187602835814442},7.6315789473684283,4.9700710370714196,null,null,null,null,null,null,{"$f":"IF(P16=\"Ebullition\",((1.65*(0.000125^($S$4-1))*((1-EXP(-0.04*Q16))/4.15))*O16*R16*1000)/($O$4)*Paramètres!$H$2,IF(P16=\"DH\",((1.65*(0.000125^($S$4-1))*((1-EXP(-0.04*Q16))/4.15))*O16*R16*1000)/($O$4)*Paramètres!$H$3,IF(P16=\"Hop-stand\",((1.65*(0.000125^($S$4-1))*((1-EXP(-0.04*Q16))/4.15))*O16*R16*1000)/($O$4)*Paramètres!$H$4,IF(P16=\"FWH\",((1.65*(0.000125^($S$4-1))*((1-EXP(-0.04*Q16))/4.15))*O16*R16*1000)/($O$4)*Paramètres!$H$5,IF(P16=\"Mash-hop\",((1.65*(0.000125^($S$4-1))*((1-EXP(-0.04*Q16))/4.15))*O16*R16*1000)/($O$4)*Paramètres!$H$6,IF(P16=\"Flame-out\",((1.65*(0.000125^($S$4-1))*((1-EXP(-0.04*Q16))/4.15))*O16*R16*1000)/($O$4)*Paramètres!$H$7,\"\"))))))","v":""}]
[null,4.25,{"$f":"B17*453.592","v":1927.7659999999998},null,null,null,null,null,null,null,null,null,null,null,null,null,null,null,{"$f":"IF(P17=\"Ebullition\",((1.65*(0.000125^($S$4-1))*((1-EXP(-0.04*Q17))/4.15))*O17*R17*1000)/($O$4)*Paramètres!$H$2,IF(P17=\"DH\",((1.65*(0.000125^($S$4-1))*((1-EXP(-0.04*Q17))/4.15))*O17*R17*1000)/($O$4)*Paramètres!$H$3,IF(P17=\"Hop-stand\",((1.65*(0.000125^($S$4-1))*((1-EXP(-0.04*Q17))/4.15))*O17*R17*1000)/($O$4)*Paramètres!$H$4,IF(P17=\"FWH\",((1.65*(0.000125^($S$4-1))*((1-EXP(-0.04*Q17))/4.15))*O17*R17*1000)/($O$4)*Paramètres!$H$5,IF(P17=\"Mash-hop\",((1.65*(0.000125^($S$4-1))*((1-EXP(-0.04*Q17))/4.15))*O17*R17*1000)/($O$4)*Paramètres!$H$6,IF(P17=\"Flame-out\",((1.65*(0.000125^($S$4-1))*((1-EXP(-0.04*Q17))/4.15))*O17*R17*1000)/($O$4)*Paramètres!$H$7,\"\"))))))","v":""}]
[null,453,{"$f":"B18/453.592","v":0.99869486234325122},null,null,"Dilution",null,null,null,"ABV / Extrait réel",null,null,null,"TOTAL",{"$f":"(O7*R7+O8*R8+O12*R12+O13*R13+O14*R14+O15*R15+O16*R16+O17*R17)/R18","v":0.13899999999999998},null,{"$f":"Q7","v":60},{"$f":"SUM(R7:R17)","v":30},{"$f":"SUM(S7:S17)","v":37.970230131632157}]
[null,1,{"$f":"B19*28.35","v":28.35},null,null,"Densité actuelle",null,1.05,null,null,"DS","Plato"]
[null,28,{"$f":"B20/28.35","v":0.98765432098765427},null,null,"Volume actuel",null,20,null,"DI",1.1000000000000001,23.77,null,"Pied de cuve",null,null,"modèle :","Braukaiser (agitateur) "]
[null,null,null,null,null,"Malt 1",5000,8,null,"DF",1.012,3.07,null,"Nombre de levures initial","Volume","Densité","Extrait sec","Nombre de levures final"]
[null,"Température",null,null,null,"Malt 2",400,50,null,"DI",{"$f":" -616.868 + 1111.14 * K20- 630.272 * K20^ 2+ 135.997 *K20^3","v":23.768886999999978},{"$f":" 1.00001 + 0.0038661*L20 + 1.3488* 10^-5*L20^2 + 4.3074 *10^-8*L20^3","v":1.1001065901768099}]
[null,24,{"$f":"32+B23*9/5","v":75.2},{"$f":"B23+273.15","v":297.14999999999998},null,"Malt 3",0,542,null,"DF",{"$f":" -616.868 + 1111.14 * K21- 630.272 * K21^ 2+ 135.997 *K21^3","v":3.0682705388159945},{"$f":" 1.00001 + 0.0038661*L21 + 1.3488* 10^-5*L21^2 + 4.3074 *10^-8*L21^3","v":1.0120072963733981},null,100,5,1.0349999999999999,{"$f":"O23*100*(P23-1)/0.0376","v":465.42553191489259},{"$f":"IF($R$20=\"White (simple)\",IF(((12.54793776 * (N23/O23)^-0.4594858324) - 0.9994994906)*N23+N23>200*O23,200*O23,((12.54793776 * (N23/O23)^-0.4594858324) - 0.9994994906)*N23+N23),IF($R$20=\"Braukaiser (agitateur) \",IF((N23/Q23)<1.4,N23+Q23*1.4,N23+(2.33-0.67*(N23/Q23)))))","v":751.59574468084963}]
[null,80,{"$f":"(B24-32)*5/9","v":26.666666666666668},{"$f":"C24+273.15","v":299.81666666666666},null,"Malt 4",0,0,null,"ER final",{"$f":" 0.8114*K23 + 0.1886*K22","v":6.9724068033952937},{"$f":" 0.8114*L21+ 0.1886*L20","v":6.9740199999999994},null,100,4.5,1.0349999999999999,{"$f":"O24*100*(P24-1)/0.0376","v":418.88297872340331},{"$f":"IF($R$20=\"White (simple)\",IF(((12.54793776 * (N24/O24)^-0.4594858324) - 0.9994994906)*N24+N24>200*O24,200*O24,((12.54793776 * (N24/O24)^-0.4594858324) - 0.9994994906)*N24+N24),IF($R$20=\"Braukaiser (agitateur) \",IF((N24/Q24)<1.4,N24+Q24*1.4,N24+(2.33-0.67*(N24/Q24)))))","v":686.43617021276464}]
[null,295.75,{"$f":"B25-273.15","v":22.600000000000023},{"$f":"32+C25*9/5","v":72.680000000000035},null,"Malt 5",0,0,null,"ABV 1",{"$f":"1000*(K20-K21)/7.6","v":11.578947368421064},{"$f":"1000*(L22-L23)/7.6","v":11.592012342554179},null,10,1.5,1.0349999999999999,{"$f":"O25*100*(P25-1)/0.0376","v":139.62765957446774},{"$f":"IF($R$20=\"White (simple)\",IF(((12.54793776 * (N25/O25)^-0.4594858324) - 0.9994994906)*N25+N25>200*O25,200*O25,((12.54793776 * (N25/O25)^-0.4594858324) - 0.9994994906)*N25+N25),IF($R$20=\"Braukaiser (agitateur) \",IF((N25/Q25)<1.4,N25+Q25*1.4,N25+(2.33-0.67*(N25/Q25)))))","v":205.47872340425482}]
[null,null,null,null,null,"Malt 6",0,0,null,"ABV 2",{"$f":"133*(L22-L23)/L22","v":10.650973442464849},{"$f":"133*(L22-L23)/L22","v":10.650973442464849},null,50,2.5,1.04,{"$f":"O26*100*(P26-1)/0.0376","v":265.95744680851084},{"$f":"IF($R$20=\"White (simple)\",IF(((12.54793776 * (N26/O26)^-0.4594858324) - 0.9994994906)*N26+N26>200*O26,200*O26,((12.54793776 * (N26/O26)^-0.4594858324) - 0.9994994906)*N26+N26),IF($R$20=\"Braukaiser (agitateur) \",IF((N26/Q26)<1.4,N26+Q26*1.4,N26+(2.33-0.67*(N26/Q26)))))","v":422.34042553191517}]
[null,"Couleur",null,null,null,"Malt 7",0,0,null,"ABV 3",{"$f":"((K22-K24)/(2.0665-0.010665*K22))*(K21/0.794)","v":11.808081270819621},{"$f":"((L20-L24)/(2.0665-0.010665*L20))*(L23/0.794)","v":11.807892068880573}]
[null,"Moût",1,{"$f":"C28*1.97","v":1.97},null,"EBC actuel",null,{"$f":"2.9396*((4.23*(G21*H21+G22*H22+G23*H23+G24*H24+G25*H25+G26*H26+G27*H27)/1000)/ H20)^0.6859","v":16.793938764943359},null,"ABV 4",{"$f":"VLOOKUP(((K20-K21)*1000),K37:L47,2,TRUE)*(K20-K21)*1000","v":11.79200000000001},{"$f":"VLOOKUP(((L22-L23)*1000),K37:L47,2,TRUE)*(L22-L23)*1000","v":11.805305369657175},null,"Ensemencement"]
[null,null,2,{"$f":"C29/1.97","v":1.015228426395939},null,"Densité visée",null,1.04,null,null,null,null,null,"Volume","Densité","Taux d'ensemencement",null,"Levures nécessaire"]
[null,"Malt",1,{"$f":"2.6686 * C30 - 1.497","v":1.1716},null,"Type d'ajout",null,null,null,"Sucre présent",null,null,null,120,1.1000000000000001,0.75,null,{"$f":"N30*(-676.67+1286.4*O30-800.47*O30^2+190.74*O30^3)*P30","v":2130.8616000000161}]
[null,null,40,{"$f":"1.3546 *C31 - 0.76","v":53.423999999999999},null,"Quantité à ajouter",null,{"$f":"IF(F18=\"Dilution\",1000*((H19-1)/(H29-1)*H20-H20)/H20,VLOOKUP(H30,Paramètres!F18:I31,2,FALSE)*2.57452*1000*(H29-H19))","v":250},null,"DI","Volume","Sucre",null,26,1.0469999999999999,0.75,null,{"$f":"N31*(-676.67+1286.4*O31-800.47*O31^2+190.74*O31^3)*P31","v":226.71789950589044}]
[null,null,4.5,{"$f":"(C32+1.479)/2.6686","v":2.2405006370381475},null,"Quantité à ajouter",null,{"$f":"IF(F18=\"Dilution\",H31*H20/1000,H31*H20)","v":5},null,1.04,20,{"$f":"K32*(J32-1)*1000*2.57452","v":2059.6160000000018},null,26,1.0469999999999999,0.75,null,226.71789950589044]
[null,null,53.42,{"$f":"(C33+0.76)/1.3546","v":39.997047098774544},null,"EBC Final",null,{"$f":"IF(F18=\"Dilution\",2.9396*((4.23*(G21*H21+G22*H22+G23*H23+G24*H24+G25*H25+G26*H26+G27*H27)/1000)/ (H20+H32/1000))^0.6859,2.9396*((4.23*(G21*H21+G22*H22+G23*H23+G24*H24+G25*H25+G26*H26+G27*H27+H32*(VLOOKUP(H30,Paramètres!F18:H31,3,FALSE)))/1000)/ H20)^0.6859)","v":16.791059631027192},null,1.0760000000000001,29.1,{"$f":"K33*(J33-1)*1000*2.57452","v":5693.8084320000062}]
[null,null,null,null,null,null,null,null,null,null,null,null,null,"Mout à partir d'extrait"]
["Rendement brut",null,null,null,null,null,null,null,null,null,"Abaque pour ABV 4",null,null,"Type d'extrait","DME","DME","LME"]
["Ingrédients utilisés",null,null,null,null,"Mout",null,null,null,null,"DI-DF","Facteur",null,"Volume",2,2,{"$f":"Q37/(1000*(Q38-1)*IF(Q35=\"DME\",2.66,3.24))","v":4.9780963759458521}]
[null,"Type","Poids","Rendement","Eq Sucre","Densité","Volume","Eq sucre","Rendement",null,0,0.125,null,"Quantité d'extrait",259,{"$f":"1000*(P38-1)*(IF(P35=\"DME\",2.66,3.24))*P36","v":260.67999999999961},500]
["Malt","Pale ale Château",3600,{"$f":"IF(B38=\"\",0,VLOOKUP(B38,Paramètres!A3:E300,2,FALSE))","v":0.81},{"$f":"IF(C38=\"\",\"\",C38*D38)","v":2916},1.0669999999999999,15,{"$f":"G38*(F38-1)*1000*2.57452","v":2587.3925999999983},{"$f":"H38/$E$48","v":0.80553941469489365},null,7,0.126,null,"Densité",{"$f":"1+(O37/((IF(O35=\"DME\",2.66,3.24))*O36))/1000","v":1.0486842105263159},1.0489999999999999,1.0309999999999999]
[null,"Arôme",400,{"$f":"IF(B39=\"\",0,VLOOKUP(B39,Paramètres!A4:E301,2,FALSE))","v":0.74},{"$f":"IF(C39=\"\",\"\",C39*D39)","v":296},1.0529999999999999,19,{"$f":"G39*(F39-1)*1000*2.57452","v":2592.5416399999967},{"$f":"H39/$E$48","v":0.8071424782067238},null,10.5,0.127]
[null,null,null,{"$f":"IF(B40=\"\",0,VLOOKUP(B40,Paramètres!A5:E302,2,FALSE))","v":0},"",null,null,0,0,null,17.3,0.128,null,"pH des malts crystal/cara"]
[null,null,null,{"$f":"IF(B41=\"\",0,VLOOKUP(B41,Paramètres!A6:E303,2,FALSE))","v":0},"",null,null,0,0,null,26.2,0.129,null,"Crystal/Cara Malt",null,0,{"$f":"5.22-0.00504*(P41+1.479)/2.6686","v":5.2172067151315291}]
[null,null,null,{"$f":"IF(B42=\"\",0,VLOOKUP(B42,Paramètres!A7:E304,2,FALSE))","v":0},"",null,null,0,0,null,36.1,0.13,null,"Crystal/Cara Malt",null,0,{"$f":"5.22-0.00504*(P42+1.479)/2.6686","v":5.2172067151315291}]
[null,null,null,{"$f":"IF(B43=\"\",0,VLOOKUP(B43,Paramètres!A8:E305,2,FALSE))","v":0},"",null,null,0,0,null,46.6,0.13100000000000001]
[null,null,null,{"$f":"IF(B44=\"\",0,VLOOKUP(B44,Paramètres!A9:E306,2,FALSE))","v":0},"",null,null,0,0,null,57.2,0.13200000000000001]
["Sucre",null,null,{"$f":"IF(B45=\"\",0,VLOOKUP(B45,Paramètres!A10:E307,2,FALSE))","v":0},"",null,null,0,0,null,68,0.13300000000000001]
[null,null,null,{"$f":"IF(B46=\"\",0,VLOOKUP(B46,Paramètres!A11:E308,2,FALSE))","v":0},"",null,null,0,0,null,78.900000000000006,0.13400000000000001]
[null,null,null,{"$f":"IF(B47=\"\",0,VLOOKUP(B47,Paramètres!A12:E309,2,FALSE))","v":0},"",null,null,0,0,null,89.8,0.13500000000000001]
["Total",{"$f":"COUNTA(B38:B47)","v":2},{"$f":"SUM(C38:C47)","v":4000},{"$f":"(D38*C38+D39*C39+D40*C40+D41*C41+D42*C42+D43*C43+D44*C44+D45*C45+D46*C46+D47*C47)/C48","v":0.80300000000000005},{"$f":"SUM(E38:E47)","v":3212},null,null,0,0]

{"sheet":"Stock","index":4,"n_rows":100,"n_cols":24,"rows_kept":100,"cut":false,"hidden":false,"merged":[[3,20,3,21],[2,20,2,23],[3,22,3,23],[0,0,0,23],[3,0,3,2],[2,0,2,5],[3,3,3,5],[3,7,3,10],[3,11,3,13],[2,7,2,13],[3,17,3,18],[3,15,3,16],[2,15,2,18]]}
["STOCK"]
[]
["GRAINS",null,null,null,null,null,null,"HOUBLONS",null,null,null,null,null,null,null,"LEVURES",null,null,null,null,"AUTRE"]
["Stock Grains",null,null,"Recette en cours",null,null,null,"Stock Houblons",null,null,null,"Recette en cours",null,null,null,"Stock Levures",null,"Recette en cours",null,null,"Stock Autre",null,"Recette en cours"]
["Type","EBC","Quantité","Type","EBC","Quantité",null,"Type","Acide Alpha","Année","Quantité","Type","Acide Alpha","Quantité",null,"Type","Quantité mds/paquets","Type","Quantité",null,"Type","Quantité mds/paquets","Type","Quantité"]
[{"$f":"IF([2]Stock!A6=\"\",\"\",[2]Stock!A6)","v":"Cara Gold - Vieux Silo"},{"$f":"IF([2]Stock!B6=\"\",\"\",[2]Stock!B6)","v":120},{"$f":"IF([2]Stock!C6=\"\",\"\",[2]Stock!C6)","v":1800},{"$f":"IF(A6=\"\",\"\",IFERROR(VLOOKUP(A6,Brassage!$B$25:$H$33,1,FALSE),\"\"))","v":"Cara Gold - Vieux Silo"},{"$f":"IF(A6=\"\",\"\",IFERROR(VLOOKUP(A6,Brassage!$B$25:$H$33,2,FALSE),\"\"))","v":120},{"$f":"IF(Stock!D6=\"0\",\"0\",SUMIF(Brassage!$B$25:$B$33,Stock!D6,Brassage!$H$25:$H$33))","v":145.87916446578646},null,{"$f":"IF([2]Stock!E6=\"\",\"\",[2]Stock!E6)","v":"Hallertau cascade"},{"$f":"IF([2]Stock!F6=\"\",\"\",[2]Stock!F6)","v":0.06},{"$f":"IF([2]Stock!G6=\"\",\"\",[2]Stock!G6)","v":2021},{"$f":"IF([2]Stock!H6=\"\",\"\",[2]Stock!H6)","v":100},{"$f":"IF(H6=\"\",\"\",IFERROR(VLOOKUP(H6,Brassage!$B$45:$H$57,1,FALSE),\"\"))","v":""},{"$f":"IF(L6=\"\",\"\",IFERROR(VLOOKUP(L6,Brassage!$B$45:$H$57,2,FALSE),\"\"))","v":""},{"$f":"IF(L6=\"0\",\"0\",SUMIF(Brassage!$B$45:$B$57,L6,Brassage!$F$45:$F$57))","v":0},null,{"$f":"IF([2]Stock!J6=\"\",\"\",[2]Stock!J6)","v":"WLP4046 - Simonaitis Lithuanian Farmhouse"},{"$f":"IF([2]Stock!K6=\"\",\"\",[2]Stock!K6)","v":1000},{"$f":"IF(P6=\"\",\"\",IFERROR(VLOOKUP(P6,Brassage!$B$61:$H$62,1,FALSE),\"\"))","v":""},{"$f":"IF(R6=\"0\",\"0\",IFERROR(VLOOKUP(P6,Brassage!$B$61:$H$62,7,FALSE),\"0\"))","v":"0"},null,{"$f":"IF([2]Stock!M6=\"\",\"\",[2]Stock!M6)","v":""},{"$f":"IF([2]Stock!N6=\"\",\"\",[2]Stock!N6)","v":0},{"$f":"IF(U6=\"\",\"\",IFERROR(VLOOKUP(U6,Brassage!$B$39:$H$42,1,FALSE),\"\"))","v":""},{"$f":"IF(U6=\"0\",\"0\",IFERROR(VLOOKUP(U6,Brassage!$B$39:$H$42,5,FALSE),\"0\"))","v":"0"}]
[{"$f":"IF([2]Stock!A7=\"\",\"\",[2]Stock!A7)","v":"Château Biscuit Malt"},{"$f":"IF([2]Stock!B7=\"\",\"\",[2]Stock!B7)","v":50},{"$f":"IF([2]Stock!C7=\"\",\"\",[2]Stock!C7)","v":850},{"$f":"IF(A7=\"\",\"\",IFERROR(VLOOKUP(A7,Brassage!$B$25:$H$33,1,FALSE),\"\"))","v":""},{"$f":"IF(A7=\"\",\"\",IFERROR(VLOOKUP(A7,Brassage!$B$25:$H$33,2,FALSE),\"\"))","v":""},{"$f":"IF(Stock!D7=\"0\",\"0\",SUMIF(Brassage!$B$25:$B$33,Stock!D7,Brassage!$H$25:$H$33))","v":0},null,{"$f":"IF([2]Stock!E7=\"\",\"\",[2]Stock!E7)","v":"Hallertau Mittelfrüh"},{"$f":"IF([2]Stock!F7=\"\",\"\",[2]Stock!F7)","v":4.5999999999999999E-2},{"$f":"IF([2]Stock!G7=\"\",\"\",[2]Stock!G7)","v":2019},{"$f":"IF([2]Stock!H7=\"\",\"\",[2]Stock!H7)","v":70},{"$f":"IF(H7=\"\",\"\",IFERROR(VLOOKUP(H7,Brassage!$B$45:$H$57,1,FALSE),\"\"))","v":""},{"$f":"IF(L7=\"\",\"\",IFERROR(VLOOKUP(L7,Brassage!$B$45:$H$57,2,FALSE),\"\"))","v":""},{"$f":"IF(L7=\"0\",\"0\",SUMIF(Brassage!$B$45:$B$57,L7,Brassage!$F$45:$F$57))","v":0},null,{"$f":"IF([2]Stock!J7=\"\",\"\",[2]Stock!J7)","v":"Whitelabs - WLP013 London Ale Yeast"},{"$f":"IF([2]Stock!K7=\"\",\"\",[2]Stock!K7)","v":1000},{"$f":"IF(P7=\"\",\"\",IFERROR(VLOOKUP(P7,Brassage!$B$61:$H$62,1,FALSE),\"\"))","v":""},{"$f":"IF(R7=\"0\",\"0\",IFERROR(VLOOKUP(P7,Brassage!$B$61:$H$62,7,FALSE),\"0\"))","v":"0"},null,{"$f":"IF([2]Stock!M7=\"\",\"\",[2]Stock!M7)","v":""},{"$f":"IF([2]Stock!N7=\"\",\"\",[2]Stock!N7)","v":0},{"$f":"IF(U7=\"\",\"\",IFERROR(VLOOKUP(U7,Brassage!$B$39:$H$42,1,FALSE),\"\"))","v":""},{"$f":"IF(U7=\"0\",\"0\",IFERROR(VLOOKUP(U7,Brassage!$B$39:$H$42,5,FALSE),\"0\"))","v":"0"}]
[{"$f":"IF([2]Stock!A8=\"\",\"\",[2]Stock!A8)","v":"Château Chocolat"},{"$f":"IF([2]Stock!B8=\"\",\"\",[2]Stock!B8)","v":900},{"$f":"IF([2]Stock!C8=\"\",\"\",[2]Stock!C8)","v":430},{"$f":"IF(A8=\"\",\"\",IFERROR(VLOOKUP(A8,Brassage!$B$25:$H$33,1,FALSE),\"\"))","v":""},{"$f":"IF(A8=\"\",\"\",IFERROR(VLOOKUP(A8,Brassage!$B$25:$H$33,2,FALSE),\"\"))","v":""},{"$f":"IF(Stock!D8=\"0\",\"0\",SUMIF(Brassage!$B$25:$B$33,Stock!D8,Brassage!$H$25:$H$33))","v":0},null,{"$f":"IF([2]Stock!E8=\"\",\"\",[2]Stock!E8)","v":"Hersbrucker"},{"$f":"IF([2]Stock!F8=\"\",\"\",[2]Stock!F8)","v":2.8000000000000001E-2},{"$f":"IF([2]Stock!G8=\"\",\"\",[2]Stock!G8)","v":2018},{"$f":"IF([2]Stock!H8=\"\",\"\",[2]Stock!H8)","v":50},{"$f":"IF(H8=\"\",\"\",IFERROR(VLOOKUP(H8,Brassage!$B$45:$H$57,1,FALSE),\"\"))","v":""},{"$f":"IF(L8=\"\",\"\",IFERROR(VLOOKUP(L8,Brassage!$B$45:$H$57,2,FALSE),\"\"))","v":""},{"$f":"IF(L8=\"0\",\"0\",SUMIF(Brassage!$B$45:$B$57,L8,Brassage!$F$45:$F$57))","v":0},null,{"$f":"IF([2]Stock!J8=\"\",\"\",[2]Stock!J8)","v":"Whitelabs - WLP380 - Hefeweizen Ale IV"},{"$f":"IF([2]Stock!K8=\"\",\"\",[2]Stock!K8)","v":1000},{"$f":"IF(P8=\"\",\"\",IFERROR(VLOOKUP(P8,Brassage!$B$61:$H$62,1,FALSE),\"\"))","v":""},{"$f":"IF(R8=\"0\",\"0\",IFERROR(VLOOKUP(P8,Brassage!$B$61:$H$62,7,FALSE),\"0\"))","v":"0"},null,{"$f":"IF([2]Stock!M8=\"\",\"\",[2]Stock!M8)","v":""},{"$f":"IF([2]Stock!N8=\"\",\"\",[2]Stock!N8)","v":0},{"$f":"IF(U8=\"\",\"\",IFERROR(VLOOKUP(U8,Brassage!$B$39:$H$42,1,FALSE),\"\"))","v":""},{"$f":"IF(U8=\"0\",\"0\",IFERROR(VLOOKUP(U8,Brassage!$B$39:$H$42,5,FALSE),\"0\"))","v":"0"}]
[{"$f":"IF([2]Stock!A9=\"\",\"\",[2]Stock!A9)","v":"Château Roasted Barley"},{"$f":"IF([2]Stock!B9=\"\",\"\",[2]Stock!B9)","v":1150},{"$f":"IF([2]Stock!C9=\"\",\"\",[2]Stock!C9)","v":790},{"$f":"IF(A9=\"\",\"\",IFERROR(VLOOKUP(A9,Brassage!$B$25:$H$33,1,FALSE),\"\"))","v":""},{"$f":"IF(A9=\"\",\"\",IFERROR(VLOOKUP(A9,Brassage!$B$25:$H$33,2,FALSE),\"\"))","v":""},{"$f":"IF(Stock!D9=\"0\",\"0\",SUMIF(Brassage!$B$25:$B$33,Stock!D9,Brassage!$H$25:$H$33))","v":0},null,{"$f":"IF([2]Stock!E9=\"\",\"\",[2]Stock!E9)","v":"Magnum"},{"$f":"IF([2]Stock!F9=\"\",\"\",[2]Stock!F9)","v":0.13900000000000001},{"$f":"IF([2]Stock!G9=\"\",\"\",[2]Stock!G9)","v":2019},{"$f":"IF([2]Stock!H9=\"\",\"\",[2]Stock!H9)","v":50},{"$f":"IF(H9=\"\",\"\",IFERROR(VLOOKUP(H9,Brassage!$B$45:$H$57,1,FALSE),\"\"))","v":"Magnum"},{"$f":"IF(L9=\"\",\"\",IFERROR(VLOOKUP(L9,Brassage!$B$45:$H$57,2,FALSE),\"\"))","v":0.13900000000000001},{"$f":"IF(L9=\"0\",\"0\",SUMIF(Brassage!$B$45:$B$57,L9,Brassage!$F$45:$F$57))","v":8},null,{"$f":"IF([2]Stock!J9=\"\",\"\",[2]Stock!J9)","v":"Wyeast 2352 - Munich Lager II"},{"$f":"IF([2]Stock!K9=\"\",\"\",[2]Stock!K9)","v":0},{"$f":"IF(P9=\"\",\"\",IFERROR(VLOOKUP(P9,Brassage!$B$61:$H$62,1,FALSE),\"\"))","v":""},{"$f":"IF(R9=\"0\",\"0\",IFERROR(VLOOKUP(P9,Brassage!$B$61:$H$62,7,FALSE),\"0\"))","v":"0"},null,{"$f":"IF([2]Stock!M9=\"\",\"\",[2]Stock!M9)","v":""},{"$f":"IF([2]Stock!N9=\"\",\"\",[2]Stock!N9)","v":0},{"$f":"IF(U9=\"\",\"\",IFERROR(VLOOKUP(U9,Brassage!$B$39:$H$42,1,FALSE),\"\"))","v":""},{"$f":"IF(U9=\"0\",\"0\",IFERROR(VLOOKUP(U9,Brassage!$B$39:$H$42,5,FALSE),\"0\"))","v":"0"}]
[{"$f":"IF([2]Stock!A10=\"\",\"\",[2]Stock!A10)","v":"Froment - Vieux Silo"},{"$f":"IF([2]Stock!B10=\"\",\"\",[2]Stock!B10)","v":4.5},{"$f":"IF([2]Stock!C10=\"\",\"\",[2]Stock!C10)","v":13700},{"$f":"IF(A10=\"\",\"\",IFERROR(VLOOKUP(A10,Brassage!$B$25:$H$33,1,FALSE),\"\"))","v":"Froment - Vieux Silo"},{"$f":"IF(A10=\"\",\"\",IFERROR(VLOOKUP(A10,Brassage!$B$25:$H$33,2,FALSE),\"\"))","v":4.5},{"$f":"IF(Stock!D10=\"0\",\"0\",SUMIF(Brassage!$B$25:$B$33,Stock!D10,Brassage!$H$25:$H$33))","v":3574.0395294117679},null,{"$f":"IF([2]Stock!E10=\"\",\"\",[2]Stock!E10)","v":"Northern Brewer"},{"$f":"IF([2]Stock!F10=\"\",\"\",[2]Stock!F10)","v":8.3000000000000004E-2},{"$f":"IF([2]Stock!G10=\"\",\"\",[2]Stock!G10)","v":2019},{"$f":"IF([2]Stock!H10=\"\",\"\",[2]Stock!H10)","v":20},{"$f":"IF(H10=\"\",\"\",IFERROR(VLOOKUP(H10,Brassage!$B$45:$H$57,1,FALSE),\"\"))","v":""},{"$f":"IF(L10=\"\",\"\",IFERROR(VLOOKUP(L10,Brassage!$B$45:$H$57,2,FALSE),\"\"))","v":""},{"$f":"IF(L10=\"0\",\"0\",SUMIF(Brassage!$B$45:$B$57,L10,Brassage!$F$45:$F$57))","v":0},null,{"$f":"IF([2]Stock!J10=\"\",\"\",[2]Stock!J10)","v":""},{"$f":"IF([2]Stock!K10=\"\",\"\",[2]Stock!K10)","v":0},{"$f":"IF(P10=\"\",\"\",IFERROR(VLOOKUP(P10,Brassage!$B$61:$H$62,1,FALSE),\"\"))","v":""},{"$f":"IF(R10=\"0\",\"0\",IFERROR(VLOOKUP(P10,Brassage!$B$61:$H$62,7,FALSE),\"0\"))","v":"0"},null,{"$f":"IF([2]Stock!M10=\"\",\"\",[2]Stock!M10)","v":""},{"$f":"IF([2]Stock!N10=\"\",\"\",[2]Stock!N10)","v":0},{"$f":"IF(U10=\"\",\"\",IFERROR(VLOOKUP(U10,Brassage!$B$39:$H$42,1,FALSE),\"\"))","v":""},{"$f":"IF(U10=\"0\",\"0\",IFERROR(VLOOKUP(U10,Brassage!$B$39:$H$42,5,FALSE),\"0\"))","v":"0"}]
[{"$f":"IF([2]Stock!A11=\"\",\"\",[2]Stock!A11)","v":"Munich light"},{"$f":"IF([2]Stock!B11=\"\",\"\",[2]Stock!B11)","v":15},{"$f":"IF([2]Stock!C11=\"\",\"\",[2]Stock!C11)","v":4200},{"$f":"IF(A11=\"\",\"\",IFERROR(VLOOKUP(A11,Brassage!$B$25:$H$33,1,FALSE),\"\"))","v":""},{"$f":"IF(A11=\"\",\"\",IFERROR(VLOOKUP(A11,Brassage!$B$25:$H$33,2,FALSE),\"\"))","v":""},{"$f":"IF(Stock!D11=\"0\",\"0\",SUMIF(Brassage!$B$25:$B$33,Stock!D11,Brassage!$H$25:$H$33))","v":0},null,{"$f":"IF([2]Stock!E11=\"\",\"\",[2]Stock!E11)","v":"Styrian Golding Celeia"},{"$f":"IF([2]Stock!F11=\"\",\"\",[2]Stock!F11)","v":0.05},{"$f":"IF([2]Stock!G11=\"\",\"\",[2]Stock!G11)","v":2021},{"$f":"IF([2]Stock!H11=\"\",\"\",[2]Stock!H11)","v":100},{"$f":"IF(H11=\"\",\"\",IFERROR(VLOOKUP(H11,Brassage!$B$45:$H$57,1,FALSE),\"\"))","v":""},{"$f":"IF(L11=\"\",\"\",IFERROR(VLOOKUP(L11,Brassage!$B$45:$H$57,2,FALSE),\"\"))","v":""},{"$f":"IF(L11=\"0\",\"0\",SUMIF(Brassage!$B$45:$B$57,L11,Brassage!$F$45:$F$57))","v":0},null,{"$f":"IF([2]Stock!J11=\"\",\"\",[2]Stock!J11)","v":""},{"$f":"IF([2]Stock!K11=\"\",\"\",[2]Stock!K11)","v":0},{"$f":"IF(P11=\"\",\"\",IFERROR(VLOOKUP(P11,Brassage!$B$61:$H$62,1,FALSE),\"\"))","v":""},{"$f":"IF(R11=\"0\",\"0\",IFERROR(VLOOKUP(P11,Brassage!$B$61:$H$62,7,FALSE),\"0\"))","v":"0"},null,{"$f":"IF([2]Stock!M11=\"\",\"\",[2]Stock!M11)","v":""},{"$f":"IF([2]Stock!N11=\"\",\"\",[2]Stock!N11)","v":0},{"$f":"IF(U11=\"\",\"\",IFERROR(VLOOKUP(U11,Brassage!$B$39:$H$42,1,FALSE),\"\"))","v":""},{"$f":"IF(U11=\"0\",\"0\",IFERROR(VLOOKUP(U11,Brassage!$B$39:$H$42,5,FALSE),\"0\"))","v":"0"}]
[{"$f":"IF([2]Stock!A12=\"\",\"\",[2]Stock!A12)","v":"Pale ale Swaen"},{"$f":"IF([2]Stock!B12=\"\",\"\",[2]Stock!B12)","v":7.1},{"$f":"IF([2]Stock!C12=\"\",\"\",[2]Stock!C12)","v":16000},{"$f":"IF(A12=\"\",\"\",IFERROR(VLOOKUP(A12,Brassage!$B$25:$H$33,1,FALSE),\"\"))","v":"Pale ale Swaen"},{"$f":"IF(A12=\"\",\"\",IFERROR(VLOOKUP(A12,Brassage!$B$25:$H$33,2,FALSE),\"\"))","v":7.1},{"$f":"IF(Stock!D12=\"0\",\"0\",SUMIF(Brassage!$B$25:$B$33,Stock!D12,Brassage!$H$25:$H$33))","v":3574.0395294117679},null,{"$f":"IF([2]Stock!E12=\"\",\"\",[2]Stock!E12)","v":"Tettnanger"},{"$f":"IF([2]Stock!F12=\"\",\"\",[2]Stock!F12)","v":4.1000000000000002E-2},{"$f":"IF([2]Stock!G12=\"\",\"\",[2]Stock!G12)","v":2019},{"$f":"IF([2]Stock!H12=\"\",\"\",[2]Stock!H12)","v":50},{"$f":"IF(H12=\"\",\"\",IFERROR(VLOOKUP(H12,Brassage!$B$45:$H$57,1,FALSE),\"\"))","v":"Tettnanger"},{"$f":"IF(L12=\"\",\"\",IFERROR(VLOOKUP(L12,Brassage!$B$45:$H$57,2,FALSE),\"\"))","v":4.1000000000000002E-2},{"$f":"IF(L12=\"0\",\"0\",SUMIF(Brassage!$B$45:$B$57,L12,Brassage!$F$45:$F$57))","v":30},null,{"$f":"IF([2]Stock!J12=\"\",\"\",[2]Stock!J12)","v":""},{"$f":"IF([2]Stock!K12=\"\",\"\",[2]Stock!K12)","v":0},{"$f":"IF(P12=\"\",\"\",IFERROR(VLOOKUP(P12,Brassage!$B$61:$H$62,1,FALSE),\"\"))","v":""},{"$f":"IF(R12=\"0\",\"0\",IFERROR(VLOOKUP(P12,Brassage!$B$61:$H$62,7,FALSE),\"0\"))","v":"0"},null,{"$f":"IF([2]Stock!M12=\"\",\"\",[2]Stock!M12)","v":""},{"$f":"IF([2]Stock!N12=\"\",\"\",[2]Stock!N12)","v":0},{"$f":"IF(U12=\"\",\"\",IFERROR(VLOOKUP(U12,Brassage!$B$39:$H$42,1,FALSE),\"\"))","v":""},{"$f":"IF(U12=\"0\",\"0\",IFERROR(VLOOKUP(U12,Brassage!$B$39:$H$42,5,FALSE),\"0\"))","v":"0"}]
[{"$f":"IF([2]Stock!A13=\"\",\"\",[2]Stock!A13)","v":"Special B"},{"$f":"IF([2]Stock!B13=\"\",\"\",[2]Stock!B13)","v":300},{"$f":"IF([2]Stock!C13=\"\",\"\",[2]Stock!C13)","v":360},{"$f":"IF(A13=\"\",\"\",IFERROR(VLOOKUP(A13,Brassage!$B$25:$H$33,1,FALSE),\"\"))","v":""},{"$f":"IF(A13=\"\",\"\",IFERROR(VLOOKUP(A13,Brassage!$B$25:$H$33,2,FALSE),\"\"))","v":""},{"$f":"IF(Stock!D13=\"0\",\"0\",SUMIF(Brassage!$B$25:$B$33,Stock!D13,Brassage!$H$25:$H$33))","v":0},null,{"$f":"IF([2]Stock!E13=\"\",\"\",[2]Stock!E13)","v":"Magnum"},{"$f":"IF([2]Stock!F13=\"\",\"\",[2]Stock!F13)","v":0.13900000000000001},{"$f":"IF([2]Stock!G13=\"\",\"\",[2]Stock!G13)","v":2021},{"$f":"IF([2]Stock!H13=\"\",\"\",[2]Stock!H13)","v":100},{"$f":"IF(H13=\"\",\"\",IFERROR(VLOOKUP(H13,Brassage!$B$45:$H$57,1,FALSE),\"\"))","v":"Magnum"},{"$f":"IF(L13=\"\",\"\",IFERROR(VLOOKUP(L13,Brassage!$B$45:$H$57,2,FALSE),\"\"))","v":0.13900000000000001},{"$f":"IF(L13=\"0\",\"0\",SUMIF(Brassage!$B$45:$B$57,L13,Brassage!$F$45:$F$57))","v":8},null,{"$f":"IF([2]Stock!J13=\"\",\"\",[2]Stock!J13)","v":""},{"$f":"IF([2]Stock!K13=\"\",\"\",[2]Stock!K13)","v":0},{"$f":"IF(P13=\"\",\"\",IFERROR(VLOOKUP(P13,Brassage!$B$61:$H$62,1,FALSE),\"\"))","v":""},{"$f":"IF(R13=\"0\",\"0\",IFERROR(VLOOKUP(P13,Brassage!$B$61:$H$62,7,FALSE),\"0\"))","v":"0"},null,{"$f":"IF([2]Stock!M13=\"\",\"\",[2]Stock!M13)","v":""},{"$f":"IF([2]Stock!N13=\"\",\"\",[2]Stock!N13)","v":0},{"$f":"IF(U13=\"\",\"\",IFERROR(VLOOKUP(U13,Brassage!$B$39:$H$42,1,FALSE),\"\"))","v":""},{"$f":"IF(U13=\"0\",\"0\",IFERROR(VLOOKUP(U13,Brassage!$B$39:$H$42,5,FALSE),\"0\"))","v":"0"}]
[{"$f":"IF([2]Stock!A14=\"\",\"\",[2]Stock!A14)","v":"Viking Vienna"},{"$f":"IF([2]Stock!B14=\"\",\"\",[2]Stock!B14)","v":8},{"$f":"IF([2]Stock!C14=\"\",\"\",[2]Stock!C14)","v":5000},{"$f":"IF(A14=\"\",\"\",IFERROR(VLOOKUP(A14,Brassage!$B$25:$H$33,1,FALSE),\"\"))","v":""},{"$f":"IF(A14=\"\",\"\",IFERROR(VLOOKUP(A14,Brassage!$B$25:$H$33,2,FALSE),\"\"))","v":""},{"$f":"IF(Stock!D14=\"0\",\"0\",SUMIF(Brassage!$B$25:$B$33,Stock!D14,Brassage!$H$25:$H$33))","v":0},null,{"$f":"IF([2]Stock!E14=\"\",\"\",[2]Stock!E14)","v":""},{"$f":"IF([2]Stock!F14=\"\",\"\",[2]Stock!F14)","v":""},{"$f":"IF([2]Stock!G14=\"\",\"\",[2]Stock!G14)","v":""},{"$f":"IF([2]Stock!H14=\"\",\"\",[2]Stock!H14)","v":0},{"$f":"IF(H14=\"\",\"\",IFERROR(VLOOKUP(H14,Brassage!$B$45:$H$57,1,FALSE),\"\"))","v":""},{"$f":"IF(L14=\"\",\"\",IFERROR(VLOOKUP(L14,Brassage!$B$45:$H$57,2,FALSE),\"\"))","v":""},{"$f":"IF(L14=\"0\",\"0\",SUMIF(Brassage!$B$45:$B$57,L14,Brassage!$F$45:$F$57))","v":0},null,{"$f":"IF([2]Stock!J14=\"\",\"\",[2]Stock!J14)","v":""},{"$f":"IF([2]Stock!K14=\"\",\"\",[2]Stock!K14)","v":0},{"$f":"IF(P14=\"\",\"\",IFERROR(VLOOKUP(P14,Brassage!$B$61:$H$62,1,FALSE),\"\"))","v":""},{"$f":"IF(R14=\"0\",\"0\",IFERROR(VLOOKUP(P14,Brassage!$B$61:$H$62,7,FALSE),\"0\"))","v":"0"},null,{"$f":"IF([2]Stock!M14=\"\",\"\",[2]Stock!M14)","v":""},{"$f":"IF([2]Stock!N14=\"\",\"\",[2]Stock!N14)","v":0},{"$f":"IF(U14=\"\",\"\",IFERROR(VLOOKUP(U14,Brassage!$B$39:$H$42,1,FALSE),\"\"))","v":""},{"$f":"IF(U14=\"0\",\"0\",IFERROR(VLOOKUP(U14,Brassage!$B$39:$H$42,5,FALSE),\"0\"))","v":"0"}]
[{"$f":"IF([2]Stock!A15=\"\",\"\",[2]Stock!A15)","v":""},{"$f":"IF([2]Stock!B15=\"\",\"\",[2]Stock!B15)","v":""},{"$f":"IF([2]Stock!C15=\"\",\"\",[2]Stock!C15)","v":""},{"$f":"IF(A15=\"\",\"\",IFERROR(VLOOKUP(A15,Brassage!$B$25:$H$33,1,FALSE),\"\"))","v":""},{"$f":"IF(A15=\"\",\"\",IFERROR(VLOOKUP(A15,Brassage!$B$25:$H$33,2,FALSE),\"\"))","v":""},{"$f":"IF(Stock!D15=\"0\",\"0\",SUMIF(Brassage!$B$25:$B$33,Stock!D15,Brassage!$H$25:$H$33))","v":0},null,{"$f":"IF([2]Stock!E15=\"\",\"\",[2]Stock!E15)","v":""},{"$f":"IF([2]Stock!F15=\"\",\"\",[2]Stock!F15)","v":""},{"$f":"IF([2]Stock!G15=\"\",\"\",[2]Stock!G15)","v":""},{"$f":"IF([2]Stock!H15=\"\",\"\",[2]Stock!H15)","v":0},{"$f":"IF(H15=\"\",\"\",IFERROR(VLOOKUP(H15,Brassage!$B$45:$H$57,1,FALSE),\"\"))","v":""},{"$f":"IF(L15=\"\",\"\",IFERROR(VLOOKUP(L15,Brassage!$B$45:$H$57,2,FALSE),\"\"))","v":""},{"$f":"IF(L15=\"0\",\"0\",SUMIF(Brassage!$B$45:$B$57,L15,Brassage!$F$45:$F$57))","v":0},null,{"$f":"IF([2]Stock!J15=\"\",\"\",[2]Stock!J15)","v":""},{"$f":"IF([2]Stock!K15=\"\",\"\",[2]Stock!K15)","v":0},{"$f":"IF(P15=\"\",\"\",IFERROR(VLOOKUP(P15,Brassage!$B$61:$H$62,1,FALSE),\"\"))","v":""},{"$f":"IF(R15=\"0\",\"0\",IFERROR(VLOOKUP(P15,Brassage!$B$61:$H$62,7,FALSE),\"0\"))","v":"0"},null,{"$f":"IF([2]Stock!M15=\"\",\"\",[2]Stock!M15)","v":""},{"$f":"IF([2]Stock!N15=\"\",\"\",[2]Stock!N15)","v":0},{"$f":"IF(U15=\"\",\"\",IFERROR(VLOOKUP(U15,Brassage!$B$39:$H$42,1,FALSE),\"\"))","v":""},{"$f":"IF(U15=\"0\",\"0\",IFERROR(VLOOKUP(U15,Brassage!$B$39:$H$42,5,FALSE),\"0\"))","v":"0"}]
[{"$f":"IF([2]Stock!A16=\"\",\"\",[2]Stock!A16)","v":""},{"$f":"IF([2]Stock!B16=\"\",\"\",[2]Stock!B16)","v":""},{"$f":"IF([2]Stock!C16=\"\",\"\",[2]Stock!C16)","v":0},{"$f":"IF(A16=\"\",\"\",IFERROR(VLOOKUP(A16,Brassage!$B$25:$H$33,1,FALSE),\"\"))","v":""},{"$f":"IF(A16=\"\",\"\",IFERROR(VLOOKUP(A16,Brassage!$B$25:$H$33,2,FALSE),\"\"))","v":""},{"$f":"IF(Stock!D16=\"0\",\"0\",SUMIF(Brassage!$B$25:$B$33,Stock!D16,Brassage!$H$25:$H$33))","v":0},null,{"$f":"IF([2]Stock!E16=\"\",\"\",[2]Stock!E16)","v":""},{"$f":"IF([2]Stock!F16=\"\",\"\",[2]Stock!F16)","v":""},{"$f":"IF([2]Stock!G16=\"\",\"\",[2]Stock!G16)","v":""},{"$f":"IF([2]Stock!H16=\"\",\"\",[2]Stock!H16)","v":0},{"$f":"IF(H16=\"\",\"\",IFERROR(VLOOKUP(H16,Brassage!$B$45:$H$57,1,FALSE),\"\"))","v":""},{"$f":"IF(L16=\"\",\"\",IFERROR(VLOOKUP(L16,Brassage!$B$45:$H$57,2,FALSE),\"\"))","v":""},{"$f":"IF(L16=\"0\",\"0\",SUMIF(Brassage!$B$45:$B$57,L16,Brassage!$F$45:$F$57))","v":0},null,{"$f":"IF([2]Stock!J16=\"\",\"\",[2]Stock!J16)","v":""},{"$f":"IF([2]Stock!K16=\"\",\"\",[2]Stock!K16)","v":0},{"$f":"IF(P16=\"\",\"\",IFERROR(VLOOKUP(P16,Brassage!$B$61:$H$62,1,FALSE),\"\"))","v":""},{"$f":"IF(R16=\"0\",\"0\",IFERROR(VLOOKUP(P16,Brassage!$B$61:$H$62,7,FALSE),\"0\"))","v":"0"},null,{"$f":"IF([2]Stock!M16=\"\",\"\",[2]Stock!M16)","v":""},{"$f":"IF([2]Stock!N16=\"\",\"\",[2]Stock!N16)","v":0},{"$f":"IF(U16=\"\",\"\",IFERROR(VLOOKUP(U16,Brassage!$B$39:$H$42,1,FALSE),\"\"))","v":""},{"$f":"IF(U16=\"0\",\"0\",IFERROR(VLOOKUP(U16,Brassage!$B$39:$H$42,5,FALSE),\"0\"))","v":"0"}]
[{"$f":"IF([2]Stock!A17=\"\",\"\",[2]Stock!A17)","v":""},{"$f":"IF([2]Stock!B17=\"\",\"\",[2]Stock!B17)","v":""},{"$f":"IF([2]Stock!C17=\"\",\"\",[2]Stock!C17)","v":0},{"$f":"IF(A17=\"\",\"\",IFERROR(VLOOKUP(A17,Brassage!$B$25:$H$33,1,FALSE),\"\"))","v":""},{"$f":"IF(A17=\"\",\"\",IFERROR(VLOOKUP(A17,Brassage!$B$25:$H$33,2,FALSE),\"\"))","v":""},{"$f":"IF(Stock!D17=\"0\",\"0\",SUMIF(Brassage!$B$25:$B$33,Stock!D17,Brassage!$H$25:$H$33))","v":0},null,{"$f":"IF([2]Stock!E17=\"\",\"\",[2]Stock!E17)","v":""},{"$f":"IF([2]Stock!F17=\"\",\"\",[2]Stock!F17)","v":""},{"$f":"IF([2]Stock!G17=\"\",\"\",[2]Stock!G17)","v":""},{"$f":"IF([2]Stock!H17=\"\",\"\",[2]Stock!H17)","v":0},{"$f":"IF(H17=\"\",\"\",IFERROR(VLOOKUP(H17,Brassage!$B$45:$H$57,1,FALSE),\"\"))","v":""},{"$f":"IF(L17=\"\",\"\",IFERROR(VLOOKUP(L17,Brassage!$B$45:$H$57,2,FALSE),\"\"))","v":""},{"$f":"IF(L17=\"0\",\"0\",SUMIF(Brassage!$B$45:$B$57,L17,Brassage!$F$45:$F$57))","v":0},null,{"$f":"IF([2]Stock!J17=\"\",\"\",[2]Stock!J17)","v":""},{"$f":"IF([2]Stock!K17=\"\",\"\",[2]Stock!K17)","v":0},{"$f":"IF(P17=\"\",\"\",IFERROR(VLOOKUP(P17,Brassage!$B$61:$H$62,1,FALSE),\"\"))","v":""},{"$f":"IF(R17=\"0\",\"0\",IFERROR(VLOOKUP(P17,Brassage!$B$61:$H$62,7,FALSE),\"0\"))","v":"0"},null,{"$f":"IF([2]Stock!M17=\"\",\"\",[2]Stock!M17)","v":""},{"$f":"IF([2]Stock!N17=\"\",\"\",[2]Stock!N17)","v":0},{"$f":"IF(U17=\"\",\"\",IFERROR(VLOOKUP(U17,Brassage!$B$39:$H$42,1,FALSE),\"\"))","v":""},{"$f":"IF(U17=\"0\",\"0\",IFERROR(VLOOKUP(U17,Brassage!$B$39:$H$42,5,FALSE),\"0\"))","v":"0"}]
[{"$f":"IF([2]Stock!A18=\"\",\"\",[2]Stock!A18)","v":""},{"$f":"IF([2]Stock!B18=\"\",\"\",[2]Stock!B18)","v":""},{"$f":"IF([2]Stock!C18=\"\",\"\",[2]Stock!C18)","v":0},{"$f":"IF(A18=\"\",\"\",IFERROR(VLOOKUP(A18,Brassage!$B$25:$H$33,1,FALSE),\"\"))","v":""},{"$f":"IF(A18=\"\",\"\",IFERROR(VLOOKUP(A18,Brassage!$B$25:$H$33,2,FALSE),\"\"))","v":""},{"$f":"IF(Stock!D18=\"0\",\"0\",SUMIF(Brassage!$B$25:$B$33,Stock!D18,Brassage!$H$25:$H$33))","v":0},null,{"$f":"IF([2]Stock!E18=\"\",\"\",[2]Stock!E18)","v":""},{"$f":"IF([2]Stock!F18=\"\",\"\",[2]Stock!F18)","v":""},{"$f":"IF([2]Stock!G18=\"\",\"\",[2]Stock!G18)","v":""},{"$f":"IF([2]Stock!H18=\"\",\"\",[2]Stock!H18)","v":0},{"$f":"IF(H18=\"\",\"\",IFERROR(VLOOKUP(H18,Brassage!$B$45:$H$57,1,FALSE),\"\"))","v":""},{"$f":"IF(L18=\"\",\"\",IFERROR(VLOOKUP(L18,Brassage!$B$45:$H$57,2,FALSE),\"\"))","v":""},{"$f":"IF(L18=\"0\",\"0\",SUMIF(Brassage!$B$45:$B$57,L18,Brassage!$F$45:$F$57))","v":0},null,null,{"$f":"IF([2]Stock!K18=\"\",\"\",[2]Stock!K18)","v":0},{"$f":"IF(P18=\"\",\"\",IFERROR(VLOOKUP(P18,Brassage!$B$61:$H$62,1,FALSE),\"\"))","v":""},{"$f":"IF(R18=\"0\",\"0\",IFERROR(VLOOKUP(P18,Brassage!$B$61:$H$62,7,FALSE),\"0\"))","v":"0"},null,{"$f":"IF([2]Stock!M18=\"\",\"\",[2]Stock!M18)","v":""},{"$f":"IF([2]Stock!N18=\"\",\"\",[2]Stock!N18)","v":0},{"$f":"IF(U18=\"\",\"\",IFERROR(VLOOKUP(U18,Brassage!$B$39:$H$42,1,FALSE),\"\"))","v":""},{"$f":"IF(U18=\"0\",\"0\",IFERROR(VLOOKUP(U18,Brassage!$B$39:$H$42,5,FALSE),\"0\"))","v":"0"}]
[{"$f":"IF([2]Stock!A19=\"\",\"\",[2]Stock!A19)","v":""},{"$f":"IF([2]Stock!B19=\"\",\"\",[2]Stock!B19)","v":""},{"$f":"IF([2]Stock!C19=\"\",\"\",[2]Stock!C19)","v":0},{"$f":"IF(A19=\"\",\"\",IFERROR(VLOOKUP(A19,Brassage!$B$25:$H$33,1,FALSE),\"\"))","v":""},{"$f":"IF(A19=\"\",\"\",IFERROR(VLOOKUP(A19,Brassage!$B$25:$H$33,2,FALSE),\"\"))","v":""},{"$f":"IF(Stock!D19=\"0\",\"0\",SUMIF(Brassage!$B$25:$B$33,Stock!D19,Brassage!$H$25:$H$33))","v":0},null,{"$f":"IF([2]Stock!E19=\"\",\"\",[2]Stock!E19)","v":""},{"$f":"IF([2]Stock!F19=\"\",\"\",[2]Stock!F19)","v":""},{"$f":"IF([2]Stock!G19=\"\",\"\",[2]Stock!G19)","v":""},{"$f":"IF([2]Stock!H19=\"\",\"\",[2]Stock!H19)","v":0},{"$f":"IF(H19=\"\",\"\",IFERROR(VLOOKUP(H19,Brassage!$B$45:$H$57,1,FALSE),\"\"))","v":""},{"$f":"IF(L19=\"\",\"\",IFERROR(VLOOKUP(L19,Brassage!$B$45:$H$57,2,FALSE),\"\"))","v":""},{"$f":"IF(L19=\"0\",\"0\",SUMIF(Brassage!$B$45:$B$57,L19,Brassage!$F$45:$F$57))","v":0},null,{"$f":"IF([2]Stock!J19=\"\",\"\",[2]Stock!J19)","v":""},{"$f":"IF([2]Stock!K19=\"\",\"\",[2]Stock!K19)","v":0},{"$f":"IF(P19=\"\",\"\",IFERROR(VLOOKUP(P19,Brassage!$B$61:$H$62,1,FALSE),\"\"))","v":""},{"$f":"IF(R19=\"0\",\"0\",IFERROR(VLOOKUP(P19,Brassage!$B$61:$H$62,7,FALSE),\"0\"))","v":"0"},null,{"$f":"IF([2]Stock!M19=\"\",\"\",[2]Stock!M19)","v":""},{"$f":"IF([2]Stock!N19=\"\",\"\",[2]Stock!N19)","v":0},{"$f":"IF(U19=\"\",\"\",IFERROR(VLOOKUP(U19,Brassage!$B$39:$H$42,1,FALSE),\"\"))","v":""},{"$f":"IF(U19=\"0\",\"0\",IFERROR(VLOOKUP(U19,Brassage!$B$39:$H$42,5,FALSE),\"0\"))","v":"0"}]
[{"$f":"IF([2]Stock!A20=\"\",\"\",[2]Stock!A20)","v":""},{"$f":"IF([2]Stock!B20=\"\",\"\",[2]Stock!B20)","v":""},{"$f":"IF([2]Stock!C20=\"\",\"\",[2]Stock!C20)","v":0},{"$f":"IF(A20=\"\",\"\",IFERROR(VLOOKUP(A20,Brassage!$B$25:$H$33,1,FALSE),\"\"))","v":""},{"$f":"IF(A20=\"\",\"\",IFERROR(VLOOKUP(A20,Brassage!$B$25:$H$33,2,FALSE),\"\"))","v":""},{"$f":"IF(Stock!D20=\"0\",\"0\",SUMIF(Brassage!$B$25:$B$33,Stock!D20,Brassage!$H$25:$H$33))","v":0},null,{"$f":"IF([2]Stock!E20=\"\",\"\",[2]Stock!E20)","v":""},{"$f":"IF([2]Stock!F20=\"\",\"\",[2]Stock!F20)","v":""},{"$f":"IF([2]Stock!G20=\"\",\"\",[2]Stock!G20)","v":""},{"$f":"IF([2]Stock!H20=\"\",\"\",[2]Stock!H20)","v":0},{"$f":"IF(H20=\"\",\"\",IFERROR(VLOOKUP(H20,Brassage!$B$45:$H$57,1,FALSE),\"\"))","v":""},{"$f":"IF(L20=\"\",\"\",IFERROR(VLOOKUP(L20,Brassage!$B$45:$H$57,2,FALSE),\"\"))","v":""},{"$f":"IF(L20=\"0\",\"0\",SUMIF(Brassage!$B$45:$B$57,L20,Brassage!$F$45:$F$57))","v":0},null,{"$f":"IF([2]Stock!J20=\"\",\"\",[2]Stock!J20)","v":""},{"$f":"IF([2]Stock!K20=\"\",\"\",[2]Stock!K20)","v":0},{"$f":"IF(P20=\"\",\"\",IFERROR(VLOOKUP(P20,Brassage!$B$61:$H$62,1,FALSE),\"\"))","v":""},{"$f":"IF(R20=\"0\",\"0\",IFERROR(VLOOKUP(P20,Brassage!$B$61:$H$62,7,FALSE),\"0\"))","v":"0"},null,{"$f":"IF([2]Stock!M20=\"\",\"\",[2]Stock!M20)","v":""},{"$f":"IF([2]Stock!N20=\"\",\"\",[2]Stock!N20)","v":0},{"$f":"IF(U20=\"\",\"\",IFERROR(VLOOKUP(U20,Brassage!$B$39:$H$42,1,FALSE),\"\"))","v":""},{"$f":"IF(U20=\"0\",\"0\",IFERROR(VLOOKUP(U20,Brassage!$B$39:$H$42,5,FALSE),\"0\"))","v":"0"}]
[{"$f":"IF([2]Stock!A21=\"\",\"\",[2]Stock!A21)","v":""},{"$f":"IF([2]Stock!B21=\"\",\"\",[2]Stock!B21)","v":""},{"$f":"IF([2]Stock!C21=\"\",\"\",[2]Stock!C21)","v":0},{"$f":"IF(A21=\"\",\"\",IFERROR(VLOOKUP(A21,Brassage!$B$25:$H$33,1,FALSE),\"\"))","v":""},{"$f":"IF(A21=\"\",\"\",IFERROR(VLOOKUP(A21,Brassage!$B$25:$H$33,2,FALSE),\"\"))","v":""},{"$f":"IF(Stock!D21=\"0\",\"0\",SUMIF(Brassage!$B$25:$B$33,Stock!D21,Brassage!$H$25:$H$33))","v":0},null,{"$f":"IF([2]Stock!E21=\"\",\"\",[2]Stock!E21)","v":""},{"$f":"IF([2]Stock!F21=\"\",\"\",[2]Stock!F21)","v":""},{"$f":"IF([2]Stock!G21=\"\",\"\",[2]Stock!G21)","v":""},{"$f":"IF([2]Stock!H21=\"\",\"\",[2]Stock!H21)","v":0},{"$f":"IF(H21=\"\",\"\",IFERROR(VLOOKUP(H21,Brassage!$B$45:$H$57,1,FALSE),\"\"))","v":""},{"$f":"IF(L21=\"\",\"\",IFERROR(VLOOKUP(L21,Brassage!$B$45:$H$57,2,FALSE),\"\"))","v":""},{"$f":"IF(L21=\"0\",\"0\",SUMIF(Brassage!$B$45:$B$57,L21,Brassage!$F$45:$F$57))","v":0},null,{"$f":"IF([2]Stock!J21=\"\",\"\",[2]Stock!J21)","v":""},{"$f":"IF([2]Stock!K21=\"\",\"\",[2]Stock!K21)","v":0},{"$f":"IF(P21=\"\",\"\",IFERROR(VLOOKUP(P21,Brassage!$B$61:$H$62,1,FALSE),\"\"))","v":""},{"$f":"IF(R21=\"0\",\"0\",IFERROR(VLOOKUP(P21,Brassage!$B$61:$H$62,7,FALSE),\"0\"))","v":"0"},null,{"$f":"IF([2]Stock!M21=\"\",\"\",[2]Stock!M21)","v":""},{"$f":"IF([2]Stock!N21=\"\",\"\",[2]Stock!N21)","v":0},{"$f":"IF(U21=\"\",\"\",IFERROR(VLOOKUP(U21,Brassage!$B$39:$H$42,1,FALSE),\"\"))","v":""},{"$f":"IF(U21=\"0\",\"0\",IFERROR(VLOOKUP(U21,Brassage!$B$39:$H$42,5,FALSE),\"0\"))","v":"0"}]
[{"$f":"IF([2]Stock!A22=\"\",\"\",[2]Stock!A22)","v":""},{"$f":"IF([2]Stock!B22=\"\",\"\",[2]Stock!B22)","v":""},{"$f":"IF([2]Stock!C22=\"\",\"\",[2]Stock!C22)","v":0},{"$f":"IF(A22=\"\",\"\",IFERROR(VLOOKUP(A22,Brassage!$B$25:$H$33,1,FALSE),\"\"))","v":""},{"$f":"IF(A22=\"\",\"\",IFERROR(VLOOKUP(A22,Brassage!$B$25:$H$33,2,FALSE),\"\"))","v":""},{"$f":"IF(Stock!D22=\"0\",\"0\",SUMIF(Brassage!$B$25:$B$33,Stock!D22,Brassage!$H$25:$H$33))","v":0},null,{"$f":"IF([2]Stock!E22=\"\",\"\",[2]Stock!E22)","v":""},{"$f":"IF([2]Stock!F22=\"\",\"\",[2]Stock!F22)","v":""},{"$f":"IF([2]Stock!G22=\"\",\"\",[2]Stock!G22)","v":""},{"$f":"IF([2]Stock!H22=\"\",\"\",[2]Stock!H22)","v":0},{"$f":"IF(H22=\"\",\"\",IFERROR(VLOOKUP(H22,Brassage!$B$45:$H$57,1,FALSE),\"\"))","v":""},{"$f":"IF(L22=\"\",\"\",IFERROR(VLOOKUP(L22,Brassage!$B$45:$H$57,2,FALSE),\"\"))","v":""},{"$f":"IF(L22=\"0\",\"0\",SUMIF(Brassage!$B$45:$B$57,L22,Brassage!$F$45:$F$57))","v":0},null,{"$f":"IF([2]Stock!J22=\"\",\"\",[2]Stock!J22)","v":""},{"$f":"IF([2]Stock!K22=\"\",\"\",[2]Stock!K22)","v":0},{"$f":"IF(P22=\"\",\"\",IFERROR(VLOOKUP(P22,Brassage!$B$61:$H$62,1,FALSE),\"\"))","v":""},{"$f":"IF(R22=\"0\",\"0\",IFERROR(VLOOKUP(P22,Brassage!$B$61:$H$62,7,FALSE),\"0\"))","v":"0"},null,{"$f":"IF([2]Stock!M22=\"\",\"\",[2]Stock!M22)","v":""},{"$f":"IF([2]Stock!N22=\"\",\"\",[2]Stock!N22)","v":0},{"$f":"IF(U22=\"\",\"\",IFERROR(VLOOKUP(U22,Brassage!$B$39:$H$42,1,FALSE),\"\"))","v":""},{"$f":"IF(U22=\"0\",\"0\",IFERROR(VLOOKUP(U22,Brassage!$B$39:$H$42,5,FALSE),\"0\"))","v":"0"}]
[{"$f":"IF([2]Stock!A23=\"\",\"\",[2]Stock!A23)","v":""},{"$f":"IF([2]Stock!B23=\"\",\"\",[2]Stock!B23)","v":""},{"$f":"IF([2]Stock!C23=\"\",\"\",[2]Stock!C23)","v":0},{"$f":"IF(A23=\"\",\"\",IFERROR(VLOOKUP(A23,Brassage!$B$25:$H$33,1,FALSE),\"\"))","v":""},{"$f":"IF(A23=\"\",\"\",IFERROR(VLOOKUP(A23,Brassage!$B$25:$H$33,2,FALSE),\"\"))","v":""},{"$f":"IF(Stock!D23=\"0\",\"0\",SUMIF(Brassage!$B$25:$B$33,Stock!D23,Brassage!$H$25:$H$33))","v":0},null,{"$f":"IF([2]Stock!E23=\"\",\"\",[2]Stock!E23)","v":""},{"$f":"IF([2]Stock!F23=\"\",\"\",[2]Stock!F23)","v":""},{"$f":"IF([2]Stock!G23=\"\",\"\",[2]Stock!G23)","v":""},{"$f":"IF([2]Stock!H23=\"\",\"\",[2]Stock!H23)","v":0},{"$f":"IF(H23=\"\",\"\",IFERROR(VLOOKUP(H23,Brassage!$B$45:$H$57,1,FALSE),\"\"))","v":""},{"$f":"IF(L23=\"\",\"\",IFERROR(VLOOKUP(L23,Brassage!$B$45:$H$57,2,FALSE),\"\"))","v":""},{"$f":"IF(L23=\"0\",\"0\",SUMIF(Brassage!$B$45:$B$57,L23,Brassage!$F$45:$F$57))","v":0},null,{"$f":"IF([2]Stock!J23=\"\",\"\",[2]Stock!J23)","v":""},{"$f":"IF([2]Stock!K23=\"\",\"\",[2]Stock!K23)","v":0},{"$f":"IF(P23=\"\",\"\",IFERROR(VLOOKUP(P23,Brassage!$B$61:$H$62,1,FALSE),\"\"))","v":""},{"$f":"IF(R23=\"0\",\"0\",IFERROR(VLOOKUP(P23,Brassage!$B$61:$H$62,7,FALSE),\"0\"))","v":"0"},null,{"$f":"IF([2]Stock!M23=\"\",\"\",[2]Stock!M23)","v":""},{"$f":"IF([2]Stock!N23=\"\",\"\",[2]Stock!N23)","v":0},{"$f":"IF(U23=\"\",\"\",IFERROR(VLOOKUP(U23,Brassage!$B$39:$H$42,1,FALSE),\"\"))","v":""},{"$f":"IF(U23=\"0\",\"0\",IFERROR(VLOOKUP(U23,Brassage!$B$39:$H$42,5,FALSE),\"0\"))","v":"0"}]
[{"$f":"IF([2]Stock!A24=\"\",\"\",[2]Stock!A24)","v":""},{"$f":"IF([2]Stock!B24=\"\",\"\",[2]Stock!B24)","v":""},{"$f":"IF([2]Stock!C24=\"\",\"\",[2]Stock!C24)","v":0},{"$f":"IF(A24=\"\",\"\",IFERROR(VLOOKUP(A24,Brassage!$B$25:$H$33,1,FALSE),\"\"))","v":""},{"$f":"IF(A24=\"\",\"\",IFERROR(VLOOKUP(A24,Brassage!$B$25:$H$33,2,FALSE),\"\"))","v":""},{"$f":"IF(Stock!D24=\"0\",\"0\",SUMIF(Brassage!$B$25:$B$33,Stock!D24,Brassage!$H$25:$H$33))","v":0},null,{"$f":"IF([2]Stock!E24=\"\",\"\",[2]Stock!E24)","v":""},{"$f":"IF([2]Stock!F24=\"\",\"\",[2]Stock!F24)","v":""},{"$f":"IF([2]Stock!G24=\"\",\"\",[2]Stock!G24)","v":""},{"$f":"IF([2]Stock!H24=\"\",\"\",[2]Stock!H24)","v":0},{"$f":"IF(H24=\"\",\"\",IFERROR(VLOOKUP(H24,Brassage!$B$45:$H$57,1,FALSE),\"\"))","v":""},{"$f":"IF(L24=\"\",\"\",IFERROR(VLOOKUP(L24,Brassage!$B$45:$H$57,2,FALSE),\"\"))","v":""},{"$f":"IF(L24=\"0\",\"0\",SUMIF(Brassage!$B$45:$B$57,L24,Brassage!$F$45:$F$57))","v":0},null,{"$f":"IF([2]Stock!J24=\"\",\"\",[2]Stock!J24)","v":""},{"$f":"IF([2]Stock!K24=\"\",\"\",[2]Stock!K24)","v":0},{"$f":"IF(P24=\"\",\"\",IFERROR(VLOOKUP(P24,Brassage!$B$61:$H$62,1,FALSE),\"\"))","v":""},{"$f":"IF(R24=\"0\",\"0\",IFERROR(VLOOKUP(P24,Brassage!$B$61:$H$62,7,FALSE),\"0\"))","v":"0"},null,{"$f":"IF([2]Stock!M24=\"\",\"\",[2]Stock!M24)","v":""},{"$f":"IF([2]Stock!N24=\"\",\"\",[2]Stock!N24)","v":0},{"$f":"IF(U24=\"\",\"\",IFERROR(VLOOKUP(U24,Brassage!$B$39:$H$42,1,FALSE),\"\"))","v":""},{"$f":"IF(U24=\"0\",\"0\",IFERROR(VLOOKUP(U24,Brassage!$B$39:$H$42,5,FALSE),\"0\"))","v":"0"}]
[{"$f":"IF([2]Stock!A25=\"\",\"\",[2]Stock!A25)","v":""},{"$f":"IF([2]Stock!B25=\"\",\"\",[2]Stock!B25)","v":""},{"$f":"IF([2]Stock!C25=\"\",\"\",[2]Stock!C25)","v":0},{"$f":"IF(A25=\"\",\"\",IFERROR(VLOOKUP(A25,Brassage!$B$25:$H$33,1,FALSE),\"\"))","v":""},{"$f":"IF(A25=\"\",\"\",IFERROR(VLOOKUP(A25,Brassage!$B$25:$H$33,2,FALSE),\"\"))","v":""},{"$f":"IF(Stock!D25=\"0\",\"0\",SUMIF(Brassage!$B$25:$B$33,Stock!D25,Brassage!$H$25:$H$33))","v":0},null,{"$f":"IF([2]Stock!E25=\"\",\"\",[2]Stock!E25)","v":""},{"$f":"IF([2]Stock!F25=\"\",\"\",[2]Stock!F25)","v":""},{"$f":"IF([2]Stock!G25=\"\",\"\",[2]Stock!G25)","v":""},{"$f":"IF([2]Stock!H25=\"\",\"\",[2]Stock!H25)","v":0},{"$f":"IF(H25=\"\",\"\",IFERROR(VLOOKUP(H25,Brassage!$B$45:$H$57,1,FALSE),\"\"))","v":""},{"$f":"IF(L25=\"\",\"\",IFERROR(VLOOKUP(L25,Brassage!$B$45:$H$57,2,FALSE),\"\"))","v":""},{"$f":"IF(L25=\"0\",\"0\",SUMIF(Brassage!$B$45:$B$57,L25,Brassage!$F$45:$F$57))","v":0},null,{"$f":"IF([2]Stock!J25=\"\",\"\",[2]Stock!J25)","v":""},{"$f":"IF([2]Stock!K25=\"\",\"\",[2]Stock!K25)","v":0},{"$f":"IF(P25=\"\",\"\",IFERROR(VLOOKUP(P25,Brassage!$B$61:$H$62,1,FALSE),\"\"))","v":""},{"$f":"IF(R25=\"0\",\"0\",IFERROR(VLOOKUP(P25,Brassage!$B$61:$H$62,7,FALSE),\"0\"))","v":"0"},null,{"$f":"IF([2]Stock!M25=\"\",\"\",[2]Stock!M25)","v":""},{"$f":"IF([2]Stock!N25=\"\",\"\",[2]Stock!N25)","v":0},{"$f":"IF(U25=\"\",\"\",IFERROR(VLOOKUP(U25,Brassage!$B$39:$H$42,1,FALSE),\"\"))","v":""},{"$f":"IF(U25=\"0\",\"0\",IFERROR(VLOOKUP(U25,Brassage!$B$39:$H$42,5,FALSE),\"0\"))","v":"0"}]
[{"$f":"IF([2]Stock!A26=\"\",\"\",[2]Stock!A26)","v":""},{"$f":"IF([2]Stock!B26=\"\",\"\",[2]Stock!B26)","v":""},{"$f":"IF([2]Stock!C26=\"\",\"\",[2]Stock!C26)","v":0},{"$f":"IF(A26=\"\",\"\",IFERROR(VLOOKUP(A26,Brassage!$B$25:$H$33,1,FALSE),\"\"))","v":""},{"$f":"IF(A26=\"\",\"\",IFERROR(VLOOKUP(A26,Brassage!$B$25:$H$33,2,FALSE),\"\"))","v":""},{"$f":"IF(Stock!D26=\"0\",\"0\",SUMIF(Brassage!$B$25:$B$33,Stock!D26,Brassage!$H$25:$H$33))","v":0},null,{"$f":"IF([2]Stock!E26=\"\",\"\",[2]Stock!E26)","v":""},{"$f":"IF([2]Stock!F26=\"\",\"\",[2]Stock!F26)","v":""},{"$f":"IF([2]Stock!G26=\"\",\"\",[2]Stock!G26)","v":""},{"$f":"IF([2]Stock!H26=\"\",\"\",[2]Stock!H26)","v":0},{"$f":"IF(H26=\"\",\"\",IFERROR(VLOOKUP(H26,Brassage!$B$45:$H$57,1,FALSE),\"\"))","v":""},{"$f":"IF(L26=\"\",\"\",IFERROR(VLOOKUP(L26,Brassage!$B$45:$H$57,2,FALSE),\"\"))","v":""},{"$f":"IF(L26=\"0\",\"0\",SUMIF(Brassage!$B$45:$B$57,L26,Brassage!$F$45:$F$57))","v":0},null,{"$f":"IF([2]Stock!J26=\"\",\"\",[2]Stock!J26)","v":""},{"$f":"IF([2]Stock!K26=\"\",\"\",[2]Stock!K26)","v":0},{"$f":"IF(P26=\"\",\"\",IFERROR(VLOOKUP(P26,Brassage!$B$61:$H$62,1,FALSE),\"\"))","v":""},{"$f":"IF(R26=\"0\",\"0\",IFERROR(VLOOKUP(P26,Brassage!$B$61:$H$62,7,FALSE),\"0\"))","v":"0"},null,{"$f":"IF([2]Stock!M26=\"\",\"\",[2]Stock!M26)","v":""},{"$f":"IF([2]Stock!N26=\"\",\"\",[2]Stock!N26)","v":0},{"$f":"IF(U26=\"\",\"\",IFERROR(VLOOKUP(U26,Brassage!$B$39:$H$42,1,FALSE),\"\"))","v":""},{"$f":"IF(U26=\"0\",\"0\",IFERROR(VLOOKUP(U26,Brassage!$B$39:$H$42,5,FALSE),\"0\"))","v":"0"}]
[{"$f":"IF([2]Stock!A27=\"\",\"\",[2]Stock!A27)","v":""},{"$f":"IF([2]Stock!B27=\"\",\"\",[2]Stock!B27)","v":""},{"$f":"IF([2]Stock!C27=\"\",\"\",[2]Stock!C27)","v":0},{"$f":"IF(A27=\"\",\"\",IFERROR(VLOOKUP(A27,Brassage!$B$25:$H$33,1,FALSE),\"\"))","v":""},{"$f":"IF(A27=\"\",\"\",IFERROR(VLOOKUP(A27,Brassage!$B$25:$H$33,2,FALSE),\"\"))","v":""},{"$f":"IF(Stock!D27=\"0\",\"0\",SUMIF(Brassage!$B$25:$B$33,Stock!D27,Brassage!$H$25:$H$33))","v":0},null,{"$f":"IF([2]Stock!E27=\"\",\"\",[2]Stock!E27)","v":""},{"$f":"IF([2]Stock!F27=\"\",\"\",[2]Stock!F27)","v":""},{"$f":"IF([2]Stock!G27=\"\",\"\",[2]Stock!G27)","v":""},{"$f":"IF([2]Stock!H27=\"\",\"\",[2]Stock!H27)","v":0},{"$f":"IF(H27=\"\",\"\",IFERROR(VLOOKUP(H27,Brassage!$B$45:$H$57,1,FALSE),\"\"))","v":""},{"$f":"IF(L27=\"\",\"\",IFERROR(VLOOKUP(L27,Brassage!$B$45:$H$57,2,FALSE),\"\"))","v":""},{"$f":"IF(L27=\"0\",\"0\",SUMIF(Brassage!$B$45:$B$57,L27,Brassage!$F$45:$F$57))","v":0},null,{"$f":"IF([2]Stock!J27=\"\",\"\",[2]Stock!J27)","v":""},{"$f":"IF([2]Stock!K27=\"\",\"\",[2]Stock!K27)","v":0},{"$f":"IF(P27=\"\",\"\",IFERROR(VLOOKUP(P27,Brassage!$B$61:$H$62,1,FALSE),\"\"))","v":""},{"$f":"IF(R27=\"0\",\"0\",IFERROR(VLOOKUP(P27,Brassage!$B$61:$H$62,7,FALSE),\"0\"))","v":"0"},null,{"$f":"IF([2]Stock!M27=\"\",\"\",[2]Stock!M27)","v":""},{"$f":"IF([2]Stock!N27=\"\",\"\",[2]Stock!N27)","v":0},{"$f":"IF(U27=\"\",\"\",IFERROR(VLOOKUP(U27,Brassage!$B$39:$H$42,1,FALSE),\"\"))","v":""},{"$f":"IF(U27=\"0\",\"0\",IFERROR(VLOOKUP(U27,Brassage!$B$39:$H$42,5,FALSE),\"0\"))","v":"0"}]
[{"$f":"IF([2]Stock!A28=\"\",\"\",[2]Stock!A28)","v":""},{"$f":"IF([2]Stock!B28=\"\",\"\",[2]Stock!B28)","v":""},{"$f":"IF([2]Stock!C28=\"\",\"\",[2]Stock!C28)","v":0},{"$f":"IF(A28=\"\",\"\",IFERROR(VLOOKUP(A28,Brassage!$B$25:$H$33,1,FALSE),\"\"))","v":""},{"$f":"IF(A28=\"\",\"\",IFERROR(VLOOKUP(A28,Brassage!$B$25:$H$33,2,FALSE),\"\"))","v":""},{"$f":"IF(Stock!D28=\"0\",\"0\",SUMIF(Brassage!$B$25:$B$33,Stock!D28,Brassage!$H$25:$H$33))","v":0},null,{"$f":"IF([2]Stock!E28=\"\",\"\",[2]Stock!E28)","v":""},{"$f":"IF([2]Stock!F28=\"\",\"\",[2]Stock!F28)","v":""},{"$f":"IF([2]Stock!G28=\"\",\"\",[2]Stock!G28)","v":""},{"$f":"IF([2]Stock!H28=\"\",\"\",[2]Stock!H28)","v":0},{"$f":"IF(H28=\"\",\"\",IFERROR(VLOOKUP(H28,Brassage!$B$45:$H$57,1,FALSE),\"\"))","v":""},{"$f":"IF(L28=\"\",\"\",IFERROR(VLOOKUP(L28,Brassage!$B$45:$H$57,2,FALSE),\"\"))","v":""},{"$f":"IF(L28=\"0\",\"0\",SUMIF(Brassage!$B$45:$B$57,L28,Brassage!$F$45:$F$57))","v":0},null,{"$f":"IF([2]Stock!J28=\"\",\"\",[2]Stock!J28)","v":""},{"$f":"IF([2]Stock!K28=\"\",\"\",[2]Stock!K28)","v":0},{"$f":"IF(P28=\"\",\"\",IFERROR(VLOOKUP(P28,Brassage!$B$61:$H$62,1,FALSE),\"\"))","v":""},{"$f":"IF(R28=\"0\",\"0\",IFERROR(VLOOKUP(P28,Brassage!$B$61:$H$62,7,FALSE),\"0\"))","v":"0"},null,{"$f":"IF([2]Stock!M28=\"\",\"\",[2]Stock!M28)","v":""},{"$f":"IF([2]Stock!N28=\"\",\"\",[2]Stock!N28)","v":0},{"$f":"IF(U28=\"\",\"\",IFERROR(VLOOKUP(U28,Brassage!$B$39:$H$42,1,FALSE),\"\"))","v":""},{"$f":"IF(U28=\"0\",\"0\",IFERROR(VLOOKUP(U28,Brassage!$B$39:$H$42,5,FALSE),\"0\"))","v":"0"}]
[{"$f":"IF([2]Stock!A29=\"\",\"\",[2]Stock!A29)","v":""},{"$f":"IF([2]Stock!B29=\"\",\"\",[2]Stock!B29)","v":""},{"$f":"IF([2]Stock!C29=\"\",\"\",[2]Stock!C29)","v":0},{"$f":"IF(A29=\"\",\"\",IFERROR(VLOOKUP(A29,Brassage!$B$25:$H$33,1,FALSE),\"\"))","v":""},{"$f":"IF(A29=\"\",\"\",IFERROR(VLOOKUP(A29,Brassage!$B$25:$H$33,2,FALSE),\"\"))","v":""},{"$f":"IF(Stock!D29=\"0\",\"0\",SUMIF(Brassage!$B$25:$B$33,Stock!D29,Brassage!$H$25:$H$33))","v":0},null,{"$f":"IF([2]Stock!E29=\"\",\"\",[2]Stock!E29)","v":""},{"$f":"IF([2]Stock!F29=\"\",\"\",[2]Stock!F29)","v":""},{"$f":"IF([2]Stock!G29=\"\",\"\",[2]Stock!G29)","v":""},{"$f":"IF([2]Stock!H29=\"\",\"\",[2]Stock!H29)","v":0},{"$f":"IF(H29=\"\",\"\",IFERROR(VLOOKUP(H29,Brassage!$B$45:$H$57,1,FALSE),\"\"))","v":""},{"$f":"IF(L29=\"\",\"\",IFERROR(VLOOKUP(L29,Brassage!$B$45:$H$57,2,FALSE),\"\"))","v":""},{"$f":"IF(L29=\"0\",\"0\",SUMIF(Brassage!$B$45:$B$57,L29,Brassage!$F$45:$F$57))","v":0},null,{"$f":"IF([2]Stock!J29=\"\",\"\",[2]Stock!J29)","v":""},{"$f":"IF([2]Stock!K29=\"\",\"\",[2]Stock!K29)","v":0},{"$f":"IF(P29=\"\",\"\",IFERROR(VLOOKUP(P29,Brassage!$B$61:$H$62,1,FALSE),\"\"))","v":""},{"$f":"IF(R29=\"0\",\"0\",IFERROR(VLOOKUP(P29,Brassage!$B$61:$H$62,7,FALSE),\"0\"))","v":"0"},null,{"$f":"IF([2]Stock!M29=\"\",\"\",[2]Stock!M29)","v":""},{"$f":"IF([2]Stock!N29=\"\",\"\",[2]Stock!N29)","v":0},{"$f":"IF(U29=\"\",\"\",IFERROR(VLOOKUP(U29,Brassage!$B$39:$H$42,1,FALSE),\"\"))","v":""},{"$f":"IF(U29=\"0\",\"0\",IFERROR(VLOOKUP(U29,Brassage!$B$39:$H$42,5,FALSE),\"0\"))","v":"0"}]
[{"$f":"IF([2]Stock!A30=\"\",\"\",[2]Stock!A30)","v":""},{"$f":"IF([2]Stock!B30=\"\",\"\",[2]Stock!B30)","v":""},{"$f":"IF([2]Stock!C30=\"\",\"\",[2]Stock!C30)","v":0},{"$f":"IF(A30=\"\",\"\",IFERROR(VLOOKUP(A30,Brassage!$B$25:$H$33,1,FALSE),\"\"))","v":""},{"$f":"IF(A30=\"\",\"\",IFERROR(VLOOKUP(A30,Brassage!$B$25:$H$33,2,FALSE),\"\"))","v":""},{"$f":"IF(Stock!D30=\"0\",\"0\",SUMIF(Brassage!$B$25:$B$33,Stock!D30,Brassage!$H$25:$H$33))","v":0},null,{"$f":"IF([2]Stock!E30=\"\",\"\",[2]Stock!E30)","v":""},{"$f":"IF([2]Stock!F30=\"\",\"\",[2]Stock!F30)","v":""},{"$f":"IF([2]Stock!G30=\"\",\"\",[2]Stock!G30)","v":""},{"$f":"IF([2]Stock!H30=\"\",\"\",[2]Stock!H30)","v":0},{"$f":"IF(H30=\"\",\"\",IFERROR(VLOOKUP(H30,Brassage!$B$45:$H$57,1,FALSE),\"\"))","v":""},{"$f":"IF(L30=\"\",\"\",IFERROR(VLOOKUP(L30,Brassage!$B$45:$H$57,2,FALSE),\"\"))","v":""},{"$f":"IF(L30=\"0\",\"0\",SUMIF(Brassage!$B$45:$B$57,L30,Brassage!$F$45:$F$57))","v":0},null,{"$f":"IF([2]Stock!J30=\"\",\"\",[2]Stock!J30)","v":""},{"$f":"IF([2]Stock!K30=\"\",\"\",[2]Stock!K30)","v":0},{"$f":"IF(P30=\"\",\"\",IFERROR(VLOOKUP(P30,Brassage!$B$61:$H$62,1,FALSE),\"\"))","v":""},{"$f":"IF(R30=\"0\",\"0\",IFERROR(VLOOKUP(P30,Brassage!$B$61:$H$62,7,FALSE),\"0\"))","v":"0"},null,{"$f":"IF([2]Stock!M30=\"\",\"\",[2]Stock!M30)","v":""},{"$f":"IF([2]Stock!N30=\"\",\"\",[2]Stock!N30)","v":0},{"$f":"IF(U30=\"\",\"\",IFERROR(VLOOKUP(U30,Brassage!$B$39:$H$42,1,FALSE),\"\"))","v":""},{"$f":"IF(U30=\"0\",\"0\",IFERROR(VLOOKUP(U30,Brassage!$B$39:$H$42,5,FALSE),\"0\"))","v":"0"}]
[{"$f":"IF([2]Stock!A31=\"\",\"\",[2]Stock!A31)","v":""},{"$f":"IF([2]Stock!B31=\"\",\"\",[2]Stock!B31)","v":""},{"$f":"IF([2]Stock!C31=\"\",\"\",[2]Stock!C31)","v":0},{"$f":"IF(A31=\"\",\"\",IFERROR(VLOOKUP(A31,Brassage!$B$25:$H$33,1,FALSE),\"\"))","v":""},{"$f":"IF(A31=\"\",\"\",IFERROR(VLOOKUP(A31,Brassage!$B$25:$H$33,2,FALSE),\"\"))","v":""},{"$f":"IF(Stock!D31=\"0\",\"0\",SUMIF(Brassage!$B$25:$B$33,Stock!D31,Brassage!$H$25:$H$33))","v":0},null,{"$f":"IF([2]Stock!E31=\"\",\"\",[2]Stock!E31)","v":""},{"$f":"IF([2]Stock!F31=\"\",\"\",[2]Stock!F31)","v":""},{"$f":"IF([2]Stock!G31=\"\",\"\",[2]Stock!G31)","v":""},{"$f":"IF([2]Stock!H31=\"\",\"\",[2]Stock!H31)","v":0},{"$f":"IF(H31=\"\",\"\",IFERROR(VLOOKUP(H31,Brassage!$B$45:$H$57,1,FALSE),\"\"))","v":""},{"$f":"IF(L31=\"\",\"\",IFERROR(VLOOKUP(L31,Brassage!$B$45:$H$57,2,FALSE),\"\"))","v":""},{"$f":"IF(L31=\"0\",\"0\",SUMIF(Brassage!$B$45:$B$57,L31,Brassage!$F$45:$F$57))","v":0},null,{"$f":"IF([2]Stock!J31=\"\",\"\",[2]Stock!J31)","v":""},{"$f":"IF([2]Stock!K31=\"\",\"\",[2]Stock!K31)","v":0},{"$f":"IF(P31=\"\",\"\",IFERROR(VLOOKUP(P31,Brassage!$B$61:$H$62,1,FALSE),\"\"))","v":""},{"$f":"IF(R31=\"0\",\"0\",IFERROR(VLOOKUP(P31,Brassage!$B$61:$H$62,7,FALSE),\"0\"))","v":"0"},null,{"$f":"IF([2]Stock!M31=\"\",\"\",[2]Stock!M31)","v":""},{"$f":"IF([2]Stock!N31=\"\",\"\",[2]Stock!N31)","v":0},{"$f":"IF(U31=\"\",\"\",IFERROR(VLOOKUP(U31,Brassage!$B$39:$H$42,1,FALSE),\"\"))","v":""},{"$f":"IF(U31=\"0\",\"0\",IFERROR(VLOOKUP(U31,Brassage!$B$39:$H$42,5,FALSE),\"0\"))","v":"0"}]
[{"$f":"IF([2]Stock!A32=\"\",\"\",[2]Stock!A32)","v":""},{"$f":"IF([2]Stock!B32=\"\",\"\",[2]Stock!B32)","v":""},{"$f":"IF([2]Stock!C32=\"\",\"\",[2]Stock!C32)","v":0},{"$f":"IF(A32=\"\",\"\",IFERROR(VLOOKUP(A32,Brassage!$B$25:$H$33,1,FALSE),\"\"))","v":""},{"$f":"IF(A32=\"\",\"\",IFERROR(VLOOKUP(A32,Brassage!$B$25:$H$33,2,FALSE),\"\"))","v":""},{"$f":"IF(Stock!D32=\"0\",\"0\",SUMIF(Brassage!$B$25:$B$33,Stock!D32,Brassage!$H$25:$H$33))","v":0},null,{"$f":"IF([2]Stock!E32=\"\",\"\",[2]Stock!E32)","v":""},{"$f":"IF([2]Stock!F32=\"\",\"\",[2]Stock!F32)","v":""},{"$f":"IF([2]Stock!G32=\"\",\"\",[2]Stock!G32)","v":""},{"$f":"IF([2]Stock!H32=\"\",\"\",[2]Stock!H32)","v":0},{"$f":"IF(H32=\"\",\"\",IFERROR(VLOOKUP(H32,Brassage!$B$45:$H$57,1,FALSE),\"\"))","v":""},{"$f":"IF(L32=\"\",\"\",IFERROR(VLOOKUP(L32,Brassage!$B$45:$H$57,2,FALSE),\"\"))","v":""},{"$f":"IF(L32=\"0\",\"0\",SUMIF(Brassage!$B$45:$B$57,L32,Brassage!$F$45:$F$57))","v":0},null,{"$f":"IF([2]Stock!J32=\"\",\"\",[2]Stock!J32)","v":""},{"$f":"IF([2]Stock!K32=\"\",\"\",[2]Stock!K32)","v":0},{"$f":"IF(P32=\"\",\"\",IFERROR(VLOOKUP(P32,Brassage!$B$61:$H$62,1,FALSE),\"\"))","v":""},{"$f":"IF(R32=\"0\",\"0\",IFERROR(VLOOKUP(P32,Brassage!$B$61:$H$62,7,FALSE),\"0\"))","v":"0"},null,{"$f":"IF([2]Stock!M32=\"\",\"\",[2]Stock!M32)","v":""},{"$f":"IF([2]Stock!N32=\"\",\"\",[2]Stock!N32)","v":0},{"$f":"IF(U32=\"\",\"\",IFERROR(VLOOKUP(U32,Brassage!$B$39:$H$42,1,FALSE),\"\"))","v":""},{"$f":"IF(U32=\"0\",\"0\",IFERROR(VLOOKUP(U32,Brassage!$B$39:$H$42,5,FALSE),\"0\"))","v":"0"}]
[{"$f":"IF([2]Stock!A33=\"\",\"\",[2]Stock!A33)","v":""},{"$f":"IF([2]Stock!B33=\"\",\"\",[2]Stock!B33)","v":""},{"$f":"IF([2]Stock!C33=\"\",\"\",[2]Stock!C33)","v":""},{"$f":"IF(A33=\"\",\"\",IFERROR(VLOOKUP(A33,Brassage!$B$25:$H$33,1,FALSE),\"\"))","v":""},{"$f":"IF(A33=\"\",\"\",IFERROR(VLOOKUP(A33,Brassage!$B$25:$H$33,2,FALSE),\"\"))","v":""},{"$f":"IF(Stock!D33=\"0\",\"0\",SUMIF(Brassage!$B$25:$B$33,Stock!D33,Brassage!$H$25:$H$33))","v":0},null,{"$f":"IF([2]Stock!E33=\"\",\"\",[2]Stock!E33)","v":""},{"$f":"IF([2]Stock!F33=\"\",\"\",[2]Stock!F33)","v":""},{"$f":"IF([2]Stock!G33=\"\",\"\",[2]Stock!G33)","v":""},{"$f":"IF([2]Stock!H33=\"\",\"\",[2]Stock!H33)","v":""},{"$f":"IF(H33=\"\",\"\",IFERROR(VLOOKUP(H33,Brassage!$B$45:$H$57,1,FALSE),\"\"))","v":""},{"$f":"IF(L33=\"\",\"\",IFERROR(VLOOKUP(L33,Brassage!$B$45:$H$57,2,FALSE),\"\"))","v":""},{"$f":"IF(L33=\"0\",\"0\",SUMIF(Brassage!$B$45:$B$57,L33,Brassage!$F$45:$F$57))","v":0},null,{"$f":"IF([2]Stock!J33=\"\",\"\",[2]Stock!J33)","v":""},{"$f":"IF([2]Stock!K33=\"\",\"\",[2]Stock!K33)","v":""},{"$f":"IF(P33=\"\",\"\",IFERROR(VLOOKUP(P33,Brassage!$B$61:$H$62,1,FALSE),\"\"))","v":""},{"$f":"IF(R33=\"0\",\"0\",IFERROR(VLOOKUP(P33,Brassage!$B$61:$H$62,7,FALSE),\"0\"))","v":"0"},null,{"$f":"IF([2]Stock!M33=\"\",\"\",[2]Stock!M33)","v":""},{"$f":"IF([2]Stock!N33=\"\",\"\",[2]Stock!N33)","v":""},{"$f":"IF(U33=\"\",\"\",IFERROR(VLOOKUP(U33,Brassage!$B$39:$H$42,1,FALSE),\"\"))","v":""},{"$f":"IF(U33=\"0\",\"0\",IFERROR(VLOOKUP(U33,Brassage!$B$39:$H$42,5,FALSE),\"0\"))","v":"0"}]
[{"$f":"IF([2]Stock!A34=\"\",\"\",[2]Stock!A34)","v":""},{"$f":"IF([2]Stock!B34=\"\",\"\",[2]Stock!B34)","v":""},{"$f":"IF([2]Stock!C34=\"\",\"\",[2]Stock!C34)","v":""},{"$f":"IF(A34=\"\",\"\",IFERROR(VLOOKUP(A34,Brassage!$B$25:$H$33,1,FALSE),\"\"))","v":""},{"$f":"IF(A34=\"\",\"\",IFERROR(VLOOKUP(A34,Brassage!$B$25:$H$33,2,FALSE),\"\"))","v":""},{"$f":"IF(Stock!D34=\"0\",\"0\",SUMIF(Brassage!$B$25:$B$33,Stock!D34,Brassage!$H$25:$H$33))","v":0},null,{"$f":"IF([2]Stock!E34=\"\",\"\",[2]Stock!E34)","v":""},{"$f":"IF([2]Stock!F34=\"\",\"\",[2]Stock!F34)","v":""},{"$f":"IF([2]Stock!G34=\"\",\"\",[2]Stock!G34)","v":""},{"$f":"IF([2]Stock!H34=\"\",\"\",[2]Stock!H34)","v":""},{"$f":"IF(H34=\"\",\"\",IFERROR(VLOOKUP(H34,Brassage!$B$45:$H$57,1,FALSE),\"\"))","v":""},{"$f":"IF(L34=\"\",\"\",IFERROR(VLOOKUP(L34,Brassage!$B$45:$H$57,2,FALSE),\"\"))","v":""},{"$f":"IF(L34=\"0\",\"0\",SUMIF(Brassage!$B$45:$B$57,L34,Brassage!$F$45:$F$57))","v":0},null,{"$f":"IF([2]Stock!J34=\"\",\"\",[2]Stock!J34)","v":""},{"$f":"IF([2]Stock!K34=\"\",\"\",[2]Stock!K34)","v":""},{"$f":"IF(P34=\"\",\"\",IFERROR(VLOOKUP(P34,Brassage!$B$61:$H$62,1,FALSE),\"\"))","v":""},{"$f":"IF(R34=\"0\",\"0\",IFERROR(VLOOKUP(P34,Brassage!$B$61:$H$62,7,FALSE),\"0\"))","v":"0"},null,{"$f":"IF([2]Stock!M34=\"\",\"\",[2]Stock!M34)","v":""},{"$f":"IF([2]Stock!N34=\"\",\"\",[2]Stock!N34)","v":""},{"$f":"IF(U34=\"\",\"\",IFERROR(VLOOKUP(U34,Brassage!$B$39:$H$42,1,FALSE),\"\"))","v":""},{"$f":"IF(U34=\"0\",\"0\",IFERROR(VLOOKUP(U34,Brassage!$B$39:$H$42,5,FALSE),\"0\"))","v":"0"}]
[{"$f":"IF([2]Stock!A35=\"\",\"\",[2]Stock!A35)","v":""},{"$f":"IF([2]Stock!B35=\"\",\"\",[2]Stock!B35)","v":""},{"$f":"IF([2]Stock!C35=\"\",\"\",[2]Stock!C35)","v":""},{"$f":"IF(A35=\"\",\"\",IFERROR(VLOOKUP(A35,Brassage!$B$25:$H$33,1,FALSE),\"\"))","v":""},{"$f":"IF(A35=\"\",\"\",IFERROR(VLOOKUP(A35,Brassage!$B$25:$H$33,2,FALSE),\"\"))","v":""},{"$f":"IF(Stock!D35=\"0\",\"0\",SUMIF(Brassage!$B$25:$B$33,Stock!D35,Brassage!$H$25:$H$33))","v":0},null,{"$f":"IF([2]Stock!E35=\"\",\"\",[2]Stock!E35)","v":""},{"$f":"IF([2]Stock!F35=\"\",\"\",[2]Stock!F35)","v":""},{"$f":"IF([2]Stock!G35=\"\",\"\",[2]Stock!G35)","v":""},{"$f":"IF([2]Stock!H35=\"\",\"\",[2]Stock!H35)","v":""},{"$f":"IF(H35=\"\",\"\",IFERROR(VLOOKUP(H35,Brassage!$B$45:$H$57,1,FALSE),\"\"))","v":""},{"$f":"IF(L35=\"\",\"\",IFERROR(VLOOKUP(L35,Brassage!$B$45:$H$57,2,FALSE),\"\"))","v":""},{"$f":"IF(L35=\"0\",\"0\",SUMIF(Brassage!$B$45:$B$57,L35,Brassage!$F$45:$F$57))","v":0},null,{"$f":"IF([2]Stock!J35=\"\",\"\",[2]Stock!J35)","v":""},{"$f":"IF([2]Stock!K35=\"\",\"\",[2]Stock!K35)","v":""},{"$f":"IF(P35=\"\",\"\",IFERROR(VLOOKUP(P35,Brassage!$B$61:$H$62,1,FALSE),\"\"))","v":""},{"$f":"IF(R35=\"0\",\"0\",IFERROR(VLOOKUP(P35,Brassage!$B$61:$H$62,7,FALSE),\"0\"))","v":"0"},null,{"$f":"IF([2]Stock!M35=\"\",\"\",[2]Stock!M35)","v":""},{"$f":"IF([2]Stock!N35=\"\",\"\",[2]Stock!N35)","v":""},{"$f":"IF(U35=\"\",\"\",IFERROR(VLOOKUP(U35,Brassage!$B$39:$H$42,1,FALSE),\"\"))","v":""},{"$f":"IF(U35=\"0\",\"0\",IFERROR(VLOOKUP(U35,Brassage!$B$39:$H$42,5,FALSE),\"0\"))","v":"0"}]
[{"$f":"IF([2]Stock!A36=\"\",\"\",[2]Stock!A36)","v":""},{"$f":"IF([2]Stock!B36=\"\",\"\",[2]Stock!B36)","v":""},{"$f":"IF([2]Stock!C36=\"\",\"\",[2]Stock!C36)","v":""},{"$f":"IF(A36=\"\",\"\",IFERROR(VLOOKUP(A36,Brassage!$B$25:$H$33,1,FALSE),\"\"))","v":""},{"$f":"IF(A36=\"\",\"\",IFERROR(VLOOKUP(A36,Brassage!$B$25:$H$33,2,FALSE),\"\"))","v":""},{"$f":"IF(Stock!D36=\"0\",\"0\",SUMIF(Brassage!$B$25:$B$33,Stock!D36,Brassage!$H$25:$H$33))","v":0},null,{"$f":"IF([2]Stock!E36=\"\",\"\",[2]Stock!E36)","v":""},{"$f":"IF([2]Stock!F36=\"\",\"\",[2]Stock!F36)","v":""},{"$f":"IF([2]Stock!G36=\"\",\"\",[2]Stock!G36)","v":""},{"$f":"IF([2]Stock!H36=\"\",\"\",[2]Stock!H36)","v":""},{"$f":"IF(H36=\"\",\"\",IFERROR(VLOOKUP(H36,Brassage!$B$45:$H$57,1,FALSE),\"\"))","v":""},{"$f":"IF(L36=\"\",\"\",IFERROR(VLOOKUP(L36,Brassage!$B$45:$H$57,2,FALSE),\"\"))","v":""},{"$f":"IF(L36=\"0\",\"0\",SUMIF(Brassage!$B$45:$B$57,L36,Brassage!$F$45:$F$57))","v":0},null,{"$f":"IF([2]Stock!J36=\"\",\"\",[2]Stock!J36)","v":""},{"$f":"IF([2]Stock!K36=\"\",\"\",[2]Stock!K36)","v":""},{"$f":"IF(P36=\"\",\"\",IFERROR(VLOOKUP(P36,Brassage!$B$61:$H$62,1,FALSE),\"\"))","v":""},{"$f":"IF(R36=\"0\",\"0\",IFERROR(VLOOKUP(P36,Brassage!$B$61:$H$62,7,FALSE),\"0\"))","v":"0"},null,{"$f":"IF([2]Stock!M36=\"\",\"\",[2]Stock!M36)","v":""},{"$f":"IF([2]Stock!N36=\"\",\"\",[2]Stock!N36)","v":""},{"$f":"IF(U36=\"\",\"\",IFERROR(VLOOKUP(U36,Brassage!$B$39:$H$42,1,FALSE),\"\"))","v":""},{"$f":"IF(U36=\"0\",\"0\",IFERROR(VLOOKUP(U36,Brassage!$B$39:$H$42,5,FALSE),\"0\"))","v":"0"}]
[{"$f":"IF([2]Stock!A37=\"\",\"\",[2]Stock!A37)","v":""},{"$f":"IF([2]Stock!B37=\"\",\"\",[2]Stock!B37)","v":""},{"$f":"IF([2]Stock!C37=\"\",\"\",[2]Stock!C37)","v":""},{"$f":"IF(A37=\"\",\"\",IFERROR(VLOOKUP(A37,Brassage!$B$25:$H$33,1,FALSE),\"\"))","v":""},{"$f":"IF(A37=\"\",\"\",IFERROR(VLOOKUP(A37,Brassage!$B$25:$H$33,2,FALSE),\"\"))","v":""},{"$f":"IF(Stock!D37=\"0\",\"0\",SUMIF(Brassage!$B$25:$B$33,Stock!D37,Brassage!$H$25:$H$33))","v":0},null,{"$f":"IF([2]Stock!E37=\"\",\"\",[2]Stock!E37)","v":""},{"$f":"IF([2]Stock!F37=\"\",\"\",[2]Stock!F37)","v":""},{"$f":"IF([2]Stock!G37=\"\",\"\",[2]Stock!G37)","v":""},{"$f":"IF([2]Stock!H37=\"\",\"\",[2]Stock!H37)","v":""},{"$f":"IF(H37=\"\",\"\",IFERROR(VLOOKUP(H37,Brassage!$B$45:$H$57,1,FALSE),\"\"))","v":""},{"$f":"IF(L37=\"\",\"\",IFERROR(VLOOKUP(L37,Brassage!$B$45:$H$57,2,FALSE),\"\"))","v":""},{"$f":"IF(L37=\"0\",\"0\",SUMIF(Brassage!$B$45:$B$57,L37,Brassage!$F$45:$F$57))","v":0},null,{"$f":"IF([2]Stock!J37=\"\",\"\",[2]Stock!J37)","v":""},{"$f":"IF([2]Stock!K37=\"\",\"\",[2]Stock!K37)","v":""},{"$f":"IF(P37=\"\",\"\",IFERROR(VLOOKUP(P37,Brassage!$B$61:$H$62,1,FALSE),\"\"))","v":""},{"$f":"IF(R37=\"0\",\"0\",IFERROR(VLOOKUP(P37,Brassage!$B$61:$H$62,7,FALSE),\"0\"))","v":"0"},null,{"$f":"IF([2]Stock!M37=\"\",\"\",[2]Stock!M37)","v":""},{"$f":"IF([2]Stock!N37=\"\",\"\",[2]Stock!N37)","v":""},{"$f":"IF(U37=\"\",\"\",IFERROR(VLOOKUP(U37,Brassage!$B$39:$H$42,1,FALSE),\"\"))","v":""},{"$f":"IF(U37=\"0\",\"0\",IFERROR(VLOOKUP(U37,Brassage!$B$39:$H$42,5,FALSE),\"0\"))","v":"0"}]
[{"$f":"IF([2]Stock!A38=\"\",\"\",[2]Stock!A38)","v":""},{"$f":"IF([2]Stock!B38=\"\",\"\",[2]Stock!B38)","v":""},{"$f":"IF([2]Stock!C38=\"\",\"\",[2]Stock!C38)","v":""},{"$f":"IF(A38=\"\",\"\",IFERROR(VLOOKUP(A38,Brassage!$B$25:$H$33,1,FALSE),\"\"))","v":""},{"$f":"IF(A38=\"\",\"\",IFERROR(VLOOKUP(A38,Brassage!$B$25:$H$33,2,FALSE),\"\"))","v":""},{"$f":"IF(Stock!D38=\"0\",\"0\",SUMIF(Brassage!$B$25:$B$33,Stock!D38,Brassage!$H$25:$H$33))","v":0},null,{"$f":"IF([2]Stock!E38=\"\",\"\",[2]Stock!E38)","v":""},{"$f":"IF([2]Stock!F38=\"\",\"\",[2]Stock!F38)","v":""},{"$f":"IF([2]Stock!G38=\"\",\"\",[2]Stock!G38)","v":""},{"$f":"IF([2]Stock!H38=\"\",\"\",[2]Stock!H38)","v":""},{"$f":"IF(H38=\"\",\"\",IFERROR(VLOOKUP(H38,Brassage!$B$45:$H$57,1,FALSE),\"\"))","v":""},{"$f":"IF(L38=\"\",\"\",IFERROR(VLOOKUP(L38,Brassage!$B$45:$H$57,2,FALSE),\"\"))","v":""},{"$f":"IF(L38=\"0\",\"0\",SUMIF(Brassage!$B$45:$B$57,L38,Brassage!$F$45:$F$57))","v":0},null,{"$f":"IF([2]Stock!J38=\"\",\"\",[2]Stock!J38)","v":""},{"$f":"IF([2]Stock!K38=\"\",\"\",[2]Stock!K38)","v":""},{"$f":"IF(P38=\"\",\"\",IFERROR(VLOOKUP(P38,Brassage!$B$61:$H$62,1,FALSE),\"\"))","v":""},{"$f":"IF(R38=\"0\",\"0\",IFERROR(VLOOKUP(P38,Brassage!$B$61:$H$62,7,FALSE),\"0\"))","v":"0"},null,{"$f":"IF([2]Stock!M38=\"\",\"\",[2]Stock!M38)","v":""},{"$f":"IF([2]Stock!N38=\"\",\"\",[2]Stock!N38)","v":""},{"$f":"IF(U38=\"\",\"\",IFERROR(VLOOKUP(U38,Brassage!$B$39:$H$42,1,FALSE),\"\"))","v":""},{"$f":"IF(U38=\"0\",\"0\",IFERROR(VLOOKUP(U38,Brassage!$B$39:$H$42,5,FALSE),\"0\"))","v":"0"}]
[{"$f":"IF([2]Stock!A39=\"\",\"\",[2]Stock!A39)","v":""},{"$f":"IF([2]Stock!B39=\"\",\"\",[2]Stock!B39)","v":""},{"$f":"IF([2]Stock!C39=\"\",\"\",[2]Stock!C39)","v":""},{"$f":"IF(A39=\"\",\"\",IFERROR(VLOOKUP(A39,Brassage!$B$25:$H$33,1,FALSE),\"\"))","v":""},{"$f":"IF(A39=\"\",\"\",IFERROR(VLOOKUP(A39,Brassage!$B$25:$H$33,2,FALSE),\"\"))","v":""},{"$f":"IF(Stock!D39=\"0\",\"0\",SUMIF(Brassage!$B$25:$B$33,Stock!D39,Brassage!$H$25:$H$33))","v":0},null,{"$f":"IF([2]Stock!E39=\"\",\"\",[2]Stock!E39)","v":""},{"$f":"IF([2]Stock!F39=\"\",\"\",[2]Stock!F39)","v":""},{"$f":"IF([2]Stock!G39=\"\",\"\",[2]Stock!G39)","v":""},{"$f":"IF([2]Stock!H39=\"\",\"\",[2]Stock!H39)","v":""},{"$f":"IF(H39=\"\",\"\",IFERROR(VLOOKUP(H39,Brassage!$B$45:$H$57,1,FALSE),\"\"))","v":""},{"$f":"IF(L39=\"\",\"\",IFERROR(VLOOKUP(L39,Brassage!$B$45:$H$57,2,FALSE),\"\"))","v":""},{"$f":"IF(L39=\"0\",\"0\",SUMIF(Brassage!$B$45:$B$57,L39,Brassage!$F$45:$F$57))","v":0},null,{"$f":"IF([2]Stock!J39=\"\",\"\",[2]Stock!J39)","v":""},{"$f":"IF([2]Stock!K39=\"\",\"\",[2]Stock!K39)","v":""},{"$f":"IF(P39=\"\",\"\",IFERROR(VLOOKUP(P39,Brassage!$B$61:$H$62,1,FALSE),\"\"))","v":""},{"$f":"IF(R39=\"0\",\"0\",IFERROR(VLOOKUP(P39,Brassage!$B$61:$H$62,7,FALSE),\"0\"))","v":"0"},null,{"$f":"IF([2]Stock!M39=\"\",\"\",[2]Stock!M39)","v":""},{"$f":"IF([2]Stock!N39=\"\",\"\",[2]Stock!N39)","v":""},{"$f":"IF(U39=\"\",\"\",IFERROR(VLOOKUP(U39,Brassage!$B$39:$H$42,1,FALSE),\"\"))","v":""},{"$f":"IF(U39=\"0\",\"0\",IFERROR(VLOOKUP(U39,Brassage!$B$39:$H$42,5,FALSE),\"0\"))","v":"0"}]
[{"$f":"IF([2]Stock!A40=\"\",\"\",[2]Stock!A40)","v":""},{"$f":"IF([2]Stock!B40=\"\",\"\",[2]Stock!B40)","v":""},{"$f":"IF([2]Stock!C40=\"\",\"\",[2]Stock!C40)","v":""},{"$f":"IF(A40=\"\",\"\",IFERROR(VLOOKUP(A40,Brassage!$B$25:$H$33,1,FALSE),\"\"))","v":""},{"$f":"IF(A40=\"\",\"\",IFERROR(VLOOKUP(A40,Brassage!$B$25:$H$33,2,FALSE),\"\"))","v":""},{"$f":"IF(Stock!D40=\"0\",\"0\",SUMIF(Brassage!$B$25:$B$33,Stock!D40,Brassage!$H$25:$H$33))","v":0},null,{"$f":"IF([2]Stock!E40=\"\",\"\",[2]Stock!E40)","v":""},{"$f":"IF([2]Stock!F40=\"\",\"\",[2]Stock!F40)","v":""},{"$f":"IF([2]Stock!G40=\"\",\"\",[2]Stock!G40)","v":""},{"$f":"IF([2]Stock!H40=\"\",\"\",[2]Stock!H40)","v":""},{"$f":"IF(H40=\"\",\"\",IFERROR(VLOOKUP(H40,Brassage!$B$45:$H$57,1,FALSE),\"\"))","v":""},{"$f":"IF(L40=\"\",\"\",IFERROR(VLOOKUP(L40,Brassage!$B$45:$H$57,2,FALSE),\"\"))","v":""},{"$f":"IF(L40=\"0\",\"0\",SUMIF(Brassage!$B$45:$B$57,L40,Brassage!$F$45:$F$57))","v":0},null,{"$f":"IF([2]Stock!J40=\"\",\"\",[2]Stock!J40)","v":""},{"$f":"IF([2]Stock!K40=\"\",\"\",[2]Stock!K40)","v":""},{"$f":"IF(P40=\"\",\"\",IFERROR(VLOOKUP(P40,Brassage!$B$61:$H$62,1,FALSE),\"\"))","v":""},{"$f":"IF(R40=\"0\",\"0\",IFERROR(VLOOKUP(P40,Brassage!$B$61:$H$62,7,FALSE),\"0\"))","v":"0"},null,{"$f":"IF([2]Stock!M40=\"\",\"\",[2]Stock!M40)","v":""},{"$f":"IF([2]Stock!N40=\"\",\"\",[2]Stock!N40)","v":""},{"$f":"IF(U40=\"\",\"\",IFERROR(VLOOKUP(U40,Brassage!$B$39:$H$42,1,FALSE),\"\"))","v":""},{"$f":"IF(U40=\"0\",\"0\",IFERROR(VLOOKUP(U40,Brassage!$B$39:$H$42,5,FALSE),\"0\"))","v":"0"}]
[{"$f":"IF([2]Stock!A41=\"\",\"\",[2]Stock!A41)","v":""},{"$f":"IF([2]Stock!B41=\"\",\"\",[2]Stock!B41)","v":""},{"$f":"IF([2]Stock!C41=\"\",\"\",[2]Stock!C41)","v":""},{"$f":"IF(A41=\"\",\"\",IFERROR(VLOOKUP(A41,Brassage!$B$25:$H$33,1,FALSE),\"\"))","v":""},{"$f":"IF(A41=\"\",\"\",IFERROR(VLOOKUP(A41,Brassage!$B$25:$H$33,2,FALSE),\"\"))","v":""},{"$f":"IF(Stock!D41=\"0\",\"0\",SUMIF(Brassage!$B$25:$B$33,Stock!D41,Brassage!$H$25:$H$33))","v":0},null,{"$f":"IF([2]Stock!E41=\"\",\"\",[2]Stock!E41)","v":""},{"$f":"IF([2]Stock!F41=\"\",\"\",[2]Stock!F41)","v":""},{"$f":"IF([2]Stock!G41=\"\",\"\",[2]Stock!G41)","v":""},{"$f":"IF([2]Stock!H41=\"\",\"\",[2]Stock!H41)","v":""},{"$f":"IF(H41=\"\",\"\",IFERROR(VLOOKUP(H41,Brassage!$B$45:$H$57,1,FALSE),\"\"))","v":""},{"$f":"IF(L41=\"\",\"\",IFERROR(VLOOKUP(L41,Brassage!$B$45:$H$57,2,FALSE),\"\"))","v":""},{"$f":"IF(L41=\"0\",\"0\",SUMIF(Brassage!$B$45:$B$57,L41,Brassage!$F$45:$F$57))","v":0},null,{"$f":"IF([2]Stock!J41=\"\",\"\",[2]Stock!J41)","v":""},{"$f":"IF([2]Stock!K41=\"\",\"\",[2]Stock!K41)","v":""},{"$f":"IF(P41=\"\",\"\",IFERROR(VLOOKUP(P41,Brassage!$B$61:$H$62,1,FALSE),\"\"))","v":""},{"$f":"IF(R41=\"0\",\"0\",IFERROR(VLOOKUP(P41,Brassage!$B$61:$H$62,7,FALSE),\"0\"))","v":"0"},null,{"$f":"IF([2]Stock!M41=\"\",\"\",[2]Stock!M41)","v":""},{"$f":"IF([2]Stock!N41=\"\",\"\",[2]Stock!N41)","v":""},{"$f":"IF(U41=\"\",\"\",IFERROR(VLOOKUP(U41,Brassage!$B$39:$H$42,1,FALSE),\"\"))","v":""},{"$f":"IF(U41=\"0\",\"0\",IFERROR(VLOOKUP(U41,Brassage!$B$39:$H$42,5,FALSE),\"0\"))","v":"0"}]
[{"$f":"IF([2]Stock!A42=\"\",\"\",[2]Stock!A42)","v":""},{"$f":"IF([2]Stock!B42=\"\",\"\",[2]Stock!B42)","v":""},{"$f":"IF([2]Stock!C42=\"\",\"\",[2]Stock!C42)","v":""},{"$f":"IF(A42=\"\",\"\",IFERROR(VLOOKUP(A42,Brassage!$B$25:$H$33,1,FALSE),\"\"))","v":""},{"$f":"IF(A42=\"\",\"\",IFERROR(VLOOKUP(A42,Brassage!$B$25:$H$33,2,FALSE),\"\"))","v":""},{"$f":"IF(Stock!D42=\"0\",\"0\",SUMIF(Brassage!$B$25:$B$33,Stock!D42,Brassage!$H$25:$H$33))","v":0},null,{"$f":"IF([2]Stock!E42=\"\",\"\",[2]Stock!E42)","v":""},{"$f":"IF([2]Stock!F42=\"\",\"\",[2]Stock!F42)","v":""},{"$f":"IF([2]Stock!G42=\"\",\"\",[2]Stock!G42)","v":""},{"$f":"IF([2]Stock!H42=\"\",\"\",[2]Stock!H42)","v":""},{"$f":"IF(H42=\"\",\"\",IFERROR(VLOOKUP(H42,Brassage!$B$45:$H$57,1,FALSE),\"\"))","v":""},{"$f":"IF(L42=\"\",\"\",IFERROR(VLOOKUP(L42,Brassage!$B$45:$H$57,2,FALSE),\"\"))","v":""},{"$f":"IF(L42=\"0\",\"0\",SUMIF(Brassage!$B$45:$B$57,L42,Brassage!$F$45:$F$57))","v":0},null,{"$f":"IF([2]Stock!J42=\"\",\"\",[2]Stock!J42)","v":""},{"$f":"IF([2]Stock!K42=\"\",\"\",[2]Stock!K42)","v":""},{"$f":"IF(P42=\"\",\"\",IFERROR(VLOOKUP(P42,Brassage!$B$61:$H$62,1,FALSE),\"\"))","v":""},{"$f":"IF(R42=\"0\",\"0\",IFERROR(VLOOKUP(P42,Brassage!$B$61:$H$62,7,FALSE),\"0\"))","v":"0"},null,{"$f":"IF([2]Stock!M42=\"\",\"\",[2]Stock!M42)","v":""},{"$f":"IF([2]Stock!N42=\"\",\"\",[2]Stock!N42)","v":""},{"$f":"IF(U42=\"\",\"\",IFERROR(VLOOKUP(U42,Brassage!$B$39:$H$42,1,FALSE),\"\"))","v":""},{"$f":"IF(U42=\"0\",\"0\",IFERROR(VLOOKUP(U42,Brassage!$B$39:$H$42,5,FALSE),\"0\"))","v":"0"}]
[{"$f":"IF([2]Stock!A43=\"\",\"\",[2]Stock!A43)","v":""},{"$f":"IF([2]Stock!B43=\"\",\"\",[2]Stock!B43)","v":""},{"$f":"IF([2]Stock!C43=\"\",\"\",[2]Stock!C43)","v":""},{"$f":"IF(A43=\"\",\"\",IFERROR(VLOOKUP(A43,Brassage!$B$25:$H$33,1,FALSE),\"\"))","v":""},{"$f":"IF(A43=\"\",\"\",IFERROR(VLOOKUP(A43,Brassage!$B$25:$H$33,2,FALSE),\"\"))","v":""},{"$f":"IF(Stock!D43=\"0\",\"0\",SUMIF(Brassage!$B$25:$B$33,Stock!D43,Brassage!$H$25:$H$33))","v":0},null,{"$f":"IF([2]Stock!E43=\"\",\"\",[2]Stock!E43)","v":""},{"$f":"IF([2]Stock!F43=\"\",\"\",[2]Stock!F43)","v":""},{"$f":"IF([2]Stock!G43=\"\",\"\",[2]Stock!G43)","v":""},{"$f":"IF([2]Stock!H43=\"\",\"\",[2]Stock!H43)","v":""},{"$f":"IF(H43=\"\",\"\",IFERROR(VLOOKUP(H43,Brassage!$B$45:$H$57,1,FALSE),\"\"))","v":""},{"$f":"IF(L43=\"\",\"\",IFERROR(VLOOKUP(L43,Brassage!$B$45:$H$57,2,FALSE),\"\"))","v":""},{"$f":"IF(L43=\"0\",\"0\",SUMIF(Brassage!$B$45:$B$57,L43,Brassage!$F$45:$F$57))","v":0},null,{"$f":"IF([2]Stock!J43=\"\",\"\",[2]Stock!J43)","v":""},{"$f":"IF([2]Stock!K43=\"\",\"\",[2]Stock!K43)","v":""},{"$f":"IF(P43=\"\",\"\",IFERROR(VLOOKUP(P43,Brassage!$B$61:$H$62,1,FALSE),\"\"))","v":""},{"$f":"IF(R43=\"0\",\"0\",IFERROR(VLOOKUP(P43,Brassage!$B$61:$H$62,7,FALSE),\"0\"))","v":"0"},null,{"$f":"IF([2]Stock!M43=\"\",\"\",[2]Stock!M43)","v":""},{"$f":"IF([2]Stock!N43=\"\",\"\",[2]Stock!N43)","v":""},{"$f":"IF(U43=\"\",\"\",IFERROR(VLOOKUP(U43,Brassage!$B$39:$H$42,1,FALSE),\"\"))","v":""},{"$f":"IF(U43=\"0\",\"0\",IFERROR(VLOOKUP(U43,Brassage!$B$39:$H$42,5,FALSE),\"0\"))","v":"0"}]
[{"$f":"IF([2]Stock!A44=\"\",\"\",[2]Stock!A44)","v":""},{"$f":"IF([2]Stock!B44=\"\",\"\",[2]Stock!B44)","v":""},{"$f":"IF([2]Stock!C44=\"\",\"\",[2]Stock!C44)","v":""},{"$f":"IF(A44=\"\",\"\",IFERROR(VLOOKUP(A44,Brassage!$B$25:$H$33,1,FALSE),\"\"))","v":""},{"$f":"IF(A44=\"\",\"\",IFERROR(VLOOKUP(A44,Brassage!$B$25:$H$33,2,FALSE),\"\"))","v":""},{"$f":"IF(Stock!D44=\"0\",\"0\",SUMIF(Brassage!$B$25:$B$33,Stock!D44,Brassage!$H$25:$H$33))","v":0},null,{"$f":"IF([2]Stock!E44=\"\",\"\",[2]Stock!E44)","v":""},{"$f":"IF([2]Stock!F44=\"\",\"\",[2]Stock!F44)","v":""},{"$f":"IF([2]Stock!G44=\"\",\"\",[2]Stock!G44)","v":""},{"$f":"IF([2]Stock!H44=\"\",\"\",[2]Stock!H44)","v":""},{"$f":"IF(H44=\"\",\"\",IFERROR(VLOOKUP(H44,Brassage!$B$45:$H$57,1,FALSE),\"\"))","v":""},{"$f":"IF(L44=\"\",\"\",IFERROR(VLOOKUP(L44,Brassage!$B$45:$H$57,2,FALSE),\"\"))","v":""},{"$f":"IF(L44=\"0\",\"0\",SUMIF(Brassage!$B$45:$B$57,L44,Brassage!$F$45:$F$57))","v":0},null,{"$f":"IF([2]Stock!J44=\"\",\"\",[2]Stock!J44)","v":""},{"$f":"IF([2]Stock!K44=\"\",\"\",[2]Stock!K44)","v":""},{"$f":"IF(P44=\"\",\"\",IFERROR(VLOOKUP(P44,Brassage!$B$61:$H$62,1,FALSE),\"\"))","v":""},{"$f":"IF(R44=\"0\",\"0\",IFERROR(VLOOKUP(P44,Brassage!$B$61:$H$62,7,FALSE),\"0\"))","v":"0"},null,{"$f":"IF([2]Stock!M44=\"\",\"\",[2]Stock!M44)","v":""},{"$f":"IF([2]Stock!N44=\"\",\"\",[2]Stock!N44)","v":""},{"$f":"IF(U44=\"\",\"\",IFERROR(VLOOKUP(U44,Brassage!$B$39:$H$42,1,FALSE),\"\"))","v":""},{"$f":"IF(U44=\"0\",\"0\",IFERROR(VLOOKUP(U44,Brassage!$B$39:$H$42,5,FALSE),\"0\"))","v":"0"}]
[{"$f":"IF([2]Stock!A45=\"\",\"\",[2]Stock!A45)","v":""},{"$f":"IF([2]Stock!B45=\"\",\"\",[2]Stock!B45)","v":""},{"$f":"IF([2]Stock!C45=\"\",\"\",[2]Stock!C45)","v":""},{"$f":"IF(A45=\"\",\"\",IFERROR(VLOOKUP(A45,Brassage!$B$25:$H$33,1,FALSE),\"\"))","v":""},{"$f":"IF(A45=\"\",\"\",IFERROR(VLOOKUP(A45,Brassage!$B$25:$H$33,2,FALSE),\"\"))","v":""},{"$f":"IF(Stock!D45=\"0\",\"0\",SUMIF(Brassage!$B$25:$B$33,Stock!D45,Brassage!$H$25:$H$33))","v":0},null,{"$f":"IF([2]Stock!E45=\"\",\"\",[2]Stock!E45)","v":""},{"$f":"IF([2]Stock!F45=\"\",\"\",[2]Stock!F45)","v":""},{"$f":"IF([2]Stock!G45=\"\",\"\",[2]Stock!G45)","v":""},{"$f":"IF([2]Stock!H45=\"\",\"\",[2]Stock!H45)","v":""},{"$f":"IF(H45=\"\",\"\",IFERROR(VLOOKUP(H45,Brassage!$B$45:$H$57,1,FALSE),\"\"))","v":""},{"$f":"IF(L45=\"\",\"\",IFERROR(VLOOKUP(L45,Brassage!$B$45:$H$57,2,FALSE),\"\"))","v":""},{"$f":"IF(L45=\"0\",\"0\",SUMIF(Brassage!$B$45:$B$57,L45,Brassage!$F$45:$F$57))","v":0},null,{"$f":"IF([2]Stock!J45=\"\",\"\",[2]Stock!J45)","v":""},{"$f":"IF([2]Stock!K45=\"\",\"\",[2]Stock!K45)","v":""},{"$f":"IF(P45=\"\",\"\",IFERROR(VLOOKUP(P45,Brassage!$B$61:$H$62,1,FALSE),\"\"))","v":""},{"$f":"IF(R45=\"0\",\"0\",IFERROR(VLOOKUP(P45,Brassage!$B$61:$H$62,7,FALSE),\"0\"))","v":"0"},null,{"$f":"IF([2]Stock!M45=\"\",\"\",[2]Stock!M45)","v":""},{"$f":"IF([2]Stock!N45=\"\",\"\",[2]Stock!N45)","v":""},{"$f":"IF(U45=\"\",\"\",IFERROR(VLOOKUP(U45,Brassage!$B$39:$H$42,1,FALSE),\"\"))","v":""},{"$f":"IF(U45=\"0\",\"0\",IFERROR(VLOOKUP(U45,Brassage!$B$39:$H$42,5,FALSE),\"0\"))","v":"0"}]
[{"$f":"IF([2]Stock!A46=\"\",\"\",[2]Stock!A46)","v":""},{"$f":"IF([2]Stock!B46=\"\",\"\",[2]Stock!B46)","v":""},{"$f":"IF([2]Stock!C46=\"\",\"\",[2]Stock!C46)","v":""},{"$f":"IF(A46=\"\",\"\",IFERROR(VLOOKUP(A46,Brassage!$B$25:$H$33,1,FALSE),\"\"))","v":""},{"$f":"IF(A46=\"\",\"\",IFERROR(VLOOKUP(A46,Brassage!$B$25:$H$33,2,FALSE),\"\"))","v":""},{"$f":"IF(Stock!D46=\"0\",\"0\",SUMIF(Brassage!$B$25:$B$33,Stock!D46,Brassage!$H$25:$H$33))","v":0},null,{"$f":"IF([2]Stock!E46=\"\",\"\",[2]Stock!E46)","v":""},{"$f":"IF([2]Stock!F46=\"\",\"\",[2]Stock!F46)","v":""},{"$f":"IF([2]Stock!G46=\"\",\"\",[2]Stock!G46)","v":""},{"$f":"IF([2]Stock!H46=\"\",\"\",[2]Stock!H46)","v":""},{"$f":"IF(H46=\"\",\"\",IFERROR(VLOOKUP(H46,Brassage!$B$45:$H$57,1,FALSE),\"\"))","v":""},{"$f":"IF(L46=\"\",\"\",IFERROR(VLOOKUP(L46,Brassage!$B$45:$H$57,2,FALSE),\"\"))","v":""},{"$f":"IF(L46=\"0\",\"0\",SUMIF(Brassage!$B$45:$B$57,L46,Brassage!$F$45:$F$57))","v":0},null,{"$f":"IF([2]Stock!J46=\"\",\"\",[2]Stock!J46)","v":""},{"$f":"IF([2]Stock!K46=\"\",\"\",[2]Stock!K46)","v":""},{"$f":"IF(P46=\"\",\"\",IFERROR(VLOOKUP(P46,Brassage!$B$61:$H$62,1,FALSE),\"\"))","v":""},{"$f":"IF(R46=\"0\",\"0\",IFERROR(VLOOKUP(P46,Brassage!$B$61:$H$62,7,FALSE),\"0\"))","v":"0"},null,{"$f":"IF([2]Stock!M46=\"\",\"\",[2]Stock!M46)","v":""},{"$f":"IF([2]Stock!N46=\"\",\"\",[2]Stock!N46)","v":""},{"$f":"IF(U46=\"\",\"\",IFERROR(VLOOKUP(U46,Brassage!$B$39:$H$42,1,FALSE),\"\"))","v":""},{"$f":"IF(U46=\"0\",\"0\",IFERROR(VLOOKUP(U46,Brassage!$B$39:$H$42,5,FALSE),\"0\"))","v":"0"}]
[{"$f":"IF([2]Stock!A47=\"\",\"\",[2]Stock!A47)","v":""},{"$f":"IF([2]Stock!B47=\"\",\"\",[2]Stock!B47)","v":""},{"$f":"IF([2]Stock!C47=\"\",\"\",[2]Stock!C47)","v":""},{"$f":"IF(A47=\"\",\"\",IFERROR(VLOOKUP(A47,Brassage!$B$25:$H$33,1,FALSE),\"\"))","v":""},{"$f":"IF(A47=\"\",\"\",IFERROR(VLOOKUP(A47,Brassage!$B$25:$H$33,2,FALSE),\"\"))","v":""},{"$f":"IF(Stock!D47=\"0\",\"0\",SUMIF(Brassage!$B$25:$B$33,Stock!D47,Brassage!$H$25:$H$33))","v":0},null,{"$f":"IF([2]Stock!E47=\"\",\"\",[2]Stock!E47)","v":""},{"$f":"IF([2]Stock!F47=\"\",\"\",[2]Stock!F47)","v":""},{"$f":"IF([2]Stock!G47=\"\",\"\",[2]Stock!G47)","v":""},{"$f":"IF([2]Stock!H47=\"\",\"\",[2]Stock!H47)","v":""},{"$f":"IF(H47=\"\",\"\",IFERROR(VLOOKUP(H47,Brassage!$B$45:$H$57,1,FALSE),\"\"))","v":""},{"$f":"IF(L47=\"\",\"\",IFERROR(VLOOKUP(L47,Brassage!$B$45:$H$57,2,FALSE),\"\"))","v":""},{"$f":"IF(L47=\"0\",\"0\",SUMIF(Brassage!$B$45:$B$57,L47,Brassage!$F$45:$F$57))","v":0},null,{"$f":"IF([2]Stock!J47=\"\",\"\",[2]Stock!J47)","v":""},{"$f":"IF([2]Stock!K47=\"\",\"\",[2]Stock!K47)","v":""},{"$f":"IF(P47=\"\",\"\",IFERROR(VLOOKUP(P47,Brassage!$B$61:$H$62,1,FALSE),\"\"))","v":""},{"$f":"IF(R47=\"0\",\"0\",IFERROR(VLOOKUP(P47,Brassage!$B$61:$H$62,7,FALSE),\"0\"))","v":"0"},null,{"$f":"IF([2]Stock!M47=\"\",\"\",[2]Stock!M47)","v":""},{"$f":"IF([2]Stock!N47=\"\",\"\",[2]Stock!N47)","v":""},{"$f":"IF(U47=\"\",\"\",IFERROR(VLOOKUP(U47,Brassage!$B$39:$H$42,1,FALSE),\"\"))","v":""},{"$f":"IF(U47=\"0\",\"0\",IFERROR(VLOOKUP(U47,Brassage!$B$39:$H$42,5,FALSE),\"0\"))","v":"0"}]
[{"$f":"IF([2]Stock!A48=\"\",\"\",[2]Stock!A48)","v":""},{"$f":"IF([2]Stock!B48=\"\",\"\",[2]Stock!B48)","v":""},{"$f":"IF([2]Stock!C48=\"\",\"\",[2]Stock!C48)","v":""},{"$f":"IF(A48=\"\",\"\",IFERROR(VLOOKUP(A48,Brassage!$B$25:$H$33,1,FALSE),\"\"))","v":""},{"$f":"IF(A48=\"\",\"\",IFERROR(VLOOKUP(A48,Brassage!$B$25:$H$33,2,FALSE),\"\"))","v":""},{"$f":"IF(Stock!D48=\"0\",\"0\",SUMIF(Brassage!$B$25:$B$33,Stock!D48,Brassage!$H$25:$H$33))","v":0},null,{"$f":"IF([2]Stock!E48=\"\",\"\",[2]Stock!E48)","v":""},{"$f":"IF([2]Stock!F48=\"\",\"\",[2]Stock!F48)","v":""},{"$f":"IF([2]Stock!G48=\"\",\"\",[2]Stock!G48)","v":""},{"$f":"IF([2]Stock!H48=\"\",\"\",[2]Stock!H48)","v":""},{"$f":"IF(H48=\"\",\"\",IFERROR(VLOOKUP(H48,Brassage!$B$45:$H$57,1,FALSE),\"\"))","v":""},{"$f":"IF(L48=\"\",\"\",IFERROR(VLOOKUP(L48,Brassage!$B$45:$H$57,2,FALSE),\"\"))","v":""},{"$f":"IF(L48=\"0\",\"0\",SUMIF(Brassage!$B$45:$B$57,L48,Brassage!$F$45:$F$57))","v":0},null,{"$f":"IF([2]Stock!J48=\"\",\"\",[2]Stock!J48)","v":""},{"$f":"IF([2]Stock!K48=\"\",\"\",[2]Stock!K48)","v":""},{"$f":"IF(P48=\"\",\"\",IFERROR(VLOOKUP(P48,Brassage!$B$61:$H$62,1,FALSE),\"\"))","v":""},{"$f":"IF(R48=\"0\",\"0\",IFERROR(VLOOKUP(P48,Brassage!$B$61:$H$62,7,FALSE),\"0\"))","v":"0"},null,{"$f":"IF([2]Stock!M48=\"\",\"\",[2]Stock!M48)","v":""},{"$f":"IF([2]Stock!N48=\"\",\"\",[2]Stock!N48)","v":""},{"$f":"IF(U48=\"\",\"\",IFERROR(VLOOKUP(U48,Brassage!$B$39:$H$42,1,FALSE),\"\"))","v":""},{"$f":"IF(U48=\"0\",\"0\",IFERROR(VLOOKUP(U48,Brassage!$B$39:$H$42,5,FALSE),\"0\"))","v":"0"}]
[{"$f":"IF([2]Stock!A49=\"\",\"\",[2]Stock!A49)","v":""},{"$f":"IF([2]Stock!B49=\"\",\"\",[2]Stock!B49)","v":""},{"$f":"IF([2]Stock!C49=\"\",\"\",[2]Stock!C49)","v":""},{"$f":"IF(A49=\"\",\"\",IFERROR(VLOOKUP(A49,Brassage!$B$25:$H$33,1,FALSE),\"\"))","v":""},{"$f":"IF(A49=\"\",\"\",IFERROR(VLOOKUP(A49,Brassage!$B$25:$H$33,2,FALSE),\"\"))","v":""},{"$f":"IF(Stock!D49=\"0\",\"0\",SUMIF(Brassage!$B$25:$B$33,Stock!D49,Brassage!$H$25:$H$33))","v":0},null,{"$f":"IF([2]Stock!E49=\"\",\"\",[2]Stock!E49)","v":""},{"$f":"IF([2]Stock!F49=\"\",\"\",[2]Stock!F49)","v":""},{"$f":"IF([2]Stock!G49=\"\",\"\",[2]Stock!G49)","v":""},{"$f":"IF([2]Stock!H49=\"\",\"\",[2]Stock!H49)","v":""},{"$f":"IF(H49=\"\",\"\",IFERROR(VLOOKUP(H49,Brassage!$B$45:$H$57,1,FALSE),\"\"))","v":""},{"$f":"IF(L49=\"\",\"\",IFERROR(VLOOKUP(L49,Brassage!$B$45:$H$57,2,FALSE),\"\"))","v":""},{"$f":"IF(L49=\"0\",\"0\",SUMIF(Brassage!$B$45:$B$57,L49,Brassage!$F$45:$F$57))","v":0},null,{"$f":"IF([2]Stock!J49=\"\",\"\",[2]Stock!J49)","v":""},{"$f":"IF([2]Stock!K49=\"\",\"\",[2]Stock!K49)","v":""},{"$f":"IF(P49=\"\",\"\",IFERROR(VLOOKUP(P49,Brassage!$B$61:$H$62,1,FALSE),\"\"))","v":""},{"$f":"IF(R49=\"0\",\"0\",IFERROR(VLOOKUP(P49,Brassage!$B$61:$H$62,7,FALSE),\"0\"))","v":"0"},null,{"$f":"IF([2]Stock!M49=\"\",\"\",[2]Stock!M49)","v":""},{"$f":"IF([2]Stock!N49=\"\",\"\",[2]Stock!N49)","v":""},{"$f":"IF(U49=\"\",\"\",IFERROR(VLOOKUP(U49,Brassage!$B$39:$H$42,1,FALSE),\"\"))","v":""},{"$f":"IF(U49=\"0\",\"0\",IFERROR(VLOOKUP(U49,Brassage!$B$39:$H$42,5,FALSE),\"0\"))","v":"0"}]
[{"$f":"IF([2]Stock!A50=\"\",\"\",[2]Stock!A50)","v":""},{"$f":"IF([2]Stock!B50=\"\",\"\",[2]Stock!B50)","v":""},{"$f":"IF([2]Stock!C50=\"\",\"\",[2]Stock!C50)","v":""},{"$f":"IF(A50=\"\",\"\",IFERROR(VLOOKUP(A50,Brassage!$B$25:$H$33,1,FALSE),\"\"))","v":""},{"$f":"IF(A50=\"\",\"\",IFERROR(VLOOKUP(A50,Brassage!$B$25:$H$33,2,FALSE),\"\"))","v":""},{"$f":"IF(Stock!D50=\"0\",\"0\",SUMIF(Brassage!$B$25:$B$33,Stock!D50,Brassage!$H$25:$H$33))","v":0},null,{"$f":"IF([2]Stock!E50=\"\",\"\",[2]Stock!E50)","v":""},{"$f":"IF([2]Stock!F50=\"\",\"\",[2]Stock!F50)","v":""},{"$f":"IF([2]Stock!G50=\"\",\"\",[2]Stock!G50)","v":""},{"$f":"IF([2]Stock!H50=\"\",\"\",[2]Stock!H50)","v":""},{"$f":"IF(H50=\"\",\"\",IFERROR(VLOOKUP(H50,Brassage!$B$45:$H$57,1,FALSE),\"\"))","v":""},{"$f":"IF(L50=\"\",\"\",IFERROR(VLOOKUP(L50,Brassage!$B$45:$H$57,2,FALSE),\"\"))","v":""},{"$f":"IF(L50=\"0\",\"0\",SUMIF(Brassage!$B$45:$B$57,L50,Brassage!$F$45:$F$57))","v":0},null,{"$f":"IF([2]Stock!J50=\"\",\"\",[2]Stock!J50)","v":""},{"$f":"IF([2]Stock!K50=\"\",\"\",[2]Stock!K50)","v":""},{"$f":"IF(P50=\"\",\"\",IFERROR(VLOOKUP(P50,Brassage!$B$61:$H$62,1,FALSE),\"\"))","v":""},{"$f":"IF(R50=\"0\",\"0\",IFERROR(VLOOKUP(P50,Brassage!$B$61:$H$62,7,FALSE),\"0\"))","v":"0"},null,{"$f":"IF([2]Stock!M50=\"\",\"\",[2]Stock!M50)","v":""},{"$f":"IF([2]Stock!N50=\"\",\"\",[2]Stock!N50)","v":""},{"$f":"IF(U50=\"\",\"\",IFERROR(VLOOKUP(U50,Brassage!$B$39:$H$42,1,FALSE),\"\"))","v":""},{"$f":"IF(U50=\"0\",\"0\",IFERROR(VLOOKUP(U50,Brassage!$B$39:$H$42,5,FALSE),\"0\"))","v":"0"}]
[{"$f":"IF([2]Stock!A51=\"\",\"\",[2]Stock!A51)","v":""},{"$f":"IF([2]Stock!B51=\"\",\"\",[2]Stock!B51)","v":""},{"$f":"IF([2]Stock!C51=\"\",\"\",[2]Stock!C51)","v":""},{"$f":"IF(A51=\"\",\"\",IFERROR(VLOOKUP(A51,Brassage!$B$25:$H$33,1,FALSE),\"\"))","v":""},{"$f":"IF(A51=\"\",\"\",IFERROR(VLOOKUP(A51,Brassage!$B$25:$H$33,2,FALSE),\"\"))","v":""},{"$f":"IF(Stock!D51=\"0\",\"0\",SUMIF(Brassage!$B$25:$B$33,Stock!D51,Brassage!$H$25:$H$33))","v":0},null,{"$f":"IF([2]Stock!E51=\"\",\"\",[2]Stock!E51)","v":""},{"$f":"IF([2]Stock!F51=\"\",\"\",[2]Stock!F51)","v":""},{"$f":"IF([2]Stock!G51=\"\",\"\",[2]Stock!G51)","v":""},{"$f":"IF([2]Stock!H51=\"\",\"\",[2]Stock!H51)","v":""},{"$f":"IF(H51=\"\",\"\",IFERROR(VLOOKUP(H51,Brassage!$B$45:$H$57,1,FALSE),\"\"))","v":""},{"$f":"IF(L51=\"\",\"\",IFERROR(VLOOKUP(L51,Brassage!$B$45:$H$57,2,FALSE),\"\"))","v":""},{"$f":"IF(L51=\"0\",\"0\",SUMIF(Brassage!$B$45:$B$57,L51,Brassage!$F$45:$F$57))","v":0},null,{"$f":"IF([2]Stock!J51=\"\",\"\",[2]Stock!J51)","v":""},{"$f":"IF([2]Stock!K51=\"\",\"\",[2]Stock!K51)","v":""},{"$f":"IF(P51=\"\",\"\",IFERROR(VLOOKUP(P51,Brassage!$B$61:$H$62,1,FALSE),\"\"))","v":""},{"$f":"IF(R51=\"0\",\"0\",IFERROR(VLOOKUP(P51,Brassage!$B$61:$H$62,7,FALSE),\"0\"))","v":"0"},null,{"$f":"IF([2]Stock!M51=\"\",\"\",[2]Stock!M51)","v":""},{"$f":"IF([2]Stock!N51=\"\",\"\",[2]Stock!N51)","v":""},{"$f":"IF(U51=\"\",\"\",IFERROR(VLOOKUP(U51,Brassage!$B$39:$H$42,1,FALSE),\"\"))","v":""},{"$f":"IF(U51=\"0\",\"0\",IFERROR(VLOOKUP(U51,Brassage!$B$39:$H$42,5,FALSE),\"0\"))","v":"0"}]
[{"$f":"IF([2]Stock!A52=\"\",\"\",[2]Stock!A52)","v":""},{"$f":"IF([2]Stock!B52=\"\",\"\",[2]Stock!B52)","v":""},{"$f":"IF([2]Stock!C52=\"\",\"\",[2]Stock!C52)","v":""},{"$f":"IF(A52=\"\",\"\",IFERROR(VLOOKUP(A52,Brassage!$B$25:$H$33,1,FALSE),\"\"))","v":""},{"$f":"IF(A52=\"\",\"\",IFERROR(VLOOKUP(A52,Brassage!$B$25:$H$33,2,FALSE),\"\"))","v":""},{"$f":"IF(Stock!D52=\"0\",\"0\",SUMIF(Brassage!$B$25:$B$33,Stock!D52,Brassage!$H$25:$H$33))","v":0},null,{"$f":"IF([2]Stock!E52=\"\",\"\",[2]Stock!E52)","v":""},{"$f":"IF([2]Stock!F52=\"\",\"\",[2]Stock!F52)","v":""},{"$f":"IF([2]Stock!G52=\"\",\"\",[2]Stock!G52)","v":""},{"$f":"IF([2]Stock!H52=\"\",\"\",[2]Stock!H52)","v":""},{"$f":"IF(H52=\"\",\"\",IFERROR(VLOOKUP(H52,Brassage!$B$45:$H$57,1,FALSE),\"\"))","v":""},{"$f":"IF(L52=\"\",\"\",IFERROR(VLOOKUP(L52,Brassage!$B$45:$H$57,2,FALSE),\"\"))","v":""},{"$f":"IF(L52=\"0\",\"0\",SUMIF(Brassage!$B$45:$B$57,L52,Brassage!$F$45:$F$57))","v":0},null,{"$f":"IF([2]Stock!J52=\"\",\"\",[2]Stock!J52)","v":""},{"$f":"IF([2]Stock!K52=\"\",\"\",[2]Stock!K52)","v":""},{"$f":"IF(P52=\"\",\"\",IFERROR(VLOOKUP(P52,Brassage!$B$61:$H$62,1,FALSE),\"\"))","v":""},{"$f":"IF(R52=\"0\",\"0\",IFERROR(VLOOKUP(P52,Brassage!$B$61:$H$62,7,FALSE),\"0\"))","v":"0"},null,{"$f":"IF([2]Stock!M52=\"\",\"\",[2]Stock!M52)","v":""},{"$f":"IF([2]Stock!N52=\"\",\"\",[2]Stock!N52)","v":""},{"$f":"IF(U52=\"\",\"\",IFERROR(VLOOKUP(U52,Brassage!$B$39:$H$42,1,FALSE),\"\"))","v":""},{"$f":"IF(U52=\"0\",\"0\",IFERROR(VLOOKUP(U52,Brassage!$B$39:$H$42,5,FALSE),\"0\"))","v":"0"}]
[{"$f":"IF([2]Stock!A53=\"\",\"\",[2]Stock!A53)","v":""},{"$f":"IF([2]Stock!B53=\"\",\"\",[2]Stock!B53)","v":""},{"$f":"IF([2]Stock!C53=\"\",\"\",[2]Stock!C53)","v":""},{"$f":"IF(A53=\"\",\"\",IFERROR(VLOOKUP(A53,Brassage!$B$25:$H$33,1,FALSE),\"\"))","v":""},{"$f":"IF(A53=\"\",\"\",IFERROR(VLOOKUP(A53,Brassage!$B$25:$H$33,2,FALSE),\"\"))","v":""},{"$f":"IF(Stock!D53=\"0\",\"0\",SUMIF(Brassage!$B$25:$B$33,Stock!D53,Brassage!$H$25:$H$33))","v":0},null,{"$f":"IF([2]Stock!E53=\"\",\"\",[2]Stock!E53)","v":""},{"$f":"IF([2]Stock!F53=\"\",\"\",[2]Stock!F53)","v":""},{"$f":"IF([2]Stock!G53=\"\",\"\",[2]Stock!G53)","v":""},{"$f":"IF([2]Stock!H53=\"\",\"\",[2]Stock!H53)","v":""},{"$f":"IF(H53=\"\",\"\",IFERROR(VLOOKUP(H53,Brassage!$B$45:$H$57,1,FALSE),\"\"))","v":""},{"$f":"IF(L53=\"\",\"\",IFERROR(VLOOKUP(L53,Brassage!$B$45:$H$57,2,FALSE),\"\"))","v":""},{"$f":"IF(L53=\"0\",\"0\",SUMIF(Brassage!$B$45:$B$57,L53,Brassage!$F$45:$F$57))","v":0},null,{"$f":"IF([2]Stock!J53=\"\",\"\",[2]Stock!J53)","v":""},{"$f":"IF([2]Stock!K53=\"\",\"\",[2]Stock!K53)","v":""},{"$f":"IF(P53=\"\",\"\",IFERROR(VLOOKUP(P53,Brassage!$B$61:$H$62,1,FALSE),\"\"))","v":""},{"$f":"IF(R53=\"0\",\"0\",IFERROR(VLOOKUP(P53,Brassage!$B$61:$H$62,7,FALSE),\"0\"))","v":"0"},null,{"$f":"IF([2]Stock!M53=\"\",\"\",[2]Stock!M53)","v":""},{"$f":"IF([2]Stock!N53=\"\",\"\",[2]Stock!N53)","v":""},{"$f":"IF(U53=\"\",\"\",IFERROR(VLOOKUP(U53,Brassage!$B$39:$H$42,1,FALSE),\"\"))","v":""},{"$f":"IF(U53=\"0\",\"0\",IFERROR(VLOOKUP(U53,Brassage!$B$39:$H$42,5,FALSE),\"0\"))","v":"0"}]
[{"$f":"IF([2]Stock!A54=\"\",\"\",[2]Stock!A54)","v":""},{"$f":"IF([2]Stock!B54=\"\",\"\",[2]Stock!B54)","v":""},{"$f":"IF([2]Stock!C54=\"\",\"\",[2]Stock!C54)","v":""},{"$f":"IF(A54=\"\",\"\",IFERROR(VLOOKUP(A54,Brassage!$B$25:$H$33,1,FALSE),\"\"))","v":""},{"$f":"IF(A54=\"\",\"\",IFERROR(VLOOKUP(A54,Brassage!$B$25:$H$33,2,FALSE),\"\"))","v":""},{"$f":"IF(Stock!D54=\"0\",\"0\",SUMIF(Brassage!$B$25:$B$33,Stock!D54,Brassage!$H$25:$H$33))","v":0},null,{"$f":"IF([2]Stock!E54=\"\",\"\",[2]Stock!E54)","v":""},{"$f":"IF([2]Stock!F54=\"\",\"\",[2]Stock!F54)","v":""},{"$f":"IF([2]Stock!G54=\"\",\"\",[2]Stock!G54)","v":""},{"$f":"IF([2]Stock!H54=\"\",\"\",[2]Stock!H54)","v":""},{"$f":"IF(H54=\"\",\"\",IFERROR(VLOOKUP(H54,Brassage!$B$45:$H$57,1,FALSE),\"\"))","v":""},{"$f":"IF(L54=\"\",\"\",IFERROR(VLOOKUP(L54,Brassage!$B$45:$H$57,2,FALSE),\"\"))","v":""},{"$f":"IF(L54=\"0\",\"0\",SUMIF(Brassage!$B$45:$B$57,L54,Brassage!$F$45:$F$57))","v":0},null,{"$f":"IF([2]Stock!J54=\"\",\"\",[2]Stock!J54)","v":""},{"$f":"IF([2]Stock!K54=\"\",\"\",[2]Stock!K54)","v":""},{"$f":"IF(P54=\"\",\"\",IFERROR(VLOOKUP(P54,Brassage!$B$61:$H$62,1,FALSE),\"\"))","v":""},{"$f":"IF(R54=\"0\",\"0\",IFERROR(VLOOKUP(P54,Brassage!$B$61:$H$62,7,FALSE),\"0\"))","v":"0"},null,{"$f":"IF([2]Stock!M54=\"\",\"\",[2]Stock!M54)","v":""},{"$f":"IF([2]Stock!N54=\"\",\"\",[2]Stock!N54)","v":""},{"$f":"IF(U54=\"\",\"\",IFERROR(VLOOKUP(U54,Brassage!$B$39:$H$42,1,FALSE),\"\"))","v":""},{"$f":"IF(U54=\"0\",\"0\",IFERROR(VLOOKUP(U54,Brassage!$B$39:$H$42,5,FALSE),\"0\"))","v":"0"}]
[{"$f":"IF([2]Stock!A55=\"\",\"\",[2]Stock!A55)","v":""},{"$f":"IF([2]Stock!B55=\"\",\"\",[2]Stock!B55)","v":""},{"$f":"IF([2]Stock!C55=\"\",\"\",[2]Stock!C55)","v":""},{"$f":"IF(A55=\"\",\"\",IFERROR(VLOOKUP(A55,Brassage!$B$25:$H$33,1,FALSE),\"\"))","v":""},{"$f":"IF(A55=\"\",\"\",IFERROR(VLOOKUP(A55,Brassage!$B$25:$H$33,2,FALSE),\"\"))","v":""},{"$f":"IF(Stock!D55=\"0\",\"0\",SUMIF(Brassage!$B$25:$B$33,Stock!D55,Brassage!$H$25:$H$33))","v":0},null,{"$f":"IF([2]Stock!E55=\"\",\"\",[2]Stock!E55)","v":""},{"$f":"IF([2]Stock!F55=\"\",\"\",[2]Stock!F55)","v":""},{"$f":"IF([2]Stock!G55=\"\",\"\",[2]Stock!G55)","v":""},{"$f":"IF([2]Stock!H55=\"\",\"\",[2]Stock!H55)","v":""},{"$f":"IF(H55=\"\",\"\",IFERROR(VLOOKUP(H55,Brassage!$B$45:$H$57,1,FALSE),\"\"))","v":""},{"$f":"IF(L55=\"\",\"\",IFERROR(VLOOKUP(L55,Brassage!$B$45:$H$57,2,FALSE),\"\"))","v":""},{"$f":"IF(L55=\"0\",\"0\",SUMIF(Brassage!$B$45:$B$57,L55,Brassage!$F$45:$F$57))","v":0},null,{"$f":"IF([2]Stock!J55=\"\",\"\",[2]Stock!J55)","v":""},{"$f":"IF([2]Stock!K55=\"\",\"\",[2]Stock!K55)","v":""},{"$f":"IF(P55=\"\",\"\",IFERROR(VLOOKUP(P55,Brassage!$B$61:$H$62,1,FALSE),\"\"))","v":""},{"$f":"IF(R55=\"0\",\"0\",IFERROR(VLOOKUP(P55,Brassage!$B$61:$H$62,7,FALSE),\"0\"))","v":"0"},null,{"$f":"IF([2]Stock!M55=\"\",\"\",[2]Stock!M55)","v":""},{"$f":"IF([2]Stock!N55=\"\",\"\",[2]Stock!N55)","v":""},{"$f":"IF(U55=\"\",\"\",IFERROR(VLOOKUP(U55,Brassage!$B$39:$H$42,1,FALSE),\"\"))","v":""},{"$f":"IF(U55=\"0\",\"0\",IFERROR(VLOOKUP(U55,Brassage!$B$39:$H$42,5,FALSE),\"0\"))","v":"0"}]
[{"$f":"IF([2]Stock!A56=\"\",\"\",[2]Stock!A56)","v":""},{"$f":"IF([2]Stock!B56=\"\",\"\",[2]Stock!B56)","v":""},{"$f":"IF([2]Stock!C56=\"\",\"\",[2]Stock!C56)","v":""},{"$f":"IF(A56=\"\",\"\",IFERROR(VLOOKUP(A56,Brassage!$B$25:$H$33,1,FALSE),\"\"))","v":""},{"$f":"IF(A56=\"\",\"\",IFERROR(VLOOKUP(A56,Brassage!$B$25:$H$33,2,FALSE),\"\"))","v":""},{"$f":"IF(Stock!D56=\"0\",\"0\",SUMIF(Brassage!$B$25:$B$33,Stock!D56,Brassage!$H$25:$H$33))","v":0},null,{"$f":"IF([2]Stock!E56=\"\",\"\",[2]Stock!E56)","v":""},{"$f":"IF([2]Stock!F56=\"\",\"\",[2]Stock!F56)","v":""},{"$f":"IF([2]Stock!G56=\"\",\"\",[2]Stock!G56)","v":""},{"$f":"IF([2]Stock!H56=\"\",\"\",[2]Stock!H56)","v":""},{"$f":"IF(H56=\"\",\"\",IFERROR(VLOOKUP(H56,Brassage!$B$45:$H$57,1,FALSE),\"\"))","v":""},{"$f":"IF(L56=\"\",\"\",IFERROR(VLOOKUP(L56,Brassage!$B$45:$H$57,2,FALSE),\"\"))","v":""},{"$f":"IF(L56=\"0\",\"0\",SUMIF(Brassage!$B$45:$B$57,L56,Brassage!$F$45:$F$57))","v":0},null,{"$f":"IF([2]Stock!J56=\"\",\"\",[2]Stock!J56)","v":""},{"$f":"IF([2]Stock!K56=\"\",\"\",[2]Stock!K56)","v":""},{"$f":"IF(P56=\"\",\"\",IFERROR(VLOOKUP(P56,Brassage!$B$61:$H$62,1,FALSE),\"\"))","v":""},{"$f":"IF(R56=\"0\",\"0\",IFERROR(VLOOKUP(P56,Brassage!$B$61:$H$62,7,FALSE),\"0\"))","v":"0"},null,{"$f":"IF([2]Stock!M56=\"\",\"\",[2]Stock!M56)","v":""},{"$f":"IF([2]Stock!N56=\"\",\"\",[2]Stock!N56)","v":""},{"$f":"IF(U56=\"\",\"\",IFERROR(VLOOKUP(U56,Brassage!$B$39:$H$42,1,FALSE),\"\"))","v":""},{"$f":"IF(U56=\"0\",\"0\",IFERROR(VLOOKUP(U56,Brassage!$B$39:$H$42,5,FALSE),\"0\"))","v":"0"}]
[{"$f":"IF([2]Stock!A57=\"\",\"\",[2]Stock!A57)","v":""},{"$f":"IF([2]Stock!B57=\"\",\"\",[2]Stock!B57)","v":""},{"$f":"IF([2]Stock!C57=\"\",\"\",[2]Stock!C57)","v":""},{"$f":"IF(A57=\"\",\"\",IFERROR(VLOOKUP(A57,Brassage!$B$25:$H$33,1,FALSE),\"\"))","v":""},{"$f":"IF(A57=\"\",\"\",IFERROR(VLOOKUP(A57,Brassage!$B$25:$H$33,2,FALSE),\"\"))","v":""},{"$f":"IF(Stock!D57=\"0\",\"0\",SUMIF(Brassage!$B$25:$B$33,Stock!D57,Brassage!$H$25:$H$33))","v":0},null,{"$f":"IF([2]Stock!E57=\"\",\"\",[2]Stock!E57)","v":""},{"$f":"IF([2]Stock!F57=\"\",\"\",[2]Stock!F57)","v":""},{"$f":"IF([2]Stock!G57=\"\",\"\",[2]Stock!G57)","v":""},{"$f":"IF([2]Stock!H57=\"\",\"\",[2]Stock!H57)","v":""},{"$f":"IF(H57=\"\",\"\",IFERROR(VLOOKUP(H57,Brassage!$B$45:$H$57,1,FALSE),\"\"))","v":""},{"$f":"IF(L57=\"\",\"\",IFERROR(VLOOKUP(L57,Brassage!$B$45:$H$57,2,FALSE),\"\"))","v":""},{"$f":"IF(L57=\"0\",\"0\",SUMIF(Brassage!$B$45:$B$57,L57,Brassage!$F$45:$F$57))","v":0},null,{"$f":"IF([2]Stock!J57=\"\",\"\",[2]Stock!J57)","v":""},{"$f":"IF([2]Stock!K57=\"\",\"\",[2]Stock!K57)","v":""},{"$f":"IF(P57=\"\",\"\",IFERROR(VLOOKUP(P57,Brassage!$B$61:$H$62,1,FALSE),\"\"))","v":""},{"$f":"IF(R57=\"0\",\"0\",IFERROR(VLOOKUP(P57,Brassage!$B$61:$H$62,7,FALSE),\"0\"))","v":"0"},null,{"$f":"IF([2]Stock!M57=\"\",\"\",[2]Stock!M57)","v":""},{"$f":"IF([2]Stock!N57=\"\",\"\",[2]Stock!N57)","v":""},{"$f":"IF(U57=\"\",\"\",IFERROR(VLOOKUP(U57,Brassage!$B$39:$H$42,1,FALSE),\"\"))","v":""},{"$f":"IF(U57=\"0\",\"0\",IFERROR(VLOOKUP(U57,Brassage!$B$39:$H$42,5,FALSE),\"0\"))","v":"0"}]
[{"$f":"IF([2]Stock!A58=\"\",\"\",[2]Stock!A58)","v":""},{"$f":"IF([2]Stock!B58=\"\",\"\",[2]Stock!B58)","v":""},{"$f":"IF([2]Stock!C58=\"\",\"\",[2]Stock!C58)","v":""},{"$f":"IF(A58=\"\",\"\",IFERROR(VLOOKUP(A58,Brassage!$B$25:$H$33,1,FALSE),\"\"))","v":""},{"$f":"IF(A58=\"\",\"\",IFERROR(VLOOKUP(A58,Brassage!$B$25:$H$33,2,FALSE),\"\"))","v":""},{"$f":"IF(Stock!D58=\"0\",\"0\",SUMIF(Brassage!$B$25:$B$33,Stock!D58,Brassage!$H$25:$H$33))","v":0},null,{"$f":"IF([2]Stock!E58=\"\",\"\",[2]Stock!E58)","v":""},{"$f":"IF([2]Stock!F58=\"\",\"\",[2]Stock!F58)","v":""},{"$f":"IF([2]Stock!G58=\"\",\"\",[2]Stock!G58)","v":""},{"$f":"IF([2]Stock!H58=\"\",\"\",[2]Stock!H58)","v":""},{"$f":"IF(H58=\"\",\"\",IFERROR(VLOOKUP(H58,Brassage!$B$45:$H$57,1,FALSE),\"\"))","v":""},{"$f":"IF(L58=\"\",\"\",IFERROR(VLOOKUP(L58,Brassage!$B$45:$H$57,2,FALSE),\"\"))","v":""},{"$f":"IF(L58=\"0\",\"0\",SUMIF(Brassage!$B$45:$B$57,L58,Brassage!$F$45:$F$57))","v":0},null,{"$f":"IF([2]Stock!J58=\"\",\"\",[2]Stock!J58)","v":""},{"$f":"IF([2]Stock!K58=\"\",\"\",[2]Stock!K58)","v":""},{"$f":"IF(P58=\"\",\"\",IFERROR(VLOOKUP(P58,Brassage!$B$61:$H$62,1,FALSE),\"\"))","v":""},{"$f":"IF(R58=\"0\",\"0\",IFERROR(VLOOKUP(P58,Brassage!$B$61:$H$62,7,FALSE),\"0\"))","v":"0"},null,{"$f":"IF([2]Stock!M58=\"\",\"\",[2]Stock!M58)","v":""},{"$f":"IF([2]Stock!N58=\"\",\"\",[2]Stock!N58)","v":""},{"$f":"IF(U58=\"\",\"\",IFERROR(VLOOKUP(U58,Brassage!$B$39:$H$42,1,FALSE),\"\"))","v":""},{"$f":"IF(U58=\"0\",\"0\",IFERROR(VLOOKUP(U58,Brassage!$B$39:$H$42,5,FALSE),\"0\"))","v":"0"}]
[{"$f":"IF([2]Stock!A59=\"\",\"\",[2]Stock!A59)","v":""},{"$f":"IF([2]Stock!B59=\"\",\"\",[2]Stock!B59)","v":""},{"$f":"IF([2]Stock!C59=\"\",\"\",[2]Stock!C59)","v":""},{"$f":"IF(A59=\"\",\"\",IFERROR(VLOOKUP(A59,Brassage!$B$25:$H$33,1,FALSE),\"\"))","v":""},{"$f":"IF(A59=\"\",\"\",IFERROR(VLOOKUP(A59,Brassage!$B$25:$H$33,2,FALSE),\"\"))","v":""},{"$f":"IF(Stock!D59=\"0\",\"0\",SUMIF(Brassage!$B$25:$B$33,Stock!D59,Brassage!$H$25:$H$33))","v":0},null,{"$f":"IF([2]Stock!E59=\"\",\"\",[2]Stock!E59)","v":""},{"$f":"IF([2]Stock!F59=\"\",\"\",[2]Stock!F59)","v":""},{"$f":"IF([2]Stock!G59=\"\",\"\",[2]Stock!G59)","v":""},{"$f":"IF([2]Stock!H59=\"\",\"\",[2]Stock!H59)","v":""},{"$f":"IF(H59=\"\",\"\",IFERROR(VLOOKUP(H59,Brassage!$B$45:$H$57,1,FALSE),\"\"))","v":""},{"$f":"IF(L59=\"\",\"\",IFERROR(VLOOKUP(L59,Brassage!$B$45:$H$57,2,FALSE),\"\"))","v":""},{"$f":"IF(L59=\"0\",\"0\",SUMIF(Brassage!$B$45:$B$57,L59,Brassage!$F$45:$F$57))","v":0},null,{"$f":"IF([2]Stock!J59=\"\",\"\",[2]Stock!J59)","v":""},{"$f":"IF([2]Stock!K59=\"\",\"\",[2]Stock!K59)","v":""},{"$f":"IF(P59=\"\",\"\",IFERROR(VLOOKUP(P59,Brassage!$B$61:$H$62,1,FALSE),\"\"))","v":""},{"$f":"IF(R59=\"0\",\"0\",IFERROR(VLOOKUP(P59,Brassage!$B$61:$H$62,7,FALSE),\"0\"))","v":"0"},null,{"$f":"IF([2]Stock!M59=\"\",\"\",[2]Stock!M59)","v":""},{"$f":"IF([2]Stock!N59=\"\",\"\",[2]Stock!N59)","v":""},{"$f":"IF(U59=\"\",\"\",IFERROR(VLOOKUP(U59,Brassage!$B$39:$H$42,1,FALSE),\"\"))","v":""},{"$f":"IF(U59=\"0\",\"0\",IFERROR(VLOOKUP(U59,Brassage!$B$39:$H$42,5,FALSE),\"0\"))","v":"0"}]
[{"$f":"IF([2]Stock!A60=\"\",\"\",[2]Stock!A60)","v":""},{"$f":"IF([2]Stock!B60=\"\",\"\",[2]Stock!B60)","v":""},{"$f":"IF([2]Stock!C60=\"\",\"\",[2]Stock!C60)","v":""},{"$f":"IF(A60=\"\",\"\",IFERROR(VLOOKUP(A60,Brassage!$B$25:$H$33,1,FALSE),\"\"))","v":""},{"$f":"IF(A60=\"\",\"\",IFERROR(VLOOKUP(A60,Brassage!$B$25:$H$33,2,FALSE),\"\"))","v":""},{"$f":"IF(Stock!D60=\"0\",\"0\",SUMIF(Brassage!$B$25:$B$33,Stock!D60,Brassage!$H$25:$H$33))","v":0},null,{"$f":"IF([2]Stock!E60=\"\",\"\",[2]Stock!E60)","v":""},{"$f":"IF([2]Stock!F60=\"\",\"\",[2]Stock!F60)","v":""},{"$f":"IF([2]Stock!G60=\"\",\"\",[2]Stock!G60)","v":""},{"$f":"IF([2]Stock!H60=\"\",\"\",[2]Stock!H60)","v":""},{"$f":"IF(H60=\"\",\"\",IFERROR(VLOOKUP(H60,Brassage!$B$45:$H$57,1,FALSE),\"\"))","v":""},{"$f":"IF(L60=\"\",\"\",IFERROR(VLOOKUP(L60,Brassage!$B$45:$H$57,2,FALSE),\"\"))","v":""},{"$f":"IF(L60=\"0\",\"0\",SUMIF(Brassage!$B$45:$B$57,L60,Brassage!$F$45:$F$57))","v":0},null,{"$f":"IF([2]Stock!J60=\"\",\"\",[2]Stock!J60)","v":""},{"$f":"IF([2]Stock!K60=\"\",\"\",[2]Stock!K60)","v":""},{"$f":"IF(P60=\"\",\"\",IFERROR(VLOOKUP(P60,Brassage!$B$61:$H$62,1,FALSE),\"\"))","v":""},{"$f":"IF(R60=\"0\",\"0\",IFERROR(VLOOKUP(P60,Brassage!$B$61:$H$62,7,FALSE),\"0\"))","v":"0"},null,{"$f":"IF([2]Stock!M60=\"\",\"\",[2]Stock!M60)","v":""},{"$f":"IF([2]Stock!N60=\"\",\"\",[2]Stock!N60)","v":""},{"$f":"IF(U60=\"\",\"\",IFERROR(VLOOKUP(U60,Brassage!$B$39:$H$42,1,FALSE),\"\"))","v":""},{"$f":"IF(U60=\"0\",\"0\",IFERROR(VLOOKUP(U60,Brassage!$B$39:$H$42,5,FALSE),\"0\"))","v":"0"}]
[{"$f":"IF([2]Stock!A61=\"\",\"\",[2]Stock!A61)","v":""},{"$f":"IF([2]Stock!B61=\"\",\"\",[2]Stock!B61)","v":""},{"$f":"IF([2]Stock!C61=\"\",\"\",[2]Stock!C61)","v":""},{"$f":"IF(A61=\"\",\"\",IFERROR(VLOOKUP(A61,Brassage!$B$25:$H$33,1,FALSE),\"\"))","v":""},{"$f":"IF(A61=\"\",\"\",IFERROR(VLOOKUP(A61,Brassage!$B$25:$H$33,2,FALSE),\"\"))","v":""},{"$f":"IF(Stock!D61=\"0\",\"0\",SUMIF(Brassage!$B$25:$B$33,Stock!D61,Brassage!$H$25:$H$33))","v":0},null,{"$f":"IF([2]Stock!E61=\"\",\"\",[2]Stock!E61)","v":""},{"$f":"IF([2]Stock!F61=\"\",\"\",[2]Stock!F61)","v":""},{"$f":"IF([2]Stock!G61=\"\",\"\",[2]Stock!G61)","v":""},{"$f":"IF([2]Stock!H61=\"\",\"\",[2]Stock!H61)","v":""},{"$f":"IF(H61=\"\",\"\",IFERROR(VLOOKUP(H61,Brassage!$B$45:$H$57,1,FALSE),\"\"))","v":""},{"$f":"IF(L61=\"\",\"\",IFERROR(VLOOKUP(L61,Brassage!$B$45:$H$57,2,FALSE),\"\"))","v":""},{"$f":"IF(L61=\"0\",\"0\",SUMIF(Brassage!$B$45:$B$57,L61,Brassage!$F$45:$F$57))","v":0},null,{"$f":"IF([2]Stock!J61=\"\",\"\",[2]Stock!J61)","v":""},{"$f":"IF([2]Stock!K61=\"\",\"\",[2]Stock!K61)","v":""},{"$f":"IF(P61=\"\",\"\",IFERROR(VLOOKUP(P61,Brassage!$B$61:$H$62,1,FALSE),\"\"))","v":""},{"$f":"IF(R61=\"0\",\"0\",IFERROR(VLOOKUP(P61,Brassage!$B$61:$H$62,7,FALSE),\"0\"))","v":"0"},null,{"$f":"IF([2]Stock!M61=\"\",\"\",[2]Stock!M61)","v":""},{"$f":"IF([2]Stock!N61=\"\",\"\",[2]Stock!N61)","v":""},{"$f":"IF(U61=\"\",\"\",IFERROR(VLOOKUP(U61,Brassage!$B$39:$H$42,1,FALSE),\"\"))","v":""},{"$f":"IF(U61=\"0\",\"0\",IFERROR(VLOOKUP(U61,Brassage!$B$39:$H$42,5,FALSE),\"0\"))","v":"0"}]
[{"$f":"IF([2]Stock!A62=\"\",\"\",[2]Stock!A62)","v":""},{"$f":"IF([2]Stock!B62=\"\",\"\",[2]Stock!B62)","v":""},{"$f":"IF([2]Stock!C62=\"\",\"\",[2]Stock!C62)","v":""},{"$f":"IF(A62=\"\",\"\",IFERROR(VLOOKUP(A62,Brassage!$B$25:$H$33,1,FALSE),\"\"))","v":""},{"$f":"IF(A62=\"\",\"\",IFERROR(VLOOKUP(A62,Brassage!$B$25:$H$33,2,FALSE),\"\"))","v":""},{"$f":"IF(Stock!D62=\"0\",\"0\",SUMIF(Brassage!$B$25:$B$33,Stock!D62,Brassage!$H$25:$H$33))","v":0},null,{"$f":"IF([2]Stock!E62=\"\",\"\",[2]Stock!E62)","v":""},{"$f":"IF([2]Stock!F62=\"\",\"\",[2]Stock!F62)","v":""},{"$f":"IF([2]Stock!G62=\"\",\"\",[2]Stock!G62)","v":""},{"$f":"IF([2]Stock!H62=\"\",\"\",[2]Stock!H62)","v":""},{"$f":"IF(H62=\"\",\"\",IFERROR(VLOOKUP(H62,Brassage!$B$45:$H$57,1,FALSE),\"\"))","v":""},{"$f":"IF(L62=\"\",\"\",IFERROR(VLOOKUP(L62,Brassage!$B$45:$H$57,2,FALSE),\"\"))","v":""},{"$f":"IF(L62=\"0\",\"0\",SUMIF(Brassage!$B$45:$B$57,L62,Brassage!$F$45:$F$57))","v":0},null,{"$f":"IF([2]Stock!J62=\"\",\"\",[2]Stock!J62)","v":""},{"$f":"IF([2]Stock!K62=\"\",\"\",[2]Stock!K62)","v":""},{"$f":"IF(P62=\"\",\"\",IFERROR(VLOOKUP(P62,Brassage!$B$61:$H$62,1,FALSE),\"\"))","v":""},{"$f":"IF(R62=\"0\",\"0\",IFERROR(VLOOKUP(P62,Brassage!$B$61:$H$62,7,FALSE),\"0\"))","v":"0"},null,{"$f":"IF([2]Stock!M62=\"\",\"\",[2]Stock!M62)","v":""},{"$f":"IF([2]Stock!N62=\"\",\"\",[2]Stock!N62)","v":""},{"$f":"IF(U62=\"\",\"\",IFERROR(VLOOKUP(U62,Brassage!$B$39:$H$42,1,FALSE),\"\"))","v":""},{"$f":"IF(U62=\"0\",\"0\",IFERROR(VLOOKUP(U62,Brassage!$B$39:$H$42,5,FALSE),\"0\"))","v":"0"}]
[{"$f":"IF([2]Stock!A63=\"\",\"\",[2]Stock!A63)","v":""},{"$f":"IF([2]Stock!B63=\"\",\"\",[2]Stock!B63)","v":""},{"$f":"IF([2]Stock!C63=\"\",\"\",[2]Stock!C63)","v":""},{"$f":"IF(A63=\"\",\"\",IFERROR(VLOOKUP(A63,Brassage!$B$25:$H$33,1,FALSE),\"\"))","v":""},{"$f":"IF(A63=\"\",\"\",IFERROR(VLOOKUP(A63,Brassage!$B$25:$H$33,2,FALSE),\"\"))","v":""},{"$f":"IF(Stock!D63=\"0\",\"0\",SUMIF(Brassage!$B$25:$B$33,Stock!D63,Brassage!$H$25:$H$33))","v":0},null,{"$f":"IF([2]Stock!E63=\"\",\"\",[2]Stock!E63)","v":""},{"$f":"IF([2]Stock!F63=\"\",\"\",[2]Stock!F63)","v":""},{"$f":"IF([2]Stock!G63=\"\",\"\",[2]Stock!G63)","v":""},{"$f":"IF([2]Stock!H63=\"\",\"\",[2]Stock!H63)","v":""},{"$f":"IF(H63=\"\",\"\",IFERROR(VLOOKUP(H63,Brassage!$B$45:$H$57,1,FALSE),\"\"))","v":""},{"$f":"IF(L63=\"\",\"\",IFERROR(VLOOKUP(L63,Brassage!$B$45:$H$57,2,FALSE),\"\"))","v":""},{"$f":"IF(L63=\"0\",\"0\",SUMIF(Brassage!$B$45:$B$57,L63,Brassage!$F$45:$F$57))","v":0},null,{"$f":"IF([2]Stock!J63=\"\",\"\",[2]Stock!J63)","v":""},{"$f":"IF([2]Stock!K63=\"\",\"\",[2]Stock!K63)","v":""},{"$f":"IF(P63=\"\",\"\",IFERROR(VLOOKUP(P63,Brassage!$B$61:$H$62,1,FALSE),\"\"))","v":""},{"$f":"IF(R63=\"0\",\"0\",IFERROR(VLOOKUP(P63,Brassage!$B$61:$H$62,7,FALSE),\"0\"))","v":"0"},null,{"$f":"IF([2]Stock!M63=\"\",\"\",[2]Stock!M63)","v":""},{"$f":"IF([2]Stock!N63=\"\",\"\",[2]Stock!N63)","v":""},{"$f":"IF(U63=\"\",\"\",IFERROR(VLOOKUP(U63,Brassage!$B$39:$H$42,1,FALSE),\"\"))","v":""},{"$f":"IF(U63=\"0\",\"0\",IFERROR(VLOOKUP(U63,Brassage!$B$39:$H$42,5,FALSE),\"0\"))","v":"0"}]
[{"$f":"IF([2]Stock!A64=\"\",\"\",[2]Stock!A64)","v":""},{"$f":"IF([2]Stock!B64=\"\",\"\",[2]Stock!B64)","v":""},{"$f":"IF([2]Stock!C64=\"\",\"\",[2]Stock!C64)","v":""},{"$f":"IF(A64=\"\",\"\",IFERROR(VLOOKUP(A64,Brassage!$B$25:$H$33,1,FALSE),\"\"))","v":""},{"$f":"IF(A64=\"\",\"\",IFERROR(VLOOKUP(A64,Brassage!$B$25:$H$33,2,FALSE),\"\"))","v":""},{"$f":"IF(Stock!D64=\"0\",\"0\",SUMIF(Brassage!$B$25:$B$33,Stock!D64,Brassage!$H$25:$H$33))","v":0},null,{"$f":"IF([2]Stock!E64=\"\",\"\",[2]Stock!E64)","v":""},{"$f":"IF([2]Stock!F64=\"\",\"\",[2]Stock!F64)","v":""},{"$f":"IF([2]Stock!G64=\"\",\"\",[2]Stock!G64)","v":""},{"$f":"IF([2]Stock!H64=\"\",\"\",[2]Stock!H64)","v":""},{"$f":"IF(H64=\"\",\"\",IFERROR(VLOOKUP(H64,Brassage!$B$45:$H$57,1,FALSE),\"\"))","v":""},{"$f":"IF(L64=\"\",\"\",IFERROR(VLOOKUP(L64,Brassage!$B$45:$H$57,2,FALSE),\"\"))","v":""},{"$f":"IF(L64=\"0\",\"0\",SUMIF(Brassage!$B$45:$B$57,L64,Brassage!$F$45:$F$57))","v":0},null,{"$f":"IF([2]Stock!J64=\"\",\"\",[2]Stock!J64)","v":""},{"$f":"IF([2]Stock!K64=\"\",\"\",[2]Stock!K64)","v":""},{"$f":"IF(P64=\"\",\"\",IFERROR(VLOOKUP(P64,Brassage!$B$61:$H$62,1,FALSE),\"\"))","v":""},{"$f":"IF(R64=\"0\",\"0\",IFERROR(VLOOKUP(P64,Brassage!$B$61:$H$62,7,FALSE),\"0\"))","v":"0"},null,{"$f":"IF([2]Stock!M64=\"\",\"\",[2]Stock!M64)","v":""},{"$f":"IF([2]Stock!N64=\"\",\"\",[2]Stock!N64)","v":""},{"$f":"IF(U64=\"\",\"\",IFERROR(VLOOKUP(U64,Brassage!$B$39:$H$42,1,FALSE),\"\"))","v":""},{"$f":"IF(U64=\"0\",\"0\",IFERROR(VLOOKUP(U64,Brassage!$B$39:$H$42,5,FALSE),\"0\"))","v":"0"}]
[{"$f":"IF([2]Stock!A65=\"\",\"\",[2]Stock!A65)","v":""},{"$f":"IF([2]Stock!B65=\"\",\"\",[2]Stock!B65)","v":""},{"$f":"IF([2]Stock!C65=\"\",\"\",[2]Stock!C65)","v":""},{"$f":"IF(A65=\"\",\"\",IFERROR(VLOOKUP(A65,Brassage!$B$25:$H$33,1,FALSE),\"\"))","v":""},{"$f":"IF(A65=\"\",\"\",IFERROR(VLOOKUP(A65,Brassage!$B$25:$H$33,2,FALSE),\"\"))","v":""},{"$f":"IF(Stock!D65=\"0\",\"0\",SUMIF(Brassage!$B$25:$B$33,Stock!D65,Brassage!$H$25:$H$33))","v":0},null,{"$f":"IF([2]Stock!E65=\"\",\"\",[2]Stock!E65)","v":""},{"$f":"IF([2]Stock!F65=\"\",\"\",[2]Stock!F65)","v":""},{"$f":"IF([2]Stock!G65=\"\",\"\",[2]Stock!G65)","v":""},{"$f":"IF([2]Stock!H65=\"\",\"\",[2]Stock!H65)","v":""},{"$f":"IF(H65=\"\",\"\",IFERROR(VLOOKUP(H65,Brassage!$B$45:$H$57,1,FALSE),\"\"))","v":""},{"$f":"IF(L65=\"\",\"\",IFERROR(VLOOKUP(L65,Brassage!$B$45:$H$57,2,FALSE),\"\"))","v":""},{"$f":"IF(L65=\"0\",\"0\",SUMIF(Brassage!$B$45:$B$57,L65,Brassage!$F$45:$F$57))","v":0},null,{"$f":"IF([2]Stock!J65=\"\",\"\",[2]Stock!J65)","v":""},{"$f":"IF([2]Stock!K65=\"\",\"\",[2]Stock!K65)","v":""},{"$f":"IF(P65=\"\",\"\",IFERROR(VLOOKUP(P65,Brassage!$B$61:$H$62,1,FALSE),\"\"))","v":""},{"$f":"IF(R65=\"0\",\"0\",IFERROR(VLOOKUP(P65,Brassage!$B$61:$H$62,7,FALSE),\"0\"))","v":"0"},null,{"$f":"IF([2]Stock!M65=\"\",\"\",[2]Stock!M65)","v":""},{"$f":"IF([2]Stock!N65=\"\",\"\",[2]Stock!N65)","v":""},{"$f":"IF(U65=\"\",\"\",IFERROR(VLOOKUP(U65,Brassage!$B$39:$H$42,1,FALSE),\"\"))","v":""},{"$f":"IF(U65=\"0\",\"0\",IFERROR(VLOOKUP(U65,Brassage!$B$39:$H$42,5,FALSE),\"0\"))","v":"0"}]
[{"$f":"IF([2]Stock!A66=\"\",\"\",[2]Stock!A66)","v":""},{"$f":"IF([2]Stock!B66=\"\",\"\",[2]Stock!B66)","v":""},{"$f":"IF([2]Stock!C66=\"\",\"\",[2]Stock!C66)","v":""},{"$f":"IF(A66=\"\",\"\",IFERROR(VLOOKUP(A66,Brassage!$B$25:$H$33,1,FALSE),\"\"))","v":""},{"$f":"IF(A66=\"\",\"\",IFERROR(VLOOKUP(A66,Brassage!$B$25:$H$33,2,FALSE),\"\"))","v":""},{"$f":"IF(Stock!D66=\"0\",\"0\",SUMIF(Brassage!$B$25:$B$33,Stock!D66,Brassage!$H$25:$H$33))","v":0},null,{"$f":"IF([2]Stock!E66=\"\",\"\",[2]Stock!E66)","v":""},{"$f":"IF([2]Stock!F66=\"\",\"\",[2]Stock!F66)","v":""},{"$f":"IF([2]Stock!G66=\"\",\"\",[2]Stock!G66)","v":""},{"$f":"IF([2]Stock!H66=\"\",\"\",[2]Stock!H66)","v":""},{"$f":"IF(H66=\"\",\"\",IFERROR(VLOOKUP(H66,Brassage!$B$45:$H$57,1,FALSE),\"\"))","v":""},{"$f":"IF(L66=\"\",\"\",IFERROR(VLOOKUP(L66,Brassage!$B$45:$H$57,2,FALSE),\"\"))","v":""},{"$f":"IF(L66=\"0\",\"0\",SUMIF(Brassage!$B$45:$B$57,L66,Brassage!$F$45:$F$57))","v":0},null,{"$f":"IF([2]Stock!J66=\"\",\"\",[2]Stock!J66)","v":""},{"$f":"IF([2]Stock!K66=\"\",\"\",[2]Stock!K66)","v":""},{"$f":"IF(P66=\"\",\"\",IFERROR(VLOOKUP(P66,Brassage!$B$61:$H$62,1,FALSE),\"\"))","v":""},{"$f":"IF(R66=\"0\",\"0\",IFERROR(VLOOKUP(P66,Brassage!$B$61:$H$62,7,FALSE),\"0\"))","v":"0"},null,{"$f":"IF([2]Stock!M66=\"\",\"\",[2]Stock!M66)","v":""},{"$f":"IF([2]Stock!N66=\"\",\"\",[2]Stock!N66)","v":""},{"$f":"IF(U66=\"\",\"\",IFERROR(VLOOKUP(U66,Brassage!$B$39:$H$42,1,FALSE),\"\"))","v":""},{"$f":"IF(U66=\"0\",\"0\",IFERROR(VLOOKUP(U66,Brassage!$B$39:$H$42,5,FALSE),\"0\"))","v":"0"}]
[{"$f":"IF([2]Stock!A67=\"\",\"\",[2]Stock!A67)","v":""},{"$f":"IF([2]Stock!B67=\"\",\"\",[2]Stock!B67)","v":""},{"$f":"IF([2]Stock!C67=\"\",\"\",[2]Stock!C67)","v":""},{"$f":"IF(A67=\"\",\"\",IFERROR(VLOOKUP(A67,Brassage!$B$25:$H$33,1,FALSE),\"\"))","v":""},{"$f":"IF(A67=\"\",\"\",IFERROR(VLOOKUP(A67,Brassage!$B$25:$H$33,2,FALSE),\"\"))","v":""},{"$f":"IF(Stock!D67=\"0\",\"0\",SUMIF(Brassage!$B$25:$B$33,Stock!D67,Brassage!$H$25:$H$33))","v":0},null,{"$f":"IF([2]Stock!E67=\"\",\"\",[2]Stock!E67)","v":""},{"$f":"IF([2]Stock!F67=\"\",\"\",[2]Stock!F67)","v":""},{"$f":"IF([2]Stock!G67=\"\",\"\",[2]Stock!G67)","v":""},{"$f":"IF([2]Stock!H67=\"\",\"\",[2]Stock!H67)","v":""},{"$f":"IF(H67=\"\",\"\",IFERROR(VLOOKUP(H67,Brassage!$B$45:$H$57,1,FALSE),\"\"))","v":""},{"$f":"IF(L67=\"\",\"\",IFERROR(VLOOKUP(L67,Brassage!$B$45:$H$57,2,FALSE),\"\"))","v":""},{"$f":"IF(L67=\"0\",\"0\",SUMIF(Brassage!$B$45:$B$57,L67,Brassage!$F$45:$F$57))","v":0},null,{"$f":"IF([2]Stock!J67=\"\",\"\",[2]Stock!J67)","v":""},{"$f":"IF([2]Stock!K67=\"\",\"\",[2]Stock!K67)","v":""},{"$f":"IF(P67=\"\",\"\",IFERROR(VLOOKUP(P67,Brassage!$B$61:$H$62,1,FALSE),\"\"))","v":""},{"$f":"IF(R67=\"0\",\"0\",IFERROR(VLOOKUP(P67,Brassage!$B$61:$H$62,7,FALSE),\"0\"))","v":"0"},null,{"$f":"IF([2]Stock!M67=\"\",\"\",[2]Stock!M67)","v":""},{"$f":"IF([2]Stock!N67=\"\",\"\",[2]Stock!N67)","v":""},{"$f":"IF(U67=\"\",\"\",IFERROR(VLOOKUP(U67,Brassage!$B$39:$H$42,1,FALSE),\"\"))","v":""},{"$f":"IF(U67=\"0\",\"0\",IFERROR(VLOOKUP(U67,Brassage!$B$39:$H$42,5,FALSE),\"0\"))","v":"0"}]
[{"$f":"IF([2]Stock!A68=\"\",\"\",[2]Stock!A68)","v":""},{"$f":"IF([2]Stock!B68=\"\",\"\",[2]Stock!B68)","v":""},{"$f":"IF([2]Stock!C68=\"\",\"\",[2]Stock!C68)","v":""},{"$f":"IF(A68=\"\",\"\",IFERROR(VLOOKUP(A68,Brassage!$B$25:$H$33,1,FALSE),\"\"))","v":""},{"$f":"IF(A68=\"\",\"\",IFERROR(VLOOKUP(A68,Brassage!$B$25:$H$33,2,FALSE),\"\"))","v":""},{"$f":"IF(Stock!D68=\"0\",\"0\",SUMIF(Brassage!$B$25:$B$33,Stock!D68,Brassage!$H$25:$H$33))","v":0},null,{"$f":"IF([2]Stock!E68=\"\",\"\",[2]Stock!E68)","v":""},{"$f":"IF([2]Stock!F68=\"\",\"\",[2]Stock!F68)","v":""},{"$f":"IF([2]Stock!G68=\"\",\"\",[2]Stock!G68)","v":""},{"$f":"IF([2]Stock!H68=\"\",\"\",[2]Stock!H68)","v":""},{"$f":"IF(H68=\"\",\"\",IFERROR(VLOOKUP(H68,Brassage!$B$45:$H$57,1,FALSE),\"\"))","v":""},{"$f":"IF(L68=\"\",\"\",IFERROR(VLOOKUP(L68,Brassage!$B$45:$H$57,2,FALSE),\"\"))","v":""},{"$f":"IF(L68=\"0\",\"0\",SUMIF(Brassage!$B$45:$B$57,L68,Brassage!$F$45:$F$57))","v":0},null,{"$f":"IF([2]Stock!J68=\"\",\"\",[2]Stock!J68)","v":""},{"$f":"IF([2]Stock!K68=\"\",\"\",[2]Stock!K68)","v":""},{"$f":"IF(P68=\"\",\"\",IFERROR(VLOOKUP(P68,Brassage!$B$61:$H$62,1,FALSE),\"\"))","v":""},{"$f":"IF(R68=\"0\",\"0\",IFERROR(VLOOKUP(P68,Brassage!$B$61:$H$62,7,FALSE),\"0\"))","v":"0"},null,{"$f":"IF([2]Stock!M68=\"\",\"\",[2]Stock!M68)","v":""},{"$f":"IF([2]Stock!N68=\"\",\"\",[2]Stock!N68)","v":""},{"$f":"IF(U68=\"\",\"\",IFERROR(VLOOKUP(U68,Brassage!$B$39:$H$42,1,FALSE),\"\"))","v":""},{"$f":"IF(U68=\"0\",\"0\",IFERROR(VLOOKUP(U68,Brassage!$B$39:$H$42,5,FALSE),\"0\"))","v":"0"}]
[{"$f":"IF([2]Stock!A69=\"\",\"\",[2]Stock!A69)","v":""},{"$f":"IF([2]Stock!B69=\"\",\"\",[2]Stock!B69)","v":""},{"$f":"IF([2]Stock!C69=\"\",\"\",[2]Stock!C69)","v":""},{"$f":"IF(A69=\"\",\"\",IFERROR(VLOOKUP(A69,Brassage!$B$25:$H$33,1,FALSE),\"\"))","v":""},{"$f":"IF(A69=\"\",\"\",IFERROR(VLOOKUP(A69,Brassage!$B$25:$H$33,2,FALSE),\"\"))","v":""},{"$f":"IF(Stock!D69=\"0\",\"0\",SUMIF(Brassage!$B$25:$B$33,Stock!D69,Brassage!$H$25:$H$33))","v":0},null,{"$f":"IF([2]Stock!E69=\"\",\"\",[2]Stock!E69)","v":""},{"$f":"IF([2]Stock!F69=\"\",\"\",[2]Stock!F69)","v":""},{"$f":"IF([2]Stock!G69=\"\",\"\",[2]Stock!G69)","v":""},{"$f":"IF([2]Stock!H69=\"\",\"\",[2]Stock!H69)","v":""},{"$f":"IF(H69=\"\",\"\",IFERROR(VLOOKUP(H69,Brassage!$B$45:$H$57,1,FALSE),\"\"))","v":""},{"$f":"IF(L69=\"\",\"\",IFERROR(VLOOKUP(L69,Brassage!$B$45:$H$57,2,FALSE),\"\"))","v":""},{"$f":"IF(L69=\"0\",\"0\",SUMIF(Brassage!$B$45:$B$57,L69,Brassage!$F$45:$F$57))","v":0},null,{"$f":"IF([2]Stock!J69=\"\",\"\",[2]Stock!J69)","v":""},{"$f":"IF([2]Stock!K69=\"\",\"\",[2]Stock!K69)","v":""},{"$f":"IF(P69=\"\",\"\",IFERROR(VLOOKUP(P69,Brassage!$B$61:$H$62,1,FALSE),\"\"))","v":""},{"$f":"IF(R69=\"0\",\"0\",IFERROR(VLOOKUP(P69,Brassage!$B$61:$H$62,7,FALSE),\"0\"))","v":"0"},null,{"$f":"IF([2]Stock!M69=\"\",\"\",[2]Stock!M69)","v":""},{"$f":"IF([2]Stock!N69=\"\",\"\",[2]Stock!N69)","v":""},{"$f":"IF(U69=\"\",\"\",IFERROR(VLOOKUP(U69,Brassage!$B$39:$H$42,1,FALSE),\"\"))","v":""},{"$f":"IF(U69=\"0\",\"0\",IFERROR(VLOOKUP(U69,Brassage!$B$39:$H$42,5,FALSE),\"0\"))","v":"0"}]
[{"$f":"IF([2]Stock!A70=\"\",\"\",[2]Stock!A70)","v":""},{"$f":"IF([2]Stock!B70=\"\",\"\",[2]Stock!B70)","v":""},{"$f":"IF([2]Stock!C70=\"\",\"\",[2]Stock!C70)","v":""},{"$f":"IF(A70=\"\",\"\",IFERROR(VLOOKUP(A70,Brassage!$B$25:$H$33,1,FALSE),\"\"))","v":""},{"$f":"IF(A70=\"\",\"\",IFERROR(VLOOKUP(A70,Brassage!$B$25:$H$33,2,FALSE),\"\"))","v":""},{"$f":"IF(Stock!D70=\"0\",\"0\",SUMIF(Brassage!$B$25:$B$33,Stock!D70,Brassage!$H$25:$H$33))","v":0},null,{"$f":"IF([2]Stock!E70=\"\",\"\",[2]Stock!E70)","v":""},{"$f":"IF([2]Stock!F70=\"\",\"\",[2]Stock!F70)","v":""},{"$f":"IF([2]Stock!G70=\"\",\"\",[2]Stock!G70)","v":""},{"$f":"IF([2]Stock!H70=\"\",\"\",[2]Stock!H70)","v":""},{"$f":"IF(H70=\"\",\"\",IFERROR(VLOOKUP(H70,Brassage!$B$45:$H$57,1,FALSE),\"\"))","v":""},{"$f":"IF(L70=\"\",\"\",IFERROR(VLOOKUP(L70,Brassage!$B$45:$H$57,2,FALSE),\"\"))","v":""},{"$f":"IF(L70=\"0\",\"0\",SUMIF(Brassage!$B$45:$B$57,L70,Brassage!$F$45:$F$57))","v":0},null,{"$f":"IF([2]Stock!J70=\"\",\"\",[2]Stock!J70)","v":""},{"$f":"IF([2]Stock!K70=\"\",\"\",[2]Stock!K70)","v":""},{"$f":"IF(P70=\"\",\"\",IFERROR(VLOOKUP(P70,Brassage!$B$61:$H$62,1,FALSE),\"\"))","v":""},{"$f":"IF(R70=\"0\",\"0\",IFERROR(VLOOKUP(P70,Brassage!$B$61:$H$62,7,FALSE),\"0\"))","v":"0"},null,{"$f":"IF([2]Stock!M70=\"\",\"\",[2]Stock!M70)","v":""},{"$f":"IF([2]Stock!N70=\"\",\"\",[2]Stock!N70)","v":""},{"$f":"IF(U70=\"\",\"\",IFERROR(VLOOKUP(U70,Brassage!$B$39:$H$42,1,FALSE),\"\"))","v":""},{"$f":"IF(U70=\"0\",\"0\",IFERROR(VLOOKUP(U70,Brassage!$B$39:$H$42,5,FALSE),\"0\"))","v":"0"}]
[{"$f":"IF([2]Stock!A71=\"\",\"\",[2]Stock!A71)","v":""},{"$f":"IF([2]Stock!B71=\"\",\"\",[2]Stock!B71)","v":""},{"$f":"IF([2]Stock!C71=\"\",\"\",[2]Stock!C71)","v":""},{"$f":"IF(A71=\"\",\"\",IFERROR(VLOOKUP(A71,Brassage!$B$25:$H$33,1,FALSE),\"\"))","v":""},{"$f":"IF(A71=\"\",\"\",IFERROR(VLOOKUP(A71,Brassage!$B$25:$H$33,2,FALSE),\"\"))","v":""},{"$f":"IF(Stock!D71=\"0\",\"0\",SUMIF(Brassage!$B$25:$B$33,Stock!D71,Brassage!$H$25:$H$33))","v":0},null,{"$f":"IF([2]Stock!E71=\"\",\"\",[2]Stock!E71)","v":""},{"$f":"IF([2]Stock!F71=\"\",\"\",[2]Stock!F71)","v":""},{"$f":"IF([2]Stock!G71=\"\",\"\",[2]Stock!G71)","v":""},{"$f":"IF([2]Stock!H71=\"\",\"\",[2]Stock!H71)","v":""},{"$f":"IF(H71=\"\",\"\",IFERROR(VLOOKUP(H71,Brassage!$B$45:$H$57,1,FALSE),\"\"))","v":""},{"$f":"IF(L71=\"\",\"\",IFERROR(VLOOKUP(L71,Brassage!$B$45:$H$57,2,FALSE),\"\"))","v":""},{"$f":"IF(L71=\"0\",\"0\",SUMIF(Brassage!$B$45:$B$57,L71,Brassage!$F$45:$F$57))","v":0},null,{"$f":"IF([2]Stock!J71=\"\",\"\",[2]Stock!J71)","v":""},{"$f":"IF([2]Stock!K71=\"\",\"\",[2]Stock!K71)","v":""},{"$f":"IF(P71=\"\",\"\",IFERROR(VLOOKUP(P71,Brassage!$B$61:$H$62,1,FALSE),\"\"))","v":""},{"$f":"IF(R71=\"0\",\"0\",IFERROR(VLOOKUP(P71,Brassage!$B$61:$H$62,7,FALSE),\"0\"))","v":"0"},null,{"$f":"IF([2]Stock!M71=\"\",\"\",[2]Stock!M71)","v":""},{"$f":"IF([2]Stock!N71=\"\",\"\",[2]Stock!N71)","v":""},{"$f":"IF(U71=\"\",\"\",IFERROR(VLOOKUP(U71,Brassage!$B$39:$H$42,1,FALSE),\"\"))","v":""},{"$f":"IF(U71=\"0\",\"0\",IFERROR(VLOOKUP(U71,Brassage!$B$39:$H$42,5,FALSE),\"0\"))","v":"0"}]
[{"$f":"IF([2]Stock!A72=\"\",\"\",[2]Stock!A72)","v":""},{"$f":"IF([2]Stock!B72=\"\",\"\",[2]Stock!B72)","v":""},{"$f":"IF([2]Stock!C72=\"\",\"\",[2]Stock!C72)","v":""},{"$f":"IF(A72=\"\",\"\",IFERROR(VLOOKUP(A72,Brassage!$B$25:$H$33,1,FALSE),\"\"))","v":""},{"$f":"IF(A72=\"\",\"\",IFERROR(VLOOKUP(A72,Brassage!$B$25:$H$33,2,FALSE),\"\"))","v":""},{"$f":"IF(Stock!D72=\"0\",\"0\",SUMIF(Brassage!$B$25:$B$33,Stock!D72,Brassage!$H$25:$H$33))","v":0},null,{"$f":"IF([2]Stock!E72=\"\",\"\",[2]Stock!E72)","v":""},{"$f":"IF([2]Stock!F72=\"\",\"\",[2]Stock!F72)","v":""},{"$f":"IF([2]Stock!G72=\"\",\"\",[2]Stock!G72)","v":""},{"$f":"IF([2]Stock!H72=\"\",\"\",[2]Stock!H72)","v":""},{"$f":"IF(H72=\"\",\"\",IFERROR(VLOOKUP(H72,Brassage!$B$45:$H$57,1,FALSE),\"\"))","v":""},{"$f":"IF(L72=\"\",\"\",IFERROR(VLOOKUP(L72,Brassage!$B$45:$H$57,2,FALSE),\"\"))","v":""},{"$f":"IF(L72=\"0\",\"0\",SUMIF(Brassage!$B$45:$B$57,L72,Brassage!$F$45:$F$57))","v":0},null,{"$f":"IF([2]Stock!J72=\"\",\"\",[2]Stock!J72)","v":""},{"$f":"IF([2]Stock!K72=\"\",\"\",[2]Stock!K72)","v":""},{"$f":"IF(P72=\"\",\"\",IFERROR(VLOOKUP(P72,Brassage!$B$61:$H$62,1,FALSE),\"\"))","v":""},{"$f":"IF(R72=\"0\",\"0\",IFERROR(VLOOKUP(P72,Brassage!$B$61:$H$62,7,FALSE),\"0\"))","v":"0"},null,{"$f":"IF([2]Stock!M72=\"\",\"\",[2]Stock!M72)","v":""},{"$f":"IF([2]Stock!N72=\"\",\"\",[2]Stock!N72)","v":""},{"$f":"IF(U72=\"\",\"\",IFERROR(VLOOKUP(U72,Brassage!$B$39:$H$42,1,FALSE),\"\"))","v":""},{"$f":"IF(U72=\"0\",\"0\",IFERROR(VLOOKUP(U72,Brassage!$B$39:$H$42,5,FALSE),\"0\"))","v":"0"}]
[{"$f":"IF([2]Stock!A73=\"\",\"\",[2]Stock!A73)","v":""},{"$f":"IF([2]Stock!B73=\"\",\"\",[2]Stock!B73)","v":""},{"$f":"IF([2]Stock!C73=\"\",\"\",[2]Stock!C73)","v":""},{"$f":"IF(A73=\"\",\"\",IFERROR(VLOOKUP(A73,Brassage!$B$25:$H$33,1,FALSE),\"\"))","v":""},{"$f":"IF(A73=\"\",\"\",IFERROR(VLOOKUP(A73,Brassage!$B$25:$H$33,2,FALSE),\"\"))","v":""},{"$f":"IF(Stock!D73=\"0\",\"0\",SUMIF(Brassage!$B$25:$B$33,Stock!D73,Brassage!$H$25:$H$33))","v":0},null,{"$f":"IF([2]Stock!E73=\"\",\"\",[2]Stock!E73)","v":""},{"$f":"IF([2]Stock!F73=\"\",\"\",[2]Stock!F73)","v":""},{"$f":"IF([2]Stock!G73=\"\",\"\",[2]Stock!G73)","v":""},{"$f":"IF([2]Stock!H73=\"\",\"\",[2]Stock!H73)","v":""},{"$f":"IF(H73=\"\",\"\",IFERROR(VLOOKUP(H73,Brassage!$B$45:$H$57,1,FALSE),\"\"))","v":""},{"$f":"IF(L73=\"\",\"\",IFERROR(VLOOKUP(L73,Brassage!$B$45:$H$57,2,FALSE),\"\"))","v":""},{"$f":"IF(L73=\"0\",\"0\",SUMIF(Brassage!$B$45:$B$57,L73,Brassage!$F$45:$F$57))","v":0},null,{"$f":"IF([2]Stock!J73=\"\",\"\",[2]Stock!J73)","v":""},{"$f":"IF([2]Stock!K73=\"\",\"\",[2]Stock!K73)","v":""},{"$f":"IF(P73=\"\",\"\",IFERROR(VLOOKUP(P73,Brassage!$B$61:$H$62,1,FALSE),\"\"))","v":""},{"$f":"IF(R73=\"0\",\"0\",IFERROR(VLOOKUP(P73,Brassage!$B$61:$H$62,7,FALSE),\"0\"))","v":"0"},null,{"$f":"IF([2]Stock!M73=\"\",\"\",[2]Stock!M73)","v":""},{"$f":"IF([2]Stock!N73=\"\",\"\",[2]Stock!N73)","v":""},{"$f":"IF(U73=\"\",\"\",IFERROR(VLOOKUP(U73,Brassage!$B$39:$H$42,1,FALSE),\"\"))","v":""},{"$f":"IF(U73=\"0\",\"0\",IFERROR(VLOOKUP(U73,Brassage!$B$39:$H$42,5,FALSE),\"0\"))","v":"0"}]
[{"$f":"IF([2]Stock!A74=\"\",\"\",[2]Stock!A74)","v":""},{"$f":"IF([2]Stock!B74=\"\",\"\",[2]Stock!B74)","v":""},{"$f":"IF([2]Stock!C74=\"\",\"\",[2]Stock!C74)","v":""},{"$f":"IF(A74=\"\",\"\",IFERROR(VLOOKUP(A74,Brassage!$B$25:$H$33,1,FALSE),\"\"))","v":""},{"$f":"IF(A74=\"\",\"\",IFERROR(VLOOKUP(A74,Brassage!$B$25:$H$33,2,FALSE),\"\"))","v":""},{"$f":"IF(Stock!D74=\"0\",\"0\",SUMIF(Brassage!$B$25:$B$33,Stock!D74,Brassage!$H$25:$H$33))","v":0},null,{"$f":"IF([2]Stock!E74=\"\",\"\",[2]Stock!E74)","v":""},{"$f":"IF([2]Stock!F74=\"\",\"\",[2]Stock!F74)","v":""},{"$f":"IF([2]Stock!G74=\"\",\"\",[2]Stock!G74)","v":""},{"$f":"IF([2]Stock!H74=\"\",\"\",[2]Stock!H74)","v":""},{"$f":"IF(H74=\"\",\"\",IFERROR(VLOOKUP(H74,Brassage!$B$45:$H$57,1,FALSE),\"\"))","v":""},{"$f":"IF(L74=\"\",\"\",IFERROR(VLOOKUP(L74,Brassage!$B$45:$H$57,2,FALSE),\"\"))","v":""},{"$f":"IF(L74=\"0\",\"0\",SUMIF(Brassage!$B$45:$B$57,L74,Brassage!$F$45:$F$57))","v":0},null,{"$f":"IF([2]Stock!J74=\"\",\"\",[2]Stock!J74)","v":""},{"$f":"IF([2]Stock!K74=\"\",\"\",[2]Stock!K74)","v":""},{"$f":"IF(P74=\"\",\"\",IFERROR(VLOOKUP(P74,Brassage!$B$61:$H$62,1,FALSE),\"\"))","v":""},{"$f":"IF(R74=\"0\",\"0\",IFERROR(VLOOKUP(P74,Brassage!$B$61:$H$62,7,FALSE),\"0\"))","v":"0"},null,{"$f":"IF([2]Stock!M74=\"\",\"\",[2]Stock!M74)","v":""},{"$f":"IF([2]Stock!N74=\"\",\"\",[2]Stock!N74)","v":""},{"$f":"IF(U74=\"\",\"\",IFERROR(VLOOKUP(U74,Brassage!$B$39:$H$42,1,FALSE),\"\"))","v":""},{"$f":"IF(U74=\"0\",\"0\",IFERROR(VLOOKUP(U74,Brassage!$B$39:$H$42,5,FALSE),\"0\"))","v":"0"}]
[{"$f":"IF([2]Stock!A75=\"\",\"\",[2]Stock!A75)","v":""},{"$f":"IF([2]Stock!B75=\"\",\"\",[2]Stock!B75)","v":""},{"$f":"IF([2]Stock!C75=\"\",\"\",[2]Stock!C75)","v":""},{"$f":"IF(A75=\"\",\"\",IFERROR(VLOOKUP(A75,Brassage!$B$25:$H$33,1,FALSE),\"\"))","v":""},{"$f":"IF(A75=\"\",\"\",IFERROR(VLOOKUP(A75,Brassage!$B$25:$H$33,2,FALSE),\"\"))","v":""},{"$f":"IF(Stock!D75=\"0\",\"0\",SUMIF(Brassage!$B$25:$B$33,Stock!D75,Brassage!$H$25:$H$33))","v":0},null,{"$f":"IF([2]Stock!E75=\"\",\"\",[2]Stock!E75)","v":""},{"$f":"IF([2]Stock!F75=\"\",\"\",[2]Stock!F75)","v":""},{"$f":"IF([2]Stock!G75=\"\",\"\",[2]Stock!G75)","v":""},{"$f":"IF([2]Stock!H75=\"\",\"\",[2]Stock!H75)","v":""},{"$f":"IF(H75=\"\",\"\",IFERROR(VLOOKUP(H75,Brassage!$B$45:$H$57,1,FALSE),\"\"))","v":""},{"$f":"IF(L75=\"\",\"\",IFERROR(VLOOKUP(L75,Brassage!$B$45:$H$57,2,FALSE),\"\"))","v":""},{"$f":"IF(L75=\"0\",\"0\",SUMIF(Brassage!$B$45:$B$57,L75,Brassage!$F$45:$F$57))","v":0},null,{"$f":"IF([2]Stock!J75=\"\",\"\",[2]Stock!J75)","v":""},{"$f":"IF([2]Stock!K75=\"\",\"\",[2]Stock!K75)","v":""},{"$f":"IF(P75=\"\",\"\",IFERROR(VLOOKUP(P75,Brassage!$B$61:$H$62,1,FALSE),\"\"))","v":""},{"$f":"IF(R75=\"0\",\"0\",IFERROR(VLOOKUP(P75,Brassage!$B$61:$H$62,7,FALSE),\"0\"))","v":"0"},null,{"$f":"IF([2]Stock!M75=\"\",\"\",[2]Stock!M75)","v":""},{"$f":"IF([2]Stock!N75=\"\",\"\",[2]Stock!N75)","v":""},{"$f":"IF(U75=\"\",\"\",IFERROR(VLOOKUP(U75,Brassage!$B$39:$H$42,1,FALSE),\"\"))","v":""},{"$f":"IF(U75=\"0\",\"0\",IFERROR(VLOOKUP(U75,Brassage!$B$39:$H$42,5,FALSE),\"0\"))","v":"0"}]
[{"$f":"IF([2]Stock!A76=\"\",\"\",[2]Stock!A76)","v":""},{"$f":"IF([2]Stock!B76=\"\",\"\",[2]Stock!B76)","v":""},{"$f":"IF([2]Stock!C76=\"\",\"\",[2]Stock!C76)","v":""},{"$f":"IF(A76=\"\",\"\",IFERROR(VLOOKUP(A76,Brassage!$B$25:$H$33,1,FALSE),\"\"))","v":""},{"$f":"IF(A76=\"\",\"\",IFERROR(VLOOKUP(A76,Brassage!$B$25:$H$33,2,FALSE),\"\"))","v":""},{"$f":"IF(Stock!D76=\"0\",\"0\",SUMIF(Brassage!$B$25:$B$33,Stock!D76,Brassage!$H$25:$H$33))","v":0},null,{"$f":"IF([2]Stock!E76=\"\",\"\",[2]Stock!E76)","v":""},{"$f":"IF([2]Stock!F76=\"\",\"\",[2]Stock!F76)","v":""},{"$f":"IF([2]Stock!G76=\"\",\"\",[2]Stock!G76)","v":""},{"$f":"IF([2]Stock!H76=\"\",\"\",[2]Stock!H76)","v":""},{"$f":"IF(H76=\"\",\"\",IFERROR(VLOOKUP(H76,Brassage!$B$45:$H$57,1,FALSE),\"\"))","v":""},{"$f":"IF(L76=\"\",\"\",IFERROR(VLOOKUP(L76,Brassage!$B$45:$H$57,2,FALSE),\"\"))","v":""},{"$f":"IF(L76=\"0\",\"0\",SUMIF(Brassage!$B$45:$B$57,L76,Brassage!$F$45:$F$57))","v":0},null,{"$f":"IF([2]Stock!J76=\"\",\"\",[2]Stock!J76)","v":""},{"$f":"IF([2]Stock!K76=\"\",\"\",[2]Stock!K76)","v":""},{"$f":"IF(P76=\"\",\"\",IFERROR(VLOOKUP(P76,Brassage!$B$61:$H$62,1,FALSE),\"\"))","v":""},{"$f":"IF(R76=\"0\",\"0\",IFERROR(VLOOKUP(P76,Brassage!$B$61:$H$62,7,FALSE),\"0\"))","v":"0"},null,{"$f":"IF([2]Stock!M76=\"\",\"\",[2]Stock!M76)","v":""},{"$f":"IF([2]Stock!N76=\"\",\"\",[2]Stock!N76)","v":""},{"$f":"IF(U76=\"\",\"\",IFERROR(VLOOKUP(U76,Brassage!$B$39:$H$42,1,FALSE),\"\"))","v":""},{"$f":"IF(U76=\"0\",\"0\",IFERROR(VLOOKUP(U76,Brassage!$B$39:$H$42,5,FALSE),\"0\"))","v":"0"}]
[{"$f":"IF([2]Stock!A77=\"\",\"\",[2]Stock!A77)","v":""},{"$f":"IF([2]Stock!B77=\"\",\"\",[2]Stock!B77)","v":""},{"$f":"IF([2]Stock!C77=\"\",\"\",[2]Stock!C77)","v":""},{"$f":"IF(A77=\"\",\"\",IFERROR(VLOOKUP(A77,Brassage!$B$25:$H$33,1,FALSE),\"\"))","v":""},{"$f":"IF(A77=\"\",\"\",IFERROR(VLOOKUP(A77,Brassage!$B$25:$H$33,2,FALSE),\"\"))","v":""},{"$f":"IF(Stock!D77=\"0\",\"0\",SUMIF(Brassage!$B$25:$B$33,Stock!D77,Brassage!$H$25:$H$33))","v":0},null,{"$f":"IF([2]Stock!E77=\"\",\"\",[2]Stock!E77)","v":""},{"$f":"IF([2]Stock!F77=\"\",\"\",[2]Stock!F77)","v":""},{"$f":"IF([2]Stock!G77=\"\",\"\",[2]Stock!G77)","v":""},{"$f":"IF([2]Stock!H77=\"\",\"\",[2]Stock!H77)","v":""},{"$f":"IF(H77=\"\",\"\",IFERROR(VLOOKUP(H77,Brassage!$B$45:$H$57,1,FALSE),\"\"))","v":""},{"$f":"IF(L77=\"\",\"\",IFERROR(VLOOKUP(L77,Brassage!$B$45:$H$57,2,FALSE),\"\"))","v":""},{"$f":"IF(L77=\"0\",\"0\",SUMIF(Brassage!$B$45:$B$57,L77,Brassage!$F$45:$F$57))","v":0},null,{"$f":"IF([2]Stock!J77=\"\",\"\",[2]Stock!J77)","v":""},{"$f":"IF([2]Stock!K77=\"\",\"\",[2]Stock!K77)","v":""},{"$f":"IF(P77=\"\",\"\",IFERROR(VLOOKUP(P77,Brassage!$B$61:$H$62,1,FALSE),\"\"))","v":""},{"$f":"IF(R77=\"0\",\"0\",IFERROR(VLOOKUP(P77,Brassage!$B$61:$H$62,7,FALSE),\"0\"))","v":"0"},null,{"$f":"IF([2]Stock!M77=\"\",\"\",[2]Stock!M77)","v":""},{"$f":"IF([2]Stock!N77=\"\",\"\",[2]Stock!N77)","v":""},{"$f":"IF(U77=\"\",\"\",IFERROR(VLOOKUP(U77,Brassage!$B$39:$H$42,1,FALSE),\"\"))","v":""},{"$f":"IF(U77=\"0\",\"0\",IFERROR(VLOOKUP(U77,Brassage!$B$39:$H$42,5,FALSE),\"0\"))","v":"0"}]
[{"$f":"IF([2]Stock!A78=\"\",\"\",[2]Stock!A78)","v":""},{"$f":"IF([2]Stock!B78=\"\",\"\",[2]Stock!B78)","v":""},{"$f":"IF([2]Stock!C78=\"\",\"\",[2]Stock!C78)","v":""},{"$f":"IF(A78=\"\",\"\",IFERROR(VLOOKUP(A78,Brassage!$B$25:$H$33,1,FALSE),\"\"))","v":""},{"$f":"IF(A78=\"\",\"\",IFERROR(VLOOKUP(A78,Brassage!$B$25:$H$33,2,FALSE),\"\"))","v":""},{"$f":"IF(Stock!D78=\"0\",\"0\",SUMIF(Brassage!$B$25:$B$33,Stock!D78,Brassage!$H$25:$H$33))","v":0},null,{"$f":"IF([2]Stock!E78=\"\",\"\",[2]Stock!E78)","v":""},{"$f":"IF([2]Stock!F78=\"\",\"\",[2]Stock!F78)","v":""},{"$f":"IF([2]Stock!G78=\"\",\"\",[2]Stock!G78)","v":""},{"$f":"IF([2]Stock!H78=\"\",\"\",[2]Stock!H78)","v":""},{"$f":"IF(H78=\"\",\"\",IFERROR(VLOOKUP(H78,Brassage!$B$45:$H$57,1,FALSE),\"\"))","v":""},{"$f":"IF(L78=\"\",\"\",IFERROR(VLOOKUP(L78,Brassage!$B$45:$H$57,2,FALSE),\"\"))","v":""},{"$f":"IF(L78=\"0\",\"0\",SUMIF(Brassage!$B$45:$B$57,L78,Brassage!$F$45:$F$57))","v":0},null,{"$f":"IF([2]Stock!J78=\"\",\"\",[2]Stock!J78)","v":""},{"$f":"IF([2]Stock!K78=\"\",\"\",[2]Stock!K78)","v":""},{"$f":"IF(P78=\"\",\"\",IFERROR(VLOOKUP(P78,Brassage!$B$61:$H$62,1,FALSE),\"\"))","v":""},{"$f":"IF(R78=\"0\",\"0\",IFERROR(VLOOKUP(P78,Brassage!$B$61:$H$62,7,FALSE),\"0\"))","v":"0"},null,{"$f":"IF([2]Stock!M78=\"\",\"\",[2]Stock!M78)","v":""},{"$f":"IF([2]Stock!N78=\"\",\"\",[2]Stock!N78)","v":""},{"$f":"IF(U78=\"\",\"\",IFERROR(VLOOKUP(U78,Brassage!$B$39:$H$42,1,FALSE),\"\"))","v":""},{"$f":"IF(U78=\"0\",\"0\",IFERROR(VLOOKUP(U78,Brassage!$B$39:$H$42,5,FALSE),\"0\"))","v":"0"}]
[{"$f":"IF([2]Stock!A79=\"\",\"\",[2]Stock!A79)","v":""},{"$f":"IF([2]Stock!B79=\"\",\"\",[2]Stock!B79)","v":""},{"$f":"IF([2]Stock!C79=\"\",\"\",[2]Stock!C79)","v":""},{"$f":"IF(A79=\"\",\"\",IFERROR(VLOOKUP(A79,Brassage!$B$25:$H$33,1,FALSE),\"\"))","v":""},{"$f":"IF(A79=\"\",\"\",IFERROR(VLOOKUP(A79,Brassage!$B$25:$H$33,2,FALSE),\"\"))","v":""},{"$f":"IF(Stock!D79=\"0\",\"0\",SUMIF(Brassage!$B$25:$B$33,Stock!D79,Brassage!$H$25:$H$33))","v":0},null,{"$f":"IF([2]Stock!E79=\"\",\"\",[2]Stock!E79)","v":""},{"$f":"IF([2]Stock!F79=\"\",\"\",[2]Stock!F79)","v":""},{"$f":"IF([2]Stock!G79=\"\",\"\",[2]Stock!G79)","v":""},{"$f":"IF([2]Stock!H79=\"\",\"\",[2]Stock!H79)","v":""},{"$f":"IF(H79=\"\",\"\",IFERROR(VLOOKUP(H79,Brassage!$B$45:$H$57,1,FALSE),\"\"))","v":""},{"$f":"IF(L79=\"\",\"\",IFERROR(VLOOKUP(L79,Brassage!$B$45:$H$57,2,FALSE),\"\"))","v":""},{"$f":"IF(L79=\"0\",\"0\",SUMIF(Brassage!$B$45:$B$57,L79,Brassage!$F$45:$F$57))","v":0},null,{"$f":"IF([2]Stock!J79=\"\",\"\",[2]Stock!J79)","v":""},{"$f":"IF([2]Stock!K79=\"\",\"\",[2]Stock!K79)","v":""},{"$f":"IF(P79=\"\",\"\",IFERROR(VLOOKUP(P79,Brassage!$B$61:$H$62,1,FALSE),\"\"))","v":""},{"$f":"IF(R79=\"0\",\"0\",IFERROR(VLOOKUP(P79,Brassage!$B$61:$H$62,7,FALSE),\"0\"))","v":"0"},null,{"$f":"IF([2]Stock!M79=\"\",\"\",[2]Stock!M79)","v":""},{"$f":"IF([2]Stock!N79=\"\",\"\",[2]Stock!N79)","v":""},{"$f":"IF(U79=\"\",\"\",IFERROR(VLOOKUP(U79,Brassage!$B$39:$H$42,1,FALSE),\"\"))","v":""},{"$f":"IF(U79=\"0\",\"0\",IFERROR(VLOOKUP(U79,Brassage!$B$39:$H$42,5,FALSE),\"0\"))","v":"0"}]
[{"$f":"IF([2]Stock!A80=\"\",\"\",[2]Stock!A80)","v":""},{"$f":"IF([2]Stock!B80=\"\",\"\",[2]Stock!B80)","v":""},{"$f":"IF([2]Stock!C80=\"\",\"\",[2]Stock!C80)","v":""},{"$f":"IF(A80=\"\",\"\",IFERROR(VLOOKUP(A80,Brassage!$B$25:$H$33,1,FALSE),\"\"))","v":""},{"$f":"IF(A80=\"\",\"\",IFERROR(VLOOKUP(A80,Brassage!$B$25:$H$33,2,FALSE),\"\"))","v":""},{"$f":"IF(Stock!D80=\"0\",\"0\",SUMIF(Brassage!$B$25:$B$33,Stock!D80,Brassage!$H$25:$H$33))","v":0},null,{"$f":"IF([2]Stock!E80=\"\",\"\",[2]Stock!E80)","v":""},{"$f":"IF([2]Stock!F80=\"\",\"\",[2]Stock!F80)","v":""},{"$f":"IF([2]Stock!G80=\"\",\"\",[2]Stock!G80)","v":""},{"$f":"IF([2]Stock!H80=\"\",\"\",[2]Stock!H80)","v":""},{"$f":"IF(H80=\"\",\"\",IFERROR(VLOOKUP(H80,Brassage!$B$45:$H$57,1,FALSE),\"\"))","v":""},{"$f":"IF(L80=\"\",\"\",IFERROR(VLOOKUP(L80,Brassage!$B$45:$H$57,2,FALSE),\"\"))","v":""},{"$f":"IF(L80=\"0\",\"0\",SUMIF(Brassage!$B$45:$B$57,L80,Brassage!$F$45:$F$57))","v":0},null,{"$f":"IF([2]Stock!J80=\"\",\"\",[2]Stock!J80)","v":""},{"$f":"IF([2]Stock!K80=\"\",\"\",[2]Stock!K80)","v":""},{"$f":"IF(P80=\"\",\"\",IFERROR(VLOOKUP(P80,Brassage!$B$61:$H$62,1,FALSE),\"\"))","v":""},{"$f":"IF(R80=\"0\",\"0\",IFERROR(VLOOKUP(P80,Brassage!$B$61:$H$62,7,FALSE),\"0\"))","v":"0"},null,{"$f":"IF([2]Stock!M80=\"\",\"\",[2]Stock!M80)","v":""},{"$f":"IF([2]Stock!N80=\"\",\"\",[2]Stock!N80)","v":""},{"$f":"IF(U80=\"\",\"\",IFERROR(VLOOKUP(U80,Brassage!$B$39:$H$42,1,FALSE),\"\"))","v":""},{"$f":"IF(U80=\"0\",\"0\",IFERROR(VLOOKUP(U80,Brassage!$B$39:$H$42,5,FALSE),\"0\"))","v":"0"}]
[{"$f":"IF([2]Stock!A81=\"\",\"\",[2]Stock!A81)","v":""},{"$f":"IF([2]Stock!B81=\"\",\"\",[2]Stock!B81)","v":""},{"$f":"IF([2]Stock!C81=\"\",\"\",[2]Stock!C81)","v":""},{"$f":"IF(A81=\"\",\"\",IFERROR(VLOOKUP(A81,Brassage!$B$25:$H$33,1,FALSE),\"\"))","v":""},{"$f":"IF(A81=\"\",\"\",IFERROR(VLOOKUP(A81,Brassage!$B$25:$H$33,2,FALSE),\"\"))","v":""},{"$f":"IF(Stock!D81=\"0\",\"0\",SUMIF(Brassage!$B$25:$B$33,Stock!D81,Brassage!$H$25:$H$33))","v":0},null,{"$f":"IF([2]Stock!E81=\"\",\"\",[2]Stock!E81)","v":""},{"$f":"IF([2]Stock!F81=\"\",\"\",[2]Stock!F81)","v":""},{"$f":"IF([2]Stock!G81=\"\",\"\",[2]Stock!G81)","v":""},{"$f":"IF([2]Stock!H81=\"\",\"\",[2]Stock!H81)","v":""},{"$f":"IF(H81=\"\",\"\",IFERROR(VLOOKUP(H81,Brassage!$B$45:$H$57,1,FALSE),\"\"))","v":""},{"$f":"IF(L81=\"\",\"\",IFERROR(VLOOKUP(L81,Brassage!$B$45:$H$57,2,FALSE),\"\"))","v":""},{"$f":"IF(L81=\"0\",\"0\",SUMIF(Brassage!$B$45:$B$57,L81,Brassage!$F$45:$F$57))","v":0},null,{"$f":"IF([2]Stock!J81=\"\",\"\",[2]Stock!J81)","v":""},{"$f":"IF([2]Stock!K81=\"\",\"\",[2]Stock!K81)","v":""},{"$f":"IF(P81=\"\",\"\",IFERROR(VLOOKUP(P81,Brassage!$B$61:$H$62,1,FALSE),\"\"))","v":""},{"$f":"IF(R81=\"0\",\"0\",IFERROR(VLOOKUP(P81,Brassage!$B$61:$H$62,7,FALSE),\"0\"))","v":"0"},null,{"$f":"IF([2]Stock!M81=\"\",\"\",[2]Stock!M81)","v":""},{"$f":"IF([2]Stock!N81=\"\",\"\",[2]Stock!N81)","v":""},{"$f":"IF(U81=\"\",\"\",IFERROR(VLOOKUP(U81,Brassage!$B$39:$H$42,1,FALSE),\"\"))","v":""},{"$f":"IF(U81=\"0\",\"0\",IFERROR(VLOOKUP(U81,Brassage!$B$39:$H$42,5,FALSE),\"0\"))","v":"0"}]
[{"$f":"IF([2]Stock!A82=\"\",\"\",[2]Stock!A82)","v":""},{"$f":"IF([2]Stock!B82=\"\",\"\",[2]Stock!B82)","v":""},{"$f":"IF([2]Stock!C82=\"\",\"\",[2]Stock!C82)","v":""},{"$f":"IF(A82=\"\",\"\",IFERROR(VLOOKUP(A82,Brassage!$B$25:$H$33,1,FALSE),\"\"))","v":""},{"$f":"IF(A82=\"\",\"\",IFERROR(VLOOKUP(A82,Brassage!$B$25:$H$33,2,FALSE),\"\"))","v":""},{"$f":"IF(Stock!D82=\"0\",\"0\",SUMIF(Brassage!$B$25:$B$33,Stock!D82,Brassage!$H$25:$H$33))","v":0},null,{"$f":"IF([2]Stock!E82=\"\",\"\",[2]Stock!E82)","v":""},{"$f":"IF([2]Stock!F82=\"\",\"\",[2]Stock!F82)","v":""},{"$f":"IF([2]Stock!G82=\"\",\"\",[2]Stock!G82)","v":""},{"$f":"IF([2]Stock!H82=\"\",\"\",[2]Stock!H82)","v":""},{"$f":"IF(H82=\"\",\"\",IFERROR(VLOOKUP(H82,Brassage!$B$45:$H$57,1,FALSE),\"\"))","v":""},{"$f":"IF(L82=\"\",\"\",IFERROR(VLOOKUP(L82,Brassage!$B$45:$H$57,2,FALSE),\"\"))","v":""},{"$f":"IF(L82=\"0\",\"0\",SUMIF(Brassage!$B$45:$B$57,L82,Brassage!$F$45:$F$57))","v":0},null,{"$f":"IF([2]Stock!J82=\"\",\"\",[2]Stock!J82)","v":""},{"$f":"IF([2]Stock!K82=\"\",\"\",[2]Stock!K82)","v":""},{"$f":"IF(P82=\"\",\"\",IFERROR(VLOOKUP(P82,Brassage!$B$61:$H$62,1,FALSE),\"\"))","v":""},{"$f":"IF(R82=\"0\",\"0\",IFERROR(VLOOKUP(P82,Brassage!$B$61:$H$62,7,FALSE),\"0\"))","v":"0"},null,{"$f":"IF([2]Stock!M82=\"\",\"\",[2]Stock!M82)","v":""},{"$f":"IF([2]Stock!N82=\"\",\"\",[2]Stock!N82)","v":""},{"$f":"IF(U82=\"\",\"\",IFERROR(VLOOKUP(U82,Brassage!$B$39:$H$42,1,FALSE),\"\"))","v":""},{"$f":"IF(U82=\"0\",\"0\",IFERROR(VLOOKUP(U82,Brassage!$B$39:$H$42,5,FALSE),\"0\"))","v":"0"}]
[{"$f":"IF([2]Stock!A83=\"\",\"\",[2]Stock!A83)","v":""},{"$f":"IF([2]Stock!B83=\"\",\"\",[2]Stock!B83)","v":""},{"$f":"IF([2]Stock!C83=\"\",\"\",[2]Stock!C83)","v":""},{"$f":"IF(A83=\"\",\"\",IFERROR(VLOOKUP(A83,Brassage!$B$25:$H$33,1,FALSE),\"\"))","v":""},{"$f":"IF(A83=\"\",\"\",IFERROR(VLOOKUP(A83,Brassage!$B$25:$H$33,2,FALSE),\"\"))","v":""},{"$f":"IF(Stock!D83=\"0\",\"0\",SUMIF(Brassage!$B$25:$B$33,Stock!D83,Brassage!$H$25:$H$33))","v":0},null,{"$f":"IF([2]Stock!E83=\"\",\"\",[2]Stock!E83)","v":""},{"$f":"IF([2]Stock!F83=\"\",\"\",[2]Stock!F83)","v":""},{"$f":"IF([2]Stock!G83=\"\",\"\",[2]Stock!G83)","v":""},{"$f":"IF([2]Stock!H83=\"\",\"\",[2]Stock!H83)","v":""},{"$f":"IF(H83=\"\",\"\",IFERROR(VLOOKUP(H83,Brassage!$B$45:$H$57,1,FALSE),\"\"))","v":""},{"$f":"IF(L83=\"\",\"\",IFERROR(VLOOKUP(L83,Brassage!$B$45:$H$57,2,FALSE),\"\"))","v":""},{"$f":"IF(L83=\"0\",\"0\",SUMIF(Brassage!$B$45:$B$57,L83,Brassage!$F$45:$F$57))","v":0},null,{"$f":"IF([2]Stock!J83=\"\",\"\",[2]Stock!J83)","v":""},{"$f":"IF([2]Stock!K83=\"\",\"\",[2]Stock!K83)","v":""},{"$f":"IF(P83=\"\",\"\",IFERROR(VLOOKUP(P83,Brassage!$B$61:$H$62,1,FALSE),\"\"))","v":""},{"$f":"IF(R83=\"0\",\"0\",IFERROR(VLOOKUP(P83,Brassage!$B$61:$H$62,7,FALSE),\"0\"))","v":"0"},null,{"$f":"IF([2]Stock!M83=\"\",\"\",[2]Stock!M83)","v":""},{"$f":"IF([2]Stock!N83=\"\",\"\",[2]Stock!N83)","v":""},{"$f":"IF(U83=\"\",\"\",IFERROR(VLOOKUP(U83,Brassage!$B$39:$H$42,1,FALSE),\"\"))","v":""},{"$f":"IF(U83=\"0\",\"0\",IFERROR(VLOOKUP(U83,Brassage!$B$39:$H$42,5,FALSE),\"0\"))","v":"0"}]
[{"$f":"IF([2]Stock!A84=\"\",\"\",[2]Stock!A84)","v":""},{"$f":"IF([2]Stock!B84=\"\",\"\",[2]Stock!B84)","v":""},{"$f":"IF([2]Stock!C84=\"\",\"\",[2]Stock!C84)","v":""},{"$f":"IF(A84=\"\",\"\",IFERROR(VLOOKUP(A84,Brassage!$B$25:$H$33,1,FALSE),\"\"))","v":""},{"$f":"IF(A84=\"\",\"\",IFERROR(VLOOKUP(A84,Brassage!$B$25:$H$33,2,FALSE),\"\"))","v":""},{"$f":"IF(Stock!D84=\"0\",\"0\",SUMIF(Brassage!$B$25:$B$33,Stock!D84,Brassage!$H$25:$H$33))","v":0},null,{"$f":"IF([2]Stock!E84=\"\",\"\",[2]Stock!E84)","v":""},{"$f":"IF([2]Stock!F84=\"\",\"\",[2]Stock!F84)","v":""},{"$f":"IF([2]Stock!G84=\"\",\"\",[2]Stock!G84)","v":""},{"$f":"IF([2]Stock!H84=\"\",\"\",[2]Stock!H84)","v":""},{"$f":"IF(H84=\"\",\"\",IFERROR(VLOOKUP(H84,Brassage!$B$45:$H$57,1,FALSE),\"\"))","v":""},{"$f":"IF(L84=\"\",\"\",IFERROR(VLOOKUP(L84,Brassage!$B$45:$H$57,2,FALSE),\"\"))","v":""},{"$f":"IF(L84=\"0\",\"0\",SUMIF(Brassage!$B$45:$B$57,L84,Brassage!$F$45:$F$57))","v":0},null,{"$f":"IF([2]Stock!J84=\"\",\"\",[2]Stock!J84)","v":""},{"$f":"IF([2]Stock!K84=\"\",\"\",[2]Stock!K84)","v":""},{"$f":"IF(P84=\"\",\"\",IFERROR(VLOOKUP(P84,Brassage!$B$61:$H$62,1,FALSE),\"\"))","v":""},{"$f":"IF(R84=\"0\",\"0\",IFERROR(VLOOKUP(P84,Brassage!$B$61:$H$62,7,FALSE),\"0\"))","v":"0"},null,{"$f":"IF([2]Stock!M84=\"\",\"\",[2]Stock!M84)","v":""},{"$f":"IF([2]Stock!N84=\"\",\"\",[2]Stock!N84)","v":""},{"$f":"IF(U84=\"\",\"\",IFERROR(VLOOKUP(U84,Brassage!$B$39:$H$42,1,FALSE),\"\"))","v":""},{"$f":"IF(U84=\"0\",\"0\",IFERROR(VLOOKUP(U84,Brassage!$B$39:$H$42,5,FALSE),\"0\"))","v":"0"}]
[{"$f":"IF([2]Stock!A85=\"\",\"\",[2]Stock!A85)","v":""},{"$f":"IF([2]Stock!B85=\"\",\"\",[2]Stock!B85)","v":""},{"$f":"IF([2]Stock!C85=\"\",\"\",[2]Stock!C85)","v":""},{"$f":"IF(A85=\"\",\"\",IFERROR(VLOOKUP(A85,Brassage!$B$25:$H$33,1,FALSE),\"\"))","v":""},{"$f":"IF(A85=\"\",\"\",IFERROR(VLOOKUP(A85,Brassage!$B$25:$H$33,2,FALSE),\"\"))","v":""},{"$f":"IF(Stock!D85=\"0\",\"0\",SUMIF(Brassage!$B$25:$B$33,Stock!D85,Brassage!$H$25:$H$33))","v":0},null,{"$f":"IF([2]Stock!E85=\"\",\"\",[2]Stock!E85)","v":""},{"$f":"IF([2]Stock!F85=\"\",\"\",[2]Stock!F85)","v":""},{"$f":"IF([2]Stock!G85=\"\",\"\",[2]Stock!G85)","v":""},{"$f":"IF([2]Stock!H85=\"\",\"\",[2]Stock!H85)","v":""},{"$f":"IF(H85=\"\",\"\",IFERROR(VLOOKUP(H85,Brassage!$B$45:$H$57,1,FALSE),\"\"))","v":""},{"$f":"IF(L85=\"\",\"\",IFERROR(VLOOKUP(L85,Brassage!$B$45:$H$57,2,FALSE),\"\"))","v":""},{"$f":"IF(L85=\"0\",\"0\",SUMIF(Brassage!$B$45:$B$57,L85,Brassage!$F$45:$F$57))","v":0},null,{"$f":"IF([2]Stock!J85=\"\",\"\",[2]Stock!J85)","v":""},{"$f":"IF([2]Stock!K85=\"\",\"\",[2]Stock!K85)","v":""},{"$f":"IF(P85=\"\",\"\",IFERROR(VLOOKUP(P85,Brassage!$B$61:$H$62,1,FALSE),\"\"))","v":""},{"$f":"IF(R85=\"0\",\"0\",IFERROR(VLOOKUP(P85,Brassage!$B$61:$H$62,7,FALSE),\"0\"))","v":"0"},null,{"$f":"IF([2]Stock!M85=\"\",\"\",[2]Stock!M85)","v":""},{"$f":"IF([2]Stock!N85=\"\",\"\",[2]Stock!N85)","v":""},{"$f":"IF(U85=\"\",\"\",IFERROR(VLOOKUP(U85,Brassage!$B$39:$H$42,1,FALSE),\"\"))","v":""},{"$f":"IF(U85=\"0\",\"0\",IFERROR(VLOOKUP(U85,Brassage!$B$39:$H$42,5,FALSE),\"0\"))","v":"0"}]
[{"$f":"IF([2]Stock!A86=\"\",\"\",[2]Stock!A86)","v":""},{"$f":"IF([2]Stock!B86=\"\",\"\",[2]Stock!B86)","v":""},{"$f":"IF([2]Stock!C86=\"\",\"\",[2]Stock!C86)","v":""},{"$f":"IF(A86=\"\",\"\",IFERROR(VLOOKUP(A86,Brassage!$B$25:$H$33,1,FALSE),\"\"))","v":""},{"$f":"IF(A86=\"\",\"\",IFERROR(VLOOKUP(A86,Brassage!$B$25:$H$33,2,FALSE),\"\"))","v":""},{"$f":"IF(Stock!D86=\"0\",\"0\",SUMIF(Brassage!$B$25:$B$33,Stock!D86,Brassage!$H$25:$H$33))","v":0},null,{"$f":"IF([2]Stock!E86=\"\",\"\",[2]Stock!E86)","v":""},{"$f":"IF([2]Stock!F86=\"\",\"\",[2]Stock!F86)","v":""},{"$f":"IF([2]Stock!G86=\"\",\"\",[2]Stock!G86)","v":""},{"$f":"IF([2]Stock!H86=\"\",\"\",[2]Stock!H86)","v":""},{"$f":"IF(H86=\"\",\"\",IFERROR(VLOOKUP(H86,Brassage!$B$45:$H$57,1,FALSE),\"\"))","v":""},{"$f":"IF(L86=\"\",\"\",IFERROR(VLOOKUP(L86,Brassage!$B$45:$H$57,2,FALSE),\"\"))","v":""},{"$f":"IF(L86=\"0\",\"0\",SUMIF(Brassage!$B$45:$B$57,L86,Brassage!$F$45:$F$57))","v":0},null,{"$f":"IF([2]Stock!J86=\"\",\"\",[2]Stock!J86)","v":""},{"$f":"IF([2]Stock!K86=\"\",\"\",[2]Stock!K86)","v":""},{"$f":"IF(P86=\"\",\"\",IFERROR(VLOOKUP(P86,Brassage!$B$61:$H$62,1,FALSE),\"\"))","v":""},{"$f":"IF(R86=\"0\",\"0\",IFERROR(VLOOKUP(P86,Brassage!$B$61:$H$62,7,FALSE),\"0\"))","v":"0"},null,{"$f":"IF([2]Stock!M86=\"\",\"\",[2]Stock!M86)","v":""},{"$f":"IF([2]Stock!N86=\"\",\"\",[2]Stock!N86)","v":""},{"$f":"IF(U86=\"\",\"\",IFERROR(VLOOKUP(U86,Brassage!$B$39:$H$42,1,FALSE),\"\"))","v":""},{"$f":"IF(U86=\"0\",\"0\",IFERROR(VLOOKUP(U86,Brassage!$B$39:$H$42,5,FALSE),\"0\"))","v":"0"}]
[{"$f":"IF([2]Stock!A87=\"\",\"\",[2]Stock!A87)","v":""},{"$f":"IF([2]Stock!B87=\"\",\"\",[2]Stock!B87)","v":""},{"$f":"IF([2]Stock!C87=\"\",\"\",[2]Stock!C87)","v":""},{"$f":"IF(A87=\"\",\"\",IFERROR(VLOOKUP(A87,Brassage!$B$25:$H$33,1,FALSE),\"\"))","v":""},{"$f":"IF(A87=\"\",\"\",IFERROR(VLOOKUP(A87,Brassage!$B$25:$H$33,2,FALSE),\"\"))","v":""},{"$f":"IF(Stock!D87=\"0\",\"0\",SUMIF(Brassage!$B$25:$B$33,Stock!D87,Brassage!$H$25:$H$33))","v":0},null,{"$f":"IF([2]Stock!E87=\"\",\"\",[2]Stock!E87)","v":""},{"$f":"IF([2]Stock!F87=\"\",\"\",[2]Stock!F87)","v":""},{"$f":"IF([2]Stock!G87=\"\",\"\",[2]Stock!G87)","v":""},{"$f":"IF([2]Stock!H87=\"\",\"\",[2]Stock!H87)","v":""},{"$f":"IF(H87=\"\",\"\",IFERROR(VLOOKUP(H87,Brassage!$B$45:$H$57,1,FALSE),\"\"))","v":""},{"$f":"IF(L87=\"\",\"\",IFERROR(VLOOKUP(L87,Brassage!$B$45:$H$57,2,FALSE),\"\"))","v":""},{"$f":"IF(L87=\"0\",\"0\",SUMIF(Brassage!$B$45:$B$57,L87,Brassage!$F$45:$F$57))","v":0},null,{"$f":"IF([2]Stock!J87=\"\",\"\",[2]Stock!J87)","v":""},{"$f":"IF([2]Stock!K87=\"\",\"\",[2]Stock!K87)","v":""},{"$f":"IF(P87=\"\",\"\",IFERROR(VLOOKUP(P87,Brassage!$B$61:$H$62,1,FALSE),\"\"))","v":""},{"$f":"IF(R87=\"0\",\"0\",IFERROR(VLOOKUP(P87,Brassage!$B$61:$H$62,7,FALSE),\"0\"))","v":"0"},null,{"$f":"IF([2]Stock!M87=\"\",\"\",[2]Stock!M87)","v":""},{"$f":"IF([2]Stock!N87=\"\",\"\",[2]Stock!N87)","v":""},{"$f":"IF(U87=\"\",\"\",IFERROR(VLOOKUP(U87,Brassage!$B$39:$H$42,1,FALSE),\"\"))","v":""},{"$f":"IF(U87=\"0\",\"0\",IFERROR(VLOOKUP(U87,Brassage!$B$39:$H$42,5,FALSE),\"0\"))","v":"0"}]
[{"$f":"IF([2]Stock!A88=\"\",\"\",[2]Stock!A88)","v":""},{"$f":"IF([2]Stock!B88=\"\",\"\",[2]Stock!B88)","v":""},{"$f":"IF([2]Stock!C88=\"\",\"\",[2]Stock!C88)","v":""},{"$f":"IF(A88=\"\",\"\",IFERROR(VLOOKUP(A88,Brassage!$B$25:$H$33,1,FALSE),\"\"))","v":""},{"$f":"IF(A88=\"\",\"\",IFERROR(VLOOKUP(A88,Brassage!$B$25:$H$33,2,FALSE),\"\"))","v":""},{"$f":"IF(Stock!D88=\"0\",\"0\",SUMIF(Brassage!$B$25:$B$33,Stock!D88,Brassage!$H$25:$H$33))","v":0},null,{"$f":"IF([2]Stock!E88=\"\",\"\",[2]Stock!E88)","v":""},{"$f":"IF([2]Stock!F88=\"\",\"\",[2]Stock!F88)","v":""},{"$f":"IF([2]Stock!G88=\"\",\"\",[2]Stock!G88)","v":""},{"$f":"IF([2]Stock!H88=\"\",\"\",[2]Stock!H88)","v":""},{"$f":"IF(H88=\"\",\"\",IFERROR(VLOOKUP(H88,Brassage!$B$45:$H$57,1,FALSE),\"\"))","v":""},{"$f":"IF(L88=\"\",\"\",IFERROR(VLOOKUP(L88,Brassage!$B$45:$H$57,2,FALSE),\"\"))","v":""},{"$f":"IF(L88=\"0\",\"0\",SUMIF(Brassage!$B$45:$B$57,L88,Brassage!$F$45:$F$57))","v":0},null,{"$f":"IF([2]Stock!J88=\"\",\"\",[2]Stock!J88)","v":""},{"$f":"IF([2]Stock!K88=\"\",\"\",[2]Stock!K88)","v":""},{"$f":"IF(P88=\"\",\"\",IFERROR(VLOOKUP(P88,Brassage!$B$61:$H$62,1,FALSE),\"\"))","v":""},{"$f":"IF(R88=\"0\",\"0\",IFERROR(VLOOKUP(P88,Brassage!$B$61:$H$62,7,FALSE),\"0\"))","v":"0"},null,{"$f":"IF([2]Stock!M88=\"\",\"\",[2]Stock!M88)","v":""},{"$f":"IF([2]Stock!N88=\"\",\"\",[2]Stock!N88)","v":""},{"$f":"IF(U88=\"\",\"\",IFERROR(VLOOKUP(U88,Brassage!$B$39:$H$42,1,FALSE),\"\"))","v":""},{"$f":"IF(U88=\"0\",\"0\",IFERROR(VLOOKUP(U88,Brassage!$B$39:$H$42,5,FALSE),\"0\"))","v":"0"}]
[{"$f":"IF([2]Stock!A89=\"\",\"\",[2]Stock!A89)","v":""},{"$f":"IF([2]Stock!B89=\"\",\"\",[2]Stock!B89)","v":""},{"$f":"IF([2]Stock!C89=\"\",\"\",[2]Stock!C89)","v":""},{"$f":"IF(A89=\"\",\"\",IFERROR(VLOOKUP(A89,Brassage!$B$25:$H$33,1,FALSE),\"\"))","v":""},{"$f":"IF(A89=\"\",\"\",IFERROR(VLOOKUP(A89,Brassage!$B$25:$H$33,2,FALSE),\"\"))","v":""},{"$f":"IF(Stock!D89=\"0\",\"0\",SUMIF(Brassage!$B$25:$B$33,Stock!D89,Brassage!$H$25:$H$33))","v":0},null,{"$f":"IF([2]Stock!E89=\"\",\"\",[2]Stock!E89)","v":""},{"$f":"IF([2]Stock!F89=\"\",\"\",[2]Stock!F89)","v":""},{"$f":"IF([2]Stock!G89=\"\",\"\",[2]Stock!G89)","v":""},{"$f":"IF([2]Stock!H89=\"\",\"\",[2]Stock!H89)","v":""},{"$f":"IF(H89=\"\",\"\",IFERROR(VLOOKUP(H89,Brassage!$B$45:$H$57,1,FALSE),\"\"))","v":""},{"$f":"IF(L89=\"\",\"\",IFERROR(VLOOKUP(L89,Brassage!$B$45:$H$57,2,FALSE),\"\"))","v":""},{"$f":"IF(L89=\"0\",\"0\",SUMIF(Brassage!$B$45:$B$57,L89,Brassage!$F$45:$F$57))","v":0},null,{"$f":"IF([2]Stock!J89=\"\",\"\",[2]Stock!J89)","v":""},{"$f":"IF([2]Stock!K89=\"\",\"\",[2]Stock!K89)","v":""},{"$f":"IF(P89=\"\",\"\",IFERROR(VLOOKUP(P89,Brassage!$B$61:$H$62,1,FALSE),\"\"))","v":""},{"$f":"IF(R89=\"0\",\"0\",IFERROR(VLOOKUP(P89,Brassage!$B$61:$H$62,7,FALSE),\"0\"))","v":"0"},null,{"$f":"IF([2]Stock!M89=\"\",\"\",[2]Stock!M89)","v":""},{"$f":"IF([2]Stock!N89=\"\",\"\",[2]Stock!N89)","v":""},{"$f":"IF(U89=\"\",\"\",IFERROR(VLOOKUP(U89,Brassage!$B$39:$H$42,1,FALSE),\"\"))","v":""},{"$f":"IF(U89=\"0\",\"0\",IFERROR(VLOOKUP(U89,Brassage!$B$39:$H$42,5,FALSE),\"0\"))","v":"0"}]
[{"$f":"IF([2]Stock!A90=\"\",\"\",[2]Stock!A90)","v":""},{"$f":"IF([2]Stock!B90=\"\",\"\",[2]Stock!B90)","v":""},{"$f":"IF([2]Stock!C90=\"\",\"\",[2]Stock!C90)","v":""},{"$f":"IF(A90=\"\",\"\",IFERROR(VLOOKUP(A90,Brassage!$B$25:$H$33,1,FALSE),\"\"))","v":""},{"$f":"IF(A90=\"\",\"\",IFERROR(VLOOKUP(A90,Brassage!$B$25:$H$33,2,FALSE),\"\"))","v":""},{"$f":"IF(Stock!D90=\"0\",\"0\",SUMIF(Brassage!$B$25:$B$33,Stock!D90,Brassage!$H$25:$H$33))","v":0},null,{"$f":"IF([2]Stock!E90=\"\",\"\",[2]Stock!E90)","v":""},{"$f":"IF([2]Stock!F90=\"\",\"\",[2]Stock!F90)","v":""},{"$f":"IF([2]Stock!G90=\"\",\"\",[2]Stock!G90)","v":""},{"$f":"IF([2]Stock!H90=\"\",\"\",[2]Stock!H90)","v":""},{"$f":"IF(H90=\"\",\"\",IFERROR(VLOOKUP(H90,Brassage!$B$45:$H$57,1,FALSE),\"\"))","v":""},{"$f":"IF(L90=\"\",\"\",IFERROR(VLOOKUP(L90,Brassage!$B$45:$H$57,2,FALSE),\"\"))","v":""},{"$f":"IF(L90=\"0\",\"0\",SUMIF(Brassage!$B$45:$B$57,L90,Brassage!$F$45:$F$57))","v":0},null,{"$f":"IF([2]Stock!J90=\"\",\"\",[2]Stock!J90)","v":""},{"$f":"IF([2]Stock!K90=\"\",\"\",[2]Stock!K90)","v":""},{"$f":"IF(P90=\"\",\"\",IFERROR(VLOOKUP(P90,Brassage!$B$61:$H$62,1,FALSE),\"\"))","v":""},{"$f":"IF(R90=\"0\",\"0\",IFERROR(VLOOKUP(P90,Brassage!$B$61:$H$62,7,FALSE),\"0\"))","v":"0"},null,{"$f":"IF([2]Stock!M90=\"\",\"\",[2]Stock!M90)","v":""},{"$f":"IF([2]Stock!N90=\"\",\"\",[2]Stock!N90)","v":""},{"$f":"IF(U90=\"\",\"\",IFERROR(VLOOKUP(U90,Brassage!$B$39:$H$42,1,FALSE),\"\"))","v":""},{"$f":"IF(U90=\"0\",\"0\",IFERROR(VLOOKUP(U90,Brassage!$B$39:$H$42,5,FALSE),\"0\"))","v":"0"}]
[{"$f":"IF([2]Stock!A91=\"\",\"\",[2]Stock!A91)","v":""},{"$f":"IF([2]Stock!B91=\"\",\"\",[2]Stock!B91)","v":""},{"$f":"IF([2]Stock!C91=\"\",\"\",[2]Stock!C91)","v":""},{"$f":"IF(A91=\"\",\"\",IFERROR(VLOOKUP(A91,Brassage!$B$25:$H$33,1,FALSE),\"\"))","v":""},{"$f":"IF(A91=\"\",\"\",IFERROR(VLOOKUP(A91,Brassage!$B$25:$H$33,2,FALSE),\"\"))","v":""},{"$f":"IF(Stock!D91=\"0\",\"0\",SUMIF(Brassage!$B$25:$B$33,Stock!D91,Brassage!$H$25:$H$33))","v":0},null,{"$f":"IF([2]Stock!E91=\"\",\"\",[2]Stock!E91)","v":""},{"$f":"IF([2]Stock!F91=\"\",\"\",[2]Stock!F91)","v":""},{"$f":"IF([2]Stock!G91=\"\",\"\",[2]Stock!G91)","v":""},{"$f":"IF([2]Stock!H91=\"\",\"\",[2]Stock!H91)","v":""},{"$f":"IF(H91=\"\",\"\",IFERROR(VLOOKUP(H91,Brassage!$B$45:$H$57,1,FALSE),\"\"))","v":""},{"$f":"IF(L91=\"\",\"\",IFERROR(VLOOKUP(L91,Brassage!$B$45:$H$57,2,FALSE),\"\"))","v":""},{"$f":"IF(L91=\"0\",\"0\",SUMIF(Brassage!$B$45:$B$57,L91,Brassage!$F$45:$F$57))","v":0},null,{"$f":"IF([2]Stock!J91=\"\",\"\",[2]Stock!J91)","v":""},{"$f":"IF([2]Stock!K91=\"\",\"\",[2]Stock!K91)","v":""},{"$f":"IF(P91=\"\",\"\",IFERROR(VLOOKUP(P91,Brassage!$B$61:$H$62,1,FALSE),\"\"))","v":""},{"$f":"IF(R91=\"0\",\"0\",IFERROR(VLOOKUP(P91,Brassage!$B$61:$H$62,7,FALSE),\"0\"))","v":"0"},null,{"$f":"IF([2]Stock!M91=\"\",\"\",[2]Stock!M91)","v":""},{"$f":"IF([2]Stock!N91=\"\",\"\",[2]Stock!N91)","v":""},{"$f":"IF(U91=\"\",\"\",IFERROR(VLOOKUP(U91,Brassage!$B$39:$H$42,1,FALSE),\"\"))","v":""},{"$f":"IF(U91=\"0\",\"0\",IFERROR(VLOOKUP(U91,Brassage!$B$39:$H$42,5,FALSE),\"0\"))","v":"0"}]
[{"$f":"IF([2]Stock!A92=\"\",\"\",[2]Stock!A92)","v":""},{"$f":"IF([2]Stock!B92=\"\",\"\",[2]Stock!B92)","v":""},{"$f":"IF([2]Stock!C92=\"\",\"\",[2]Stock!C92)","v":""},{"$f":"IF(A92=\"\",\"\",IFERROR(VLOOKUP(A92,Brassage!$B$25:$H$33,1,FALSE),\"\"))","v":""},{"$f":"IF(A92=\"\",\"\",IFERROR(VLOOKUP(A92,Brassage!$B$25:$H$33,2,FALSE),\"\"))","v":""},{"$f":"IF(Stock!D92=\"0\",\"0\",SUMIF(Brassage!$B$25:$B$33,Stock!D92,Brassage!$H$25:$H$33))","v":0},null,{"$f":"IF([2]Stock!E92=\"\",\"\",[2]Stock!E92)","v":""},{"$f":"IF([2]Stock!F92=\"\",\"\",[2]Stock!F92)","v":""},{"$f":"IF([2]Stock!G92=\"\",\"\",[2]Stock!G92)","v":""},{"$f":"IF([2]Stock!H92=\"\",\"\",[2]Stock!H92)","v":""},{"$f":"IF(H92=\"\",\"\",IFERROR(VLOOKUP(H92,Brassage!$B$45:$H$57,1,FALSE),\"\"))","v":""},{"$f":"IF(L92=\"\",\"\",IFERROR(VLOOKUP(L92,Brassage!$B$45:$H$57,2,FALSE),\"\"))","v":""},{"$f":"IF(L92=\"0\",\"0\",SUMIF(Brassage!$B$45:$B$57,L92,Brassage!$F$45:$F$57))","v":0},null,{"$f":"IF([2]Stock!J92=\"\",\"\",[2]Stock!J92)","v":""},{"$f":"IF([2]Stock!K92=\"\",\"\",[2]Stock!K92)","v":""},{"$f":"IF(P92=\"\",\"\",IFERROR(VLOOKUP(P92,Brassage!$B$61:$H$62,1,FALSE),\"\"))","v":""},{"$f":"IF(R92=\"0\",\"0\",IFERROR(VLOOKUP(P92,Brassage!$B$61:$H$62,7,FALSE),\"0\"))","v":"0"},null,{"$f":"IF([2]Stock!M92=\"\",\"\",[2]Stock!M92)","v":""},{"$f":"IF([2]Stock!N92=\"\",\"\",[2]Stock!N92)","v":""},{"$f":"IF(U92=\"\",\"\",IFERROR(VLOOKUP(U92,Brassage!$B$39:$H$42,1,FALSE),\"\"))","v":""},{"$f":"IF(U92=\"0\",\"0\",IFERROR(VLOOKUP(U92,Brassage!$B$39:$H$42,5,FALSE),\"0\"))","v":"0"}]
[{"$f":"IF([2]Stock!A93=\"\",\"\",[2]Stock!A93)","v":""},{"$f":"IF([2]Stock!B93=\"\",\"\",[2]Stock!B93)","v":""},{"$f":"IF([2]Stock!C93=\"\",\"\",[2]Stock!C93)","v":""},{"$f":"IF(A93=\"\",\"\",IFERROR(VLOOKUP(A93,Brassage!$B$25:$H$33,1,FALSE),\"\"))","v":""},{"$f":"IF(A93=\"\",\"\",IFERROR(VLOOKUP(A93,Brassage!$B$25:$H$33,2,FALSE),\"\"))","v":""},{"$f":"IF(Stock!D93=\"0\",\"0\",SUMIF(Brassage!$B$25:$B$33,Stock!D93,Brassage!$H$25:$H$33))","v":0},null,{"$f":"IF([2]Stock!E93=\"\",\"\",[2]Stock!E93)","v":""},{"$f":"IF([2]Stock!F93=\"\",\"\",[2]Stock!F93)","v":""},{"$f":"IF([2]Stock!G93=\"\",\"\",[2]Stock!G93)","v":""},{"$f":"IF([2]Stock!H93=\"\",\"\",[2]Stock!H93)","v":""},{"$f":"IF(H93=\"\",\"\",IFERROR(VLOOKUP(H93,Brassage!$B$45:$H$57,1,FALSE),\"\"))","v":""},{"$f":"IF(L93=\"\",\"\",IFERROR(VLOOKUP(L93,Brassage!$B$45:$H$57,2,FALSE),\"\"))","v":""},{"$f":"IF(L93=\"0\",\"0\",SUMIF(Brassage!$B$45:$B$57,L93,Brassage!$F$45:$F$57))","v":0},null,{"$f":"IF([2]Stock!J93=\"\",\"\",[2]Stock!J93)","v":""},{"$f":"IF([2]Stock!K93=\"\",\"\",[2]Stock!K93)","v":""},{"$f":"IF(P93=\"\",\"\",IFERROR(VLOOKUP(P93,Brassage!$B$61:$H$62,1,FALSE),\"\"))","v":""},{"$f":"IF(R93=\"0\",\"0\",IFERROR(VLOOKUP(P93,Brassage!$B$61:$H$62,7,FALSE),\"0\"))","v":"0"},null,{"$f":"IF([2]Stock!M93=\"\",\"\",[2]Stock!M93)","v":""},{"$f":"IF([2]Stock!N93=\"\",\"\",[2]Stock!N93)","v":""},{"$f":"IF(U93=\"\",\"\",IFERROR(VLOOKUP(U93,Brassage!$B$39:$H$42,1,FALSE),\"\"))","v":""},{"$f":"IF(U93=\"0\",\"0\",IFERROR(VLOOKUP(U93,Brassage!$B$39:$H$42,5,FALSE),\"0\"))","v":"0"}]
[{"$f":"IF([2]Stock!A94=\"\",\"\",[2]Stock!A94)","v":""},{"$f":"IF([2]Stock!B94=\"\",\"\",[2]Stock!B94)","v":""},{"$f":"IF([2]Stock!C94=\"\",\"\",[2]Stock!C94)","v":""},{"$f":"IF(A94=\"\",\"\",IFERROR(VLOOKUP(A94,Brassage!$B$25:$H$33,1,FALSE),\"\"))","v":""},{"$f":"IF(A94=\"\",\"\",IFERROR(VLOOKUP(A94,Brassage!$B$25:$H$33,2,FALSE),\"\"))","v":""},{"$f":"IF(Stock!D94=\"0\",\"0\",SUMIF(Brassage!$B$25:$B$33,Stock!D94,Brassage!$H$25:$H$33))","v":0},null,{"$f":"IF([2]Stock!E94=\"\",\"\",[2]Stock!E94)","v":""},{"$f":"IF([2]Stock!F94=\"\",\"\",[2]Stock!F94)","v":""},{"$f":"IF([2]Stock!G94=\"\",\"\",[2]Stock!G94)","v":""},{"$f":"IF([2]Stock!H94=\"\",\"\",[2]Stock!H94)","v":""},{"$f":"IF(H94=\"\",\"\",IFERROR(VLOOKUP(H94,Brassage!$B$45:$H$57,1,FALSE),\"\"))","v":""},{"$f":"IF(L94=\"\",\"\",IFERROR(VLOOKUP(L94,Brassage!$B$45:$H$57,2,FALSE),\"\"))","v":""},{"$f":"IF(L94=\"0\",\"0\",SUMIF(Brassage!$B$45:$B$57,L94,Brassage!$F$45:$F$57))","v":0},null,{"$f":"IF([2]Stock!J94=\"\",\"\",[2]Stock!J94)","v":""},{"$f":"IF([2]Stock!K94=\"\",\"\",[2]Stock!K94)","v":""},{"$f":"IF(P94=\"\",\"\",IFERROR(VLOOKUP(P94,Brassage!$B$61:$H$62,1,FALSE),\"\"))","v":""},{"$f":"IF(R94=\"0\",\"0\",IFERROR(VLOOKUP(P94,Brassage!$B$61:$H$62,7,FALSE),\"0\"))","v":"0"},null,{"$f":"IF([2]Stock!M94=\"\",\"\",[2]Stock!M94)","v":""},{"$f":"IF([2]Stock!N94=\"\",\"\",[2]Stock!N94)","v":""},{"$f":"IF(U94=\"\",\"\",IFERROR(VLOOKUP(U94,Brassage!$B$39:$H$42,1,FALSE),\"\"))","v":""},{"$f":"IF(U94=\"0\",\"0\",IFERROR(VLOOKUP(U94,Brassage!$B$39:$H$42,5,FALSE),\"0\"))","v":"0"}]
[{"$f":"IF([2]Stock!A95=\"\",\"\",[2]Stock!A95)","v":""},{"$f":"IF([2]Stock!B95=\"\",\"\",[2]Stock!B95)","v":""},{"$f":"IF([2]Stock!C95=\"\",\"\",[2]Stock!C95)","v":""},{"$f":"IF(A95=\"\",\"\",IFERROR(VLOOKUP(A95,Brassage!$B$25:$H$33,1,FALSE),\"\"))","v":""},{"$f":"IF(A95=\"\",\"\",IFERROR(VLOOKUP(A95,Brassage!$B$25:$H$33,2,FALSE),\"\"))","v":""},{"$f":"IF(Stock!D95=\"0\",\"0\",SUMIF(Brassage!$B$25:$B$33,Stock!D95,Brassage!$H$25:$H$33))","v":0},null,{"$f":"IF([2]Stock!E95=\"\",\"\",[2]Stock!E95)","v":""},{"$f":"IF([2]Stock!F95=\"\",\"\",[2]Stock!F95)","v":""},{"$f":"IF([2]Stock!G95=\"\",\"\",[2]Stock!G95)","v":""},{"$f":"IF([2]Stock!H95=\"\",\"\",[2]Stock!H95)","v":""},{"$f":"IF(H95=\"\",\"\",IFERROR(VLOOKUP(H95,Brassage!$B$45:$H$57,1,FALSE),\"\"))","v":""},{"$f":"IF(L95=\"\",\"\",IFERROR(VLOOKUP(L95,Brassage!$B$45:$H$57,2,FALSE),\"\"))","v":""},{"$f":"IF(L95=\"0\",\"0\",SUMIF(Brassage!$B$45:$B$57,L95,Brassage!$F$45:$F$57))","v":0},null,{"$f":"IF([2]Stock!J95=\"\",\"\",[2]Stock!J95)","v":""},{"$f":"IF([2]Stock!K95=\"\",\"\",[2]Stock!K95)","v":""},{"$f":"IF(P95=\"\",\"\",IFERROR(VLOOKUP(P95,Brassage!$B$61:$H$62,1,FALSE),\"\"))","v":""},{"$f":"IF(R95=\"0\",\"0\",IFERROR(VLOOKUP(P95,Brassage!$B$61:$H$62,7,FALSE),\"0\"))","v":"0"},null,{"$f":"IF([2]Stock!M95=\"\",\"\",[2]Stock!M95)","v":""},{"$f":"IF([2]Stock!N95=\"\",\"\",[2]Stock!N95)","v":""},{"$f":"IF(U95=\"\",\"\",IFERROR(VLOOKUP(U95,Brassage!$B$39:$H$42,1,FALSE),\"\"))","v":""},{"$f":"IF(U95=\"0\",\"0\",IFERROR(VLOOKUP(U95,Brassage!$B$39:$H$42,5,FALSE),\"0\"))","v":"0"}]
[{"$f":"IF([2]Stock!A96=\"\",\"\",[2]Stock!A96)","v":""},{"$f":"IF([2]Stock!B96=\"\",\"\",[2]Stock!B96)","v":""},{"$f":"IF([2]Stock!C96=\"\",\"\",[2]Stock!C96)","v":""},{"$f":"IF(A96=\"\",\"\",IFERROR(VLOOKUP(A96,Brassage!$B$25:$H$33,1,FALSE),\"\"))","v":""},{"$f":"IF(A96=\"\",\"\",IFERROR(VLOOKUP(A96,Brassage!$B$25:$H$33,2,FALSE),\"\"))","v":""},{"$f":"IF(Stock!D96=\"0\",\"0\",SUMIF(Brassage!$B$25:$B$33,Stock!D96,Brassage!$H$25:$H$33))","v":0},null,{"$f":"IF([2]Stock!E96=\"\",\"\",[2]Stock!E96)","v":""},{"$f":"IF([2]Stock!F96=\"\",\"\",[2]Stock!F96)","v":""},{"$f":"IF([2]Stock!G96=\"\",\"\",[2]Stock!G96)","v":""},{"$f":"IF([2]Stock!H96=\"\",\"\",[2]Stock!H96)","v":""},{"$f":"IF(H96=\"\",\"\",IFERROR(VLOOKUP(H96,Brassage!$B$45:$H$57,1,FALSE),\"\"))","v":""},{"$f":"IF(L96=\"\",\"\",IFERROR(VLOOKUP(L96,Brassage!$B$45:$H$57,2,FALSE),\"\"))","v":""},{"$f":"IF(L96=\"0\",\"0\",SUMIF(Brassage!$B$45:$B$57,L96,Brassage!$F$45:$F$57))","v":0},null,{"$f":"IF([2]Stock!J96=\"\",\"\",[2]Stock!J96)","v":""},{"$f":"IF([2]Stock!K96=\"\",\"\",[2]Stock!K96)","v":""},{"$f":"IF(P96=\"\",\"\",IFERROR(VLOOKUP(P96,Brassage!$B$61:$H$62,1,FALSE),\"\"))","v":""},{"$f":"IF(R96=\"0\",\"0\",IFERROR(VLOOKUP(P96,Brassage!$B$61:$H$62,7,FALSE),\"0\"))","v":"0"},null,{"$f":"IF([2]Stock!M96=\"\",\"\",[2]Stock!M96)","v":""},{"$f":"IF([2]Stock!N96=\"\",\"\",[2]Stock!N96)","v":""},{"$f":"IF(U96=\"\",\"\",IFERROR(VLOOKUP(U96,Brassage!$B$39:$H$42,1,FALSE),\"\"))","v":""},{"$f":"IF(U96=\"0\",\"0\",IFERROR(VLOOKUP(U96,Brassage!$B$39:$H$42,5,FALSE),\"0\"))","v":"0"}]
[{"$f":"IF([2]Stock!A97=\"\",\"\",[2]Stock!A97)","v":""},{"$f":"IF([2]Stock!B97=\"\",\"\",[2]Stock!B97)","v":""},{"$f":"IF([2]Stock!C97=\"\",\"\",[2]Stock!C97)","v":""},{"$f":"IF(A97=\"\",\"\",IFERROR(VLOOKUP(A97,Brassage!$B$25:$H$33,1,FALSE),\"\"))","v":""},{"$f":"IF(A97=\"\",\"\",IFERROR(VLOOKUP(A97,Brassage!$B$25:$H$33,2,FALSE),\"\"))","v":""},{"$f":"IF(Stock!D97=\"0\",\"0\",SUMIF(Brassage!$B$25:$B$33,Stock!D97,Brassage!$H$25:$H$33))","v":0},null,{"$f":"IF([2]Stock!E97=\"\",\"\",[2]Stock!E97)","v":""},{"$f":"IF([2]Stock!F97=\"\",\"\",[2]Stock!F97)","v":""},{"$f":"IF([2]Stock!G97=\"\",\"\",[2]Stock!G97)","v":""},{"$f":"IF([2]Stock!H97=\"\",\"\",[2]Stock!H97)","v":""},{"$f":"IF(H97=\"\",\"\",IFERROR(VLOOKUP(H97,Brassage!$B$45:$H$57,1,FALSE),\"\"))","v":""},{"$f":"IF(L97=\"\",\"\",IFERROR(VLOOKUP(L97,Brassage!$B$45:$H$57,2,FALSE),\"\"))","v":""},{"$f":"IF(L97=\"0\",\"0\",SUMIF(Brassage!$B$45:$B$57,L97,Brassage!$F$45:$F$57))","v":0},null,{"$f":"IF([2]Stock!J97=\"\",\"\",[2]Stock!J97)","v":""},{"$f":"IF([2]Stock!K97=\"\",\"\",[2]Stock!K97)","v":""},{"$f":"IF(P97=\"\",\"\",IFERROR(VLOOKUP(P97,Brassage!$B$61:$H$62,1,FALSE),\"\"))","v":""},{"$f":"IF(R97=\"0\",\"0\",IFERROR(VLOOKUP(P97,Brassage!$B$61:$H$62,7,FALSE),\"0\"))","v":"0"},null,{"$f":"IF([2]Stock!M97=\"\",\"\",[2]Stock!M97)","v":""},{"$f":"IF([2]Stock!N97=\"\",\"\",[2]Stock!N97)","v":""},{"$f":"IF(U97=\"\",\"\",IFERROR(VLOOKUP(U97,Brassage!$B$39:$H$42,1,FALSE),\"\"))","v":""},{"$f":"IF(U97=\"0\",\"0\",IFERROR(VLOOKUP(U97,Brassage!$B$39:$H$42,5,FALSE),\"0\"))","v":"0"}]
[{"$f":"IF([2]Stock!A98=\"\",\"\",[2]Stock!A98)","v":""},{"$f":"IF([2]Stock!B98=\"\",\"\",[2]Stock!B98)","v":""},{"$f":"IF([2]Stock!C98=\"\",\"\",[2]Stock!C98)","v":""},{"$f":"IF(A98=\"\",\"\",IFERROR(VLOOKUP(A98,Brassage!$B$25:$H$33,1,FALSE),\"\"))","v":""},{"$f":"IF(A98=\"\",\"\",IFERROR(VLOOKUP(A98,Brassage!$B$25:$H$33,2,FALSE),\"\"))","v":""},{"$f":"IF(Stock!D98=\"0\",\"0\",SUMIF(Brassage!$B$25:$B$33,Stock!D98,Brassage!$H$25:$H$33))","v":0},null,{"$f":"IF([2]Stock!E98=\"\",\"\",[2]Stock!E98)","v":""},{"$f":"IF([2]Stock!F98=\"\",\"\",[2]Stock!F98)","v":""},{"$f":"IF([2]Stock!G98=\"\",\"\",[2]Stock!G98)","v":""},{"$f":"IF([2]Stock!H98=\"\",\"\",[2]Stock!H98)","v":""},{"$f":"IF(H98=\"\",\"\",IFERROR(VLOOKUP(H98,Brassage!$B$45:$H$57,1,FALSE),\"\"))","v":""},{"$f":"IF(L98=\"\",\"\",IFERROR(VLOOKUP(L98,Brassage!$B$45:$H$57,2,FALSE),\"\"))","v":""},{"$f":"IF(L98=\"0\",\"0\",SUMIF(Brassage!$B$45:$B$57,L98,Brassage!$F$45:$F$57))","v":0},null,{"$f":"IF([2]Stock!J98=\"\",\"\",[2]Stock!J98)","v":""},{"$f":"IF([2]Stock!K98=\"\",\"\",[2]Stock!K98)","v":""},{"$f":"IF(P98=\"\",\"\",IFERROR(VLOOKUP(P98,Brassage!$B$61:$H$62,1,FALSE),\"\"))","v":""},{"$f":"IF(R98=\"0\",\"0\",IFERROR(VLOOKUP(P98,Brassage!$B$61:$H$62,7,FALSE),\"0\"))","v":"0"},null,{"$f":"IF([2]Stock!M98=\"\",\"\",[2]Stock!M98)","v":""},{"$f":"IF([2]Stock!N98=\"\",\"\",[2]Stock!N98)","v":""},{"$f":"IF(U98=\"\",\"\",IFERROR(VLOOKUP(U98,Brassage!$B$39:$H$42,1,FALSE),\"\"))","v":""},{"$f":"IF(U98=\"0\",\"0\",IFERROR(VLOOKUP(U98,Brassage!$B$39:$H$42,5,FALSE),\"0\"))","v":"0"}]
[{"$f":"IF([2]Stock!A99=\"\",\"\",[2]Stock!A99)","v":""},{"$f":"IF([2]Stock!B99=\"\",\"\",[2]Stock!B99)","v":""},{"$f":"IF([2]Stock!C99=\"\",\"\",[2]Stock!C99)","v":""},{"$f":"IF(A99=\"\",\"\",IFERROR(VLOOKUP(A99,Brassage!$B$25:$H$33,1,FALSE),\"\"))","v":""},{"$f":"IF(A99=\"\",\"\",IFERROR(VLOOKUP(A99,Brassage!$B$25:$H$33,2,FALSE),\"\"))","v":""},{"$f":"IF(Stock!D99=\"0\",\"0\",SUMIF(Brassage!$B$25:$B$33,Stock!D99,Brassage!$H$25:$H$33))","v":0},null,{"$f":"IF([2]Stock!E99=\"\",\"\",[2]Stock!E99)","v":""},{"$f":"IF([2]Stock!F99=\"\",\"\",[2]Stock!F99)","v":""},{"$f":"IF([2]Stock!G99=\"\",\"\",[2]Stock!G99)","v":""},{"$f":"IF([2]Stock!H99=\"\",\"\",[2]Stock!H99)","v":""},{"$f":"IF(H99=\"\",\"\",IFERROR(VLOOKUP(H99,Brassage!$B$45:$H$57,1,FALSE),\"\"))","v":""},{"$f":"IF(L99=\"\",\"\",IFERROR(VLOOKUP(L99,Brassage!$B$45:$H$57,2,FALSE),\"\"))","v":""},{"$f":"IF(L99=\"0\",\"0\",SUMIF(Brassage!$B$45:$B$57,L99,Brassage!$F$45:$F$57))","v":0},null,{"$f":"IF([2]Stock!J99=\"\",\"\",[2]Stock!J99)","v":""},{"$f":"IF([2]Stock!K99=\"\",\"\",[2]Stock!K99)","v":""},{"$f":"IF(P99=\"\",\"\",IFERROR(VLOOKUP(P99,Brassage!$B$61:$H$62,1,FALSE),\"\"))","v":""},{"$f":"IF(R99=\"0\",\"0\",IFERROR(VLOOKUP(P99,Brassage!$B$61:$H$62,7,FALSE),\"0\"))","v":"0"},null,{"$f":"IF([2]Stock!M99=\"\",\"\",[2]Stock!M99)","v":""},{"$f":"IF([2]Stock!N99=\"\",\"\",[2]Stock!N99)","v":""},{"$f":"IF(U99=\"\",\"\",IFERROR(VLOOKUP(U99,Brassage!$B$39:$H$42,1,FALSE),\"\"))","v":""},{"$f":"IF(U99=\"0\",\"0\",IFERROR(VLOOKUP(U99,Brassage!$B$39:$H$42,5,FALSE),\"0\"))","v":"0"}]
[{"$f":"IF([2]Stock!A100=\"\",\"\",[2]Stock!A100)","v":""},{"$f":"IF([2]Stock!B100=\"\",\"\",[2]Stock!B100)","v":""},{"$f":"IF([2]Stock!C100=\"\",\"\",[2]Stock!C100)","v":""},{"$f":"IF(A100=\"\",\"\",IFERROR(VLOOKUP(A100,Brassage!$B$25:$H$33,1,FALSE),\"\"))","v":""},{"$f":"IF(A100=\"\",\"\",IFERROR(VLOOKUP(A100,Brassage!$B$25:$H$33,2,FALSE),\"\"))","v":""},{"$f":"IF(Stock!D100=\"0\",\"0\",SUMIF(Brassage!$B$25:$B$33,Stock!D100,Brassage!$H$25:$H$33))","v":0},null,{"$f":"IF([2]Stock!E100=\"\",\"\",[2]Stock!E100)","v":""},{"$f":"IF([2]Stock!F100=\"\",\"\",[2]Stock!F100)","v":""},{"$f":"IF([2]Stock!G100=\"\",\"\",[2]Stock!G100)","v":""},{"$f":"IF([2]Stock!H100=\"\",\"\",[2]Stock!H100)","v":""},{"$f":"IF(H100=\"\",\"\",IFERROR(VLOOKUP(H100,Brassage!$B$45:$H$57,1,FALSE),\"\"))","v":""},{"$f":"IF(L100=\"\",\"\",IFERROR(VLOOKUP(L100,Brassage!$B$45:$H$57,2,FALSE),\"\"))","v":""},{"$f":"IF(L100=\"0\",\"0\",SUMIF(Brassage!$B$45:$B$57,L100,Brassage!$F$45:$F$57))","v":0},null,{"$f":"IF([2]Stock!J100=\"\",\"\",[2]Stock!J100)","v":""},{"$f":"IF([2]Stock!K100=\"\",\"\",[2]Stock!K100)","v":""},{"$f":"IF(P100=\"\",\"\",IFERROR(VLOOKUP(P100,Brassage!$B$61:$H$62,1,FALSE),\"\"))","v":""},{"$f":"IF(R100=\"0\",\"0\",IFERROR(VLOOKUP(P100,Brassage!$B$61:$H$62,7,FALSE),\"0\"))","v":"0"},null,{"$f":"IF([2]Stock!M100=\"\",\"\",[2]Stock!M100)","v":""},{"$f":"IF([2]Stock!N100=\"\",\"\",[2]Stock!N100)","v":""},{"$f":"IF(U100=\"\",\"\",IFERROR(VLOOKUP(U100,Brassage!$B$39:$H$42,1,FALSE),\"\"))","v":""},{"$f":"IF(U100=\"0\",\"0\",IFERROR(VLOOKUP(U100,Brassage!$B$39:$H$42,5,FALSE),\"0\"))","v":"0"}]

{"sheet":"Etiquettes","index":5,"n_rows":42,"n_cols":42,"rows_kept":42,"cut":false,"hidden":false,"merged":[[0,0,2,0],[0,1,2,1],[0,2,2,2],[0,3,2,3],[0,4,2,4],[0,5,2,5],[0,18,4,21],[0,22,4,25],[0,26,4,29],[0,30,4,33],[0,34,4,37],[0,38,4,41],[0,6,4,7],[0,8,4,9],[0,10,4,11],[0,12,4,13],[0,14,4,15],[0,16,4,17],[5,24,7,24],[5,25,7,25],[5,26,7,26],[5,27,7,27],[5,28,7,28],[5,29,7,29],[5,18,7,18],[5,19,7,19],[5,20,7,20],[5,21,7,21],[5,22,7,22],[5,23,7,23],[5,36,7,36],[5,37,7,37],[5,38,7,38],[5,39,7,39],[5,40,7,40],[5,41,7,41],[5,30,7,30],[5,31,7,31],[5,32,7,32],[5,33,7,33],[5,34,7,34],[5,35,7,35],[8,24,10,24],[8,25,10,25],[8,26,10,26],[8,27,10,27],[8,28,10,28],[8,29,10,29],[8,18,10,18],[8,19,10,19],[8,20,10,20],[8,21,10,21],[8,22,10,22],[8,23,10,23],[8,36,10,36],[8,37,10,37],[8,38,10,38],[8,39,10,39],[8,40,10,40],[8,41,10,41],[8,30,10,30],[8,31,10,31],[8,32,10,32],[8,33,10,33],[8,34,10,34],[8,35,10,35],[11,24,13,24],[11,25,13,25],[11,26,13,26],[11,27,13,27],[11,28,13,28],[11,29,13,29],[11,18,13,18],[11,19,13,19],[11,20,13,20],[11,21,13,21],[11,22,13,22],[11,23,13,23],[14,24,16,24],[14,25,16,25],[14,26,16,26],[14,27,16,27],[14,28,16,28],[14,29,16,29],[14,18,16,18],[14,19,16,19],[14,20,16,20],[14,21,16,21],[14,22,16,22],[14,23,16,23],[11,36,13,36],[14,36,16,36],[14,37,16,37],[14,38,16,38],[14,39,16,39],[14,40,16,40],[14,41,16,41],[14,30,16,30],[14,31,16,31],[14,32,16,32],[14,33,16,33],[14,34,16,34],[14,35,16,35],[11,37,13,37],[11,38,13,38],[11,39,13,39],[11,40,13,40],[11,41,13,41],[11,30,13,30],[11,31,13,31],[11,32,13,32],[11,33,13,33],[11,34,13,34],[11,35,13,35],[36,34,37,37],[41,6,45,7],[41,8,45,9],[41,10,45,11],[41,12,45,13],[41,14,45,15],[41,16,45,17],[32,38,35,41],[17,18,31,19],[17,20,31,21],[32,18,35,21],[17,22,31,23],[13,12,39,12],[13,13,39,13],[13,14,39,14],[13,15,39,15],[13,16,39,16],[13,17,39,17],[13,6,39,6],[13,7,39,7],[13,8,39,8],[13,9,39,9],[13,10,39,10],[13,11,39,11],[36,38,37,41],[17,40,31,41],[17,36,31,37],[17,32,31,33],[17,28,31,29],[41,18,45,21],[41,22,45,25],[41,26,45,29],[41,30,45,33],[41,34,45,37],[41,38,45,41],[17,24,31,25],[32,22,35,25],[32,26,35,29],[32,30,35,33],[32,34,35,37],[17,26,31,27],[17,30,31,31],[17,34,31,35],[17,38,31,39],[36,18,37,21],[36,22,37,25],[36,26,37,29],[36,30,37,33]]}
[{"$f":"Brassage!A1","v":"# Projet - Weissbier exemple"},{"$f":"A1","v":"# Projet - Weissbier exemple"},{"$f":"A1","v":"# Projet - Weissbier exemple"},{"$f":"A1","v":"# Projet - Weissbier exemple"},{"$f":"A1","v":"# Projet - Weissbier exemple"},{"$f":"A1","v":"# Projet - Weissbier exemple"},null,null,{"$f":"G1","v":0},null,{"$f":"G1","v":0},null,{"$f":"G1","v":0},null,{"$f":"G1","v":0},null,{"$f":"G1","v":0}]
[]
[]
[]
[{"$f":"\"Brassin de \"&Brassage!B4&\" L\"","v":"Brassin de 28 L"},{"$f":"A5","v":"Brassin de 28 L"},{"$f":"A5","v":"Brassin de 28 L"},{"$f":"A5","v":"Brassin de 28 L"},{"$f":"A5","v":"Brassin de 28 L"},{"$f":"A5","v":"Brassin de 28 L"}]
[null,{"$f":"A6","v":0},{"$f":"A6","v":0},{"$f":"A6","v":0},{"$f":"A6","v":0},{"$f":"A6","v":0},"Brassée ",{"$f":"Brassage!B5","v":"2023-10-15"},{"$f":"G6","v":"Brassée "},{"$f":"H6","v":"2023-10-15"},{"$f":"G6","v":"Brassée "},{"$f":"H6","v":"2023-10-15"},{"$f":"G6","v":"Brassée "},{"$f":"H6","v":"2023-10-15"},{"$f":"G6","v":"Brassée "},{"$f":"H6","v":"2023-10-15"},{"$f":"G6","v":"Brassée "},{"$f":"H6","v":"2023-10-15"},"EBC","ABV","Emb.","Brassée",{"$f":"S6","v":"EBC"},"ABV","Emb.","Brassée","EBC","ABV","Emb.","Brassée","EBC","ABV","Emb.","Brassée","EBC","ABV","Emb.","Brassée","EBC","ABV","Emb.","Brassée"]
[{"$f":"\"DI : \" &Brassage!N34","v":"DI : 1,049"},{"$f":"A7","v":"DI : 1,049"},{"$f":"A7","v":"DI : 1,049"},{"$f":"A7","v":"DI : 1,049"},{"$f":"A7","v":"DI : 1,049"},{"$f":"A7","v":"DI : 1,049"},"Emb le ",{"$f":"Brassage!K54","v":"2023-11-06"},"Emb le ","2023-11-06","Emb le ","2023-11-06","Emb le ","2023-11-06","Emb le ","2023-11-06","Emb le ","2023-11-06"]
[{"$f":"\"DF : \" &Brassage!N56","v":"DF : 1,01"},{"$f":"A8","v":"DF : 1,01"},{"$f":"A8","v":"DF : 1,01"},{"$f":"A8","v":"DF : 1,01"},{"$f":"A8","v":"DF : 1,01"},{"$f":"A8","v":"DF : 1,01"},"ABV -",{"$f":"Brassage!E8","v":5.0627500000000047},"ABV -",5.0627500000000047,"ABV -",5.0627500000000047,"ABV -",5.0627500000000047,"ABV -",5.0627500000000047,"ABV -",5.0627500000000047]
[{"$f":"\"Empatage à \"&ROUND(Brassage!B11,1)&\"°C\"","v":"Empatage à 66°C"},{"$f":"A9","v":"Empatage à 66°C"},{"$f":"A9","v":"Empatage à 66°C"},{"$f":"A9","v":"Empatage à 66°C"},{"$f":"A9","v":"Empatage à 66°C"},{"$f":"A9","v":"Empatage à 66°C"},"EBC -",{"$f":"Brassage!E6","v":12.373951200268424},"EBC -",12.373951200268424,"EBC -",12.373951200268424,"EBC -",12.373951200268424,"EBC -",12.373951200268424,"EBC -",12.373951200268424,{"$f":"Brassage!$E$6","v":12.373951200268424},{"$f":"Brassage!$O$61","v":5.8052699462092727},{"$f":"Brassage!$K$54","v":"2023-11-06"},{"$f":"Brassage!$B$5","v":"2023-10-15"},{"$f":"S9","v":12.373951200268424},5.8052699462092727,"2023-11-06","2023-10-15",12.373951200268424,5.8052699462092727,"2023-11-06","2023-10-15",12.373951200268424,5.8052699462092727,"2023-11-06","2023-10-15",12.373951200268424,5.8052699462092727,"2023-11-06","2023-10-15",12.373951200268424,5.8052699462092727,"2023-11-06","2023-10-15"]
[null,null,null,null,null,null,"IBU - ",{"$f":"Brassage!E7","v":11.713368546101247},"IBU - ",11.713368546101247,"IBU - ",11.713368546101247,"IBU - ",11.713368546101247,"IBU - ",11.713368546101247,"IBU - ",11.713368546101247]
[{"$f":"\"Grains et sucres\"","v":"Grains et sucres"},{"$f":"A11","v":"Grains et sucres"},{"$f":"A11","v":"Grains et sucres"},{"$f":"A11","v":"Grains et sucres"},{"$f":"A11","v":"Grains et sucres"},{"$f":"A11","v":"Grains et sucres"},"IBU/DI -",{"$f":"Brassage!E7/((Brassage!N34-1)*1000)","v":0.23904833767553599},"IBU/DI -",0.23904833767553599,"IBU/DI -",0.23904833767553599,"IBU/DI -",0.23904833767553599,"IBU/DI -",0.23904833767553599,"IBU/DI -",0.23904833767553599]
[{"$f":"IF(Brassage!H25=0,\"\",\"- \"&ROUND(Brassage!H25,0)&\"g  \"&Brassage!B25)","v":"- 3574g  Pale ale Swaen"},"- 3574g  Pale ale Swaen","- 3574g  Pale ale Swaen","- 3574g  Pale ale Swaen","- 3574g  Pale ale Swaen","- 3574g  Pale ale Swaen","vol CO2",{"$f":"Brassage!E9","v":3.6},"vol CO2",3.6,"vol CO2",3.6,"vol CO2",3.6,"vol CO2",3.6,"vol CO2",3.6,"vol CO2","IBU/RE","IBU/DI","IBU",{"$f":"S12","v":"vol CO2"},"IBU/RE","IBU/DI","IBU","vol CO2","IBU/RE","IBU/DI","IBU","vol CO2","IBU/RE","IBU/DI","IBU","vol CO2","IBU/RE","IBU/DI","IBU","vol CO2","IBU/RE","IBU/DI","IBU"]
[{"$f":"IF(Brassage!H26=0,\"\",\"- \"&ROUND(Brassage!H26,0)&\"g  \"&Brassage!B26)","v":"- 3574g  Froment - Vieux Silo"},"- 3574g  Froment - Vieux Silo","- 3574g  Froment - Vieux Silo","- 3574g  Froment - Vieux Silo","- 3574g  Froment - Vieux Silo","- 3574g  Froment - Vieux Silo",null,null,0,0,0,0,0,0,0,0,0,0]
[{"$f":"IF(Brassage!H27=0,\"\",\"- \"&ROUND(Brassage!H27,0)&\"g  \"&Brassage!B27)","v":"- 146g  Cara Gold - Vieux Silo"},"- 146g  Cara Gold - Vieux Silo","- 146g  Cara Gold - Vieux Silo","- 146g  Cara Gold - Vieux Silo","- 146g  Cara Gold - Vieux Silo","- 146g  Cara Gold - Vieux Silo",{"$f":"Brassage!A1","v":"# Projet - Weissbier exemple"},{"$f":"Brassage!B3","v":"10A - Weissbier"},"# Projet - Weissbier exemple","10A - Weissbier","# Projet - Weissbier exemple","10A - Weissbier","# Projet - Weissbier exemple","10A - Weissbier","# Projet - Weissbier exemple","10A - Weissbier","# Projet - Weissbier exemple","10A - Weissbier"]
[{"$f":"IF(Brassage!H28=0,\"\",\"- \"&ROUND(Brassage!H28,0)&\"g  \"&Brassage!B28)","v":""},"","","","","",null,null,null,null,null,null,null,null,null,null,null,null,{"$f":"Brassage!$E$9","v":3.6},{"$f":"Brassage!$E$7/(0.1808*(259-(259/Brassage!$N$34))+(0.8192*(259-(259/Brassage!$L$56))))","v":2.5439571094819655},{"$f":"Brassage!E11","v":2.5206826527543011},{"$f":"Brassage!$E$7","v":11.713368546101247},{"$f":"S15","v":3.6},2.5439571094819655,2.5206826527543011,11.713368546101247,3.6,2.5439571094819655,2.5206826527543011,11.713368546101247,3.6,2.5439571094819655,2.5206826527543011,11.713368546101247,3.6,2.5439571094819655,2.5206826527543011,11.713368546101247,3.6,2.5439571094819655,2.5206826527543011,11.713368546101247]
[{"$f":"IF(Brassage!H29=0,\"\",\"- \"&ROUND(Brassage!H29,0)&\"g  \"&Brassage!B29)","v":""},"","","","",""]
[{"$f":"IF(Brassage!H30=0,\"\",\"- \"&ROUND(Brassage!H30,0)&\"g  \"&Brassage!B30)","v":""},"","","","",""]
[{"$f":"IF(Brassage!H31=0,\"\",\"- \"&ROUND(Brassage!H31,0)&\"g  \"&Brassage!B31)","v":""},"","","","","",null,null,null,null,null,null,null,null,null,null,null,null,{"$f":"Brassage!$A$1","v":"# Projet - Weissbier exemple"},null,{"$f":"Brassage!$B$3","v":"10A - Weissbier"},null,{"$f":"S18","v":"# Projet - Weissbier exemple"},null,{"$f":"U18","v":"10A - Weissbier"},null,{"$f":"W18","v":"# Projet - Weissbier exemple"},null,{"$f":"Y18","v":"10A - Weissbier"},null,{"$f":"AA18","v":"# Projet - Weissbier exemple"},null,{"$f":"AC18","v":"10A - Weissbier"},null,{"$f":"AE18","v":"# Projet - Weissbier exemple"},null,{"$f":"AG18","v":"10A - Weissbier"},null,{"$f":"AI18","v":"# Projet - Weissbier exemple"},null,{"$f":"AK18","v":"10A - Weissbier"}]
["Autres",{"$f":"A19","v":"Autres"},{"$f":"A19","v":"Autres"},{"$f":"A19","v":"Autres"},{"$f":"A19","v":"Autres"},{"$f":"A19","v":"Autres"}]
[{"$f":"IF(Brassage!B39=0,\"\",Brassage!F39&\"   \"&Brassage!B39)","v":""},{"$f":"A20","v":""},{"$f":"A20","v":""},{"$f":"A20","v":""},{"$f":"A20","v":""},{"$f":"A20","v":""}]
[{"$f":"IF(Brassage!B40=0,\"\",Brassage!F40&\"g   \"&Brassage!B40)","v":""},{"$f":"A21","v":""},{"$f":"A21","v":""},{"$f":"A21","v":""},{"$f":"A21","v":""},{"$f":"A21","v":""}]
[{"$f":"IF(Brassage!B41=0,\"\",Brassage!F41&\"g   \"&Brassage!B41)","v":""},{"$f":"A22","v":""},{"$f":"A22","v":""},{"$f":"A22","v":""},{"$f":"A22","v":""},{"$f":"A22","v":""}]
[]
["Houblons",{"$f":"A24","v":"Houblons"},{"$f":"A24","v":"Houblons"},{"$f":"A24","v":"Houblons"},{"$f":"A24","v":"Houblons"},{"$f":"A24","v":"Houblons"}]
[{"$f":"IF(Brassage!F45=0,\"\",\"- \"&Brassage!F45&\"g  \"&Brassage!B45&\"  \"&100*Brassage!C45&\"%\"&\"  \"&\"(\"&Brassage!D45&\" \"&Brassage!E45&\"')\")","v":"- 8g  Magnum  13,9%  (Ebullition 60')"},"- 8g  Magnum  13,9%  (Ebullition 60')","- 8g  Magnum  13,9%  (Ebullition 60')","- 8g  Magnum  13,9%  (Ebullition 60')","- 8g  Magnum  13,9%  (Ebullition 60')","- 8g  Magnum  13,9%  (Ebullition 60')"]
[{"$f":"IF(Brassage!F46=0,\"\",\"- \"&Brassage!F46&\"g  \"&Brassage!B46&\"  \"&100*Brassage!C46&\"%\"&\"  \"&\"(\"&Brassage!D46&\" \"&Brassage!E46&\"')\")","v":"- 30g  Tettnanger  4,1%  (Ebullition 10')"},"- 30g  Tettnanger  4,1%  (Ebullition 10')","- 30g  Tettnanger  4,1%  (Ebullition 10')","- 30g  Tettnanger  4,1%  (Ebullition 10')","- 30g  Tettnanger  4,1%  (Ebullition 10')","- 30g  Tettnanger  4,1%  (Ebullition 10')"]
[{"$f":"IF(Brassage!F47=0,\"\",\"- \"&Brassage!F47&\"g  \"&Brassage!B47&\"  \"&100*Brassage!C47&\"%\"&\"  \"&\"(\"&Brassage!D47&\" \"&Brassage!E47&\"')\")","v":""},"","","","",""]
[{"$f":"IF(Brassage!F48=0,\"\",\"- \"&Brassage!F48&\"g  \"&Brassage!B48&\"  \"&100*Brassage!C48&\"%\"&\"  \"&\"(\"&Brassage!D48&\" \"&Brassage!E48&\"')\")","v":""},"","","","",""]
[{"$f":"IF(Brassage!F49=0,\"\",\"- \"&Brassage!F49&\"g  \"&Brassage!B49&\"  \"&100*Brassage!C49&\"%\"&\"  \"&\"(\"&Brassage!D49&\" \"&Brassage!E49&\"')\")","v":""},"","","","",""]
[{"$f":"IF(Brassage!F53=0,\"\",\"- \"&Brassage!F53&\"g  \"&Brassage!B53&\"  \"&100*Brassage!C53&\"%\"&\"  \"&\"(\"&Brassage!D53&\" \"&Brassage!E53&\"')\")","v":""},"","","","",""]
[{"$f":"IF(Brassage!F54=0,\"\",\"- \"&Brassage!F54&\"g  \"&Brassage!B54&\"  \"&100*Brassage!C54&\"%\"&\"  \"&\"(\"&Brassage!D54&\" \"&Brassage!E54&\"')\")","v":""},"","","","",""]
["Levures","Levures",{"$f":"A32","v":"Levures"},{"$f":"A32","v":"Levures"},{"$f":"A32","v":"Levures"},{"$f":"A32","v":"Levures"}]
[{"$f":"IF(Brassage!B61=0,\"\",Brassage!B61)","v":"Wyeast 3068 Weihenstephan Weizen"},"Wyeast 3068 Weihenstephan Weizen",{"$f":"A33","v":"Wyeast 3068 Weihenstephan Weizen"},{"$f":"A33","v":"Wyeast 3068 Weihenstephan Weizen"},{"$f":"A33","v":"Wyeast 3068 Weihenstephan Weizen"},{"$f":"A33","v":"Wyeast 3068 Weihenstephan Weizen"}]
[{"$f":"IF(Brassage!B62=0,\"\",Brassage!B62)","v":""},"",{"$f":"A34","v":""},{"$f":"A34","v":""},{"$f":"A34","v":""},{"$f":"A34","v":""}]
[null,0]
[]
[null,null,null,null,null,null,null,null,null,null,null,null,null,null,null,null,null,null,{"$f":"$A$1","v":"# Projet - Weissbier exemple"},null,null,null,{"$f":"S37","v":"# Projet - Weissbier exemple"},null,null,null,{"$f":"W37","v":"# Projet - Weissbier exemple"},null,null,null,{"$f":"AA37","v":"# Projet - Weissbier exemple"},null,null,null,{"$f":"AE37","v":"# Projet - Weissbier exemple"},null,null,null,{"$f":"AI37","v":"# Projet - Weissbier exemple"}]
[]
[]
[]
[null,null,null,null,null,null,null,null,{"$f":"G41","v":0},{"$f":"H41","v":0},{"$f":"G41","v":0},{"$f":"H41","v":0},{"$f":"G41","v":0},{"$f":"H41","v":0},{"$f":"G41","v":0},{"$f":"H41","v":0},{"$f":"G41","v":0},{"$f":"H41","v":0}]
[null,null,null,null,null,null,null,null,{"$f":"G42","v":0},null,{"$f":"G42","v":0},null,{"$f":"G42","v":0},null,{"$f":"G42","v":0},null,{"$f":"G42","v":0}]

{"sheet":"Profil matériel","index":6,"n_rows":100,"n_cols":15,"rows_kept":100,"cut":false,"hidden":false,"merged":[[9,8,15,8],[9,9,9,10],[9,12,9,13],[10,9,10,10],[10,12,10,13],[11,9,11,10],[11,12,11,13],[12,9,12,10],[12,12,12,13],[13,9,13,10],[13,12,13,13],[14,9,14,10],[14,12,14,13],[15,9,15,10],[15,12,15,13],[16,8,22,8],[16,9,16,10],[16,12,16,13],[17,9,17,10],[17,12,17,13],[21,9,21,10],[21,12,21,13],[22,9,22,10],[22,12,22,13],[18,9,18,10],[18,12,18,13],[19,9,19,10],[19,12,19,13],[20,9,20,10],[20,12,20,13],[2,8,8,8],[2,9,2,10],[2,12,2,13],[3,9,3,10],[3,12,3,13],[4,9,4,10],[4,12,4,13],[5,9,5,10],[5,12,5,13],[6,9,6,10],[6,12,6,13],[7,9,7,10],[7,12,7,13],[8,9,8,10],[8,12,8,13],[7,1,13,1],[7,2,7,3],[7,5,7,6],[8,2,8,3],[8,5,8,6],[9,2,9,3],[9,5,9,6],[10,2,10,3],[10,5,10,6],[11,2,11,3],[11,5,11,6],[12,2,12,3],[12,5,12,6],[13,2,13,3],[13,5,13,6],[3,2,3,3],[3,5,3,6],[0,1,6,1],[0,2,0,3],[0,5,0,6],[1,2,1,3],[1,5,1,6],[2,2,2,3],[2,5,2,6],[4,2,4,3],[4,5,4,6],[5,2,5,3],[5,5,5,6],[6,2,6,3],[6,5,6,6],[23,8,29,8],[23,9,23,10],[23,12,23,13],[24,9,24,10],[24,12,24,13],[25,9,25,10],[25,12,25,13],[26,9,26,10],[26,12,26,13],[27,9,27,10],[27,12,27,13],[28,9,28,10],[28,12,28,13],[29,9,29,10],[29,12,29,13]]}
[{"$f":"IFERROR(INDEX($I$1:$I$572,SMALL(IF(FREQUENCY(IF($I$1:$I$572<>\"\",MATCH($I$1:$I$572,$I$1:$I$572,0)), ROW($I$1:$I$572)-ROW($I$1)+1),ROW($I$1:$I$572)-ROW($I$1)+1),ROWS(I$2:I2))),\"\")","v":"Profil Matériel"}]
[{"$f":"IFERROR(INDEX($I$1:$I$572,SMALL(IF(FREQUENCY(IF($I$1:$I$572<>\"\",MATCH($I$1:$I$572,$I$1:$I$572,0)), ROW($I$1:$I$572)-ROW($I$1)+1),ROW($I$1:$I$572)-ROW($I$1)+1),ROWS(I$2:I3))),\"\")","v":"Profil Hiver"}]
[{"$f":"IFERROR(INDEX($I$1:$I$572,SMALL(IF(FREQUENCY(IF($I$1:$I$572<>\"\",MATCH($I$1:$I$572,$I$1:$I$572,0)), ROW($I$1:$I$572)-ROW($I$1)+1),ROW($I$1:$I$572)-ROW($I$1)+1),ROWS(I$2:I4))),\"\")","v":"Profil Eté"},null,null,null,null,null,null,null,"Profil Matériel","Température du malt",null,19,"Température cuve d'empatage",null,70.3]
[{"$f":"IFERROR(INDEX($I$1:$I$572,SMALL(IF(FREQUENCY(IF($I$1:$I$572<>\"\",MATCH($I$1:$I$572,$I$1:$I$572,0)), ROW($I$1:$I$572)-ROW($I$1)+1),ROW($I$1:$I$572)-ROW($I$1)+1),ROWS(I$2:I5))),\"\")","v":"Profil exemple"},null,null,null,null,null,null,null,null,"Humidité du malt",null,0.04,"c*m cuve empatage",null,{"$f":"5.83*500","v":2915}]
[{"$f":"IFERROR(INDEX($I$1:$I$572,SMALL(IF(FREQUENCY(IF($I$1:$I$572<>\"\",MATCH($I$1:$I$572,$I$1:$I$572,0)), ROW($I$1:$I$572)-ROW($I$1)+1),ROW($I$1:$I$572)-ROW($I$1)+1),ROWS(I$2:I6))),\"\")","v":""},null,null,null,null,null,null,null,null,"Rétention grains",null,1,"Facteur correctif T°empatage",null,{"$f":"-((232.2934*(Brassage!$L$4*100)^2 -7471.1515*(Brassage!$L$4*100)+63999.0441)*0.5*Brassage!$H$34/1000)/((Brassage!$H$34/1000)*(23.9246*Brassage!$L$4*100+1585.0029)+Brassage!$M$10*4185)","v":-1.1584598880465786}]
[{"$f":"IFERROR(INDEX($I$1:$I$572,SMALL(IF(FREQUENCY(IF($I$1:$I$572<>\"\",MATCH($I$1:$I$572,$I$1:$I$572,0)), ROW($I$1:$I$572)-ROW($I$1)+1),ROW($I$1:$I$572)-ROW($I$1)+1),ROWS(I$2:I7))),\"\")","v":""},null,null,null,null,null,null,null,null,"Durée d'ébulition",null,60,"Pertes cuve filtration",null,1.2]
[{"$f":"IFERROR(INDEX($I$1:$I$572,SMALL(IF(FREQUENCY(IF($I$1:$I$572<>\"\",MATCH($I$1:$I$572,$I$1:$I$572,0)), ROW($I$1:$I$572)-ROW($I$1)+1),ROW($I$1:$I$572)-ROW($I$1)+1),ROWS(I$2:I7))),\"\")","v":""},null,null,null,null,null,null,null,null,"% d'évaporation/h",null,0.1,"Pertes cuve ébu",null,1]
[{"$f":"IFERROR(INDEX($I$1:$I$572,SMALL(IF(FREQUENCY(IF($I$1:$I$572<>\"\",MATCH($I$1:$I$572,$I$1:$I$572,0)), ROW($I$1:$I$572)-ROW($I$1)+1),ROW($I$1:$I$572)-ROW($I$1)+1),ROWS(I$2:I7))),\"\")","v":""},null,null,null,null,null,null,null,null,"Ratio d'empatage",null,3.5,"Pertes cuve tampon",null,1]
[{"$f":"IFERROR(INDEX($I$1:$I$572,SMALL(IF(FREQUENCY(IF($I$1:$I$572<>\"\",MATCH($I$1:$I$572,$I$1:$I$572,0)), ROW($I$1:$I$572)-ROW($I$1)+1),ROW($I$1:$I$572)-ROW($I$1)+1),ROWS(I$2:I7))),\"\")","v":""},null,null,null,null,null,null,null,null,"Volume d'eau total",null,"/","Pertes fermenteur",null,1.5]
[{"$f":"IFERROR(INDEX($I$1:$I$572,SMALL(IF(FREQUENCY(IF($I$1:$I$572<>\"\",MATCH($I$1:$I$572,$I$1:$I$572,0)), ROW($I$1:$I$572)-ROW($I$1)+1),ROW($I$1:$I$572)-ROW($I$1)+1),ROWS(I$2:I7))),\"\")","v":""},null,null,null,null,null,null,null,"Profil Hiver","Température du malt",null,19,"Température cuve d'empatage",null,70.3]
[{"$f":"IFERROR(INDEX($I$1:$I$572,SMALL(IF(FREQUENCY(IF($I$1:$I$572<>\"\",MATCH($I$1:$I$572,$I$1:$I$572,0)), ROW($I$1:$I$572)-ROW($I$1)+1),ROW($I$1:$I$572)-ROW($I$1)+1),ROWS(I$2:I7))),\"\")","v":""},null,null,null,null,null,null,null,null,"Humidité du malt",null,0.04,"c*m cuve empatage",null,{"$f":"5.83*500","v":2915}]
[{"$f":"IFERROR(INDEX($I$1:$I$572,SMALL(IF(FREQUENCY(IF($I$1:$I$572<>\"\",MATCH($I$1:$I$572,$I$1:$I$572,0)), ROW($I$1:$I$572)-ROW($I$1)+1),ROW($I$1:$I$572)-ROW($I$1)+1),ROWS(I$2:I7))),\"\")","v":""},null,null,null,null,null,null,null,null,"Rétention grains",null,1,"Facteur correctif T°empatage",null,{"$f":"-((232.2934*(Brassage!$L$4*100)^2 -7471.1515*(Brassage!$L$4*100)+63999.0441)*0.5*Brassage!$H$34/1000)/((Brassage!$H$34/1000)*(23.9246*Brassage!$L$4*100+1585.0029)+Brassage!$M$10*4185)","v":-1.1584598880465786}]
[{"$f":"IFERROR(INDEX($I$1:$I$572,SMALL(IF(FREQUENCY(IF($I$1:$I$572<>\"\",MATCH($I$1:$I$572,$I$1:$I$572,0)), ROW($I$1:$I$572)-ROW($I$1)+1),ROW($I$1:$I$572)-ROW($I$1)+1),ROWS(I$2:I7))),\"\")","v":""},null,null,null,null,null,null,null,null,"Durée d'ébulition",null,60,"Pertes cuve filtration",null,1.2]
[{"$f":"IFERROR(INDEX($I$1:$I$572,SMALL(IF(FREQUENCY(IF($I$1:$I$572<>\"\",MATCH($I$1:$I$572,$I$1:$I$572,0)), ROW($I$1:$I$572)-ROW($I$1)+1),ROW($I$1:$I$572)-ROW($I$1)+1),ROWS(I$2:I7))),\"\")","v":""},null,null,null,null,null,null,null,null,"% d'évaporation/h",null,0.1,"Pertes cuve ébu",null,1]
[{"$f":"IFERROR(INDEX($I$1:$I$572,SMALL(IF(FREQUENCY(IF($I$1:$I$572<>\"\",MATCH($I$1:$I$572,$I$1:$I$572,0)), ROW($I$1:$I$572)-ROW($I$1)+1),ROW($I$1:$I$572)-ROW($I$1)+1),ROWS(I$2:I7))),\"\")","v":""},null,null,null,null,null,null,null,null,"Ratio d'empatage",null,3.5,"Pertes cuve tampon",null,1]
[{"$f":"IFERROR(INDEX($I$1:$I$572,SMALL(IF(FREQUENCY(IF($I$1:$I$572<>\"\",MATCH($I$1:$I$572,$I$1:$I$572,0)), ROW($I$1:$I$572)-ROW($I$1)+1),ROW($I$1:$I$572)-ROW($I$1)+1),ROWS(I$2:I7))),\"\")","v":""},null,null,null,null,null,null,null,null,"Volume d'eau total",null,null,"Pertes fermenteur",null,1.5]
[{"$f":"IFERROR(INDEX($I$1:$I$572,SMALL(IF(FREQUENCY(IF($I$1:$I$572<>\"\",MATCH($I$1:$I$572,$I$1:$I$572,0)), ROW($I$1:$I$572)-ROW($I$1)+1),ROW($I$1:$I$572)-ROW($I$1)+1),ROWS(I$2:I7))),\"\")","v":""},null,null,null,null,null,null,null,"Profil Eté","Température du malt",null,24,"Température cuve d'empatage",null,70.3]
[{"$f":"IFERROR(INDEX($I$1:$I$572,SMALL(IF(FREQUENCY(IF($I$1:$I$572<>\"\",MATCH($I$1:$I$572,$I$1:$I$572,0)), ROW($I$1:$I$572)-ROW($I$1)+1),ROW($I$1:$I$572)-ROW($I$1)+1),ROWS(I$2:I7))),\"\")","v":""},null,null,null,null,null,null,null,null,"Humidité du malt",null,0.04,"c*m cuve empatage",null,{"$f":"5.83*500","v":2915}]
[{"$f":"IFERROR(INDEX($I$1:$I$572,SMALL(IF(FREQUENCY(IF($I$1:$I$572<>\"\",MATCH($I$1:$I$572,$I$1:$I$572,0)), ROW($I$1:$I$572)-ROW($I$1)+1),ROW($I$1:$I$572)-ROW($I$1)+1),ROWS(I$2:I7))),\"\")","v":""},null,null,null,null,null,null,null,null,"Rétention grains",null,1,"Facteur correctif T°empatage",null,{"$f":"-((232.2934*(Brassage!$L$4*100)^2 -7471.1515*(Brassage!$L$4*100)+63999.0441)*0.5*Brassage!$H$34/1000)/((Brassage!$H$34/1000)*(23.9246*Brassage!$L$4*100+1585.0029)+Brassage!$M$10*4185)","v":-1.1584598880465786}]
[{"$f":"IFERROR(INDEX($I$1:$I$572,SMALL(IF(FREQUENCY(IF($I$1:$I$572<>\"\",MATCH($I$1:$I$572,$I$1:$I$572,0)), ROW($I$1:$I$572)-ROW($I$1)+1),ROW($I$1:$I$572)-ROW($I$1)+1),ROWS(I$2:I7))),\"\")","v":""},null,null,null,null,null,null,null,null,"Durée d'ébulition",null,60,"Pertes cuve filtration",null,1.2]
[{"$f":"IFERROR(INDEX($I$1:$I$572,SMALL(IF(FREQUENCY(IF($I$1:$I$572<>\"\",MATCH($I$1:$I$572,$I$1:$I$572,0)), ROW($I$1:$I$572)-ROW($I$1)+1),ROW($I$1:$I$572)-ROW($I$1)+1),ROWS(I$2:I7))),\"\")","v":""},null,null,null,null,null,null,null,null,"% d'évaporation/h",null,0.1,"Pertes cuve ébu",null,1]
[{"$f":"IFERROR(INDEX($I$1:$I$572,SMALL(IF(FREQUENCY(IF($I$1:$I$572<>\"\",MATCH($I$1:$I$572,$I$1:$I$572,0)), ROW($I$1:$I$572)-ROW($I$1)+1),ROW($I$1:$I$572)-ROW($I$1)+1),ROWS(I$2:I7))),\"\")","v":""},null,null,null,null,null,null,null,null,"Ratio d'empatage",null,3.5,"Pertes cuve tampon",null,1]
[{"$f":"IFERROR(INDEX($I$1:$I$572,SMALL(IF(FREQUENCY(IF($I$1:$I$572<>\"\",MATCH($I$1:$I$572,$I$1:$I$572,0)), ROW($I$1:$I$572)-ROW($I$1)+1),ROW($I$1:$I$572)-ROW($I$1)+1),ROWS(I$2:I7))),\"\")","v":""},null,null,null,null,null,null,null,null,"Volume d'eau total",null,null,"Pertes fermenteur",null,1.5]
[{"$f":"IFERROR(INDEX($I$1:$I$572,SMALL(IF(FREQUENCY(IF($I$1:$I$572<>\"\",MATCH($I$1:$I$572,$I$1:$I$572,0)), ROW($I$1:$I$572)-ROW($I$1)+1),ROW($I$1:$I$572)-ROW($I$1)+1),ROWS(I$2:I7))),\"\")","v":""},null,null,null,null,null,null,null,"Profil exemple","Température du malt",null,20,"Température cuve d'empatage",null,70.3]
[{"$f":"IFERROR(INDEX($I$1:$I$572,SMALL(IF(FREQUENCY(IF($I$1:$I$572<>\"\",MATCH($I$1:$I$572,$I$1:$I$572,0)), ROW($I$1:$I$572)-ROW($I$1)+1),ROW($I$1:$I$572)-ROW($I$1)+1),ROWS(I$2:I7))),\"\")","v":""},null,null,null,null,null,null,null,null,"Humidité du malt",null,0.04,"c*m cuve empatage",null,{"$f":"5.83*500","v":2915}]
[{"$f":"IFERROR(INDEX($I$1:$I$572,SMALL(IF(FREQUENCY(IF($I$1:$I$572<>\"\",MATCH($I$1:$I$572,$I$1:$I$572,0)), ROW($I$1:$I$572)-ROW($I$1)+1),ROW($I$1:$I$572)-ROW($I$1)+1),ROWS(I$2:I7))),\"\")","v":""},null,null,null,null,null,null,null,null,"Rétention grains",null,1,"Facteur correctif T°empatage",null,{"$f":"-((232.2934*(Brassage!$L$4*100)^2 -7471.1515*(Brassage!$L$4*100)+63999.0441)*0.5*Brassage!$H$34/1000)/((Brassage!$H$34/1000)*(23.9246*Brassage!$L$4*100+1585.0029)+Brassage!$M$10*4185)","v":-1.1584598880465786}]
[{"$f":"IFERROR(INDEX($I$1:$I$572,SMALL(IF(FREQUENCY(IF($I$1:$I$572<>\"\",MATCH($I$1:$I$572,$I$1:$I$572,0)), ROW($I$1:$I$572)-ROW($I$1)+1),ROW($I$1:$I$572)-ROW($I$1)+1),ROWS(I$2:I7))),\"\")","v":""},null,null,null,null,null,null,null,null,"Durée d'ébulition",null,60,"Pertes cuve filtration",null,1]
[{"$f":"IFERROR(INDEX($I$1:$I$572,SMALL(IF(FREQUENCY(IF($I$1:$I$572<>\"\",MATCH($I$1:$I$572,$I$1:$I$572,0)), ROW($I$1:$I$572)-ROW($I$1)+1),ROW($I$1:$I$572)-ROW($I$1)+1),ROWS(I$2:I8))),\"\")","v":""},null,null,null,null,null,null,null,null,"% d'évaporation/h",null,0.1,"Pertes cuve ébu",null,0.5]
[{"$f":"IFERROR(INDEX($I$1:$I$572,SMALL(IF(FREQUENCY(IF($I$1:$I$572<>\"\",MATCH($I$1:$I$572,$I$1:$I$572,0)), ROW($I$1:$I$572)-ROW($I$1)+1),ROW($I$1:$I$572)-ROW($I$1)+1),ROWS(I$2:I9))),\"\")","v":""},null,null,null,null,null,null,null,null,"Ratio d'empatage",null,3.5,"Pertes cuve tampon",null,1]
[{"$f":"IFERROR(INDEX($I$1:$I$572,SMALL(IF(FREQUENCY(IF($I$1:$I$572<>\"\",MATCH($I$1:$I$572,$I$1:$I$572,0)), ROW($I$1:$I$572)-ROW($I$1)+1),ROW($I$1:$I$572)-ROW($I$1)+1),ROWS(I$2:I9))),\"\")","v":""},null,null,null,null,null,null,null,null,"Volume d'eau total",null,"/","Pertes fermenteur",null,1]
[{"$f":"IFERROR(INDEX($I$1:$I$572,SMALL(IF(FREQUENCY(IF($I$1:$I$572<>\"\",MATCH($I$1:$I$572,$I$1:$I$572,0)), ROW($I$1:$I$572)-ROW($I$1)+1),ROW($I$1:$I$572)-ROW($I$1)+1),ROWS(I$2:I9))),\"\")","v":""}]
[{"$f":"IFERROR(INDEX($I$1:$I$572,SMALL(IF(FREQUENCY(IF($I$1:$I$572<>\"\",MATCH($I$1:$I$572,$I$1:$I$572,0)), ROW($I$1:$I$572)-ROW($I$1)+1),ROW($I$1:$I$572)-ROW($I$1)+1),ROWS(I$2:I9))),\"\")","v":""}]
[{"$f":"IFERROR(INDEX($I$1:$I$572,SMALL(IF(FREQUENCY(IF($I$1:$I$572<>\"\",MATCH($I$1:$I$572,$I$1:$I$572,0)), ROW($I$1:$I$572)-ROW($I$1)+1),ROW($I$1:$I$572)-ROW($I$1)+1),ROWS(I$2:I9))),\"\")","v":""}]
[{"$f":"IFERROR(INDEX($I$1:$I$572,SMALL(IF(FREQUENCY(IF($I$1:$I$572<>\"\",MATCH($I$1:$I$572,$I$1:$I$572,0)), ROW($I$1:$I$572)-ROW($I$1)+1),ROW($I$1:$I$572)-ROW($I$1)+1),ROWS(I$2:I9))),\"\")","v":""}]
[{"$f":"IFERROR(INDEX($I$1:$I$572,SMALL(IF(FREQUENCY(IF($I$1:$I$572<>\"\",MATCH($I$1:$I$572,$I$1:$I$572,0)), ROW($I$1:$I$572)-ROW($I$1)+1),ROW($I$1:$I$572)-ROW($I$1)+1),ROWS(I$2:I9))),\"\")","v":""}]
[{"$f":"IFERROR(INDEX($I$1:$I$572,SMALL(IF(FREQUENCY(IF($I$1:$I$572<>\"\",MATCH($I$1:$I$572,$I$1:$I$572,0)), ROW($I$1:$I$572)-ROW($I$1)+1),ROW($I$1:$I$572)-ROW($I$1)+1),ROWS(I$2:I9))),\"\")","v":""}]
[{"$f":"IFERROR(INDEX($I$1:$I$572,SMALL(IF(FREQUENCY(IF($I$1:$I$572<>\"\",MATCH($I$1:$I$572,$I$1:$I$572,0)), ROW($I$1:$I$572)-ROW($I$1)+1),ROW($I$1:$I$572)-ROW($I$1)+1),ROWS(I$2:I9))),\"\")","v":""}]
[{"$f":"IFERROR(INDEX($I$1:$I$572,SMALL(IF(FREQUENCY(IF($I$1:$I$572<>\"\",MATCH($I$1:$I$572,$I$1:$I$572,0)), ROW($I$1:$I$572)-ROW($I$1)+1),ROW($I$1:$I$572)-ROW($I$1)+1),ROWS(I$2:I9))),\"\")","v":""}]
[{"$f":"IFERROR(INDEX($I$1:$I$572,SMALL(IF(FREQUENCY(IF($I$1:$I$572<>\"\",MATCH($I$1:$I$572,$I$1:$I$572,0)), ROW($I$1:$I$572)-ROW($I$1)+1),ROW($I$1:$I$572)-ROW($I$1)+1),ROWS(I$2:I9))),\"\")","v":""}]
[{"$f":"IFERROR(INDEX($I$1:$I$572,SMALL(IF(FREQUENCY(IF($I$1:$I$572<>\"\",MATCH($I$1:$I$572,$I$1:$I$572,0)), ROW($I$1:$I$572)-ROW($I$1)+1),ROW($I$1:$I$572)-ROW($I$1)+1),ROWS(I$2:I9))),\"\")","v":""}]
[{"$f":"IFERROR(INDEX($I$1:$I$572,SMALL(IF(FREQUENCY(IF($I$1:$I$572<>\"\",MATCH($I$1:$I$572,$I$1:$I$572,0)), ROW($I$1:$I$572)-ROW($I$1)+1),ROW($I$1:$I$572)-ROW($I$1)+1),ROWS(I$2:I9))),\"\")","v":""}]
[{"$f":"IFERROR(INDEX($I$1:$I$572,SMALL(IF(FREQUENCY(IF($I$1:$I$572<>\"\",MATCH($I$1:$I$572,$I$1:$I$572,0)), ROW($I$1:$I$572)-ROW($I$1)+1),ROW($I$1:$I$572)-ROW($I$1)+1),ROWS(I$2:I9))),\"\")","v":""}]
[{"$f":"IFERROR(INDEX($I$1:$I$572,SMALL(IF(FREQUENCY(IF($I$1:$I$572<>\"\",MATCH($I$1:$I$572,$I$1:$I$572,0)), ROW($I$1:$I$572)-ROW($I$1)+1),ROW($I$1:$I$572)-ROW($I$1)+1),ROWS(I$2:I9))),\"\")","v":""}]
[{"$f":"IFERROR(INDEX($I$1:$I$572,SMALL(IF(FREQUENCY(IF($I$1:$I$572<>\"\",MATCH($I$1:$I$572,$I$1:$I$572,0)), ROW($I$1:$I$572)-ROW($I$1)+1),ROW($I$1:$I$572)-ROW($I$1)+1),ROWS(I$2:I9))),\"\")","v":""}]
[{"$f":"IFERROR(INDEX($I$1:$I$572,SMALL(IF(FREQUENCY(IF($I$1:$I$572<>\"\",MATCH($I$1:$I$572,$I$1:$I$572,0)), ROW($I$1:$I$572)-ROW($I$1)+1),ROW($I$1:$I$572)-ROW($I$1)+1),ROWS(I$2:I9))),\"\")","v":""}]
[{"$f":"IFERROR(INDEX($I$1:$I$572,SMALL(IF(FREQUENCY(IF($I$1:$I$572<>\"\",MATCH($I$1:$I$572,$I$1:$I$572,0)), ROW($I$1:$I$572)-ROW($I$1)+1),ROW($I$1:$I$572)-ROW($I$1)+1),ROWS(I$2:I9))),\"\")","v":""}]
[{"$f":"IFERROR(INDEX($I$1:$I$572,SMALL(IF(FREQUENCY(IF($I$1:$I$572<>\"\",MATCH($I$1:$I$572,$I$1:$I$572,0)), ROW($I$1:$I$572)-ROW($I$1)+1),ROW($I$1:$I$572)-ROW($I$1)+1),ROWS(I$2:I9))),\"\")","v":""}]
[{"$f":"IFERROR(INDEX($I$1:$I$572,SMALL(IF(FREQUENCY(IF($I$1:$I$572<>\"\",MATCH($I$1:$I$572,$I$1:$I$572,0)), ROW($I$1:$I$572)-ROW($I$1)+1),ROW($I$1:$I$572)-ROW($I$1)+1),ROWS(I$2:I9))),\"\")","v":""}]
[{"$f":"IFERROR(INDEX($I$1:$I$572,SMALL(IF(FREQUENCY(IF($I$1:$I$572<>\"\",MATCH($I$1:$I$572,$I$1:$I$572,0)), ROW($I$1:$I$572)-ROW($I$1)+1),ROW($I$1:$I$572)-ROW($I$1)+1),ROWS(I$2:I9))),\"\")","v":""}]
[{"$f":"IFERROR(INDEX($I$1:$I$572,SMALL(IF(FREQUENCY(IF($I$1:$I$572<>\"\",MATCH($I$1:$I$572,$I$1:$I$572,0)), ROW($I$1:$I$572)-ROW($I$1)+1),ROW($I$1:$I$572)-ROW($I$1)+1),ROWS(I$2:I9))),\"\")","v":""}]
[{"$f":"IFERROR(INDEX($I$1:$I$572,SMALL(IF(FREQUENCY(IF($I$1:$I$572<>\"\",MATCH($I$1:$I$572,$I$1:$I$572,0)), ROW($I$1:$I$572)-ROW($I$1)+1),ROW($I$1:$I$572)-ROW($I$1)+1),ROWS(I$2:I9))),\"\")","v":""}]
[{"$f":"IFERROR(INDEX($I$1:$I$572,SMALL(IF(FREQUENCY(IF($I$1:$I$572<>\"\",MATCH($I$1:$I$572,$I$1:$I$572,0)), ROW($I$1:$I$572)-ROW($I$1)+1),ROW($I$1:$I$572)-ROW($I$1)+1),ROWS(I$2:I9))),\"\")","v":""}]
[{"$f":"IFERROR(INDEX($I$1:$I$572,SMALL(IF(FREQUENCY(IF($I$1:$I$572<>\"\",MATCH($I$1:$I$572,$I$1:$I$572,0)), ROW($I$1:$I$572)-ROW($I$1)+1),ROW($I$1:$I$572)-ROW($I$1)+1),ROWS(I$2:I9))),\"\")","v":""}]
[{"$f":"IFERROR(INDEX($I$1:$I$572,SMALL(IF(FREQUENCY(IF($I$1:$I$572<>\"\",MATCH($I$1:$I$572,$I$1:$I$572,0)), ROW($I$1:$I$572)-ROW($I$1)+1),ROW($I$1:$I$572)-ROW($I$1)+1),ROWS(I$2:I9))),\"\")","v":""}]
[{"$f":"IFERROR(INDEX($I$1:$I$572,SMALL(IF(FREQUENCY(IF($I$1:$I$572<>\"\",MATCH($I$1:$I$572,$I$1:$I$572,0)), ROW($I$1:$I$572)-ROW($I$1)+1),ROW($I$1:$I$572)-ROW($I$1)+1),ROWS(I$2:I9))),\"\")","v":""}]
[{"$f":"IFERROR(INDEX($I$1:$I$572,SMALL(IF(FREQUENCY(IF($I$1:$I$572<>\"\",MATCH($I$1:$I$572,$I$1:$I$572,0)), ROW($I$1:$I$572)-ROW($I$1)+1),ROW($I$1:$I$572)-ROW($I$1)+1),ROWS(I$2:I9))),\"\")","v":""}]
[{"$f":"IFERROR(INDEX($I$1:$I$572,SMALL(IF(FREQUENCY(IF($I$1:$I$572<>\"\",MATCH($I$1:$I$572,$I$1:$I$572,0)), ROW($I$1:$I$572)-ROW($I$1)+1),ROW($I$1:$I$572)-ROW($I$1)+1),ROWS(I$2:I9))),\"\")","v":""}]
[{"$f":"IFERROR(INDEX($I$1:$I$572,SMALL(IF(FREQUENCY(IF($I$1:$I$572<>\"\",MATCH($I$1:$I$572,$I$1:$I$572,0)), ROW($I$1:$I$572)-ROW($I$1)+1),ROW($I$1:$I$572)-ROW($I$1)+1),ROWS(I$2:I9))),\"\")","v":""}]
[{"$f":"IFERROR(INDEX($I$1:$I$572,SMALL(IF(FREQUENCY(IF($I$1:$I$572<>\"\",MATCH($I$1:$I$572,$I$1:$I$572,0)), ROW($I$1:$I$572)-ROW($I$1)+1),ROW($I$1:$I$572)-ROW($I$1)+1),ROWS(I$2:I9))),\"\")","v":""}]
[{"$f":"IFERROR(INDEX($I$1:$I$572,SMALL(IF(FREQUENCY(IF($I$1:$I$572<>\"\",MATCH($I$1:$I$572,$I$1:$I$572,0)), ROW($I$1:$I$572)-ROW($I$1)+1),ROW($I$1:$I$572)-ROW($I$1)+1),ROWS(I$2:I9))),\"\")","v":""}]
[{"$f":"IFERROR(INDEX($I$1:$I$572,SMALL(IF(FREQUENCY(IF($I$1:$I$572<>\"\",MATCH($I$1:$I$572,$I$1:$I$572,0)), ROW($I$1:$I$572)-ROW($I$1)+1),ROW($I$1:$I$572)-ROW($I$1)+1),ROWS(I$2:I9))),\"\")","v":""}]
[{"$f":"IFERROR(INDEX($I$1:$I$572,SMALL(IF(FREQUENCY(IF($I$1:$I$572<>\"\",MATCH($I$1:$I$572,$I$1:$I$572,0)), ROW($I$1:$I$572)-ROW($I$1)+1),ROW($I$1:$I$572)-ROW($I$1)+1),ROWS(I$2:I10))),\"\")","v":""}]
[{"$f":"IFERROR(INDEX($I$1:$I$572,SMALL(IF(FREQUENCY(IF($I$1:$I$572<>\"\",MATCH($I$1:$I$572,$I$1:$I$572,0)), ROW($I$1:$I$572)-ROW($I$1)+1),ROW($I$1:$I$572)-ROW($I$1)+1),ROWS(I$2:I11))),\"\")","v":""}]
[{"$f":"IFERROR(INDEX($I$1:$I$572,SMALL(IF(FREQUENCY(IF($I$1:$I$572<>\"\",MATCH($I$1:$I$572,$I$1:$I$572,0)), ROW($I$1:$I$572)-ROW($I$1)+1),ROW($I$1:$I$572)-ROW($I$1)+1),ROWS(I$2:I12))),\"\")","v":""}]
[{"$f":"IFERROR(INDEX($I$1:$I$572,SMALL(IF(FREQUENCY(IF($I$1:$I$572<>\"\",MATCH($I$1:$I$572,$I$1:$I$572,0)), ROW($I$1:$I$572)-ROW($I$1)+1),ROW($I$1:$I$572)-ROW($I$1)+1),ROWS(I$2:I13))),\"\")","v":""}]
[{"$f":"IFERROR(INDEX($I$1:$I$572,SMALL(IF(FREQUENCY(IF($I$1:$I$572<>\"\",MATCH($I$1:$I$572,$I$1:$I$572,0)), ROW($I$1:$I$572)-ROW($I$1)+1),ROW($I$1:$I$572)-ROW($I$1)+1),ROWS(I$2:I14))),\"\")","v":""}]
[{"$f":"IFERROR(INDEX($I$1:$I$572,SMALL(IF(FREQUENCY(IF($I$1:$I$572<>\"\",MATCH($I$1:$I$572,$I$1:$I$572,0)), ROW($I$1:$I$572)-ROW($I$1)+1),ROW($I$1:$I$572)-ROW($I$1)+1),ROWS(I$2:I15))),\"\")","v":""}]
[{"$f":"IFERROR(INDEX($I$1:$I$572,SMALL(IF(FREQUENCY(IF($I$1:$I$572<>\"\",MATCH($I$1:$I$572,$I$1:$I$572,0)), ROW($I$1:$I$572)-ROW($I$1)+1),ROW($I$1:$I$572)-ROW($I$1)+1),ROWS(I$2:I16))),\"\")","v":""}]
[{"$f":"IFERROR(INDEX($I$1:$I$572,SMALL(IF(FREQUENCY(IF($I$1:$I$572<>\"\",MATCH($I$1:$I$572,$I$1:$I$572,0)), ROW($I$1:$I$572)-ROW($I$1)+1),ROW($I$1:$I$572)-ROW($I$1)+1),ROWS(I$2:I17))),\"\")","v":""}]
[{"$f":"IFERROR(INDEX($I$1:$I$572,SMALL(IF(FREQUENCY(IF($I$1:$I$572<>\"\",MATCH($I$1:$I$572,$I$1:$I$572,0)), ROW($I$1:$I$572)-ROW($I$1)+1),ROW($I$1:$I$572)-ROW($I$1)+1),ROWS(I$2:I18))),\"\")","v":""}]
[{"$f":"IFERROR(INDEX($I$1:$I$572,SMALL(IF(FREQUENCY(IF($I$1:$I$572<>\"\",MATCH($I$1:$I$572,$I$1:$I$572,0)), ROW($I$1:$I$572)-ROW($I$1)+1),ROW($I$1:$I$572)-ROW($I$1)+1),ROWS(I$2:I19))),\"\")","v":""}]
[{"$f":"IFERROR(INDEX($I$1:$I$572,SMALL(IF(FREQUENCY(IF($I$1:$I$572<>\"\",MATCH($I$1:$I$572,$I$1:$I$572,0)), ROW($I$1:$I$572)-ROW($I$1)+1),ROW($I$1:$I$572)-ROW($I$1)+1),ROWS(I$2:I20))),\"\")","v":""}]
[{"$f":"IFERROR(INDEX($I$1:$I$572,SMALL(IF(FREQUENCY(IF($I$1:$I$572<>\"\",MATCH($I$1:$I$572,$I$1:$I$572,0)), ROW($I$1:$I$572)-ROW($I$1)+1),ROW($I$1:$I$572)-ROW($I$1)+1),ROWS(I$2:I21))),\"\")","v":""}]
[{"$f":"IFERROR(INDEX($I$1:$I$572,SMALL(IF(FREQUENCY(IF($I$1:$I$572<>\"\",MATCH($I$1:$I$572,$I$1:$I$572,0)), ROW($I$1:$I$572)-ROW($I$1)+1),ROW($I$1:$I$572)-ROW($I$1)+1),ROWS(I$2:I22))),\"\")","v":""}]
[{"$f":"IFERROR(INDEX($I$1:$I$572,SMALL(IF(FREQUENCY(IF($I$1:$I$572<>\"\",MATCH($I$1:$I$572,$I$1:$I$572,0)), ROW($I$1:$I$572)-ROW($I$1)+1),ROW($I$1:$I$572)-ROW($I$1)+1),ROWS(I$2:I23))),\"\")","v":""}]
[{"$f":"IFERROR(INDEX($I$1:$I$572,SMALL(IF(FREQUENCY(IF($I$1:$I$572<>\"\",MATCH($I$1:$I$572,$I$1:$I$572,0)), ROW($I$1:$I$572)-ROW($I$1)+1),ROW($I$1:$I$572)-ROW($I$1)+1),ROWS(I$2:I23))),\"\")","v":""}]
[{"$f":"IFERROR(INDEX($I$1:$I$572,SMALL(IF(FREQUENCY(IF($I$1:$I$572<>\"\",MATCH($I$1:$I$572,$I$1:$I$572,0)), ROW($I$1:$I$572)-ROW($I$1)+1),ROW($I$1:$I$572)-ROW($I$1)+1),ROWS(I$2:I23))),\"\")","v":""}]
[{"$f":"IFERROR(INDEX($I$1:$I$572,SMALL(IF(FREQUENCY(IF($I$1:$I$572<>\"\",MATCH($I$1:$I$572,$I$1:$I$572,0)), ROW($I$1:$I$572)-ROW($I$1)+1),ROW($I$1:$I$572)-ROW($I$1)+1),ROWS(I$2:I23))),\"\")","v":""}]
[{"$f":"IFERROR(INDEX($I$1:$I$572,SMALL(IF(FREQUENCY(IF($I$1:$I$572<>\"\",MATCH($I$1:$I$572,$I$1:$I$572,0)), ROW($I$1:$I$572)-ROW($I$1)+1),ROW($I$1:$I$572)-ROW($I$1)+1),ROWS(I$2:I23))),\"\")","v":""}]
[{"$f":"IFERROR(INDEX($I$1:$I$572,SMALL(IF(FREQUENCY(IF($I$1:$I$572<>\"\",MATCH($I$1:$I$572,$I$1:$I$572,0)), ROW($I$1:$I$572)-ROW($I$1)+1),ROW($I$1:$I$572)-ROW($I$1)+1),ROWS(I$2:I23))),\"\")","v":""}]
[{"$f":"IFERROR(INDEX($I$1:$I$572,SMALL(IF(FREQUENCY(IF($I$1:$I$572<>\"\",MATCH($I$1:$I$572,$I$1:$I$572,0)), ROW($I$1:$I$572)-ROW($I$1)+1),ROW($I$1:$I$572)-ROW($I$1)+1),ROWS(I$2:I23))),\"\")","v":""}]
[{"$f":"IFERROR(INDEX($I$1:$I$572,SMALL(IF(FREQUENCY(IF($I$1:$I$572<>\"\",MATCH($I$1:$I$572,$I$1:$I$572,0)), ROW($I$1:$I$572)-ROW($I$1)+1),ROW($I$1:$I$572)-ROW($I$1)+1),ROWS(I$2:I23))),\"\")","v":""}]
[{"$f":"IFERROR(INDEX($I$1:$I$572,SMALL(IF(FREQUENCY(IF($I$1:$I$572<>\"\",MATCH($I$1:$I$572,$I$1:$I$572,0)), ROW($I$1:$I$572)-ROW($I$1)+1),ROW($I$1:$I$572)-ROW($I$1)+1),ROWS(I$2:I23))),\"\")","v":""}]
[{"$f":"IFERROR(INDEX($I$1:$I$572,SMALL(IF(FREQUENCY(IF($I$1:$I$572<>\"\",MATCH($I$1:$I$572,$I$1:$I$572,0)), ROW($I$1:$I$572)-ROW($I$1)+1),ROW($I$1:$I$572)-ROW($I$1)+1),ROWS(I$2:I23))),\"\")","v":""}]
[{"$f":"IFERROR(INDEX($I$1:$I$572,SMALL(IF(FREQUENCY(IF($I$1:$I$572<>\"\",MATCH($I$1:$I$572,$I$1:$I$572,0)), ROW($I$1:$I$572)-ROW($I$1)+1),ROW($I$1:$I$572)-ROW($I$1)+1),ROWS(I$2:I23))),\"\")","v":""}]
[{"$f":"IFERROR(INDEX($I$1:$I$572,SMALL(IF(FREQUENCY(IF($I$1:$I$572<>\"\",MATCH($I$1:$I$572,$I$1:$I$572,0)), ROW($I$1:$I$572)-ROW($I$1)+1),ROW($I$1:$I$572)-ROW($I$1)+1),ROWS(I$2:I23))),\"\")","v":""}]
[{"$f":"IFERROR(INDEX($I$1:$I$572,SMALL(IF(FREQUENCY(IF($I$1:$I$572<>\"\",MATCH($I$1:$I$572,$I$1:$I$572,0)), ROW($I$1:$I$572)-ROW($I$1)+1),ROW($I$1:$I$572)-ROW($I$1)+1),ROWS(I$2:I23))),\"\")","v":""}]
[{"$f":"IFERROR(INDEX($I$1:$I$572,SMALL(IF(FREQUENCY(IF($I$1:$I$572<>\"\",MATCH($I$1:$I$572,$I$1:$I$572,0)), ROW($I$1:$I$572)-ROW($I$1)+1),ROW($I$1:$I$572)-ROW($I$1)+1),ROWS(I$2:I23))),\"\")","v":""}]
[{"$f":"IFERROR(INDEX($I$1:$I$572,SMALL(IF(FREQUENCY(IF($I$1:$I$572<>\"\",MATCH($I$1:$I$572,$I$1:$I$572,0)), ROW($I$1:$I$572)-ROW($I$1)+1),ROW($I$1:$I$572)-ROW($I$1)+1),ROWS(I$2:I23))),\"\")","v":""}]
[{"$f":"IFERROR(INDEX($I$1:$I$572,SMALL(IF(FREQUENCY(IF($I$1:$I$572<>\"\",MATCH($I$1:$I$572,$I$1:$I$572,0)), ROW($I$1:$I$572)-ROW($I$1)+1),ROW($I$1:$I$572)-ROW($I$1)+1),ROWS(I$2:I23))),\"\")","v":""}]
[{"$f":"IFERROR(INDEX($I$1:$I$572,SMALL(IF(FREQUENCY(IF($I$1:$I$572<>\"\",MATCH($I$1:$I$572,$I$1:$I$572,0)), ROW($I$1:$I$572)-ROW($I$1)+1),ROW($I$1:$I$572)-ROW($I$1)+1),ROWS(I$2:I23))),\"\")","v":""}]
[{"$f":"IFERROR(INDEX($I$1:$I$572,SMALL(IF(FREQUENCY(IF($I$1:$I$572<>\"\",MATCH($I$1:$I$572,$I$1:$I$572,0)), ROW($I$1:$I$572)-ROW($I$1)+1),ROW($I$1:$I$572)-ROW($I$1)+1),ROWS(I$2:I23))),\"\")","v":""}]
[{"$f":"IFERROR(INDEX($I$1:$I$572,SMALL(IF(FREQUENCY(IF($I$1:$I$572<>\"\",MATCH($I$1:$I$572,$I$1:$I$572,0)), ROW($I$1:$I$572)-ROW($I$1)+1),ROW($I$1:$I$572)-ROW($I$1)+1),ROWS(I$2:I23))),\"\")","v":""}]
[{"$f":"IFERROR(INDEX($I$1:$I$572,SMALL(IF(FREQUENCY(IF($I$1:$I$572<>\"\",MATCH($I$1:$I$572,$I$1:$I$572,0)), ROW($I$1:$I$572)-ROW($I$1)+1),ROW($I$1:$I$572)-ROW($I$1)+1),ROWS(I$2:I23))),\"\")","v":""}]
[{"$f":"IFERROR(INDEX($I$1:$I$572,SMALL(IF(FREQUENCY(IF($I$1:$I$572<>\"\",MATCH($I$1:$I$572,$I$1:$I$572,0)), ROW($I$1:$I$572)-ROW($I$1)+1),ROW($I$1:$I$572)-ROW($I$1)+1),ROWS(I$2:I23))),\"\")","v":""}]
[{"$f":"IFERROR(INDEX($I$1:$I$572,SMALL(IF(FREQUENCY(IF($I$1:$I$572<>\"\",MATCH($I$1:$I$572,$I$1:$I$572,0)), ROW($I$1:$I$572)-ROW($I$1)+1),ROW($I$1:$I$572)-ROW($I$1)+1),ROWS(I$2:I23))),\"\")","v":""}]
[{"$f":"IFERROR(INDEX($I$1:$I$572,SMALL(IF(FREQUENCY(IF($I$1:$I$572<>\"\",MATCH($I$1:$I$572,$I$1:$I$572,0)), ROW($I$1:$I$572)-ROW($I$1)+1),ROW($I$1:$I$572)-ROW($I$1)+1),ROWS(I$2:I23))),\"\")","v":""}]
[{"$f":"IFERROR(INDEX($I$1:$I$572,SMALL(IF(FREQUENCY(IF($I$1:$I$572<>\"\",MATCH($I$1:$I$572,$I$1:$I$572,0)), ROW($I$1:$I$572)-ROW($I$1)+1),ROW($I$1:$I$572)-ROW($I$1)+1),ROWS(I$2:I23))),\"\")","v":""}]
[{"$f":"IFERROR(INDEX($I$1:$I$572,SMALL(IF(FREQUENCY(IF($I$1:$I$572<>\"\",MATCH($I$1:$I$572,$I$1:$I$572,0)), ROW($I$1:$I$572)-ROW($I$1)+1),ROW($I$1:$I$572)-ROW($I$1)+1),ROWS(I$2:I23))),\"\")","v":""}]
[{"$f":"IFERROR(INDEX($I$1:$I$572,SMALL(IF(FREQUENCY(IF($I$1:$I$572<>\"\",MATCH($I$1:$I$572,$I$1:$I$572,0)), ROW($I$1:$I$572)-ROW($I$1)+1),ROW($I$1:$I$572)-ROW($I$1)+1),ROWS(I$2:I23))),\"\")","v":""}]

{"sheet":"Houblons","index":7,"n_rows":209,"n_cols":14,"rows_kept":209,"cut":false,"hidden":false,"merged":[]}
["Variété","Utilisation","%  d'acide alpha","%  d'acide béta","Description","Substituts possibles","Pays \nd'origine","Ales compatibles","Pale Ales compatibles","Fermentation basses compatibles","IPA compatibles","Stouts et Porter compatibles","Autres styles compatibles","Généalogie"]
["Admiral","Amérisant","13.5 – 16 %","4.5 – 6 %","Une variété Anglaise à grande teneur en acide alpha, souvent utilisée dans les ales anglaises. Peut substituer la variété Target mais est plus délicate avec un caractère de houblon plaisant, arômes abricots et orange,","Target\nNorthdown\nChallenger\nPilgrim","UK","Ales Anglaises foncées","Bitter","Lager","IPA"]
["Agnus\n(Lamb)","Amérisant","11-15%","4 – 6.6 %","Il apporte à la bière un caractère épicé et herbacé. C'est un houblon que l'on retrouve dans les bières Pilsner ou les Lagers.","Nugget\nHorizon\nMagnum","République Tchèque",null,null,"Lager\nPilsner",null,null,"Bière de froment","Sladek\nSaaz\nNorthern Brewer\nFuggle"]
["Ahil","Double","8.5 – 11.5 %","3.5 – 5.2 %","Floral. C’est le précurseur des « superstyrian ». Classé en aromatique par la plupart des « guide », son taux d’alpha permet de l’utiliser en amérisant",null,"Slovénie","Ales Belges",null,null,null,null,null,"Brewer’s Gold\n(frère de Apolon & Atlas)"]
["Ahtanum\n(YCR1)","Aromatique"," 5.7 – 6.3 %","5 – 6.5 %","Ce houblon procure un arôme typique américain similaire au Cascade, williamette et amarillo, Notes d’herbes, de menthe, de citron, de fleurs d'agrume et de pin,","Amarillo\nCascade","USA","American Brown Ale",null,null,"AIPA",null,null,"Whitebread Golding\nBrewer’s Gold"]
["Alliance","Double","4.5 – 7.5 %","2 – 5 %",null,"Fuggle","UK"]
["Amallia","Double","5 – 9 %","4 – 8.5 %","Très terreux, et avec un profil très agrume","Brown Ale\nDark Ale","USA","Brown Ale\nDark Ale"]
["Amarillo\n(VGXP01)","Aromatique","10 - 12 %","5,5 - 8 %","Son arôme et la saveur est décrit comme une version suralimentée du Cascade. Il caractérise par des arômes floraux, tropicaux et d'agrumes (citron, orange et pamplemousse).","Cascade \nCentennial\nSimcoe","USA",null,"APA",null,"AIPA"]
["Amethyst","Aromatique","3,5-6%"," 7 – 8 %","Arômes terreux, agrumes, épicé","Saaz","République Tchèque",null,"Pale Ale","Lager",null,null,null,"Saaz"]
["Apollo\n(#01051)","Amérisant","15-19%"," 5.5 – 8 %","Caractérisé par son taux fortement élevé en alpha, cette variété de houblon procurera à votre bière une saveur particulière et franche, avec des notes d’agrume (citron vert, pamplemousse) et résineuses","Colombus \n Magnum\nNugget\nZeus","USA",null,null,null,"IPA\nImpérial IPA",null,null,"Zeus"]
["Apolon","Double","10-12%","3.5 – 4 %",null,"","Slovénie","Ales Anglaises","Bitter",null,"IPA",null,null,"Brewer’s Gold\n(frère de Ahil et Atlas)"]
["Aquila","Aromatique","6.5 – 9 %","4 – 5 %","Cultivar abandonné à l’échelle industrielle","Cluster\nGalena","USA","Saison Belge",null,null,null,null,null,"Brewer’s Gold"]
["Aramis","Double","7 - 8.5%;","3.5 – 4.5 %","Nouvelle race à haute teneur en acides alpha avec un arome plaisant de fruits, avec une pointe de poire et pomme qui oscille avec des goûts d'épices,"," Centennial\nChallenger\nAhtanum\nWillamette\nChallenger\nAthanum","France","Saison",null,"Lager\nPilsner",null,null,"Blanche belge"]
["Archer","Double","4-6%","2 – 3 %","Floral, notes de citron vert et de pêche. DH possible","Summer","UK",null,"Bitter blonde"]
["Ariana","Amérisant","9-13%","4,5-6 %"," Cette variété se distingue par des notes de cassis, de pêche, de poire et de fruits tropicaux. Utilisé en dry hopping, ce houblon confère également des notes de pamplemousse, de groseille, d'agrumes et de vanille.","","Allemagne","Amber ale","Pale Ale",null,"IPA"]
["Atlas\n(Styrian Atlas)","Amérisant","5 - 9%","3.8 – 4 %","Arome frais, notes d'herbe fraîche,","Styrian Golding\nAurora","Slovénie","Ales Belges","APA",null,null,null,null,"Ahil\nApolon"]
["Aurora \n(Super Styrian)","Aromatique","5 - 10%","2.5 – 5.5 %","Grande teneur en acides alpha, arôme ressemblant à Styrian Golding mais plus léger, notes herbacées et fleuries.","Perle\nSladek","Slovénie","Ales Anglaises\nAles Belges\nAles Américaines","APA","Lager\nPilsner",null,null,"Bière de froment"]
["Azacca ®\n(#483,\n Azaaca)","Double","14-16 %","4 – 5.5 %","Agrumes (citron, pamplemousse, orange), fruits tropicaux (papaye, ananas, mangue, papaye), épicé, herbeux",null,"USA",null,null,null,"AIPA",null,null,"Northern Brewer\nToyomidori\nSummit"]
["Bačka","Aromatique","3 – 6.5 %","4 – 7 %","Arômes de « houblons nobles », Très vieille variété serbe",null,"Serbie",null,null,"Lager\nPilsner"]
["Banner","Amérisant","8.5 – 12.5 %","5 – 8 %",null,"Aquila\nCluster\nGalena","USA",null,"Bitter",null,null,null,null,"Brewer’s Gold"]
["Barbe Rouge","Double","3,8-6%"," 4 - 6.5 %","notes prononcées de fruits rouges tel que la fraise, la cerise avec une belle balance  côté herbal et épicé","","France"]
["Beata","Aromatique","3.5 – 3.8 %",null,"Pomme, Abricot, Amande",null,"UK",null,null,null,null,null,null,"Strisselspalt"]
["Beata","Aromatique","3 - 7%","9 - 11%","Abricot, et pomme, avec une pointe d'amande","Boaticea\nBelma","UK"]
["Belma","Double",12.1,null,"Notes d'orange, melon, fraise, ananas avec un soupçon de pamplemousse","Golding","USA",null,"Pale Ale",null,"IPA"]
["Bianca\n(Bianco,\nBianca Gold)","Aromatique","7 – 7.8 %%","3.2-3.4 %",null,"Saaz\nSunbeam","USA","Ales Belges",null,"Lager\nPilsner",null,null,null,"Demi-frère de SunBeam"]
["Bitter Gold","Amérisant","14 – 19 %","6 – 7.5 %","En théorie très neutre, mais certains écrits rapportent des notes de poire, de pastèque et de fruit à noyau","Nugget\nGalena","USA","Ales","Bitter","Lager\nPilsner","AIPA",null,null,"Bullion, Brewer’s Gold, Comet et Fuggle"]
["Blato","Aromatique","4.2 – 4.9 %","3.3 – 3.5 %",null,"Saaz","République Tchèque",null,null,"Lager\nPilsner",null,null,null,"Saaz (probablement)"]
["Blisk","Double","9.7 – 14 %","3.3 – 4.8 %",null,null,"Slovénie","Ales Anglaises","ESB",null,null,null,null,"Atlas"]
["Boadicea","Double","9 - 11%","3 – 4 %","Boadicea a des caractéristiques délicates, légèrement fleuries et épicées avec un arôme aux senteurs herbacées. En bouche, il a un soupçon de notes fleuries qui rappellent un verger en fleur. Les propriétés amérisantes de Boadicea sont légères et arrondies.","Challenger\n Sovereign  ","UK",null,"APA","Pilsner","AIPA",null,null,"Challenger\nNorthdown"]
["Bobek\n(Styrian Golding B,\nStyrian Bobek)","Aromatique","3 - 8%","4.5 – 6.5 %","Arôme doux et amertume moderée, Epicé, résineux, « plaisant »"," Cascade\nSmaragd\nStyrian Golding\nFuggle\nWillamette","Slovénie","Ales Anglaises","Bitter\nESB","Lager\nPilsner",null,"Stout","Ales Belges","Northern Brewer"]
["Bohemie","Aromatique","5 – 8 %","6 – 9 %",null,null,"République Tchèque",null,null,null,null,null,null,"Saaz\nSladek"]
["BOR\n(BOR704)","Aromatique","6 – 9 %","3 – 5.5 %","Dans le style du Saaz","Saaz","République Tchèque",null,"Pale Ale","Pilsner",null,null,"Wheat Beer","Saaz\nNorthern Brewer"]
["Bouclier","Aromatique","7-9%","2.4 – 3.3 %","Ce houblon offre un mélange d'arômes français et anglais avec des notes fruitées (agrumes), herbacées et épicées","Tettnang\nSpalt(Select)\nTradition\nNorthen Brewer","France"," Ales Anglaises\nSaison"," Pale Ale\nBitter\nESB","Lager\nPilsner",null,"Imperial Stout",null,"Strisselspalt \nWye Challenger, Early Bird Golding \nNorthern Brewer"]
["Bramling ","Aromatique","5,7-5,8%","2,9-3,2 %",null,"Whitbread Golding\nProgress\nEast Kent Golding","UK","Golden Ale","Pale Ale\nBitter",null,"IPA","Stout"]
["Bramling cross ","Double","5 - 8%","2.3 – 3.2 %","Flaveur intense d’épices / cassis, légèrement résineux avec quelques notes boisées.  En DH : notes de fruits frais, et notamment de cassis ; ainsi que des notes de citron"," Willamette\nEast Kent Golding\nProgress\nWhitbread Golding","UK","Golden Ale\nStrong Ale",null,null,"IPA","Porter\nStout",null,"Golding"]
["Bravo\n( #01046)","Amérisant","12 - 17%"," 3.5 – 5.5 %","Arôme riche, notes distinctes de résines et de pin, Floral, Fruité, Vanille, Epicé, un peu terreux"," Nugget\nColumbus\nZeus\nApollo\nMagnum,\nChinook\nCentennial","USA",null,"APA",null,"AIPA",null,null,"Zeus"]
["Brewer’s Gold","Amérisant","7 - 11,3%","3 – 3.1 %","Houblon Anglais amérisant de référence développé en 1919. Beaucoup d’houblons arômatiques de nos jours furent développés à partir du Brewer ‘s Gold. Grande teneur en résines, donne une amertume bien équilibrée, un caractère fruité et épicé. Donne des arômes légers de fruits et épices aux bières à haute fermentation."," Northdown \nNorthern Brewer\n Pioneer \nBullion \nGalena \nCascade","UK\nUSA",null,null,null,"IPA",null,null,"Bullion"]
["Buket","Double","8.5 – 13.5 %","4.2 – 6.3 %",null,null,"Slovénie","Ales Anglaises","ESB","Lager\nPilsner",null,null,null,"Fuggle,\nNorthern Brewer"]
["Bullion","Amérisant","6,5 - 9%","5 – 6 %","Arôme de cassis et fruits épicés. saveur de grosseille noire si utilisé durant l'ebullition"," Northern Brewer Brewer'S Gold Columbus ","UK","Barley Wine",null,"Dopplebpock","IPA","Stout (guiness)",null,"Brewers Gold"]
["Calicross","Double","5.8 – 7.9 %","4 – 7.5 %","Fruité, terreux, Floral. Variété presque éteinte commercialement, sauf en NZ",null,"NZ"]
["Calista","Amérisant","9-13%",null,"Au nez il offrira à la bière des notes intensément fruitées avec des touches d'abricot, de mûres et de framboise, de fruits de la passion, de pêche, de pamplemousse et de groseille.","","Allemagne",null,"Pale Ale","Lager","IPA",null,null,"Fuggle\nLate Cluster"]
["Calypso","Double","11-14%","5 – 6 %","Pomme, poire, fruits à noyaux et tropicaux, thé, un peu terreux, note citronnée et mentholée","Cascade \nBelma\nHuell Melon","USA","Ales Américaines\nBarley Wines","APA",null,"IPA","Stout",null,"Nugget"]
["Cascade","Double","4,5  -6%","4.8 – 7 %","Arôme américain ainsi que des arômes d’agrumes et de fruits. Très floral et épicé, notes de citron et pamplemousse. Fournit une amertume très douce même si utilisé en grandes quantités.  La version argentine développe un profil citronnelle, poivré, épicé et serait à considérer comme non-substituable avec les autres variétés.\n"," Amarillo\n Centennial \nAthanum\nColumbus","USA\nNZ\nUK\nArgentine","Ales Américaines bien houblonnée\nDH","Pale Ale américaine bien houblonnée\nDH",null,"IPA",null,null,"Serrbianka\nFuggle"]
["Cashmere","Double","7.7 – 9.1 %","3.5 – 4.5 %","Melon, noix de coco, ananas, citron, amertume douce, parfois herbeuse",null,"USA","Saison",null,null,null,null,null,"Cascade\nNorthern Brewer"]
["Cekin","Aromatique","6 – 8 %","2 – 3 %","Styrian","Styrian, Savinjski Golding","Slovénie","Ale Anglaise","Bitter","Pilsner",null,null,null,"Aurora"]
["Centennial\n(Super Cascade)","Double","9,5 - 8,5%"," 3.2 – 5.5 %","Cette variété de houblon confère à votre bière un arôme Américain typique. Développé à partir des années 1974. Aromatique et légèrement amérisant, arôme épicé, floral avec des notes d’agrumes très délicates (citron)"," Cascade \nChinook \nColumbus\nGalena\nZeux\nNugget","USA","Barley Wine\nImperial Barley Wine","Pale Ale\nBitter",null,"IPA",null,null,"Brewer’s Gold\nFuggle\nEKG\nBavarian"]
["Challenger","Double"," 6.5 – 8.5%"," 3.2 – 4.5 %","Amertume douce mais puissante. Arôme du type Challenger , flaveur plus riche.  amertume rafraîchissante et forme une bonne base pour des ajouts de houblons ultérieurs. Utilisé comme ajout ultérieur, il donnera une amertume agréable et fruitée à la bière."," Northdown\n Northern Brewer \nFirst Gold-Ekg-Styriang Perle","UK","Ales Belges","Bitter\nESB\nButterknowle Bitter",null,"Full Sail IPA","Porter\nStout",null,"Northern Brewer\nZattler"]
["Chelan","Amérisant","12 – 14.5 %","8.5 – 9.8 %","Amertume forte et brutale, notes chocolatée, fraise et pomme","Galena\nNugget","USA",null,null,null,null,null,null,"Galena"]
["Chinook\n(W-421-38)","Double","12 – 14 %","3 – 4 %","Ce houblon se caractérise par un arôme très typé d’épices. Caractère très prononcé de pamplemousse, floral,  abricot, notes de fruit de sureau et autres baies rouges, arome de pin caractéristique, fort arome d'épice,. Houblon amérisant très volatile , perd son charme si mis en trop grande quantité"," Columbus \nSimcoe \nGalena \nEroica \nBrewer'S Gold \nNugget \nBullion\nZeus","USA","Barley Wine\nSaison","APA","Lager","AIPA","Porter\nStout",null,"Petham Golding"]
["Cicero","Double","6 – 7 %","2.5 – 2.7 %","Serait dans le profil du Styrian","Styrian\nSaaz","Slovénie","Pale Ale",null,"Lager\nPilsner",null,null,null,"Aurora, frère du Cekin"]
["Citra\n(HBC394)","Aromatique","9 - 11%"," 3.5 – 4.5 %","Une variété de houblon américaine, à la fois aromatique et amérisant en raison de son taux élevé d’acides Alpha. Il développe des saveurs d’agrumes (Pamplemousse, citron vert), de fruits exotiques (goyave, mangue, fruits tropicaux, litchi) et de groseille. Amertume brutale.","Fuggle\nWillamette\nGoldings\nSimcoe\nMosaïc\nCentennial\nCascade","USA","Ales Américaines fortes","APA","Lager","AIPA",null,null,"Hallertau\nTettnang"]
["Cluster\n(Golden Cluster)","Double","5.5 – 8.5 %","4 – 6 %","Egalement connue sous le nom de Golden Cluster. Elle développe des arômes de cassis, et floral, le cultivar australien présente une forte prédominance résineuse, Amertume bien équilibrée avec un arôme intense de fruits et houblon."," Willamette\nEroica\n Galena \nBrewers Gold","USA\nAustralie",null,"APA","Lager","AIPA","Porter\nStout"]
["Columbia","Aromatique","8 – 8.5 %","3.9 – 4.1 %","Houblons frais, zeste d’agrumes",null,"USA"]
["Columbus\n(Tomahawk, CTZ, Zeus)","Amérisant"," 14 – 17 %","4.5 – 5 %","Ce houblon américain confère aux bières des arômes de bois, herbeux, légèrement citronné/agrumes, notes de poivre noir et réglisse.","Galea \nNugget\nChinook\nSimcoe ","USA","Barley Wine\nImperial Brown Ale","APA",null,"AIPA"," Stout\nImperial Stout"]
["Comet","Amérisant","9.4 – 12.4 %","3 – 6 %","Résineux, Géranium, Pamplemousse, Mandarine, Citronnelle","Summit, Galena","USA\nAllemagne","American Ale",null,"Lager","IPA",null,null,"Sunshine"]
["Crystal","Aromatique"," 3.5 – 5.5 %","6 - 8,5 %","Son arôme d’épice est plus présent  que le Hallertau toutefois.Houblon aromatique avec une flaveur délicate et de notes de tangerine"," Liberty \nMount Hood \nHallertau Hersbrucker\nStrisselpalt","USA",null,"Bitter Forte","Lager","IPA",null,null,"Hallertau\nCascade\nBrewer’s Gold\nEarly Green"]
["Dana\n(Extra Styrian Dana, \nStyrian Dana) ","Double","11 - 16%","4.7 – 6.1 %","Arôme intense pour une amertume harmonieuse","Styrian Golding\nBobek","Slovénie","Polyvalent","Polyvalent","Polyvalent","Polyvalent","Polyvalent","Polyvalent","Magnum"]
["Delta\n(#04188)","Double","5,5-7%","6.5 – 7 %","Arôme plaisant légèrement épicé avec une pointe de citron et de gingembre."," Fuggle \nWillamette ","USA",null,"Pale Ale\nBitter\nESB",null,"IPA",null,null,"Fuggle\nCascade"]
["Denali\n(#06277)","Double","13 – 15 %","4 – 5 %","Ananas, pin agrumes",null,"USA",null,null,null,null,null,null,"Nugget\nZeus"]
["Dr Rudi\n(Super Alpha)","Double","11-14%"," 7 – 8.5 %","Pin, herbeux, notes d’agrumes et de citronelle.","Green Bullet","NZ","Amérisant tout style","Amérisant tout style","Lager","IPA","Amérisant tout style","Amérisant tout style"]
["Dunav","Aromatique","5 – 10 %","2.8 – 4.6 %",null,null,"Slovénie",null,null,null,null,null,null,"Northern Brewer\nStyrian Golding"]
["East Kent Golding\n(Canterbury Golding, EKG)","Aromatique","5 - 7%","1.9 – 2.8 %","Ce houblon aromatique pouvant être utilisé comme amérisant, est surnommé le roi des houblons anglais du fait de son arôme très fin. Epicé/floral (thym lavande), terreux, arrondi, arôme doux, presque sucré, délicat."," Progress \nSovereign\nGoldings\nFuggle","UK","Toutes bières anglaise","Toutes bières anglaise","Toutes bières anglaise","Toutes bières anglaise","Toutes bières anglaise",null,"Kirin 2"]
["Eastern Gold","Amérisant","11 – 14 %","5 – 6 %",null,null,"Japon",null,null,null,null,null,"Toutes bières anglaise"]
["Ekuanot\n (Equinox, HBC366)","Double","13-15,5%","4 – 5 %","Agrumes, fruits tropicaux (papaye, mangue) , fruité (melon), herbeux et pomme de pin","Citra\nGalaxy\nAthanum","USA",null,"APA",null,"IPA"]
["El dorado","Aromatique","13 - 17%","7 – 8 %","Houblon aromatique à la teneur en acide alpha élevée. Saveur certaines de fruits, plus particulièrement fruits tropicaux ((ananas, mangue), mais aussi poire, cerise, fruits à noyaux","Galena\nSimcoe","USA",null,"Pale Ale",null,"IPA",null,"Wheat Beer"]
["Ella \n(Stella)","Aromatique","14-16%","4 – 7.8 %","Agrumes (bergamote, pamplemousse), fruits tropicaux, floral, épicé, pointes d'anis. ","Citra\nDelta","Australie",null,null,"Lager\nPilsner","IPA"]
["Elsaesser","Aromatique","4 – 4.7 %","3 – 5 %",null,null,"France"]
["Endéavour","Double","5-9%","3.8 – 5.3 %","Arôme complexe De cassis, de framboises, d'épice, de pamplemousse et de citron. Il est plus doux que Cascade. Amertume ronde et fruitée","Northern Brewer","UK","Ales Anglaises","Bitter","Lagers Anglaises",null,null,null,"Cascade"]
["Enigma","Double","13.5 – 16.5 %","4.8 – 6.4 %","Pinot gris, framboises, groseilles, notes de fruit tropicaux",null,"Australie",null,null,null,null,null,"Blanche américaine","Brewer’s Gold\nGalena"]
["Epic","Aromatique","3 – 5 %","1.7 – 2.5 %","Arôme profond de baies sauvages, avec une note de citronnelle. Légèrement herbeux.",null,"UK",null,null,null,null,null,null,"Tetenan\nTettnanger"]
["Eroica","Amérisant"," 9 – 12 %","4 – 5.5 %"," Confère un arôme bien présent dans votre bière avec un taux d’alpha assez élevé.","Galena\nNugget\nOlympic","USA","Brown Ale","\nAPA\n",null,null,"Stout",null,"Alliance"]
["Eureka\n(#05256)","Double","11-20%","4.6 – 6 %","Arôme des agrumes, de la résine et de fruits tropicaux avec des tons complexes de cassis, myrtille, fraise, mangue, poire, cerise","Simcoe\nSummit","Slovénie",null,"APA",null,null,null,null,"Merkur\nApollo"]
["Falconer’s Flight®\n(7C's)","Double","9 – 12 %","4 – 5.2 %","Agrumes (pamplemousse), fruité, épicé, floral, notes terreuses","voir notes","USA"]
["Feux-Coeur Français","Amérisant","12 – 16 %","3 – 6 %",null,null,"Australie"]
["First Gold","Double"," 6.5 – 8.5 %","2.3 – 4.1 %","Houblon Anglais de référence. Un peu épicé Fruité, baies rouges, herbeux, avec des notes agrumes / marmelade / abricot/orange."," Northdown\n Challenger \nBoadicea \nGoldings\nWillamette","UK","Ales Belges\n Saison\nBières de garde","APA",null,"IPA",null,null,"Whitebread Golding"]
["Flyer","Double","9-12%","4.1 – 6 %","Epicé, agrumes, réglisse et résineux. Un houblon d'agrumes aux arômes de fruits lapidés, de réglisse, de mélasse et de caramel avec de légères notes brûlées.","Bramling Cross","UK",null,"Bitter\nESB",null,"IPA"]
["Fuggle","Aromatique","4 – 5.5 %","2 – 3 %","Cette variété fut développée à partir du 19eme siècle en Angleterre. Le Fuggles confère une subtile saveur épice à la bière. Arôme doux, épicé. Léger fruité, boisé. Goût de terre"," Styrian Golding\nWillamette\n Progress\nGolding\nSovereign ","UK\nFrance","Ales Anglaises\nAles Belges Ales Rouges",null,null,"IPA","Porter\nStout"]
["Galaxy","Double","13 - 15%"," 5 – 6.9 %","un houblon avec un caractère marqué de citron, myrtille, cassis, pêche et fruit de la passion","Cascade\nAmarillo\nCitra\nRiwaka\nCentennial","Australie",null,"Pale Ale",null,"IPA",null,null,"Perle"]
["Galena","Amérisant","12 – 14%"," 7.2 – 8.7 %","Un houblon amérisant développé à partir du Brewer’s Gold (par polonisation naturelle dans l’état d’Idaho).  arôme de cassis, agrumes (pamplemousse, citron vert), groseille, poire, ananas, résineux donne à la bière un caractère très fruité, l'amérisant le plus utilisé aux US"," Nugget\nTarget\nCluster\nSuper Galena","USA","Brown Ale","APA",null,"AIPA","Stout","Bière de Froment américaine","Brewers gold"]
["Gargoyle ®","Aromatique","4 – 6 %",null,"Mangue, fruits tropicaux, agrumes, floral. Variété propriété de Hops-Meister’s",null,"USA",null,"APA","Lager","IPA",null,null,"Elsasser\nBrewer’s Gold\nNorthern Brewer\nBullion\nEarly Green\nGerman Aroma\nEKG\nBavarian\nFuggle"]
["Glacier","Double","5.5 %"," 5.4 – 9.5 %","Une excellente nouvelle variété avec les propriétés équilibrées d'amertume, combinée avec un bon profil d'arôme. Prune, bois (cèdre), mûre"," Eroica\nNugget\nOlympic\nFuggle\nWillamette\nTettnanger","USA",null,"APA\nBitter\nESB",null,"IPA","Porter \nStout"]
["Gold","Aromatique","3.5 – 6.5 %","3.5 – 5.9 %","Miel, ortie, foin, origan, basilic",null,"Slovénie",null,null,null,null,null,null,"Styrian Savinsjki Golding"]
["Golden Star","Aromatique","4.9 – 5.4 %","4.5 – 4.6 %","Disponible presque exclusivement au Japon",null,"Japon",null,null,null,null,null,null,"Saaz\nWhite Vine\nShinshuwase"]
["Golding","Aromatique"," 4 – 5.5 %"," 2 – 3.5 %","Le Goldings est appelé East Kent Goldings si sa culture se situe dans la région de Kent. Il confère à la bière un goût doux et sucré. Tous les Goldings sont substitutables entre eux (East Kent Goldings, Styrian Goldings, etc). Épicé et doux avec un caractère américain prononcé, légèrement fleuri, terreux, herbeux, floral, touche d’agrume (zeste de citron, orange, pamplemousse)."," East Kent Goldings Progress \nFirst Gold\nFuggle","UK\nBelgique\nUSA\nNZ","Saison\nTripel","Bitter\nESB","Kölsch",null,null,null,"EKG"]
["Green bullet","Double","10 - 13%","5 – 7 %","Fraîcheur de pin/citron et un arôme excellent, floral, épicé, fruits secs (raisin), résineux,"," Centennial\n Crystal\nMount Hood\nLiberty\nHallertau","NZ","Ales Anglaises","Bitter","Lager","IPA",null,null,"Smoothcone"]
["Greensburg","Double","5.2 %","7.20 %","Un autre houblon américain découvert dans le sud d’Idaho. Ce houblon fut généralement utilisé dans les micros brasseries américaine autrefois. Arôme fruité, boisé,","","USA","Ales Américaines","APA",null,null,null,"Ales Américaines"]
["Hallertau","Aromatique","3,5 - 6,5 %","2,5 - 3,5 %","Arôme terreux, herbaux, épicé","Hallertauer Mittelfrüh Hallertauer Tradition\n Liberty\nMount Hood","USA",null,null,"La plupart des bière de fermentation basse",null,null,null,"Hallertauer"]
["Hallertau Blanc","Aromatique","9-12%","4.5 – 5.5 %","Fruité, floral, raisin façon « vin blanc », fleur de sureau, bote de café, myrtille, cassis","Nelson Sauvin","Allemagne","Ales Belges\nBrettanomyces","Pale Ale",null,"IPA",null,"Bière de froment","Cascade\nHuell"]
["Hallertau Hersbrucker","Aromatique","2 - 5%","2.5 – 6 %","Crée pour remplacer la variété Mittlefruh, caractéristiques très similaires, LE houblon aromatique ses Allemands ; arômes épicés et fleuris, foin, herbe, d'une finesse exceptionnelle. Noble, Plus asséchant & plus épicé que Hallertauer."," Strisselspalt \nHallertauer Mittlefruh\nMount Hood \nSpalter","Allemagne","Toutes bières allemandes\nAles Européenes",null,"Lager\nPilsner",null,null,null,"Hallertau"]
["Hallertau Taurus\n(Taurus)","Amérisant","12-18%","4 – 6 %","Epicé, poivré, notes de banane, chocolat","Magnum\nHerkules\nMerkur","Allemagne","Ales Allemandes\nAles Belges",null,"Lager\nPilsner"]
["Hallertau Tradition\n(Tradition)","Aromatique"," 5 – 7 %","3 – 6 %","Développé en 1991 à partir d’Hallertau Mittlefrüh par l’institut de recherche allemand afin de développer sa résistance aux maladies. Moyenne jusqu’à haute amertume, très bon arôme, bonne conservation. Amertume harmonieuse, floral intense, herbeux, épicé, notes de lavande"," Hallertauer Mittelfrüh\nHallertau Hersbrucker\nCeleia","Allemagne",null,null,"Pilsner",null,null,"Hefeweizen","Hallertauer Gold"]
["Hallertauer Aroma\n(Wakatu)","Double","7 - 10%","8.4 – 8.6 %","Cultivé de Mittlefruh, caractérisé par une flaveur de fleurs et vanille, Arômes spécifique de zest frais de citron vert, épicié et floral,"," Hallertauer Mittlefruh ","NZ",null,null,"Lager\nPilsner"]
["Hallertauer Merkur \n(Merkur)","Double","12 - 14 %","4,5 - 5,5 %","Arôme sucré, ananas, mentholé, légèrement terreux et agrumes",null,"Allemagne",null,null,null,null,null,null,"Magnum"]
["Hallertauer Mittelfrüh ","Aromatique","3.5 – 5.5 %","3 – 5 %","Le houblon allemand de référence. Léger arôme de houblon avec des notes d’herbes et épices, L'arôme est doux, plaisant fleuri, épicé, herbeux, notes résineuses,","Hallertau Hersbrucker\nHallertau Tradition\nSaphir\nLiberty\nMount Hood","Allemagne","Ales Allemandes",null,"Pilsner",null,null,"Hefeweizen","Hallertau"]
["Hallertauer Perle\n(Perle)","Double","5 – 7 %","2.5 – 4.5 %","Utilisé principalement pour son amertume. L'arôme plaisant, légèrement épicé, avec goût de menthe et ses arômes vert, Très populaire grâce à la combinaison d’un bon arôme et d’un acide alpha élevé, bon pouvoir de conservation. Touche légèrement épicée.","Northern Brewer","Allemagne",null,null,"Lager\nPilsner",null,null,null,"Northern Brewer"]
["Harmonie","Aromatique","4-8%"," 5 – 8 %"," Amertume douce, Il confère à la bière des notes plaisantes à la fois d'épices, d'oignon et d'agrumes mais aussi des notes plus subtiles de résine. \n\n","","République Tchèque",null,null,"Lager\nPilsner",null,null,null,"Saaz"]
["Helga\n(Southern Hallertau)","Double","5.4 – 7.3 %","5 – 7 %","Caractéristiques de « houblon noble » (floral, un peu épicé, terreux, herbeux)",null,"Australie",null,null,null,null,null,null,"Hallertau Mittelfrüh"]
["Herald","Double"," 11 – 13 %","4.8 – 5.5 %"," Amertume franche, notes d’agrumes (orange et pamplemousse)","Pionner\nTarget","UK",null,"Pale ale \nBitter",null,null,null,null,"Pionner\nPilgrim"]
["Herkules","Amérisant","14 - 17%","4 – 5.5 %","Haute teneur en acides alpha, arôme épicé (poivre), melon, résineux, notes d’orange et de citron","Warrior\nTaurus","Allemagne","Ales Allemandes",null,"Lagers Allemandes",null,null,null,"Taurus\nHull\nCascade"]
["Hersbrucker\n(Hersbrucker Spät)","Aromatique","1.5 – 5 %","2.5 – 6 %","Floral, épicé, fruité, notes de foin et de tabac","Spalter\nTettnanger","Allemagne"]
["Horizon","Double","11- 13 %","5.5- 7.5 %","Houblon Américain à fort taux d’acidité développé dans l’Oregon à partir des années 1970. Très aromatique, bière au goût très frais floral, épicé, citronné"," Magnum ","USA",null,null,null,null,null,null,"Brewer’s Gold\nNugget"]
["Huell Melon\n(Hüll Melon)","Amérisant","6,9-7,5%"," 6 – 9 %","Melon honeydew, fruits tropicaux, orange, vanille, fraise des bois","Calypso\nCascade","Allemagne","Ales Belges\nSaison",null,null,"IPA",null,"Hefeweizen"," Cascade\nHuell"]
["Ivanhoe ®","Aromatique","6.5 – 9 %",null,"Arôme doux aux notes florales et d’herbe",null,"USA",null,"Pale Ale","Lager",null,"Stout"]
["Jester","Aromatique","7-9%","4 – 6 %"," Pamplemousse, fruits tropicaux","Challeger","UK"]
["Junga","Double","10 - 13%","5 – 8 %","Très haute valeur amérisante, même qualité que le Magnum allemand mais avec un bel arôme lavec des notes de cassis, de pamplemousse et d'épices."," Nugget\nTarget\nGalena \nChinock","Pologne",null,null,"Lager","IPA",null,null,"Northern Brewer\nMarynka"]
["Kazbek","Aromatique","5-8%","4 – 6 %","Jus multivitaminé, Papaye, zeste de mandarine, mélisse, notes mentholée. il confère à la bière des notes terreuses. Il est souvent décrit comme apportant des touches herbacées, sauvages et naturelles à la bière. ","Saaz\nSterling","République Tchèque","Ales Belges","Bitter (rares)","Pilsner\nLager"]
["Kirin II","Double","7.5 – 8.2 %","6.2 – 6.4 %","Hors du Japon, point de salut ! Cultivar local, produit sous contrôle de l’état, et non exporté.",null,"Japon",null,null,null,null,null,null,"Saaz\nWhite Vine"]
["Kohatu","Double","6 - 8%","4 – 5 %","Houblon a fort arôme avec un caractère floral intense, aiguilles de pins et fruit tropicaux.","Motueka\nWai-Iti","NZ",null,"Pale Ale",null,"IPA",null,null,"Hallertau Mittelfrüh"]
["Lemondrop\n(#01210)","Double","5 – 7 %","4 – 6 %","Agrumes (citron), herbeux (thé vert), mentholé, note de melon"," Cascade\nMandarina Bavaria\nCentennial","USA",null,null,null,null,null,null,"Cascade"]
["Liberty","Aromatique"," 3 – 5 %","3 – 4 %","Ce houblon Américain est entre le Hallertauer Mittlefruh et le Downy mildew développé en 1983. Procure des arômes d’épices, de résines, avec des notes de citron / agrumes","Crystal\nMount Hood\nTradition\n Hallertauer Mittelfrüh","USA","Brown Ale","Pale Ale","Lager\nBock",null,null,"Hefeweizen\nAmerican Wheat"," Hallertau\n’Ultra\nMt Hood\nCrystal"]
["Loral\n(HBC291)","Double","11.3 – 12.2 %","4.9 – 5.3 %","Floral, épicé (poivre), agrume (citron), baies noires",null,"USA"]
["Lublin \n(Lubelski, Polish Lublin, Lubelska)","Aromatique","3 - 5%","2.5 – 3.5 %","Ce houblon est la Saaz polonaise utilisé dans les blondes de ce même pays. Confère de légers arômes d’épices boisées, résineux, herbeux (thé), floral, notes citronnées.  Saveur noble et intense, plus de notes de fruits et herbes que celles de résines."," Styrian Goldings\nSaaz ","Pologne",null,null,"Pilsner polonaise",null,null,null,"Saaz"]
["Magnat","Amérisant","13.3 – 13.3 %","3.2 – 3.2 %","Aiguilles de pin, boisé, âcre",null,"Pologne",null,null,null,null,null,null,"Magnum"]
["Magnum\n(Hallertauer Magnum)","Amérisant","10 – 12.6 %","5 – 7 %","Cultivé à partir des années 1980 à l’institut Allemand de recherche. Ce houblon sera aussi bien amérisant qu’arômatique. Arôme aréable et caractère fruité et poivré."," Pilgrim\nTarget \nHallertauer Taurus\nHerkules\nHallertauer Merkur","Allemagne","Tout type de bières","Pale Ale\nTout type de bières","Pilsner\nTout type de bières","IPA\nTout type de bières","Stout\nTout type de bières","Tout type de bières","Galena"]
["Mandarina Bavaria","Aromatique","8,5-1,5","4 – 7 %","Belle notes fruitées avec des touches de mandarine et d'orange bien marquée, note de bubble gum","Nugget\nColombus\nPerle\nHallertauer Tradition\nLemondrop\nCascade","Allemagne","Ales belges\nAles françaises","Pale Ale Belge",null,"English IPA",null,"Ales Américaines","Cascade"]
["Marco Polo\n(Makepoluo)","Amérisant","12.6 % - 12.6 %",null,"Groseille, Origan, citron, fleur de sureau. 8 % des plantations chinoises seraient avec ce cultivar",null,"Chine",null,null,null,null,null,null,"Colombus"]
["Marynka","Double","8 - 12%","10 – 13 %","Combinaison intense et plaisante de fruits, résines et herbes, C'est un houblon amer typique. Arômes forts résineux, épicé, floral, anisé, agrume (pamplemousse, citron)"," Northern Brewer \nTettnanger\nStisselspalt","Pologne",null,"Pale Ale\nBitter","Pilsner","IPA",null,null,"Brewer’s Gold"]
["Melba","Double","7 – 10 %","2.5 – 5 %","Fruits de la passion, agrume (pamplemousse), amertume épicée","Galaxy","Australie"]
["Millennium","Amérisant","15.5 %","5 – 6.5 %","Floral, fruité (poire), herbeux, note de caramel au beurre (toffee)"," Nugget\nColumbus ","USA","Toute bière américaine","Toute bière américaine","Toute bière américaine","Toute bière américaine","Toute bière américaine","Toute bière américaine","Nugget"]
["Minstrel","Aromatique","5-7%","3 – 3.5 %","Baies épicées, avec des notes d’orange. L’amertume est légère","Challenger","UK"]
["Mistral","Aromatique","7,7-8,2","3.1 – 3.8 %","Notes de fruits blancs et des touches florales avec ses traits de rose et de jasmin. L'ensemble est complété par des pointes de lychee, de kumquat et de raisins blanc qui viennent apporter fraicheur et finesse à la bière.","","France","Bières française : whirpool et dh +++","Pale Ale","Lager\nPilsner",null,null,"Weissbier","Cascade\nStrisselspalt"]
["Monroe","Aromatique","2.5 – 2.5 %",null,"Framboise, orange, sucre, cerise. Nommé en mémoire de Marylin Monroe « dans sa robe rouge », extravagante comme le serait ce houblon",null,"Allemagne"]
["Mosaïc\n(Citra on steroids, HBC 369)","Aromatique","11-14%","3.2 – 3.9 %","Il se caractérise par une palette aromatique complexe. En effet, il présente à la fois des notes d'agrumes, de fruits tropicaux, de fruits rouges (myrtille, mandarine, papaye), associées à des notes herbacées, terreuses et de pin, note de bubble gum.","Citra\nSimcoe","USA",null,"Pale Ale",null,"IPA",null,null,"City"]
["Motueka\n(Belgian Saaz, B-Saaz)","Aromatique","5 - 8%","5 – 5.5 %","Il dégage d'excellents arômes citronnés aux notes variées, tapissés de saveurs de fruits tropicaux.\nArôme et caractère unique, particulièrement bon pour les lagers traditionnels, ales belges et bières amères","Saaz\nSterling","NZ","Saison\n",null,"Pilsner \nBohemian Pilsner",null,null,null,"Saaz"]
["Mount Hood\n(Mt Hood)","Aromatique","5 – 8 %","4 – 7.5 %","Houblon américain développé à partir de la variété Hallertau.Un caractère floral, épicé, herbeux, arôme doux, notes d’estragon (?) et de miel (?). Amertume parfois âcre"," Hallertau Hersbrucker\n Strisselspalt\nCrystal ","USA",null,null,"Lager",null,null,"Bière de froment","Hallertau Mittelfrüh\nfrère du Liberty"]
["Mount Rainier\n(Mt Rainer)","Aromatique","5 – 9.4","5 – 7 %","Herbeux (herbe, thé), floral, boisé (cèdre). On retrouve parfois des valeurs jusqu’à 10 % pour l’acide beta","Hallertau\nFuggle","USA",null,null,null,null,"Stout","Bière aux fruits","Magnum"]
["National","Double","5 – 6 %",null,"Chocolat, bergamote, ail",null,"Ukraine"]
["Nelson Sauvin","Double","12 - 14 %","6 – 8 %","Cette nouvelle variété d’houblon a été développée à Nelson en Nouvelle Zélande. Arômes uniques de Sauvignon Blanc et à ses touches de fruits tropicaux. ","Pacific Jade\nHallertau Blanc","NZ",null,null,null,"IPA",null,null,"Smoothcone"]
["Newport","Amérisant"," 10 – 17 %","5.5 – 6.5 %","Il offre des arômes terreux et citronnés ainsi que des saveurs amères, résineuses avec une touche de vin doux."," Nugget \nGalean \nMagnum ","USA",null," Pale Ale",null,"IPA\nBlack IPA","Porter",null,"Magnum"]
["Northdown\n(Wye Northdown)","Amérisant","6 – 9.5 %","4.5 – 6 %","Houblon Anglais développé à partir des années 1970. Sensiblement identique au Challenger et Target. Une variété à double destination, arôme du type Challenger , flaveur plus riche, l présente des arômes aux notes fruitées et résineuses. "," Challenger\n Northern Brewer \nPhoenix\n Brewer Gold \nAdmiral","UK","Ales Anglaises","Bitter",null,"English IPA","Porter\nStout",null,"Northern Brewer"]
["Northern Brewer","Double"," 8 – 10 %","3 – 5 %","Cette variété d’houblon fut développée en Angleterre en 1934 (par un croisement d’houblons femelles sauvages américains et de mâle anglais). Généralement utilisée pour ses qualités arômatique (arômes boisé et fruité) et amérisant, en complément d’autres variétés. Brewer. Polyvalent, mais plutôt utilisé pour l'amertume. Saveurs fortes et très parfumées. Notes boisées (goût du bois) et de menthe"," Northdown\nChallenger\nChinook\nPerle\nAurora\n","Allemagne","Bières brunes\nToute ale en amérisant","Toute ale en amérisant","Altbier\nKölsch","Toute ale en amérisant","Toute ale en amérisant","Toute ale en amérisant","Canterbury’s Golding (EKG)\nBrewer’s Gold"]
["Nugget","Amérisant"," 12 – 14 %","4 – 5.5 %","Bien que confère des arômes de fleurs et de résine c’est avant tout un houblon amérisant. Arome lourd d'épice et d'herbes; amérisant fort"," Target\n Galena \nMagnum\nZeus","USA","Ales Américaines","APA",null,"AIPA",null,"Ales Américaines","Brewer’s Gold"]
["Olicana®","Double","6 – 9 %","4 – 6 %","Fruits tropicaux (mangue, pamplemousse, passion). Amertume complexe avec une forte dominante agrume / fruits de la passion",null,"UK"]
["Olympic","Aromatique","10.6 – 13.8 %","3.8 – 6.1 %","Epicé, agrumes","Brewer’s Gold\nChinook","USA",null,null,null,null,null,null,"Brewer’s Gold\nFuggle\nEKG\nBavarian"]
["Opal","Double","4 - 6%","3.5 – 5.5 %","Piquant, un arôme léger de citron , épicé (anis, poivre), herbeux, agrumes","Tettnang\nEkg-Goldings\nSavinjski\nSmaragd","Allemagne","Brown Ale\nSaison\nTripel\nBlonde Ale",null,"Pilsner\nLager\nHelles\nKolsch",null,null,"Hefeweizen"]
["Pacific Gem","Amérisant","14 – 16 %"," 5 – 9 %","Ses arômes de bois et de fruits, flaveur distincte de baies / fruits confèrent une saveur unique à la bière,. Peut-être utilisé en DH."," Cluster\nFuggle\nPacific Sunrise \nPacifig Jade \nGalena","NZ","Strong Ale\nImperial Ale ",null,"Lager",null,"Porter",null,"Smoothcone\nCalifornie \nCluster Late\nFuggle"]
["Pacific jade","Aromatique","12 - 14%","7 – 8 %","Un houblon excellent à amertume plaisante et un arôme doux doté d'un parfum unique et intense d'agrumes, d'herbes et de poivre noir concassé, ce houblon aromatique est devenu de plus en plus populaire","Pacific Gem","NZ",null,"Pale Ale","Lager",null,null,null,"First Choice (Late Cluster)\nSaaz"]
["Pacifica \n(Pacific hallertau)","Aromatique","4 - 8%","5.9 – 6.1 %","Confiture d'oranges, floral","Hallertau Hersbrucker\nPerle\nHallertau Mittelfrüh","NZ",null,"Pale Ale"," Lager allemande\nHells"]
["Palisade\n(YCR 4)","Aromatique","6 – 10 %","5.5 – 8 %"," Une flaveur fruitée et bien équilibrée : terreux, floral, fruité (abricot), herbeux, pin."," Cascade\nWillamette\nChinook","USA",null,"Pale Ale\nBitter",null,"IPA",null,null,"Tettnanger"]
["Perle","Aromatique"," 7 – 9.5 %","2.5 – 4.5 %","Houblon en partie Allemand est souvent utilisé en combinaison d’autres variétés d’houblons. Il confère à la bière des arômes d’épices, de fruits et de fleurs. Utilisé principalement pour son amertume, son goût de menthe et ses bons arômes verts. L'arôme est plaisant et légèrement épicé"," Northdown\nNorthern Brewer\n First Gold","Allemagne\nFrance",null,null,"Lager",null,null,null,"Nothern Brewer"]
["Phoenix","Double","10 - 12%","3.8 – 4.5 %","Floral, épicé, chocolaté"," Challenger","UK","Saison\nTrippel",null,null,"IPA\n","Porter\nStout",null,"Yeoman"]
["Pilgrim","Double","10 - 12%","4.3 – 5 %","Ressemble à la variété Target mais avec un arôme de houblon plus intense, fruité (poire), agrumes (citron, pamplemousse), épicé.  Un arôme d'épices, de bois de cèdre et de miel."," Admiral \nTarget\nPioneer","UK","Brown Ale","Bitter\nPale Ale",null,null,"Porter",null,"First Gold \nHerald"]
["Pilot","Amérisant","8 - 12%","3.3. - 5 %","Doux, amertume rafraîchissante et « crisp » caractère herbacé avec des notes de citron, note d’agrumes (marmelade), épicé","Galena","UK"]
["Pioneer","Double","7 – 9.5 %","3.5 – 4.5 %","Arôme extraordinaire de citron / pamplemousse, agrumes (citron, pamplemousse), notes résineuses (cèdre). Amertume \"propre\" fraiche et intense."," Brewers Gold\n East Kent\n Goldings","UK","Red Ale\nSpecialty Ale","ESB",null,"IPA",null,null,"Omega\nHerald"]
["Polaris","Aromatique","18-23%","4 – 6 %","Fruits tropicaux (ananas), agrume (bergamote), mentholé, eucalyptus","Herkules","Allemagne",null,"Pale Ale\nBitter","Lager","IPA"]
["Premiant","Aromatique","7 - 12%","4.5 – 8 %","Arôme fruité, notes agrumes (citronnelle) et lavande,","Strisselspalt\nCrystal\nMount Hood","République Tchèque",null,null,"Lager\nPilsner",null,"Porter\nStout","Weizen","Northern Brewer\nSaaz"]
["Pride of Ringwood","Amérisant","7 – 10 %","4 – 7 %","Houblon Australien peu connu utilisé pour la première fois en 1965 quand il fut l’houblon avec le plus haut taux d’alpha dans le monde.  Fort arôme de bois et d’herbes.","Centennial\nGalena\nCuster","Australie","Fruit Lambic","Pale Ales","Australian Lager",null,null,null,"Pride of kent"]
["Progress","Aromatique"," 5 – 7 %","2 – 2.7 %","Le Progress est un houblon Anglais développé dans les années 1960 pour remplacer le Fuggles. Il est souvent combiné avec le Goldings.Arome fruité intense, herbeux, épicé, fruité (cassis), résineux, terreux, belle amertume. Une alternative plus sucrée à Fuggles mais caractérisée par une amertume plus douce"," East Kent Goldings\nFuggle","UK","Ales Belges","Bitter\nPale Ale Belge",null,"IPA",null,"Blanche Belge","Whitebread Golding"]
["Rakau\n(AlphaAroma, Alpharoma, Whole Orchard)","Double","11-14%","5 – 6 %","Arôme frais et fruité avec des notes d'abricot et de pins, figue. Amertume assez brutale.","Amarillo\nAdmiral\nSummit","NZ",null,"Australian Pale Ale",null,"IPA",null,null,"Smoothcone"]
["Relax","Aromatique","0.25 – 0.5 %",0.13,"thé vert, bleuet, citronelle, hibiscus, melon blanc d'Antibes (honeydew)",null,"Allemagne",null,null,null,null,null,null,"Huel"]
["Riwaka","Aromatique","4 - 8%","4 – 5 %","Caractère intense d'agrumes et pamplemousse."," Saaz","NZ",null,"Pale Ale","Lager\nPilsner"]
["Rubin","Amérisant","9 – 12 %","3.5 – 5 %",null,null,"République Tchèque",null,null,null,null,null,null,"Bor"]
["Saaz\n(Saazer)","Aromatique"," 3 – 4.5 %","4 – 6 %","Le Saaz est un houblon noble utilisé pour arômatiser les pales de Tchéquie comme la fameuse Pilsner Urquell. Ce houblon est l’houblon de référence pour les bières blondes. Son arôme est doux et légèrement épicé. L'arôme est épicé et plaisant avec des traits parfumés","Tettnang\nSpalter\nLubelski\nSterling","République Tchèque",null,null,"Lager\nPilsner",null,null,"Bière de froment","Saazer"]
["Santiam","Aromatique","5 – 7 %","7 – 8.5 %","Un houblon aux arômes de fleurs avec un taux d’alpha moyen. Nommé de la sorte en rapport avec la rivière Santiam dans l’Oregon.","Tettnang\nSpalte\nSpalter Selec","USA",null,"Pale Ale\nBitter","Lager Allemande","IPA\nBelgian IPA",null,null,"Tettnang\nHallertau Mittelfrüh\nCascade"]
["Saphir","Aromatique","2 – 4.5 %","4 – 7 %","Le Saphir est une nouvelle variété d’houblon qui remplace peu à peu le Hallertauer Mittlefruh (à cause de sa faiblesse aux maladies). Elle partage un grand nombre de caractéristiques avec cette dernière. Saveur d'agrumes, de mandarine douce et d'épices.","Hallertau Tradition\nSpalter Select\nHallertau Mittelfrüh","Allemagne","Ales Allemandes",null,"Pilsner",null,null,"Weat - Witbier"]
["Satus","Amérisant"," 12.5 – 14 %","8.5%-9%","Un récent houblon amérisant. Arôme délicat floral et d'agrumes, fruits sucrés, poires, ananas, mûres, citrons verts, groseille,"," Galena","USA"]
["Savinski Golding\n(Styrian Golding)","Aromatique","2-6%","2 – 3.5 %","Un houblon Slovène similaire au East Kent Goldings. Son goût herbacé et fleuri. Arôme distinct, notes de pin / citron / agrumes,  Son caractère houblonné est parfaitement exprimé dans des ales dorées faibles en arômes malteux.","Tettnang\nFuggle\nEkg\nWillamete","Slovénie","Ales Anglaises\nAles Belges","Bitter\nPale Ale Belge",null,null,null,"Blanche belge","Fuggle"]
["Simcoe\n(YCR 14)","Double","12 – 14 %","3 -4.5 %",". Elle procure également une certaine saveur à la bière lors de son ajout en fin de cuisson. Arômes de résines, agrumes, fruit de la passion, d'abricot et de pin.","Summit \nCitra\nMosaic\nCascade","USA",null,null,null,"AIPA"]
["Sladek","Double","5 - 7%","5 – 9 %","Cette variété noble est appréciée pour les arômes herbacés et épicés qu'elle confère à la bière."," Strisselspalt\n Crystal \nMount Hood\nSaaz\nTettnang","République Tchèque","Ales Belges","Pale Ale Belge","Lagers Belge",null,null,"Ales Belges","Northern Brewer\nSaaz"]
["Smaragd \n(Emerald)","Aromatique","4  -6%","3.5 – 5.5 %","Avec un nez fruité avec des notes distinctes équilibré fleuris (camomille, estragon) de houblon, des notes de citron et de marmelade d'orange, , épicé, légèrement fruité, peut procurer des notes de cognac, Smaragd est la réponse européenne à des variétés comme Simcoe et Amarillo.","Hallertau Mittelfruh","Allemagne",null,"Pale Ale Belge","Pilsner",null,null,null,"Hallertauer Gold"]
["Sonnet","Aromatique","4 - 6%",null,"Il possède un arôme doux et une saveur florale, faite pour une bonne bière rafraîchissanteet légère","Goldings","USA","Bières légères","Bières légères","Bières légères",null,null,"Blanche légère"]
["Sorachi ace","Double","11 - 12%","6 – 8 %","Arôme litchi, citron, citron vert, aneth, parfois notes très prononcées de noix de coco"," Columbus \n Simcoe \nWarrior \nCitra","USA\nJapon",null,"Pale Ale","Lager","IPA",null,null,"Brewer’s Gold\nSaaz\nBeikei 2"]
["Southern cross","Double","12 - 14%","5 – 6 %","Un melange d'écorce de citron et d'aiguilles de pin.","Simcoe\nChinook","NZ",null,"Pale Ale","Lager","IPA",null,null,"Smoothcone\nFuggle"]
["Southern Dawn","Double","11.2 – 12.5 %","4.3 – 5.9 %","Epicé (pain d’épice), agrumes (bergamote), floral, fruits tropicaux","Southern Promise","Afrique du sud",null,null,null,null,null,null,"Southern Brewer"]
["Southern Promise","Double","9.5 – 11.5 %","3.6 – 5.4 %","Fruité, terreux, floral",null,"Afrique du sud",null,null,null,null,null,null,"Southern Brewer"]
["Southern Star","Double","12 – 15.5 %","4.8 – 5.2 %","Fruité (abricot), herbeux (persil), épicé (gingembre), agrumes (pamplemousse). Plutôt utilisé en amérisant",null,"Afrique du sud",null,null,null,null,null,null,"Outeniqua"]
["Sovereign\n (TA200)","Aromatique","4 - 7%","2.1 – 3.1 %","Houblon aromatique délicat d’origine anglaise avec un arôme de fleurs et agrumes"," Goldings","UK",null,"Pale Ale\nBitter\nESB",null,"English IPA"]
["Spalt\n(Spalter)","Aromatique","2,5-5,5%","3 – 5 %","Herbeux, terreux, epicé (gingembre), résineux (pomme de pin), floral"," Saaz\nHersbrucker","Allemagne","Ales Allemandes",null,"Lager\nPilsner",null,null,"Blanche Allemandes"]
["Spalter Select\n(Select)","Aromatique"," 4 – 5 %","2.4 – 5 %","Saveurs herbeuses et épicées"," Tettnang  \nSaaz \nSpalt","Allemagne",null,null,"Lager"]
["Sterling","Double","6 – 9 %","4 – 6 %","Son arôme est une combinaison d'épices, d'agrumes et des notes florales,"," Saaz\nMount Hood","USA",null,null,null,null,null,null,"Saaz\nCascade\nBrewer Gold \nEarly Green"]
["Sticklebract","Double","12-15%","7.5%-8.5%","Arôme de pin frais, agrume","Northern Brewer","NZ",null,"Pale Ale\nBitter","Pilsner",null,null,null,"First Choice "]
["Strisselspalt\n(Strisselspalter)","Aromatique"," 3 – 5 %","3 – 5.7 %","Combinaison d'herbes, de fleurs et des notes de fruits et de citron"," Hallertauer Hersbrucker\nCrystal\nMt Hood","France","Ales légères\nSaison",null,"Lager\nPilsner"]
["Styria Cardinal","Aromatique","10-15%","3.2 - 4.6 %","Arôme de pomme, ananas, fruits tropicaux (fruit de la passion), fraises, anis.","","Slovénie",null,"APA",null,"IPA"]
["Styrian Golding C\n(Celeia)","Aromatique","4.5 – 6 %","2 – 4 %","Un houblon Slovène similaire au East Kent Goldings. Son goût herbacé et fleuri. Arôme distinct, notes de pin / citron / agrumes."," Saaz\nBobek\nStyrian Golding\nEast Kent Golding","Slovénie","Ales Anglaises","ESB","Lager\nPilsner",null,null,null,"Styrian Golding\nAurora"]
["Styrian Golding\n(Styrian, Savinski Golding)","Aromatique","2,8 - 6 %","2 - 3,5 %","Arôme doux, épicé dans le style des houblons nobles.","Fuggle\nWillamette\nEKG","Slovénie","Ales Anglaises\nAles Belges","Bitter\nPale Ale Belge",null,null,null,"Blanche Belge","Fuggle"]
["Styrian Wolf","Aromatique","13,5-18,5","5%-6%"," Fruits tropicaux (fruit de la passion, mangue, banane, melon, ananas, abricot, caramel ), epicé (piment, poivre, persil, foin), agrumes (citron, citron vert, citronnelle, gingembre), flloral (muguet, géranium, menthol , melisse)","","Slovénie",null,"APA","IPA"]
["Summer","Aromatique","4 - 7%","4.8 – 6.1 %","Arôme fruité de melon, abricot et d'agrumes, fruits à noyau","Palisade\nBelma","Australie",null,"Pale Ale",null,"IPA",null,"Bière de froment","Saaz"]
["Summit","Amérisant","17 – 19 %","3.5 – 6.5 %","Arôme riche d'agrumes, pamplemousse","Zeus\nBravo\nApollo","USA","Barley Wine","APA",null,"IPA","Stout",null,"Lexus\nZeus\nNugget"]
["Super Pride","Amérisant","12.5 – 16.3 %","6 – 8 %","Résineux, épicé (pain d’épice), chocolaté, floral (marjolaine)",null,"Australie"]
["SuperGalena","Aromatique","13 – 16 %","8 – 10 %","Herbeux, épicé (baie de genévrier), Fruité (fraise, prune)","Cluster\nGalena","USA",null,null,null,null,null,null,"Pride of Ringwood"]
["Sussex","Aromatique","4-7%","2.4 – 3.2 %","Arôme puissant aux saveurs tropicales délicates, peut être Terreux, herbeux avec des notes mentholées et vanillées.","Fuggle\n Progrès\nWhitbread Golding","UK","Ales Anglaises\nAles Belges","Pale Ale\nBitter",null,null,null,"Ales Belges"]
["Sybillia","Double","6 - 8%","3 – 5 %","Bien équilibré, polyvalent, arôme européen traditionnel, terreux et épicé. Approprié pour le dry-hopping."," Northern Brewer \nPerle\nLublin","Pologne","Barley Wine","Pale Ale",null,null,"Stout",null,"Lubelski"]
["Sylva","Aromatique","5.6 – 7.3 %","3 – 4.6 %","Identique au Saaz, mais avec un profil floral et herbeux plus complexe","Saaz","Australie",null,null,null,null,null,null,"Saaz"]
["Tahoma","Aromatique","6 – 7.5 %","7 – 8 %","Agrumes (pamplemousse, citron), boisé (cèdre, pin), épicé (poivre)","Cascade\nCentennial","USA"]
["Tardif de Bourgogne","Aromatique "," 3.1 – 5.5 %"," 2.5 – 5 %","Houblon arômatique Français utilisé pour les bières blondes européennes, développe des arômes de vanille.","","France",null,null,"Lager"]
["Target","Amérisant","9.5 – 12.5 %","4.5 – 5.5 %","Arôme intense de sauge, de fleurs, d'épices et d'agrumes","Magnum\nFuggle\nWillamette","UK","Ales forte","Strong Bitter","Lagers Anglaises",null,null,null,"Northern Brewer\nEast Kent Golding"]
["Teamaker","Aromatique","0.6 – 1.8 %","5.4 – 13.2 %","Floral, thé","Crystal","USA"]
["Tettnanger\n(Tettnang)","Aromatique","3.5 – 5.5 %","3 – 5 %","Ce houblon nous vient de Tettnang un petit village dans le sud de Badenwürttemberg en Allemagne (région qui produit et exporte de grosse quantité d’houblon). Ce noble houblon présente des arômes épicé avec des notes de fleurs et d'herbes. peut être employé au brassage de bières blondes. Variété aromatique, utilisée traditionnellement par des brasseurs européens pour les Lagers mais aussi pour les Ales blondes, Aromatique noble. Doux, légèrement épicé. Goût fin et délicat"," Spalt (Select)\n Saaz\nFuggle","Allemagne","Ales Allemandes Blondes",null,"Lager",null,null,"Wheat Beer","Fuggle"]
["Topaz","Double","15-18%","6.4 – 7.9 %","Arôme merveilleusement unique d'herbes, d'épices et résineuses avec de notes tropical","Rakau\nSummit\n","Australie","Ales Sombres","Pale Ale ",null,"IPA"]
["Triple Pearl","Double","10.3 – 11.2 %","3.3 – 4.2 %","Agrume, épicé, résineux",null,"USA",null,null,null,null,null,null,"Perle"]
["Triskel","Aromatique","2,9-9%","4 – 4.7 %","Ses notes sont fruitées, agrume et florales, sa teneur en huiles lui donne un potentiel intéréssant en houblonnage très tardif et surtout en houblonnage à cru. ","Strisselspalt","France",null,null,null,null,null,null,"Strisselspalt\nYeoman"]
["Tsingtao Flower","Double","7 – 7 %",null,"Cassis, melon, tabac. 90 % de la production chinoise",null,"Chine",null,null,null,null,null,null,"Cluster (version chinoise)"]
["Ultra","Double","4.5 – 5 %"," 3.8 – 4 %","Confère à la bière des arômes poivrés, épicés. Arôme proche du Saaz. Très fin, épicé, avec des notes florales. Excellent en fin d'ébullition.","Crystal\nSaaz\nTettnanger","USA",null,null,"Lager\nPilsner",null,null,null,"Hallertau\nSaazer"]
["Vanguard","Aromatique"," 5.5 – 6 %","5 – 7.5 %","Arôme procje de Hallertau Mittelfrüh et de Saaz. Variété nôble, il offre des arômes épicés et herbacés, Boisé (cèdre), agrumes, fruits tropicaux."," Hallertau\n Liberty \nMount Hood","USA",null,"Pale Ale","Lagers Légères",null,null,null,"Hallertauer\nGerman Aroma"]
["Vic Secret™","Double","14 – 17 %","6 – 7 %","Fruits tropicaux, résineux (pin)","Galaxy","Australie",null,"Pale Ale","Lager"]
["Vital","Double","9-12%","6 – 10 %","Arôme épicé, agrumes. Initialement sélectionné pour l’industrie pharmaceutique à cause d’un taux de xanthohumol (antioxydant) très élevé","Styrian Golding\nSaaz","République Tchèque",null,"Pale Ale",null,null,null,null,"Agnus"]
["Vojvodina","Aromatique","6 – 10.5 %","2.3 – 4.7 %","Arôme de houblon noble (herbeux, floral, épicé)",null,"Slovénie\nUSA",null,null,null,null,null,null,"Northern Brewer, Golding"]
["Wai-iti","Aromatique","2 - 4%","4.5 – 5.5 %","Arôme d'agrumes composée de mandarine, de citron et de fruits à noyau (pèche, abricot)","Saaz\nRiwaka","NZ",null,"Pale Ale",null,"IPA",null,null," Liberty\nHallertau Mittelfrüh"]
["Waimea","Double","16-19%","7 – 9 %","Arôme de Tangelo, d'agrumes et pin","Pacific Jade","NZ",null,"Pale Ale","Lagers houblonnées",null,null,null,"Pacific Jade"]
["Wakatu\n(Hallertau Aroma)","Double","4-7%",8.5000000000000006E-2,"Houblon triploïdede NZ, 2/3 de Hallertauer Mittelfrüher et 1/3 de NZ, il a été publié en 1988. Son profil d'huile bien équilibré lui confère un arôme floral discret au-dessus de citron vert piquant. Considéré en grande partie comme à double usage, il peut être ajouté à n’importe quel stade de l’ébullition et séché avec succès. Il a également été noté pour son impressionnante stabilité aromatique."]
["Warrior\n(YCR5)","Double","15 – 18 %","4.4 – 6 %","Caractéristiques similaires à Nugget et Columbus,  légère aromatique résineux, agrumes et herbeux."," Nugget \nColumbus\nMagnum","USA",null,"Pale Ale\nBitter",null,"IPA"]
["Whitbread Golding\n(WGV, Whitbread)","Aromatique","4 - 8%"," 2 – 3.3 %","Ressemblant à Goldings mais plus fort et avec une plus grande teneur en acides alpha. Arômes de notes terreuses, botaniques et floraux"," Challenger\nProgres\nGolding","UK","Ales Anglaise","Bitter",null,null,"Ales Anglaise",null,"Bate’s Brewer\nFuggle"]
["Willamette","Aromatique","4 – 6 %"," 3 – 4.5 %","Arômes fruités et quelques notes de fleurs. Cette variété porte son nom en rapport avec la Valley de Willamette, une importante zone de culture de houblons. Un arôme d’huile essentielle de cassis et d’herbes, légèrement épicé"," Bramling Cross\nFuggle\nTettnanger\nDelta\nStyrian","USA"," Très polyvalent\nAles Anglaises\nGolden Ales\nBrown Ales"," Très polyvalent\nEnglish Ales\nGolden Ales\nBrown Ales",null,null," Très polyvalent\nEnglish Ales",null,"Fuggle"]
["Wye Challenger","Double","6.5 – 8.5 %","2.5 – 4.3 %","Cognac, Pain d’épice, Banane",null,"UK",null,null,null,null,null,null,"Northern Brewer\nTarget"]
["Wye Target","Amérisant","9.5 – 12.5 %","4.3 – 5.7 %","Caramel, fruité (baie de sureau), tabac, vanille. Très efficace en DH",null,"UK","Ales Anglaise",null,"Lager",null,null,null,"Challenger"]
["Yakima Gold","Double","8.8 – 10.5 %","4.3 – 5 %",null,null,"USA",null,null,null,null,null,null,"Cluster"]
["Yeoman","Double","12 – 16 %","4 – 5 %","Arôme anglais, très houblonné, avec des notes d’agrumes","Zenith\nNorthern Brewer, Target","UK"]
["Zenith","Amérisant","9 – 11 %","2.5 – 3.5 %","Floral, agrumes","Yeoman\nNorthern Brewer","UK\nUSA",null,"APA","Lager","AIPA",null,"Stout"]
["Zythos®","Aromatique","10 – 12.5 %","4.7 – 6.2 %","Fruits tropicaux (ananas), agrumes, notes résineuses (pin). Il s’agit d’un mélange de plusieurs houblons","Simcoe\nAmarillo","USA"]

{"sheet":"Levures","index":8,"n_rows":400,"n_cols":17,"rows_kept":400,"cut":false,"hidden":false,"merged":[]}
["Levure","Fournisseur","Code","Nom","Type","Floculation","Atténuation min","Atténuation max","Atténuation moyenne calculée","Min °C","Max °C","Min °F","Max °F","Tolerance\nAlcool","Styles Bieres","Souche équivalente","Description"]
["Wyeast 3068 Weihenstephan Weizen","Wyeast",3068,"3068 Weihenstephan Weizen","Liquide","Basse",0.73,0.77,{"$f":"IFERROR(AVERAGE(Tableau48[[#This Row],[Atténuation min]],Tableau48[[#This Row],[Atténuation max]]),\"\")","v":0.75},18,24,64.400000000000006,75.2,10,"Weissbier",null,"La souche de bière de blé allemande classique la plus populaire utilisée dans le monde entier. Cette souche de levure produit un bel et délicat équilibre d'esters de banane et de clou de girofle phenolics. L'équilibre peut être manipulé vers la production d'ester par l'augmentation de la température de fermentation, l'augmentation de la densité de moût et la diminution du taux d'ensemencement. Le sur-ensemencement peut aboutir à une perte presque complète du caractère de banane. La diminution de ce niveau d'ester permettra à un caractère de clou de girofle d'être perçue alors de façon prédominante. Du soufre est généralement produit, mais se dissipera avec le conditionnement. Cette souche est très pulvérulente et restera en suspension pour un temps prolongé après l'atténuation. Elle est une véritable souche de \"top cropping\" et nécessite un espace vide dans le fermenteur de 33% afin d'éviter toutdébordement."]
["Wyeast 1007 German Ale","Wyeast","1007","1007  German Ale","Liquide","Basse",0.73,0.77,{"$f":"IFERROR(AVERAGE(Tableau48[[#This Row],[Atténuation min]],Tableau48[[#This Row],[Atténuation max]]),\"\")","v":0.75},12.8,20,55,68,11,"American Wheat Beer,\nBerliner Weisse,\nAltbier,\nKölsch,\nInternational Amber Lager,\nAlternative Grain Beer,\nWheatWine,\nBière de Garde,\nHistorical Beer: Gose,\nHistorical Beer: Lichtenhainer,\nHistorical Beer: Grodziskie","WLP036 Düsseldorf Alt Yeast","A true top cropping yeast with low ester formation and a broad temperature range.\nFermentation at higher temperatures may produce mild fruitiness.\nThis powdery strain results in yeast that remains in suspension post fermentation.\nBeers mature rapidly, even when cold fermentation is used. Low or no detectable diacetyl."]
["Wyeast 1028 London Ale","Wyeast","1028","1028  London Ale","Liquide","Basse - Moyenne",0.73,0.77,{"$f":"IFERROR(AVERAGE(Tableau48[[#This Row],[Atténuation min]],Tableau48[[#This Row],[Atténuation max]]),\"\")","v":0.75},15.6,22.2,60,72,11,"Dark Mild,\nBritish Brown Ale,\nEnglish Porter,\nAmerican Porter,\nIrish Stout,\nIrish Extra Stout,\nImperial Stout,\nTropical Stout,\nForeign Extra Stout,\nEnglish Barleywine,\nOld Ale","WLP013 London Ale","A rich mineral profile that is bold and crisp with some fruitiness.\nOften used for higher gravity ales and when a high level of attenuation is desired."]
["Wyeast 1056 American Ale","Wyeast","1056","1056  American Ale","Liquide","Basse - Moyenne",0.73,0.77,{"$f":"IFERROR(AVERAGE(Tableau48[[#This Row],[Atténuation min]],Tableau48[[#This Row],[Atténuation max]]),\"\")","v":0.75},15.6,22.2,60,72,11,"American Pale Ale,\nAmerican Amber Ale,\nAmerican Brown Ale,\nAmerican IPA,\nDouble IPA,\nSpecialty IPA: Black IPA,\nSpecialty IPA: Brown IPA,\nSpecialty IPA: Red IPA,\nSpecialty IPA: Rye IPA,\nSpecialty IPA: White IPA,\nAmerican Stout,\nImperial Stout,\nAmerican Barleywine,\nEnglish Porter,\nIrish Stout,\nIrish Red Ale,\nCream Ale,\nWee Heavy,\nAutumn Seasonal Beer,\nWinter Seasonal Beer,\nClassic Style smoked Beer,\nSpecialty Smoked Beer,\nWood-Aged Beer,\nSpecialty Wood-Aged Beer,\nFruit Beer,\nFruit and Spice Beer,\nSpecialty Fruit Beer,\nSpice, Herb or Vegetable Beer,\nBraggot,\nHistorical Beer: Piwo Grodziskie,\nAlternative Sugar Beer","WLP001 California Ale Yeast","Very clean, crisp flavor characteristics with low fruitness and mild ester production.\nA very versatile yeast for styles that desire dominant malt and hop character.\nThis strain makes a wonderful \"House\" strain. Mild citrus notes develop with cooler 60-66F (15-19C) fermentations.\nNormally requires filtration for bright beers."]
["Wyeast 1084 Irish Ale","Wyeast","1084","1084  Irish Ale","Liquide","Moyenne",0.71,0.75,{"$f":"IFERROR(AVERAGE(Tableau48[[#This Row],[Atténuation min]],Tableau48[[#This Row],[Atténuation max]]),\"\")","v":0.73},16.7,22.2,62,72,12,"Irish Stout,\nIrish Red Ale,\nAmerican Amber Ale,\nAmerican Porter,\nBaltic Porter,\nSweet Stout,\nOatmeal Stout,\nTropical Stout,\nForeign Extra Stout,\nDouble IPA,\nScottish Light,\nScottish Heavy,\nScottish Export,\nWee Heavy,\nAmerican Barleywine,\nClassic Style Smoked Beer,\nSpecialty Smoked Beer,\nWood-Aged Beer,\nSpecialty Wood-Aged Beer,\nSpice, Herb or Vegetable Beer","WLP004 Irish Ale","This versatile yeast ferments extremely well in dark worts.\nIt is a good choice for most high gravity beers.\nBeers fermented in the lower temperature range produce a dry, crisp profile with subtle fruitiness.\nFruit and complex esters will increase when fermentation temperatures are above 64°F (18°C)."]
["Wyeast 1098 British Ale","Wyeast","1098","1098  British Ale","Liquide","Moyenne",0.73,0.75,{"$f":"IFERROR(AVERAGE(Tableau48[[#This Row],[Atténuation min]],Tableau48[[#This Row],[Atténuation max]]),\"\")","v":0.74},17.8,22.2,64,72,10,"British Brown Ale,\nAmerican Porter,\nEnglish IPA,\nBlonde Ale,\nScottish Light,\nScottish Heavy,\nScottish Export,\nEnglish Barleywine,\nBritish Golden Ale,\nAutralian Sparkling Ale","WLP007 Dry English Ale\nFermentis S04","This yeast allows malt and hop character to dominate the profile.\nIt ferments dry and crisp, producing well-balanced beers with a clean and neutral finish.\nFerments well down to 64°F (18°C)."]
["Wyeast 1187 Ringwood Ale","Wyeast","1187","1187  Ringwood Ale","Liquide","Haute",0.68,0.72,{"$f":"IFERROR(AVERAGE(Tableau48[[#This Row],[Atténuation min]],Tableau48[[#This Row],[Atténuation max]]),\"\")","v":0.7},17.8,23.3,64,74,10,"English Porter,\nAmerican Porter,\nAmerican Brown Ale,\nDark Mild,\nHistorical Beer: London Brown Ale,\nSweet Stout,\nOatmeal Stout,\nAmerican Stout,\nAmerican IPA,\nSpecialty IPA: Black IPA,\nSpecialty IPA: Brown IPA,\nSpecialty IPA: Red IPA,\nSpecialty IPA: White IPA,\nFruit Beer,\nFruit and Spice Beer,\nSpecialty Fruit Beer,","WLP005 British Ale Yeast","A top cropping yeast strain with unique fermentation and flavor characteristics.\nExpect distinct fruit esters with a malty, complex profile.\nFlocculation is high, and the beer will clear well without filtration.\nA thorough diacetyl rest is recommended after fermentation is complete.\nThis strain can be a slow starter and fermenter."]
["Wyeast 1214 Belgian Abbey Style Ale","Wyeast","1214","1214  Belgian Abbey Style Ale","Liquide","Basse - Moyenne",0.74,0.78,{"$f":"IFERROR(AVERAGE(Tableau48[[#This Row],[Atténuation min]],Tableau48[[#This Row],[Atténuation max]]),\"\")","v":0.76},20,25.6,68,78,12,"Belgian Dark Strong Ale,\nBelgian Tripel,\nBelgian Dubbel,\nWitbier,\nAutumn Seasonal Beer,\nWinter Seasonal Beer,\nSpecialty IPA: Belgian IPA,\nSpecialty IPA: White IPA","WLP500 Monastery Ale","A widely used and alcohol tolerant Abbey yeast that is suitable for a variety of Belgian style ales.\nThis strain produces a nice ester profile as well as slightly spicy alcohol notes.\nIt can be slow to start; however, it attenuates well."]
["Wyeast 1272 American Ale II","Wyeast","1272","1272  American Ale II","Liquide","Moyenne",0.72,0.76,{"$f":"IFERROR(AVERAGE(Tableau48[[#This Row],[Atténuation min]],Tableau48[[#This Row],[Atténuation max]]),\"\")","v":0.74},15.6,22.2,60,72,10,"Blond Ale,\nAmerican Pale Ale,\nAmerican Stong Ale,\nAmerican Amber Ale,\nAmerican Brown Ale,\nAmerican IPA,\nDouble IPA,\nSpecialty IPA: Black IPA,\nSpecialty IPA: Brown IPA,\nSpecialty IPA: Red IPA,\nSpecialty IPA: Rye IPA,\nSpecialty IPA: White IPA,\nAmerican Barleywine,\nAmerican Porter,\nAmerican Stout,\nImperial Stout,\nCream Ale,\nIrish Red Ale,\nWee Heavy,\nBritish Strong Ale,\nAutumn Seasonal Beer,\nWinter Seasonal Beer,\nClassic Style Smoked Beer,\nSpecialty Smoked Beer,\nWood-Aged Beer,\nFruit Beer,\nFruit and Spice Beer,\nSpecialty Fruit Beer,\nSpice Herb or Vegetable Beer,\nHistorial Beer: Kentucky Common\n","WLP051 California Ale V","With many of the best qualities that brewers look for when brewing American styles of beer, this strain’s performance is consistent and it makes great beer.\nThis versatile strain is a very good choice for a “House” strain.\nExpect a soft, clean profile with hints of nut, and a slightly tart finish.\nFerment at warmer temperatures to accentuate hop character with an increased fruitiness.\nOr, ferment cool for a clean, light citrus character.\nIt attenuates well and is reliably flocculent, producing bright beer without filtration."]
["Wyeast 1275 Thames Valley Ale","Wyeast","1275","1275  Thames Valley Ale","Liquide","Basse - Moyenne",0.72,0.76,{"$f":"IFERROR(AVERAGE(Tableau48[[#This Row],[Atténuation min]],Tableau48[[#This Row],[Atténuation max]]),\"\")","v":0.74},16.7,22.2,62,72,10,"Ordinary Bitter,\nBest Bitter,\nStrong Bitter,\nBritish Brown Ale,\nAltbier,\nEnglish Porter,\nAmerican Porter,\nIrish Stout,\nIrish Extra Stout,\nTropical Stout,\nForeign Extra Stout.","WLP023 Burton Ale","This strain produces classic British bitters with a rich, complex flavor profile.\nThe yeast has a light malt character, low fruitiness, low esters and is clean and well balanced."]
["Wyeast 1335 British Ale II","Wyeast","1335","1335  British Ale II","Liquide","Haute",0.73,0.76,{"$f":"IFERROR(AVERAGE(Tableau48[[#This Row],[Atténuation min]],Tableau48[[#This Row],[Atténuation max]]),\"\")","v":0.745},22.8,24.4,73,76,10,"Ordinaty Bitter,\nBest Bitter,\nStrong Bitter,\nBritish Brown Ale,\nAmerican Brown Ale,\nEnglish Porter,\nIrish Stout,\nIrish Extra Stout,\nEnglish IPA\nEnglish Barleywine,\nTropical Stout,\nForeign Extra Stout,\nCream Ale,\nIrish Red Ale.","WLP025 Southwold Ale","A classic British ale profile with good flocculation and malty flavor characteristics.\nIt will finish crisp, clean and fairly dry."]
["Wyeast 1388 Belgian Strong Ale","Wyeast","1388","1388  Belgian Strong Ale","Liquide","Basse",0.74,0.78,{"$f":"IFERROR(AVERAGE(Tableau48[[#This Row],[Atténuation min]],Tableau48[[#This Row],[Atténuation max]]),\"\")","v":0.76},17.8,26.7,64,80,12,"Belgian Tripel,\nBelgian Golden Ale\nBière de Garde,\nAutumn Seasonal Beer,\nWinter Seasonal Beer,\nSpecialty IPA: Belgian IPA.","WLP570 Belgian Golden Ale Yeast","The classic choice for brewing golden strong ales.\nThis alcohol tolerant strain will produce a complex ester profile balanced nicely with subtle phenolics.\nMalt flavors and aromas will remain even with a well attenuated dry, tart finish. This strain is prone to stalling at approximately 1.035; racking or slight aeration will encourage it to finish fermentation.\n\nThis Wyeast yeast strain has been classified as Saccharomyces cerevisiae var. diastaticus using rapid PCR analysis.\nThis strain carries the STA1 gene, which is the “signature” gene of Saccharomyces cerevisiae var. diastaticus and will be found in all diastaticus strains."]
["Wyeast 1728 Scottish Ale","Wyeast","1728","1728  Scottish Ale","Liquide","Haute",0.69,0.73,{"$f":"IFERROR(AVERAGE(Tableau48[[#This Row],[Atténuation min]],Tableau48[[#This Row],[Atténuation max]]),\"\")","v":0.71},12.8,23.9,55,75,12,"Scottish Light,\nScottish Heavy,\nScottish Export,\nWee Heavy,\nIrish Extra Stout,\nTropical Stout,\nForeign Extra Stout,\nImperial Stout,\nDouble IPA,\nAmerican Barleywine,\nBaltic Porter,\nOld Ale,\nAutumn Seasonal Beer,\nWinter Seasonal Beer,\nClassic Style Smoked Beer,\nSpecialty Smoked Beer,\nWood-Aged Beer,\nSpecialty Wood-Aged Beer,\nBraggot.","WLP028 Edinburgh Ale","Our Scottish ale strain is ideally suited for the strong, malty ales of Scotland.\nThis strain is very versatile, and is often used as a “House” strain as it ferments neutral and clean.\nHigher fermentation temperatures will result in an increased ester profile."]
["Wyeast 1762 Belgian Abbey Style Ale II","Wyeast","1762","1762  Belgian Abbey Style Ale II","Liquide","Moyenne",0.73,0.77,{"$f":"IFERROR(AVERAGE(Tableau48[[#This Row],[Atténuation min]],Tableau48[[#This Row],[Atténuation max]]),\"\")","v":0.75},18.3,23.9,65,75,12,"Belgian Dark Strong Ale,\nBelgian Golden Strong Ale,\nBelgian Blond Ale,\nBière de Garde,\nAmerican Barleywine,\nWee Heavy,\nImperial Stout,\nSpecialty IPA: Belgian IPA.","WLP540 Abbey IV Ale Yeast","An excellent yeast strain for use in Belgian dark strong ales.\nThis strain has a relatively “clean profile” which allows a rich malt and distinctive ethanol character to shine.\nDelicate dried fruit esters can be produced when used at higher fermentation temperatures or in a high gravity wort."]
["Wyeast 1968 London ESB Ale","Wyeast","1968","1968  London ESB Ale","Liquide","Haute",0.67,0.71,{"$f":"IFERROR(AVERAGE(Tableau48[[#This Row],[Atténuation min]],Tableau48[[#This Row],[Atténuation max]]),\"\")","v":0.69},17.8,22.2,64,72,9,"Ordinary Bitter,\nBest Bitter,\nStong Bitter,\nDark Mild,\nHistorical Beer: London Brown Ale,\nEnglish IPA,\nBritish Strong Ale,\nOld Ale,\nEnglish Barleywine,\nWood-Aged Beer,\nSpecialty Wood-Aged Beer,\nFruit Beer,\nFruit and Spice Beer,\nSpice, Herb and Vegetables Beer.","WLP002 English Ale\n Lallemand Danstar Munton’s Ale Yeast","A very good cask conditioned ale strain, this extremely flocculant yeast produces distinctly malty beers.\nAttenuation levels are typically less than most other yeast strains which results in a slightly sweeter finish.\nAles produced with this strain tend to be fruity, increasingly so with higher fermentation temperatures of 70-74°F (21-23° C).\nA thorough diacetyl rest is recommended after fermentation is complete.\nBright beers are easily achieved within days without any filtration."]
["Wyeast 2001 PC Pilsner Urquell H-Strain 20","Wyeast","2001 PC","2001 PC  Pilsner Urquell H-Strain","Liquide","Moyenne - Haute",0.72,0.76,{"$f":"IFERROR(AVERAGE(Tableau48[[#This Row],[Atténuation min]],Tableau48[[#This Row],[Atténuation max]]),\"\")","v":0.74},8.9,13.3,48,56,9,"Czech Premium Pale Lager","WLP800 Pilsner Lager","With a mild fruit and floral aroma this strain has a very dry and clean palate with a full mouthfeel and nice subtle malt character.\nIt has a very clean and neutral finish."]
["Wyeast 2007 Pilsen Lager","Wyeast","2007","2007  Pilsen Lager","Liquide","Moyenne",0.71,0.75,{"$f":"IFERROR(AVERAGE(Tableau48[[#This Row],[Atténuation min]],Tableau48[[#This Row],[Atténuation max]]),\"\")","v":0.73},17.8,17.8,null,null,null,null,"WLP840 American Pilsner Lager Yeast"]
["Wyeast 2112 California Lager","Wyeast","2112","2112  California Lager","Liquide","Haute",0.67,0.71,{"$f":"IFERROR(AVERAGE(Tableau48[[#This Row],[Atténuation min]],Tableau48[[#This Row],[Atténuation max]]),\"\")","v":0.69},17.8,17.8,null,null,null,null,"WLP810 San Francisco Lager Yeast"]
["Wyeast 2124 Bohemian Lager","Wyeast","2124","2124  Bohemian Lager","Liquide","Basse-Moyenne",0.73,0.77,{"$f":"IFERROR(AVERAGE(Tableau48[[#This Row],[Atténuation min]],Tableau48[[#This Row],[Atténuation max]]),\"\")","v":0.75},17.8,17.8,null,null,null,null,"WLP820 Oktoberfest Lager Yeast"]
["Wyeast 2206 Bavarian Lager","Wyeast","2206","2206  Bavarian Lager","Liquide","Moyenne - Haute",0.73,0.77,{"$f":"IFERROR(AVERAGE(Tableau48[[#This Row],[Atténuation min]],Tableau48[[#This Row],[Atténuation max]]),\"\")","v":0.75},17.8,17.8,null,null,null,null,"WLP830 German Lager Yeast"]
["Wyeast 2247 PC European Lager","Wyeast","2247 PC","2247 PC  European Lager","Liquide","Basse",0.73,0.77,{"$f":"IFERROR(AVERAGE(Tableau48[[#This Row],[Atténuation min]],Tableau48[[#This Row],[Atténuation max]]),\"\")","v":0.75},17.8,17.8,null,null,null,null,"WLP920 Old Bavarian Lager Yeast"]
["Wyeast 2272 PC North American Lager","Wyeast","2272 PC","2272 PC  North American Lager","Liquide","Haute",0.7,0.76,{"$f":"IFERROR(AVERAGE(Tableau48[[#This Row],[Atténuation min]],Tableau48[[#This Row],[Atténuation max]]),\"\")","v":0.73},17.8,17.8,null,null,null,null,"WLP840 American Pilsner Lager Yeast"]
["Wyeast 2308 Munich Lager","Wyeast","2308","2308  Munich Lager","Liquide","Moyenne",0.7,0.74,{"$f":"IFERROR(AVERAGE(Tableau48[[#This Row],[Atténuation min]],Tableau48[[#This Row],[Atténuation max]]),\"\")","v":0.72},17.8,17.8,null,null,null,null,"WLP838 Southern German Lager Yeast"]
["Wyeast 2487 PC Hella Bock Lager","Wyeast","2487 PC","2487 PC  Hella Bock Lager","Liquide","Moyenne",0.7,0.74,{"$f":"IFERROR(AVERAGE(Tableau48[[#This Row],[Atténuation min]],Tableau48[[#This Row],[Atténuation max]]),\"\")","v":0.72},17.8,17.8,null,null,null,null,"WLP833 German Bock Yeast"]
["Wyeast 2575 PC Kölsch II","Wyeast","2575 PC","2575 PC  Kölsch II","Liquide","Basse",0.73,0.77,{"$f":"IFERROR(AVERAGE(Tableau48[[#This Row],[Atténuation min]],Tableau48[[#This Row],[Atténuation max]]),\"\")","v":0.75},12.8,21.1,55,70,10,"Kölsch,\nAltbier,\nInternational Amber Lager,\nFestBier","WLP003 German Ale II","This authentic Kӧlsch strain from one of Germany’s leading brewing schools has a rich flavor profile which accentuates a soft malt finish.\nIt has Low or no detectable diacetyl production and will also ferment well at colder temperatures for fast lager type beers."]
["Wyeast 3068 Weihenstephan Weizen","Wyeast","3068","3068  Weihenstephan Weizen","Liquide","Basse",0.73,0.77,{"$f":"IFERROR(AVERAGE(Tableau48[[#This Row],[Atténuation min]],Tableau48[[#This Row],[Atténuation max]]),\"\")","v":0.75},17.8,23.9,64,75,10,"Weissbier,\nWeizenBock,\nDunkles Weizen,\nHistorical Beer: Roggenbier,\nHistorical Beer: Sahti,\nFruit Beer,\nFruit and Spice Beer,\nSpecialty Fruit Beer.","WLP300 Hefeweizen Ale","The classic and most popular German wheat beer strain used worldwide.\nThis yeast strain produces a beautiful and delicate balance of banana esters and clove phenolics.\nThe balance can be manipulated towards ester production through increasing the fermentation temperature, increasing the wort density, and decreasing the pitch rate.\nOver pitching can result in a near complete loss of banana character.\nDecreasing the ester level will allow a higher clove character to be perceived.\nSulfur is commonly produced, but will dissipate with conditioning.\nThis strain is very powdery and will remain in suspension for an extended amount of time following attenuation.\nThis is true top cropping yeast and requires fermenter headspace of 33%."]
["Wyeast 3333 PC German Wheat","Wyeast","3333 PC","3333 PC  German Wheat","Liquide","Haute",0.7,0.76,{"$f":"IFERROR(AVERAGE(Tableau48[[#This Row],[Atténuation min]],Tableau48[[#This Row],[Atténuation max]]),\"\")","v":0.73},17.2,23.9,63,75,10,"Weissbier,\nWeizenBock,\nDunkles Weizen,\nHistorical Beer: Roggenbier,\nHistorical Beer: Sahti."," WLP380 Hefeweizen IV Ale Yeast","A highly flocculent German wheat beer strain that is the perfect choice for use in Kristallweizen.\nThis yeast strain produces a beautiful and delicate balance of banana esters and clove phenolics similar to the popular Wyeast 3068.\nHowever, this strain will sediment rapidly, resulting in bright beer without filtration.\nThe balance can be manipulated towards ester production through increasing fermentation temperature, increasing the wort density, and decreasing the pitch rate.\nOver pitching can result in a near complete loss of banana character.\nSulfur is commonly produced, but will dissipate with conditioning."]
["Wyeast 3463 PC Forbidden Fruit","Wyeast","3463 PC","3463 PC  Forbidden Fruit","Liquide","Basse",0.72,0.76,{"$f":"IFERROR(AVERAGE(Tableau48[[#This Row],[Atténuation min]],Tableau48[[#This Row],[Atténuation max]]),\"\")","v":0.74},17.2,24.4,63,76,12,"Witbier,\nSpecialty IPA: White IPA.","WLP720 Sweet Mead /Wine Yeast","A widely-used strain in the production of Witbier and Grand Cru.\nThis yeast will produce spicy phenolics which are balanced nicely by a complex ester profile.\nThe subtle fruit character and dry tart finish will complement wheat malt, orange peel and spice additions typical of Wits."]
["Wyeast 3522 Belgian Ardennes","Wyeast","3522","3522  Belgian Ardennes","Liquide","Haute",0.72,0.76,{"$f":"IFERROR(AVERAGE(Tableau48[[#This Row],[Atténuation min]],Tableau48[[#This Row],[Atténuation max]]),\"\")","v":0.74},18.3,24.4,65,76,12,"Belgian Pale Ale,\nBelgian Dubbel,\nBelgian Golden Strong Ale,\nBelgian Dark Strong Ale,\nBelgian Blond Ale,\nOud Bruin,\nSpecialty IPA: Belgian IPA","WLP550 Belgian Ale Yeast","One of the great and versatile strains for the production of classic Belgian style ales.\nThis strain produces a beautiful balance of delicate fruit esters and subtle spicy notes, with neither one dominating.\nUnlike many other Belgian style strains, this strain is highly flocculent and results in bright beers."]
["Wyeast 3638 Bavarian Wheat","Wyeast","3638","3638  Bavarian Wheat","Liquide","Basse",0.7,0.76,{"$f":"IFERROR(AVERAGE(Tableau48[[#This Row],[Atténuation min]],Tableau48[[#This Row],[Atténuation max]]),\"\")","v":0.73},17.8,23.9,64,75,10,"Weissbier,\nWeizenBock,\nDunkles Weizen,\nHistorical Beer: Roggenbier.","WLP351 Bavarian Weizen Yeast","A complex alternative to the standard German wheat strain profile.\nThis strain produces apple, pear, and plum esters in addition to the dominant banana character.\nThe esters are complemented nicely by clove and subtle vanilla phenolics.\nThe balance can be manipulated towards ester production through increasing fermentation temperature, increasing the wort density, and decreasing the pitch rate.\nOver pitching can result in a near complete loss of banana character. Decreasing the ester level will allow a higher clove character to be perceived.\nSulfur is commonly produced, but will dissipate with conditioning.\nThis strain is very powdery and will remain in suspension for an extended amount of time following attenuation.\nThis is true top cropping yeast and requires fermenter headspace of 33%."]
["Wyeast 3724 Belgian Saison","Wyeast","3724","3724  Belgian Saison","Liquide","Basse",0.76,0.8,{"$f":"IFERROR(AVERAGE(Tableau48[[#This Row],[Atténuation min]],Tableau48[[#This Row],[Atténuation max]]),\"\")","v":0.78},21.1,35,70,95,12,"Saison","WLP565 Saison Ale Yeast","This strain is the classic farmhouse ale yeast. A traditional yeast that is spicy with complex aromatics, including bubble gum.\nIt is very tart and dry on the palate with a mild fruitiness. Expect a crisp, mildly acidic finish that will benefit from elevated fermentation temperatures.\nThis strain is notorious for a rapid and vigorous start to fermentation, only to stick around 1.035 S.G. Fermentation will finish, given time and warm temperatures.\nWarm fermentation temperatures, at least 90°F (32°C), or the use of a secondary strain can accelerate attenuation.\n\n This Wyeast yeast strain has been classified as Saccharomyces cerevisiae var. diastaticus using rapid PCR analysis. This strain carries the STA1 gene, which is the “signature” gene of Saccharomyces cerevisiae var. diastaticus and will be found in all diastaticus strains."]
["Wyeast 3787 Trappist Style High Gravity","Wyeast","3787","3787  Trappist Style High Gravity","Liquide","Moyenne",0.74,0.78,{"$f":"IFERROR(AVERAGE(Tableau48[[#This Row],[Atténuation min]],Tableau48[[#This Row],[Atténuation max]]),\"\")","v":0.76},17.8,25.6,64,78,11,"Belgian Dubbel,\nBelgian Tripel,\nBelgian Golden Strong Ale,\nBière de Garde,\nTrappist Single,\nSpecialty IPA: Belgian IPA","WLP530 Abbey Ale Yeast","A classic strain for brewing Belgian dubbel or Belgian tripel.\nThis Abbey strain produces a nice balance of complex fruity esters and phenolics, making it desirable for use in other Belgian style ales as well.\nA flocculent, true top cropping yeast (additional headspace is recommended), that will work over a broad temperature range.\nThis strain makes a great Belgian style “house” strain."]
["Wyeast 3864 PC Canadian/Belgian Ale","Wyeast","3864 PC","3864 PC  Canadian/Belgian Ale","Liquide","Moyenne",0.75,0.79,{"$f":"IFERROR(AVERAGE(Tableau48[[#This Row],[Atténuation min]],Tableau48[[#This Row],[Atténuation max]]),\"\")","v":0.77},18.3,26.7,65,80,12,"Belgian Dubbel,\nBelgian Tripel,\nBelgian Golden Strong Ale,\nBière de Garde,\nWitbier",null,"This alcohol-tolerant strain produces complex and well-balanced Belgian Abbey-style ales.\nBanana and fruit esters are complemented nicely with mild levels of phenolics and hints of acidity.\nEster levels may be elevated by increasing gravity and fermentation temperatures.\nThis Wyeast yeast strain has been classified as Saccharomyces cerevisiae var. diastaticus using rapid PCR analysis. This strain carries the STA1 gene, which is the “signature” gene of Saccharomyces cerevisiae var. diastaticus and will be found in all diastaticus strains."]
["Wyeast 3944  Belgian Witbier","Wyeast","3944","3944  Belgian Witbier","Liquide","Moyenne",0.72,0.76,{"$f":"IFERROR(AVERAGE(Tableau48[[#This Row],[Atténuation min]],Tableau48[[#This Row],[Atténuation max]]),\"\")","v":0.74},16.7,23.9,62,75,11,"Witbier,\nBelgian Dubbel,\nBelgian Tripel,\nAutumn Seasonal Beer,\nWintel Seasonal Beer,\nSpice, herb, or Vegetable Beer,\nSpecialty IPA: Belgian IPA,\nSpecialty IPA: White IPA","WLP400 Belgian Wit","This versatile witbier yeast strain can be used in a variety of Belgian style ales.\nThis strain produces a complex flavor profile dominated by spicy phenolics with low to moderate ester production.\nIt is a great strain choice when you want a delicate clove profile not to be overshadowed by esters.\nIt will ferment fairly dry with a slightly tart finish that compliments the use of oats, malted and unmalted wheat.\nThis strain is a true top cropping yeast requiring full fermenter headspace of 33%."]
["Imperial Yeast A01 House","Imperial Yeast","A01","A01 House","Liquide","Haute",0.73,0.75,{"$f":"IFERROR(AVERAGE(Tableau48[[#This Row],[Atténuation min]],Tableau48[[#This Row],[Atténuation max]]),\"\")","v":0.74},16.7,21.1,62,70,null,"Ales","The best of both worlds, House is clean and allows malt and hops to shine.\nThis strain is extremely versatile and flocculent enough to drop out of the beer quickly.\nBest used in American IPAs but works well in English style ales.\nHouse is clean at cold temperatures with increased esters as fermentation temperatures increase."]
["Imperial Yeast A04 Barbarian","Imperial Yeast","A04","A04 Barbarian","Liquide","Moyenne",0.73,0.74,{"$f":"IFERROR(AVERAGE(Tableau48[[#This Row],[Atténuation min]],Tableau48[[#This Row],[Atténuation max]]),\"\")","v":0.73499999999999999},16.7,21.1,62,70,null,"Ales","Ready to attack your IPA, Barbarian produces stone fruit esters that work great when paired with citrus hops.\nBarbarian will give you what you need for an exceptionally balanced IPA."]
["Imperial Yeast A07 Flagship","Imperial Yeast","A07","A07 Flagship","Liquide","Basse - Moyenne",0.73,0.77,{"$f":"IFERROR(AVERAGE(Tableau48[[#This Row],[Atténuation min]],Tableau48[[#This Row],[Atténuation max]]),\"\")","v":0.75},15.6,22.2,60,72,null,"Ales","A craft brewing standard, Flagship is a versatile strain loved for its extremely clean character.\nThis strain performs well at standard ale temperatures but can be used in the low 60s to produce exceptionally crisp ales.\nFlocculation is in the middle of the road and will typically require filtration or fining to achieve crystal clear beers."]
["Imperial Yeast A09 Pub","Imperial Yeast","A09","A09 Pub","Liquide","Très  Haute",0.69,0.74,{"$f":"IFERROR(AVERAGE(Tableau48[[#This Row],[Atténuation min]],Tableau48[[#This Row],[Atténuation max]]),\"\")","v":0.71499999999999997},17.8,21.1,64,70,null,"Ales","Brewers swear by this strain to achieve super bright ales in a short amount of time.\nOne of the most flocculent brewer’s strains around, Pub will rip through fermentation and then drop out of the beer quickly. Pub produces higher levels of esters than most domestic ale strains.\nBe sure to give beers made with Pub a sufficient diacetyl rest."]
["Imperial Yeast A10 Darkness","Imperial Yeast","A10","A10 Darkness","Liquide","Moyenne",0.71,0.75,{"$f":"IFERROR(AVERAGE(Tableau48[[#This Row],[Atténuation min]],Tableau48[[#This Row],[Atténuation max]]),\"\")","v":0.73},16.7,22.2,62,72,null,"Ales","A beautiful strain for stout, porter, brown, and amber ales.\nDarkness produces a unique character that matches up perfectly with roasted and caramel malts.\nThis strain is alcohol tolerant, so don’t hesitate to throw high gravity worts its way."]
["Imperial Yeast A15 Independence","Imperial Yeast","A15","A15 Independence","Liquide","Moyenne",0.72,0.76,{"$f":"IFERROR(AVERAGE(Tableau48[[#This Row],[Atténuation min]],Tableau48[[#This Row],[Atténuation max]]),\"\")","v":0.74},15.6,22.2,60,72,null,"Ales","Independence is the strain for bringing some new character into your hop-driven beers.\nHigher in esters than Flagship, this yeast will give some fruit character that will take your hoppy beers to a new level.\nWhile it shines in pale ales and IPAs, Independence is a great all-around strain and will also work well in stouts and English ales."]
["Imperial Yeast A18 Joystick","Imperial Yeast","A18","A18 Joystick","Liquide","Moyenne - Haute",0.73,0.77,{"$f":"IFERROR(AVERAGE(Tableau48[[#This Row],[Atténuation min]],Tableau48[[#This Row],[Atténuation max]]),\"\")","v":0.75},15.6,21.1,60,70,null,"Ales","This strain is a fast mover and can be used at the low end of the ale fermentation spectrum to keep it clean.\nJoystick is a good choice for big, high alcohol, malty beers but has no issues chomping on a hoppy double IPA."]
["Imperial Yeast A20 Citrus","Imperial Yeast","A20","A20 Citrus","Liquide","Basse",0.74,0.78,{"$f":"IFERROR(AVERAGE(Tableau48[[#This Row],[Atténuation min]],Tableau48[[#This Row],[Atténuation max]]),\"\")","v":0.76},19.399999999999999,26.7,67,80,null,"Ales","Citrus cranks out orange and lemon aromas along with some tropical fruit.\nUse this strain at high temps for big ester production.\nA wild saccharomyces strain, it will get a bit funky without the worries of a brettanomyces strain."]
["Imperial Yeast A24 Dry Hop","Imperial Yeast","A24","A24 Dry Hop","Liquide","Moyenne",0.74,0.78,{"$f":"IFERROR(AVERAGE(Tableau48[[#This Row],[Atténuation min]],Tableau48[[#This Row],[Atténuation max]]),\"\")","v":0.76},17.8,23.3,64,74,null,"Ales","Dry Hop is a blend of A20 Citrus and A04 Barbarian.\nWhen this blend goes to work on your hoppy beer, the hop aroma blows up.\nThe combination of these strains produces amazing aromas of citrus, peach, and apricot that will accentuate your IPA, pale ale, and any other hop-driven beer."]
["Imperial Yeast A31 Tartan","Imperial Yeast","A31","A31 Tartan","Liquide","Moyenne",0.7,0.75,{"$f":"IFERROR(AVERAGE(Tableau48[[#This Row],[Atténuation min]],Tableau48[[#This Row],[Atténuation max]]),\"\")","v":0.72499999999999998},18.3,21.1,65,70,null,"Ales","Tartan is a traditional strain that accentuates the malt character of Scottish ales.\nIt can also be used for other styles and works well in IPAs due to its clean character.\nFor a higher ester profile, use this ale yeast at the top end of the temperature range."]
["Imperial Yeast A38 Juice","Imperial Yeast","A38","A38 Juice","Liquide","Moyenne",0.72,0.76,{"$f":"IFERROR(AVERAGE(Tableau48[[#This Row],[Atténuation min]],Tableau48[[#This Row],[Atténuation max]]),\"\")","v":0.74},17.8,23.3,64,74,null,"Ales","Juicy. Fruity. Juice is an amazing strain for East Coast IPAs.\nThe ester profile of Juice brings out the aromas and flavors of the new school hops and creates a beer that is greater than the sum of its parts.\nKeep an eye on this strain, it likes to move to the top of fermentation and will climb out the fermenter if too full."]
["Imperial Yeast A43 Loki","Imperial Yeast","A43","A43 Loki","Liquide","Moyenne - Haute",0.75,0.85,{"$f":"IFERROR(AVERAGE(Tableau48[[#This Row],[Atténuation min]],Tableau48[[#This Row],[Atténuation max]]),\"\")","v":0.8},18.3,37.799999999999997,65,100,null,"Ales","A traditional Norwegian Kveik strain that has an extremely wide fermentation temperature range.\nThis strain has been traditionally used in farmhouse style beers however, due to it’s fermentation temp range can be used in a variety of beers from pseudo lagers, Belgian inspired, and hop forward beers.\nOn the cool end of the range Loki is super clean; producing little to no esters.\nAs things warm up, it tends to produce a huge fruit ester profile."]
["Imperial Yeast B44 Whiteout","Imperial Yeast","B44","B44 Whiteout","Liquide","Basse - Moyenne",0.72,0.76,{"$f":"IFERROR(AVERAGE(Tableau48[[#This Row],[Atténuation min]],Tableau48[[#This Row],[Atténuation max]]),\"\")","v":0.74},16.7,22.2,62,72,null,"Belgian Ales","This is the strain for Belgian Wit style beers.\nWhiteout produces an excellent balance of spicy phenolic character and esters.\nAlong with the necessary aromatics, this strain produces a significant amount of acidity which is perfect for wits and other light colored Belgian ales.\nWhiteout can be flocculent during fermentation, then become non-flocculent at the end.\nThis may lead to slower than normal fermentation."]
["Imperial Yeast B45 Gnome","Imperial Yeast","B45","B45 Gnome","Liquide","Moyenne - Haute",0.72,0.76,{"$f":"IFERROR(AVERAGE(Tableau48[[#This Row],[Atténuation min]],Tableau48[[#This Row],[Atténuation max]]),\"\")","v":0.74},18.3,23.9,65,75,null,"Belgian Ales","Gnome is the yeast for brewing Belgian inspired beers in a hurry.\nThis strain is extremely flocculent and drops out of the beer quickly after fermentation.\nGnome produces a nice phenolic character that goes well with hops, as well as with caramel and toffee flavors.\nGreat for Belgian ales that need to be crystal clear without filtration."]
["Imperial Yeast B48 Triple Double","Imperial Yeast","B48","B48 Triple Double","Liquide","Moyenne",0.74,0.78,{"$f":"IFERROR(AVERAGE(Tableau48[[#This Row],[Atténuation min]],Tableau48[[#This Row],[Atténuation max]]),\"\")","v":0.76},18.3,25,65,77,null,"Belgian Ales","The perfect strain for your classic abbey ales.\nTriple Double produces moderate esters with low to no phenolic characteristics.\nThis strain is tried and true and works perfectly in a production environment.\nKeep an eye on Triple Double, it likes to sit on top of the wort throughout fermentation which may result in a slow fermentation."]
["Imperial Yeast B51 Workhorse","Imperial Yeast","B51","B51 Workhorse","Liquide","Moyenne",0.72,0.77,{"$f":"IFERROR(AVERAGE(Tableau48[[#This Row],[Atténuation min]],Tableau48[[#This Row],[Atténuation max]]),\"\")","v":0.745},18.3,23.9,65,75,null,"Belgian Ales","Saison…no problem. Belgian stout, double… yep.\nWorkhorse is the strain to use for a wide variety of brews.\nSuper clean, this fast-attenuating strain has good flocculation characteristics.\nHigh alcohol tolerance makes this a great option for big Belgian beers."]
["Imperial Yeast B56 Rustic","Imperial Yeast","B56","B56 Rustic","Liquide","Moyenne",0.72,0.76,{"$f":"IFERROR(AVERAGE(Tableau48[[#This Row],[Atténuation min]],Tableau48[[#This Row],[Atténuation max]]),\"\")","v":0.74},20,26.7,68,80,null,"Belgian Ales","This unique yeast can be used in your saison, farmhouse ale, or other Belgian styles where high ester levels are important.\nRustic typically produces a lot of bubblegum and juicy aromas that compliment complex maltiness."]
["Imperial Yeast B63 Monastic","Imperial Yeast","B63","B63 Monastic","Liquide","Basse - Moyenne",0.74,0.78,{"$f":"IFERROR(AVERAGE(Tableau48[[#This Row],[Atténuation min]],Tableau48[[#This Row],[Atténuation max]]),\"\")","v":0.76},20,25.6,68,78,null,"Belgian Ales","This strain is a beautiful yeast for fermenting abbey ales, especially quads; high alcohol and dark Belgian beers.\nMonastic will produce beers with a high level of phenolic character and esters.\nIt can be slow to begin fermentation but will easily dry out high gravity worts.\nThis strain is a low flocking strain, so expect it to stay suspended for a long time."]
["Imperial Yeast B64 Napoleon","Imperial Yeast","B64","B64 Napoleon","Liquide","Basse",0.77,0.83,{"$f":"IFERROR(AVERAGE(Tableau48[[#This Row],[Atténuation min]],Tableau48[[#This Row],[Atténuation max]]),\"\")","v":0.8},18.3,25.6,65,78,null,"Belgian Ales","This yeast is an insane wort attenuator.\nNapoleon will destroy the sugars in your saison and farmhouse beers – even the ones in which most brewer’s strains have no interest.\nWhen all is said and done, Napoleon produces very dry, crisp beers with nice citrus aromas.\nYeast settling times can be long, usually requiring filtration for bright beers."]
["Fermentis BE-134","Fermentis","BE-134","BE-134","Sèche","Basse",0.9,0.9,{"$f":"IFERROR(AVERAGE(Tableau48[[#This Row],[Atténuation min]],Tableau48[[#This Row],[Atténuation max]]),\"\")","v":0.9},18,28,64.400000000000006,82.4,11,"Belgian Saison","The obvious choice for highly attenuated beers with phenolic character such as Belgian-Saison style.\nThe SafAle™ BE-134 is a Saccharomyces cerevisiae var. diastaticus and is characterized by a particularly high attenuation.\nThis typical yeast strain is recommended for Belgian Saison-style beers. It gives fruity aromas with a slight spicy character (POF+) such as clove notes.\nThis strain will bring highly refreshing and drinkable beers."]
["Fermentis BE-256","Fermentis","BE-256","BE-256","Sèche","Haute",0.85,0.85,{"$f":"IFERROR(AVERAGE(Tableau48[[#This Row],[Atténuation min]],Tableau48[[#This Row],[Atténuation max]]),\"\")","v":0.85},15,20,59,68,11,"Abbey","Recommended for high alcohol content beers such as Abbey style.\nActive dry yeast recommended to brew a diversity of beers amongst which abbey style beers known for their high alcohol content.\nIt ferments very fast and reveals subtle and well-balanced aromas.\nTo maintain the aromatic profile at the end of the fermentation, we do recommend to crop this yeast as soon as possible after fermentation."]
["Imperial Yeast F08 Sour Batch Kidz","Imperial Yeast","F08","F08 Sour Batch Kidz","Liquide","Basse",0.8,0.8,{"$f":"IFERROR(AVERAGE(Tableau48[[#This Row],[Atténuation min]],Tableau48[[#This Row],[Atténuation max]]),\"\")","v":0.8},20,24.4,68,76,null,"Wilds & Sours","Sour Batch Kidz is a blend of a low attenuating Belgian saison yeast, Lactobacillus, and three Brettanomyces yeast strains.\nThis blend is great for emulating lambics, Flanders reds, sour farmhouse ales and any other brew you would like to funk up."]
["Imperial Yeast G01 Stefon","Imperial Yeast","G01","G01 Stefon","Liquide","Basse",0.73,0.77,{"$f":"IFERROR(AVERAGE(Tableau48[[#This Row],[Atténuation min]],Tableau48[[#This Row],[Atténuation max]]),\"\")","v":0.75},17.2,22.8,63,73,null,"German Ales","This is the traditional German strain used to produce world-class Weizen beers where a big banana aroma is required.\nBalanced with mild clove, depending on your wort profile, this strain will produce amazing beers.\nStefon will create a slightly higher level of acidity to give your beer a very crisp finish.\nSlightly underpitching will help increase the banana character."]
["Imperial Yeast G02 Kaiser","Imperial Yeast","G02","G02 Kaiser","Liquide","Basse",0.73,0.77,{"$f":"IFERROR(AVERAGE(Tableau48[[#This Row],[Atténuation min]],Tableau48[[#This Row],[Atténuation max]]),\"\")","v":0.75},13.3,18.3,56,65,null,"German Ales","A traditional alt strain, Kaiser is ready to produce an array of German-style beers.\nIt will keep the beer clean and allow the delicate malt flavors and aromas to shine through.\nCharacteristics of this strain make it a good choice for traditional Berliner Weisse fermentations.\nKaiser is a low flocking strain, so expect long clarification times, but very low diacetyl levels."]
["Imperial Yeast G03 Dieter","Imperial Yeast","G03","G03 Dieter","Liquide","Moyenne",0.73,0.77,{"$f":"IFERROR(AVERAGE(Tableau48[[#This Row],[Atténuation min]],Tableau48[[#This Row],[Atténuation max]]),\"\")","v":0.75},15.6,20.6,60,69,null,"German Ales","Dieter is a clean, crisp, traditional German Kölsch strain.\nA very low ester profile makes this strain perfect for Kölsch, Alt and other light colored delicate beers.\nDieter has better flocculation characteristics than most Kölsch strains which allow brewers to produce clean, bright beers in a shorter amount of time."]
["GigaYeast GB001 BRUSSELS BRUXELLENSIS","GigaYeast","GB001","GB001 BRUSSELS BRUXELLENSIS","Liquide","Faible",0.57999999999999996,0.85,{"$f":"IFERROR(AVERAGE(Tableau48[[#This Row],[Atténuation min]],Tableau48[[#This Row],[Atténuation max]]),\"\")","v":0.71499999999999997},17.8,17.8,null,null,null,"Saison,\nBrett Beer,\nSour Beer","Produces classic Brett “Barnyard” characteristics plus some subtle fruity aroma and moderate acidity.\nAdds a tart complexity to any beer."]
["GigaYeast GB002 TART CHERRY BRETT","GigaYeast","GB002","GB002 TART CHERRY BRETT","Liquide","Faible",0.7,0.85,{"$f":"IFERROR(AVERAGE(Tableau48[[#This Row],[Atténuation min]],Tableau48[[#This Row],[Atténuation max]]),\"\")","v":0.77499999999999991},17.8,17.8,null,null,null,"Saison,\nSour Beer,\nLambic","Produces some Brett Barnyard funk plus stone fruit and cherry-like esters.\nThis Strain also produces a moderate amount of acid that adds a tart complexity to the brew."]
["GigaYeast GB110 GIGAYEAST LACTO","GigaYeast","GB110","GB110 GIGAYEAST LACTO","Liquide","Moyenne",0.4,0.4,{"$f":"IFERROR(AVERAGE(Tableau48[[#This Row],[Atténuation min]],Tableau48[[#This Row],[Atténuation max]]),\"\")","v":0.4},17.8,17.8,null,null,null,"Saison,\nSour Beer,\nLambic","A robust, fast souring lactic acid bacteria.\nProduces a clean tart flavor."]
["GigaYeast GB121 FARMHOUSE SOUR","GigaYeast","GB121","GB121 FARMHOUSE SOUR","Liquide","",0.84,0.89,{"$f":"IFERROR(AVERAGE(Tableau48[[#This Row],[Atténuation min]],Tableau48[[#This Row],[Atténuation max]]),\"\")","v":0.86499999999999999},17.8,17.8,null,null,null,"Saison,\nSour Beer,\nLambic","A blend of Belgian ale yeast, Brett and lactic acid bacteria– sweet, sour and a little funky."]
["GigaYeast GB122 BERLINER BLEND","GigaYeast","GB122","GB122 BERLINER BLEND","Liquide","",0.89,0.89,{"$f":"IFERROR(AVERAGE(Tableau48[[#This Row],[Atténuation min]],Tableau48[[#This Row],[Atténuation max]]),\"\")","v":0.89},17.8,17.8,null,null,null,"Sour Beer,\nGose,\nBerliner Weisse","A blend of neutral ale yeast and lactic acid bacteria.\nUse directly in a primary to make a crisp, sour beer!"]
["GigaYeast GB123 SOUR PLUM BELGIAN","GigaYeast","GB123","GB123 SOUR PLUM BELGIAN","Liquide","",0.77,0.77,{"$f":"IFERROR(AVERAGE(Tableau48[[#This Row],[Atténuation min]],Tableau48[[#This Row],[Atténuation max]]),\"\")","v":0.77},17.8,17.8,null,null,null,"Saison,\nSour Beer,\nLambic","Belgian ale yeast and lactic acid bacteria.\nCleaner than GB121.\nCreates a beer with stone fruit/plum esters and sour notes."]
["GigaYeast GB124 SAISON SOUR","GigaYeast","GB124","GB124 SAISON SOUR","Liquide","",0.78,0.78,{"$f":"IFERROR(AVERAGE(Tableau48[[#This Row],[Atténuation min]],Tableau48[[#This Row],[Atténuation max]]),\"\")","v":0.78},17.8,17.8,null,null,null,"Sour Beer,\nSaison,\nWild Specialty Beer,\nFlanders Red Ale,\nOud Bruin,\nLambic,\nGueze,\nFruit Lambic","Sour with fruity esters and black pepper."]
["GigaYeast GB144 SWEET FLEMISH BRETT","GigaYeast","GB144","GB144 SWEET FLEMISH BRETT","Liquide","",0.83,0.83,{"$f":"IFERROR(AVERAGE(Tableau48[[#This Row],[Atténuation min]],Tableau48[[#This Row],[Atténuation max]]),\"\")","v":0.83},17.8,17.8,null,null,null,"Saison,\nBrett Beer,\nSour Beer","A pure Brettanomyces strain that produces a sweet, fruity nose with just a touch of barnyard and phenolics.\nUse in a primary to make an all brett beer or in the secondary to add character during aging."]
["GigaYeast GB150 SOUR CHERRY FUNK","GigaYeast","GB150","GB150 SOUR CHERRY FUNK","Liquide","",0.6,0.89,{"$f":"IFERROR(AVERAGE(Tableau48[[#This Row],[Atténuation min]],Tableau48[[#This Row],[Atténuation max]]),\"\")","v":0.745},17.8,17.8,null,null,null,"Saison,\nBrett Beer,\nSour Beer","This blend creates an amazing complex, sour beer with fruity cherry esters."]
["GigaYeast GB156 BRUX BLEND","GigaYeast","GB156","GB156 BRUX BLEND","Liquide","","","",{"$f":"IFERROR(AVERAGE(Tableau48[[#This Row],[Atténuation min]],Tableau48[[#This Row],[Atténuation max]]),\"\")","v":""},17.8,17.8,null,null,null,"Saison,\nSour Beer,\nLambic","A blend of Brettanomyces yeast that produces stone fruit esters and a hint of barnyard.\nCreates a moderate amount of acid that adds a tart complexity to the brew."]
["GigaYeast GY001 NORCAL ALE #1","GigaYeast","GY001","GY001 NORCAL ALE #1","Liquide","Moyenne",0.76,0.8,{"$f":"IFERROR(AVERAGE(Tableau48[[#This Row],[Atténuation min]],Tableau48[[#This Row],[Atténuation max]]),\"\")","v":0.78},17.8,25,64,77,null,"Barley Wine,\nPale Ale,\nBitter,\nScotch Ale,\nIndia Pale Ale,\nStout","Clean fermenting, versatile strain from one of the most famous California pale ales.\nExcellent for emphasizing hop flavor and aroma. Strong attenuation and good flocculation."]
["GigaYeast GY002 CZECH PILSNER","GigaYeast","GY002","GY002 CZECH PILSNER","Liquide","Moyenne - Haute",0.75,0.79,{"$f":"IFERROR(AVERAGE(Tableau48[[#This Row],[Atténuation min]],Tableau48[[#This Row],[Atténuation max]]),\"\")","v":0.77},8.9,12.8,48,55,null,"Pilsners,\nLagers","Bottom fermenting yeast from a world famous pilsner.\nFinishes dry and leaves a hint of malt flavor."]
["GigaYeast GY003 A TOUCH OF SPICE BELGIAN ALE","GigaYeast","GY003","GY003 A TOUCH OF SPICE BELGIAN ALE","Liquide","Basse- Moyenne",0.81,0.84,{"$f":"IFERROR(AVERAGE(Tableau48[[#This Row],[Atténuation min]],Tableau48[[#This Row],[Atténuation max]]),\"\")","v":0.82499999999999996},20,25,68,77,null,"Belgian Ale,\nDubbel,\nBelgian Strong,\nTripel,\nBiere De Garde","Abbey style yeast from the Belgian Ardennes.\nSpicy clove like notes and a hint of fruity esters.\nMedium flocculation means a clearer beer than most Belgian yeast."]
["GigaYeast GY005 GOLDEN GATE LAGER","GigaYeast","GY005","GY005 GOLDEN GATE LAGER","Liquide","Moyenne",0.79,0.83,{"$f":"IFERROR(AVERAGE(Tableau48[[#This Row],[Atténuation min]],Tableau48[[#This Row],[Atténuation max]]),\"\")","v":0.81},12.8,21.1,55,70,null,"California Common,\nCream Ale,\nStout","Versatile Lager yeast used to create the California Common style.\nFerments warm and still retains a lager character."]
["GigaYeast GY007 BELGIAN MIX","GigaYeast","GY007","GY007 BELGIAN MIX","Liquide","Basse",0.79,0.81,{"$f":"IFERROR(AVERAGE(Tableau48[[#This Row],[Atténuation min]],Tableau48[[#This Row],[Atténuation max]]),\"\")","v":0.8},18.899999999999999,25,66,77,null,"Belgian Ale,\nDubbel,\nBelgian Strong,\nTripel,\nBiere De Garde,\nSaison","A blend of Belgian Ale yeast combine to create robust attenuation and a complex flavor profile."]
["GigaYeast GY011 BRITISH ALE #1","GigaYeast","GY011","GY011 BRITISH ALE #1","Liquide","Haute",0.75,0.79,{"$f":"IFERROR(AVERAGE(Tableau48[[#This Row],[Atténuation min]],Tableau48[[#This Row],[Atténuation max]]),\"\")","v":0.77},17.8,25,64,77,null,"British Ales,\nPale/Amber Ale,\nBarley Wine,\nScotch Ale,\nBitter,\nStout,\nIndia Pale Ale","Versatile house strain from a traditional UK Brewery.\nStrong attenuation, low esters and excellent flocculation for clear beer."]
["GigaYeast GY014 BELGIAN ABBEY ALE","GigaYeast","GY014","GY014 BELGIAN ABBEY ALE","Liquide","Basse",0.79,0.81,{"$f":"IFERROR(AVERAGE(Tableau48[[#This Row],[Atténuation min]],Tableau48[[#This Row],[Atténuation max]]),\"\")","v":0.8},17.8,26.7,64,80,null,"Belgian Ale,\nDubbel,\nBelgian Strong,\nTripel,\nBiere De Garde,\nSaison","Classic Belgian Ale yeast.\nStrong attenuation with a fruity nose and virtually no phenolics.\nThe warmer it gets the fruitier it grows."]
["GigaYeast GY015 BELGIAN TRIPEL","GigaYeast","GY015","GY015 BELGIAN TRIPEL","Liquide","Basse",0.74,0.76,{"$f":"IFERROR(AVERAGE(Tableau48[[#This Row],[Atténuation min]],Tableau48[[#This Row],[Atténuation max]]),\"\")","v":0.75},18.899999999999999,23.3,66,74,null,"Belgian Ale,\nDubbel,\nBelgian Strong,\nTripel,\nBiere De Garde,\nSaison","Belgian Ale yeast from the mother of all Tripels.\nWarm notes with just a hint of spice.\nExcellent for emphasizing the malty sweet quality prized in certain Belgians."]
["GigaYeast GY016 ALTSTADT ALE","GigaYeast","GY016","GY016 ALTSTADT ALE","Liquide","Basse",0.77,0.81,{"$f":"IFERROR(AVERAGE(Tableau48[[#This Row],[Atténuation min]],Tableau48[[#This Row],[Atténuation max]]),\"\")","v":0.79},12.8,20,55,68,null,"Kölsch,\nCalifornia Common,\nAltbier,\nBiere De Garde,\nCream Ale","An ale yeast that ferments at cold temperatures and produces a lager like ale style.\nUsed in traditional Alt and Kölsch styles.\nLeaves a nice, residual maltiness."]
["GigaYeast GY017 BAVARIAN HEFE","GigaYeast","GY017","GY017 BAVARIAN HEFE","Liquide","Très Basse",0.77,0.81,{"$f":"IFERROR(AVERAGE(Tableau48[[#This Row],[Atténuation min]],Tableau48[[#This Row],[Atténuation max]]),\"\")","v":0.79},17.8,26.7,64,80,null,"Dunkelweizen,\nGose,\nHefeweizen,\nWeizenbock","A Hefeweizen yeast from one of Bavaria’s oldest breweries.\nProduces the traditional clove and banana flavors associated with the style— especially when fermented warm."]
["GigaYeast GY018 SAISON #1","GigaYeast","GY018","GY018 SAISON #1","Liquide","Basse",0.81,0.83,{"$f":"IFERROR(AVERAGE(Tableau48[[#This Row],[Atténuation min]],Tableau48[[#This Row],[Atténuation max]]),\"\")","v":0.82000000000000006},17.8,26.7,64,80,null,"Saison,\nFarmhouse Ale,\nBelgian Ale,\nBiere De Garde","Traditional Saison yeast from a French craft brewery.\nStrong attenuator that produces a dry beer with a beautiful fragrance and the traditional Saison taste of fruit and pepper."]
["GigaYeast GY020 PORTLAND HEFE","GigaYeast","GY020","GY020 PORTLAND HEFE","Liquide","Très Basse",0.76,0.8,{"$f":"IFERROR(AVERAGE(Tableau48[[#This Row],[Atténuation min]],Tableau48[[#This Row],[Atténuation max]]),\"\")","v":0.78},17.8,23.3,64,74,null,"American Wheat Beer,\nWeizenbock,\nDunkelweizen,\nHefeweizen","From the famous American Hefeweizen.\nCreates a delicious cloudy wheat beer with negligible amounts of Banana and clove flavor<"]
["GigaYeast GY021 KÖLSCH BIER","GigaYeast","GY021","GY021 KÖLSCH BIER","Liquide","Moyenne - Haute",0.79,0.83,{"$f":"IFERROR(AVERAGE(Tableau48[[#This Row],[Atténuation min]],Tableau48[[#This Row],[Atténuation max]]),\"\")","v":0.81},15.6,22.2,60,72,null,"Kölsch,\nPale Ale,\nAlt,\nIndia Pale Ale,\nCream Ale,\nAmber","From one of the oldest Kölsch breweries in Köln.\nFerments cold to produce crisp tasting lager-like ales."]
["GigaYeast GY027 SAISON #2","GigaYeast","GY027","GY027 SAISON #2","Liquide","Basse",0.79,0.83,{"$f":"IFERROR(AVERAGE(Tableau48[[#This Row],[Atténuation min]],Tableau48[[#This Row],[Atténuation max]]),\"\")","v":0.81},17.8,26.7,64,80,null,"Saison,\nFarmhouse Ale,\nBelgian Ale,\nBiere De Garde","From a traditional farmhouse saison.\nProduces a nice fruity nose and finishes slightly sweeter than GY018."]
["GigaYeast GY028 BELGIAN WIT","GigaYeast","GY028","GY028 BELGIAN WIT","Liquide","Très Basse",0.76,0.79,{"$f":"IFERROR(AVERAGE(Tableau48[[#This Row],[Atténuation min]],Tableau48[[#This Row],[Atténuation max]]),\"\")","v":0.77500000000000002},17.8,26.7,64,80,null,"Belgian Witbier,\nSaison,\nBelgian Ale","Classic Belgian Wit yeast.\nProduces the tart and spicy flavors of a traditional Wit.\nThis yeast is a strong attenuator that leaves a dry, slightly cloudy beer."]
["GigaYeast GY030 AMERICAN LAGER","GigaYeast","GY030","GY030 AMERICAN LAGER","Liquide","Moyenne",0.79,0.83,{"$f":"IFERROR(AVERAGE(Tableau48[[#This Row],[Atténuation min]],Tableau48[[#This Row],[Atténuation max]]),\"\")","v":0.81},8.9,15.6,48,60,null,"Lager,\nBlack Lager,\nPilsner,\nSchwarzbier,\nImperial Pilsner","Think you don’t like American Lager? Think again.\nThis lager yeast is a powerful attenuator that leaves a dry beer with a slightly fruity finish. Awesome."]
["GigaYeast GY031 BRITISH ALE #2","GigaYeast","GY031","GY031 BRITISH ALE #2","Liquide","Haute",0.8,0.82,{"$f":"IFERROR(AVERAGE(Tableau48[[#This Row],[Atténuation min]],Tableau48[[#This Row],[Atténuation max]]),\"\")","v":0.81},17.8,23.9,64,75,null,"British Ales,\nPale/Amber Ale,\nBarley Wine,\nScotch Ale,\nBitter,\nStout,\nIndia Pale Ale","From one of the oldest and best-known English cask ales.\nStrong Attenuation and excellent flocculation with slightly more fruity ester production than GY011."]
["GigaYeast GY044 SCOTCH ALE #1","GigaYeast","GY044","GY044 SCOTCH ALE #1","Liquide","Basse- Moyenne",0.8,0.82,{"$f":"IFERROR(AVERAGE(Tableau48[[#This Row],[Atténuation min]],Tableau48[[#This Row],[Atténuation max]]),\"\")","v":0.81},17.8,23.9,64,75,null,"Scotch Ale,\nPale,\nWee Beavy,\nBrown,\nPorter,\nStout","Neutral flavors that emphasize maltiness.\nPerfect in Stouts, Porters, Scottish Ales and Wee Heavys."]
["GigaYeast GY045 GERMAN LAGER","GigaYeast","GY045","GY045 GERMAN LAGER","Liquide","Basse- Moyenne",0.74,0.78,{"$f":"IFERROR(AVERAGE(Tableau48[[#This Row],[Atténuation min]],Tableau48[[#This Row],[Atténuation max]]),\"\")","v":0.76},10,15.6,50,60,null,"Lagers,\nKeller Bier,\nMärzen,\nSchwarz Bier,\nBock,\nPilsner","Bottom fermenting German yeast used in commercial breweries around the world.\nProduces a dry, clean beer with a malty finish."]
["GigaYeast GY047 SAISON BLEND","GigaYeast","GY047","GY047 SAISON BLEND","Liquide","Basse",0.8,0.83,{"$f":"IFERROR(AVERAGE(Tableau48[[#This Row],[Atténuation min]],Tableau48[[#This Row],[Atténuation max]]),\"\")","v":0.81499999999999995},17.8,26.7,64,80,null,"Belgian,\nWitbier,\nBelgian Pale Ale","This Blend is a super robust attenuator that produces a complex flavor profile of fruit and spice."]
["GigaYeast GY048 GOLDEN PEAR BELGIAN","GigaYeast","GY048","GY048 GOLDEN PEAR BELGIAN","Liquide","Basse",0.83,0.85,{"$f":"IFERROR(AVERAGE(Tableau48[[#This Row],[Atténuation min]],Tableau48[[#This Row],[Atténuation max]]),\"\")","v":0.84},18.3,26.7,65,80,null,"Belgian Golden Strong Ale,\nFarmhouse Ale,\nTripel,\nSaison,\nDubbel,\nBiere De Garde","From the originator of the Belgian Golden Strong Ale style.\nEstery profile reminiscent of apple and pear with a subdued level of spicy phenolics.\nExcellent choice for high gravity belgian and farmhouse style ales."]
["GigaYeast GY054 VERMONT IPA","GigaYeast","GY054","GY054 VERMONT IPA","Liquide","Basse- Moyenne",0.78,0.82,{"$f":"IFERROR(AVERAGE(Tableau48[[#This Row],[Atténuation min]],Tableau48[[#This Row],[Atténuation max]]),\"\")","v":0.8},16.7,23.9,62,75,null,"Imperial Pale Ale,\nAmerican Wheat Beer,\nPale Ale,\nBitter,\nWest Coast Amber,\nESB","From one of the best examples of an east coast IPA.\nThis yeast attenuates slightly less than NorCal Ale #1 and leaves a beer with more body and a slight fruity ester that is amazing with aromatic hops."]
["GigaYeast GY077 QUEBEC ABBEY ALE","GigaYeast","GY077","GY077 QUEBEC ABBEY ALE","Liquide","Moyenne",0.79,0.83,{"$f":"IFERROR(AVERAGE(Tableau48[[#This Row],[Atténuation min]],Tableau48[[#This Row],[Atténuation max]]),\"\")","v":0.81},20,26.7,68,80,null,"Belgian Ale,\nDubbel,\nBelgian Strong,\nTripel,\nBiere De Garde","From one of the first breweries in North America to create a successful line of traditional Abbey style ales.\nThis Belgian ale yeast creates a malt forward beer with subtle fruity esters and a very small amount of clove notes."]
["GigaYeast GY080 IRISH STOUT","GigaYeast","GY080","GY080 IRISH STOUT","Liquide","Moyenne",0.82,0.86,{"$f":"IFERROR(AVERAGE(Tableau48[[#This Row],[Atténuation min]],Tableau48[[#This Row],[Atténuation max]]),\"\")","v":0.84},17.8,22.2,64,72,null,"Stout,\nPorter,\nImperial Stout,\nAmber/Red Ale,\nEnglish Pale Ale","From one of the most famous stouts in the world.\nCreates a crisp, dry beer with a subtle fruity profile and a slightly tangy finish."]
["Fermentis HA-18","Fermentis","HA-18","HA-18","Sèche","Moyenne",0.97,0.97,{"$f":"IFERROR(AVERAGE(Tableau48[[#This Row],[Atténuation min]],Tableau48[[#This Row],[Atténuation max]]),\"\")","v":0.97},25,35,77,95,18,"Barley Wine","Ideal mix of yeast and enzymes for very highly attenuated beers such as Barley Wines.\nThis product is a blend of active dry yeast and enzymes.\nIt is recommended for the production of particularly high attenuating beers even for Very High Gravity fermentation, such as “Barley Wines”.\nThe yeast strain in this product is able to reach 18% alc. (v/v), depending on the process and the substrate with a very good resistance to the osmotic pressure and high fermentation temperatures (thermotolerant yeast)."]
["Fermentis K-97","Fermentis","K-97","K-97","Sèche","Basse",0.81,0.81,{"$f":"IFERROR(AVERAGE(Tableau48[[#This Row],[Atténuation min]],Tableau48[[#This Row],[Atténuation max]]),\"\")","v":0.81},15,20,59,68,11,"Ale,\nBieres Blanches","Typical German ale yeast.\nGerman ale yeast selected for its ability to form a large firm head when fermenting.\nSuitable to brew ales with low esters and can be used for Belgian type wheat beers."]
["Imperial Yeast L05 Cablecar","Imperial Yeast","L05","L05 Cablecar","Liquide","Moyenne - Haute",0.71,0.75,{"$f":"IFERROR(AVERAGE(Tableau48[[#This Row],[Atténuation min]],Tableau48[[#This Row],[Atténuation max]]),\"\")","v":0.73},12.8,18.3,55,65,null,"Lagers","This strain is for fermenting your “California Common” beer.\nCablecar can produce clean pseudo lagers at ale temperatures but is also willing to work as a traditional lager strain down to the mid-50s."]
["Imperial Yeast L13 Global","Imperial Yeast","L13","L13 Global","Liquide","Basse - Moyenne",0.73,0.77,{"$f":"IFERROR(AVERAGE(Tableau48[[#This Row],[Atténuation min]],Tableau48[[#This Row],[Atténuation max]]),\"\")","v":0.75},7.8,13.3,46,56,null,"Lagers","The world’s most popular lager strain is ready for you.\nGlobal is an all-around solid lager strain that produces clean beers with a very low ester profile.\nThis strain is very powdery, so long lagering times or filtration is required for bright beer."]
["Imperial Yeast L17 Harvest","Imperial Yeast","L17","L17 Harvest","Liquide","Moyenne",0.7,0.74,{"$f":"IFERROR(AVERAGE(Tableau48[[#This Row],[Atténuation min]],Tableau48[[#This Row],[Atténuation max]]),\"\")","v":0.72},10,15.6,50,60,null,"Lagers","This strain combines good flocculation characteristics with low sulfur and low diacetyl.\nClean fermentations produce amazing bock, Helles, pilsner, dunkles, and just about any other lager style you throw its way."]
["Imperial Yeast L28 Urkel","Imperial Yeast","L28","L28 Urkel","Liquide","Moyenne",0.71,0.75,{"$f":"IFERROR(AVERAGE(Tableau48[[#This Row],[Atténuation min]],Tableau48[[#This Row],[Atténuation max]]),\"\")","v":0.73},11.1,14.4,52,58,null,"Lagers","A traditional Czech lager strain, Urkel allows for a nice balance between hops and malt.\nThis strain can be slightly sulphery during fermentation, but it cleans up during lagering.\nFermentation at the higher end of the range will produce a beer with minimal sulfur and a light ester profile."]
["Mangrove Jack M02 Cider","Mangrove Jack","M02","M02  Cider","Sèche","Haute",0.95,1,{"$f":"IFERROR(AVERAGE(Tableau48[[#This Row],[Atténuation min]],Tableau48[[#This Row],[Atténuation max]]),\"\")","v":0.97499999999999998},12.2,27.8,54,82,null,"Cider","Suitable for brewing all types of cider\n\nA high ester-producing cider strain imparting wonderful flavor depth, revealing the full fruit potential.\nMakes exceptionally crisp, flavorsome and refreshing ciders.\n\nAROMA CHARACTERISTICS:\nThis strain promotes fruity aromas through high ester production, especially at warmer temperatures.\n\nFLAVOR/MOUTHFEEL CHARACTERISTICS:\nCiders fermented with this strain will finish dry and be relatively full-bodied with exceptional depth and a full-flavored fruit character.\n\nHIGHER ALCOHOL BEERS:\nThis strain has high alcohol tolerance up to >12% ABV. "]
["Mangrove Jack M05 Mead","Mangrove Jack","M05","M05  Mead","Sèche","Moyenne – Haute",0.95,1,{"$f":"IFERROR(AVERAGE(Tableau48[[#This Row],[Atténuation min]],Tableau48[[#This Row],[Atténuation max]]),\"\")","v":0.97499999999999998},15,30,59,86,null,"Mead","Suitable for all styles of mead.\n\nA high ester-producing strain conferring fresh, floral esters, especially when fermented cool. \nThis yeast has high alcohol tolerance and ferments well over a wide temperature range. \n\nAROMA CHARACTERISTICS:\nThis strain promotes fresh, floral aromas through high ester production, especially at cooler temperatures.\n\nFLAVOR/MOUTHFEEL CHARACTERISTICS:\nMeads fermented with this strain will finish dry and be relatively full-bodied with good complexity and a fresh, floral character.\n\nHIGHER ALCOHOL BEERS:\nThis strain has high alcohol tolerance up to 18% ABV.\nFor higher alcohol meads, ferment cooler; below 77°F (25°C)."]
["Mangrove Jack M15 Empire Ale","Mangrove Jack","M15","M15  Empire Ale","Sèche","Moyenne",0.7,0.75,{"$f":"IFERROR(AVERAGE(Tableau48[[#This Row],[Atténuation min]],Tableau48[[#This Row],[Atténuation max]]),\"\")","v":0.72499999999999998},17.8,22.2,64,72,null,"Golden Ale,\nEnglish Pale Ale,\nOrdinary Bitter,\nBest Bitter,\nESB,\nScottish Heavy 70,\nScottish Export 80,\nStrong Scotch Ale,\nAmerican Pale,\nAmerican Amber Ale,\nAmerican Brown Ale,\nMild,\nBrown Ale,\nOatmeal Stout,\nOld Ale,\nIrish Red Ale,\nBrown Porter,\nSweet Stout,\nScottish 60\n","Suitable for Scottish Heavy Ales, American Amber Ales, Sweet Stouts and more. \n\nA top-fermenting ale yeast suitable for a variety of full bodied ales, with exceptional depth. Ferments with full, rich dark fruit flavors. \n\nAROMA CHARACTERISTICS:\nWhen fermented at the correct temperature, Empire Ale yeast exhibits extremely characterful and appetizing estery aromas reminiscent of rich dark fruit.\n\nFLAVOR/MOUTHFEEL CHARACTERISTICS:\nThis yeast strain has been carefully selected to aid mouth feel in the finished beer. Body should be full leaning towards a rich dark fruit character. Care must be taken when designing the beer to adjust hop bitterness to alleviate an over sweet finished beer.\n\nHIGHER ALCOHOL BEERS:\nHigher alcohol beers will tend to be slightly too sweet and heavy due to the moderate attenuative capabilities of the strain although a lower mash temperature may help the fermentability and lower the final gravity. "]
["Mangrove Jack M20 Bavarian Wheat","Mangrove Jack","M20","M20  Bavarian Wheat","Sèche","Moyenne – Basse",0.7,0.75,{"$f":"IFERROR(AVERAGE(Tableau48[[#This Row],[Atténuation min]],Tableau48[[#This Row],[Atténuation max]]),\"\")","v":0.72499999999999998},17.8,30,64,86,null,"Roggenbier,\nWeizen,\nKristalWeizen,\nDunkel Weizen,\nWeizen Bock,\nAmerican Wheat or Rye Beer","Suitable for Hefeweizen, Kristal M20 Weizen, Dunkel Weizen and more.\n\nA top-fermenting wheat beer yeast which imparts banana and clove esters balanced with spiced aromas.\nThis yeast produces a silky mouthfeel and rich body.\n\nAROMA CHARACTERISTICS:\nIt has abundant classic banana esters, balanced with clove like phenolic aromas; these aromas tend to overwhelm any malt or hop character in the beer.\n\nFLAVOR/MOUTHFEEL CHARACTERISTICS:\nWhile this strain has only a moderate tendency to attenuate, the final beer will not be sweet. Instead, it will have a creamy, silky mouthfeel with a full and rich medium body.\nThis strain strips away most caramel and complex malt flavors, while deep roast and chocolate flavors will come through. The slight acidity produced, greatly enhances wheat\nmalt characteristics. It has a very low flocculation rate that makes it ideal for beers that are traditionally served cloudy.\n\nHIGHER ALCOHOL BEERS:\nIn higher alcohol beers, the phenolic character presented by this strain becomes a bit smokey and esters burst forth. Low attenuation rate may result in a sweet beer.\n"]
["Mangrove Jack M21 Belgian Wit","Mangrove Jack","M21","M21  Belgian Wit","Sèche","Moyenne – Basse",0.7,0.75,{"$f":"IFERROR(AVERAGE(Tableau48[[#This Row],[Atténuation min]],Tableau48[[#This Row],[Atténuation max]]),\"\")","v":0.72499999999999998},17.8,25,64,77,null,"Witbier,\nGrand Cru,\nChristmas Beers,\nSpecialty Beers,\nSpiced Ales","Suitable for Witbier, Grand Cru, Spiced Ales and other specialty beers.\n\nA traditional, top-fermenting yeast that has a good balance between fruity esters, and warming spice phenolics.\nThe yeast will leave some sweetness, and will drop bright if left long enough.\n\nAROMA CHARACTERISTICS:\nBelgian Wit yeast presents a very light spice with a hint of bubble-gum character, this yeast works exceptionally well with botanics.\n\nFLAVOR/MOUTHFEEL CHARACTERISTICS:\nThis yeast has a slightly suppressed Belgian character presenting as phenolic and dry, fruity and very complex character.\nThe mouthfeel is smooth, light, dry and crisp.\n\nHIGHER ALCOHOL BEERS:\nWith a medium attenuation this strain will struggle with extremely high alcohol beers and may become stressed."]
["Mangrove Jack M29 French Saison Ale","Mangrove Jack","M29","M29  French Saison Ale","Sèche","Moyenne",0.85,0.9,{"$f":"IFERROR(AVERAGE(Tableau48[[#This Row],[Atténuation min]],Tableau48[[#This Row],[Atténuation max]]),\"\")","v":0.875},26.1,32.200000000000003,79,90,14,"Belgian Specialty,\nCristmass Beers,\nSpecialty Beers,\nSpiced Ales,\nSaison","Suitable for producing Saisons and M29 farmhouse style beers up to 14% ABV.\n\nFrench Saison yeast is an exceptional, highly attenuative top-fermenting ale yeast, creating distinctive beers with spicy, fruity and peppery notes. Ideal for fermentation of farmhouse style beer. \n\nAROMA CHARACTERISTICS:\nThis French Saison ale yeast strain brings all the sophistication and complexity of classic Saison ale production to the home brew and small brewery setting. Spicy and peppery characteristics are prominent with an undertone of the ubiquitous fruity Character.\n\nFLAVOR/MOUTHFEEL CHARACTERISTICS:\nThis is a highly characterful yeast strain that will dominate all but the highest hopping rates and complex malt bills. Beers fermented with this yeast will tend to be dry in the finish often with a slight drying acidity and peppery notes, aiding drinkability at higher alcohol levels. Higher alcohol beers may have an increased ester production and warming alcohol notes.\n\nHIGHER ALCOHOL BEERS:\nThis yeast strain will perform exceptionally well up to 14% ABV making it suitable for a large range of Saisons."]
["Mangrove Jack M31 Belgian Tripel","Mangrove Jack","M31","M31  Belgian Tripel","Sèche","Moyenne – Basse",0.82,0.88,{"$f":"IFERROR(AVERAGE(Tableau48[[#This Row],[Atténuation min]],Tableau48[[#This Row],[Atténuation max]]),\"\")","v":0.85},17.8,27.8,64,82,null,"Belgian Pale Ale,\nTrappist Ale,\nAbbey Ale,\nGrand Cru,\nBelgian Specialty,\nBelgian Blond Alle,\nBelgian Dubbel,\nBelgian Tripel,\nBelgian Golden Strong Ale,\nBelgian Dark Strong Ale,\nChristmass Beers,\nSpecialty Beers,\nSpiced Ales","Provides a fantastic complex marriage of spice, fruity esters, phenolics and alcohol. It is also very attenuative with a high alcohol tolerance making it perfect for a range of Belgian styles.\n\nAROMA CHARACTERISTICS:\nBelgian Tripel has a fantastic heavily fruity aroma, married perfectly with light spice and esters it is massively complex, spicy, estery and phenolic.\n\nFLAVOR/MOUTHFEEL CHARACTERISTICS:\nBelgian beers fermented with this strain will finish phenolic and dry, they will also exhibit fruity and very complex ester characters. These characters exhibit a beautiful marriage of spice and fruit estery alcohol goodness.\n\nHIGHER ALCOHOL BEERS:\nHigh alcohol beers are this strain’s bread and butter, with a high alcohol tolerance, strong beers just create excellent flavor and aroma characteristics"]
["Mangrove Jack M36 Liberty Bell Ale","Mangrove Jack","M36","M36  Liberty Bell Ale","Sèche","Moyenne – Haute",0.74,0.78,{"$f":"IFERROR(AVERAGE(Tableau48[[#This Row],[Atténuation min]],Tableau48[[#This Row],[Atténuation max]]),\"\")","v":0.76},17.8,22.8,64,73,null,"Golden Ale,\nEnglish Pale Ale,\nOrdinary Bitter,\nBest Bitter,\nESB,\nScottish Heavy 70,\nScottish Export 80,\nStrong Scotch Ale,\nAmerican Pale,\nAmerican Amber Ale,\nAmerican Brown Ale,\nMild,\nBrown Ale,\nRobust Porter,\nDry Stout,\nOatmeal Stout,\nAmerican Stout,\nRussian Imperial Stout,\nEnglish IPA,\nUS IPA,\nOld Ale,\nEnglish Barley Wine,\nIrish Red Ale,\nBrown Porter,\nSweet Stout,\nScottish 60\n","\"Suitable for both English and American Pale Ales, Extra Special Bitters, Golden Ales and more.\n\nA top-fermenting ale yeast suitable for a wide variety of hoppy and distinctive style beers.\nThis strain produces light, delicate fruity esters and helps develop malt character.\n\nAROMA CHARACTERISTICS:\nSome pear esters, possibly strawberry or kiwi-like aromas can be expected.\nClean, delicate malt and hop aromas will survive fermentation.\nIf hop and/or malt aromas are prominent in the beer this strain’s aroma characteristics will fade to the background.\n\nFLAVOR/MOUTHFEEL CHARACTERISTICS:\nClean, mostly neutral and smooth, finishes beers moderately dry but does not strip away body. Silky, lightly smooth texture, light to medium body, mild acidit and mostly neutral flavor.\nAroma contributions from this yeast strain makes it a good all-rounder for a wide range of ales.\n\nHIGHER ALCOHOL BEERS:\nAs a very good strain for strong ales, this yeast provides brews with plenty of body, without being heavy or dense.\""]
["Mangrove Jack M41 Belgian Ale","Mangrove Jack","M41","M41  Belgian Ale","Sèche","Moyenne",0.82,0.88,{"$f":"IFERROR(AVERAGE(Tableau48[[#This Row],[Atténuation min]],Tableau48[[#This Row],[Atténuation max]]),\"\")","v":0.85},17.8,27.8,64,82,null,"Belgian Pale Ale,\nTrappist Ale,\nAbbey Ale,\nBelgian Specialty,\nBelgian Dubbel,\nBelgian Tripel,\nBelgian Golden Strong Ale,\nBelgian Dark Strong Ale,\nChristmass Beers,\nSpecialty Beers,\nSpiced Ales,\n","Suitable for Belgian Strong Golden and Belgian Strong Dark Ales.\n\nSpicy and phenolic, this yeast emulates the intensity and complexity of some of the best monastic breweries in Belgium, high attenuation and alcohol tolerance allows you to brew a huge range of Belgian beers.\n\nAROMA CHARACTERISTICS:\nThis yeast develops ripe fruit especially plum like esters during fermentation and are prominent in the finished beer, it will also show a lightly balanced phenolic character.\n\nFLAVOR/MOUTHFEEL CHARACTERISTICS:\nBeer fermented with this yeast exhibit excellent classic Belgian ale flavor, clove hints with a multitude of fruit esters, alcohol and banana character.\n\nHIGHER ALCOHOL BEERS:\nHigh alcohol beers are this strains bread and butter, with a high alcohol tolerance strong beers just create excellent flavor and aroma characteristics."]
["Mangrove Jack M42 New World Strong Ale","Mangrove Jack","M42","M42  New World Strong Ale","Sèche","Haute",0.77,0.82,{"$f":"IFERROR(AVERAGE(Tableau48[[#This Row],[Atténuation min]],Tableau48[[#This Row],[Atténuation max]]),\"\")","v":0.79499999999999993},16.100000000000001,22.2,61,72,null,"Golden Ale,\nEnglish Pale Ale,\nOrdinary Bitter,\nBest Bitter,\nESB,\nScottish Heavy 70,\nScottish Export 80,\nStrong Scotch Ale,\nAmerican Pale,\nAmerican Amber Ale,\nAmerican Brown Ale,\nMild,\nBrown Ale,\nRobust Porter,\nDry Stout,\nOatmeal Stout,\nAmerican Stout,\nRussian Imperial Stout,\nEnglish IPA,\nOld Ale,\nEnglish Barley Wine,\nIrish Red Ale,\nBrown Porter,\nBaltic Porter,\nSweet Stout,\nForeign Extra Stout,\nScottish 60\n","Suitable for IPAs, Porters, Russian Imperial Stouts and more\n\nA top-fermenting ale strain suitable for many types of ales of all strengths.\nFerments with a neutral yeast aroma to ensure the full character of the malts and hops are prominent in each beer.\n\nAROMA CHARACTERISTICS:\nHops and malt aromas are enhanced and will tend toward earthy, nutty, orange peel, and mild spice.\nEsters will be nearly absent in normal strength beers fermented cool; below 68°F (20°C).\n\nFLAVOR/MOUTHFEEL CHARACTERISTICS:\nBeers fermented with this strain will finish dry, and very light beers will not be thin or watery. \nAcidity will be low, and mouth feel will be light and soft on the palate with a smooth non astringent texture.\nAs this strain is highly flocculent and resilient and not prone to autolysis, it is excellent for cask or bottle conditioning.\n\nHIGHER ALCOHOL BEERS:\nEster formation will be slightly elevated in higher alcohol beers.\nThe character of the esters will be pleasant with ripe apple and pear dominating, along with faint banana.\nBeer will be dry, but a perception of malt sweetness will survive in the aftertaste along with malt character and complexity.\nAlcohol should be warming, not hot."]
["Mangrove Jack M44 US West Coast","Mangrove Jack","M44","M44  US West Coast","Sèche","Moyenne",0.77,0.85,{"$f":"IFERROR(AVERAGE(Tableau48[[#This Row],[Atténuation min]],Tableau48[[#This Row],[Atténuation max]]),\"\")","v":0.81},17.8,22.8,64,73,null,"American Pale Ale,\nAmerican Amber Ale,\nAmerican Brown Ale,\nAmerican Stout,\nRussian Imperial Stout,\nUS IPA,\nImperial IPA,\nAmerican Wheat or Rye Beer","Suitable for American Style Pale Ales, American Double IPAs, American Style Imperial Stouts and more.\n\nA top-fermenting ale strain suitable for American style ales.\nThis yeast produces an exceptionally clean flavor, ideal for when you want the hop character to really punch through.\n\nA very neutral strain even when fermented in higher gravity worts and warmer temperatures.\nTangy citrus and pine hops aromas will be enhanced, as well as toasted and dark malt aromas..\n\nFLAVOR/MOUTHFEEL CHARACTERISTICS:\nBeers fermented with this strain will finish dry and crisp.\nThis strain is at its best in hop prominent American style ales. \nVery light ales may turn out a bit stripped, thin or astringent if care is not taken with the mash temperature and avoiding over-extraction.\nAcidity is moderately high, boosting hop flavors and creating a clipped finish.\n\nHIGHER ALCOHOL BEERS:\nRemaining very neutral, this strain excels in strong ales with simple malt bills.\nAlcohol will be a dominant flavor and aroma constituent, and may be quite warming but not harsh."]
["Mangrove Jack M47 Belgian Abbey","Mangrove Jack","M47","M47  Belgian Abbey","Sèche","Moyenne – Haute",0.73,0.77,{"$f":"IFERROR(AVERAGE(Tableau48[[#This Row],[Atténuation min]],Tableau48[[#This Row],[Atténuation max]]),\"\")","v":0.75},17.8,25,64,77,null,"Belgian Pale Ale,\nAbbey Ale,\nGrand Cru,\nBelgian Specialty,\nBelgian Blond Ale,\nBelgian Dubbel,\nBelgian Golden Strong Ale","Suitable for Belgian Pale Ales and Abbey Ales.\n\nModerately alcohol tolerant with fewer phenols than Belgian Ale, this yeast is exceptionally fruity with hugely complex esters and is highly flocculant.\n\n"]
["Mangrove Jack M54 Californian Lager","Mangrove Jack","M54","M54  Californian Lager","Sèche","Moyenne – Haute",0.77,0.82,{"$f":"IFERROR(AVERAGE(Tableau48[[#This Row],[Atténuation min]],Tableau48[[#This Row],[Atténuation max]]),\"\")","v":0.79499999999999993},17.8,20,64,68,null,"Light American Lager,\nPremium American Lager,\nMunich Helles,\nDortmunder Export,\nGerman Pilsner,\nBohemian Pilsner,\nVienna Lager,\nOktoberfest,\nMunich Dunkel,\nSchwarzbier,\nMaibock,\nBock,\nBock,\nDoppelBock,\nRauchbier,\nOther moked Beer,\nStandard American Lager,\nClassic American Pilsner,\nDark American Lager,\nCreamCalifornia Common,\nAmerican Wheat or Rye Beer","Suitable for California Common and lagers M54 fermented at ambient (ale) temperatures.\n\nAROMA CHARACTERISTICS:\nCalifornia lager yeast produces a clean lager aroma without the associated sulphur this yeast is perfect for most kinds of lager.\n\nFLAVOR/MOUTHFEEL CHARACTERISTICS:\nCalifornia lager yeast produces clean and crisp lagers, this yeast is excellent for producing anything from a hoppy pilsner to a helles allowing excellent malt and hop character to be expressed.\n\nHIGHER ALCOHOL BEERS:\nWith a medium alcohol tolerance this yeast is not designed for fermenting over 8.5%"]
["Mangrove Jack M76 Bavarian Lager","Mangrove Jack","M76","M76  Bavarian Lager","Sèche","Moyenne",0.75,0.8,{"$f":"IFERROR(AVERAGE(Tableau48[[#This Row],[Atténuation min]],Tableau48[[#This Row],[Atténuation max]]),\"\")","v":0.77500000000000002},7.2,13.9,45,57,null,"Baltic Porter,\nLight American Lager,\nPremium American Lager,\nMunich Helles,\nDortmunder Export,\nGerman Pilsner,\nBohemian Pilsner,\nVienna Lager,\nOktoberfest,\nMunich Dunkel,\nSchwarzbier,\nMaibock,\nBock,\nBock,\nDoppelBock,\nRauchbier,\nOther moked Beer,\nStandard American Lager,\nClassic American Pilsner,\nDark American Lager,\nCream Ale","Suitable for many European style beers including Lagers, Pilsners, Helles, Munich Dunkel, Rauchbier and more.\n\nA bottom-fermenting yeast suitable for most lager styles.\nPromotes less sulphur production than other lager strains, as well as a fuller, more rounded malt character with well-promoted hop flavors.\n\nAROMA CHARACTERISTICS: A superlative lager strain that is robust with a light sulphur aroma, expresses hop character well and promotes malt complexity.\n\nFLAVOR/MOUTHFEEL CHARACTERISTICS: Lightly acidic this yeast creates an extremely drinkable lager with less sulphur character than the usual strains.\n\nHIGHER ALCOHOL BEERS: This yeast does well at higher gravities having a good attenuation range; high alcohol beers do not tend to be too sweet."]
["Mangrove Jack M84 Bohemian Lager","Mangrove Jack","M84","M84  Bohemian Lager","Sèche","Moyenne – Haute",0.72,0.76,{"$f":"IFERROR(AVERAGE(Tableau48[[#This Row],[Atténuation min]],Tableau48[[#This Row],[Atténuation max]]),\"\")","v":0.74},10,15,50,59,null,"Baltic Porter,\nLight American Lager,\nPremium American Lager,\nMunich Helles,\nDortmunder Export,\nGerman Pilsner,\nBohemian Pilsner,\nVienna Lager,\nOktoberfest,\nMunich Dunkel,\nSchwarzbier,\nMaibock,\nBock,\nBock,\nDoppelBock,\nRauchbier,\nOther moked Beer,\nStandard American Lager,\nClassic American Pilsner,\nDark American Lager,\nCream Ale","Suitable for German/Bohemian Pilsners, M21 Baltic Porter, and American style Lagers.\n\nA bottom-fermenting lager yeast characterized by its dry and clean palate typical of traditional Czech brewing.\nProduces soft, delicate and well balanced beers. \n\nAROMA CHARACTERISTICS:\nClassic Bohemian pilsner strain aroma and flavor characteristics can be expected.\n\nFLAVOR/MOUTHFEEL CHARACTERISTICS:\nHop and malt character will be enhanced and supported by moderate to full body.\nIn wort with simple malt bills, delicate malt flavors will survive.\nBeer fermented with this strain is generally rich and chewy without being heavy at all.\nLight and delicately balanced beers call for this strain.\nLagering periods as short as 4 weeks may produce acceptable beer but allowing it to lager for 6-8 weeks, it will result in beer that is richer and smoother with a more refined aroma and flavor.\n\nHIGHER ALCOHOL BEERS:\nThis strain will perform reasonably well in higher alcohol beer production up to 8% alcohol.\nBeer of over 7% alcohol will be slightly sweet, and the alcohol may be slightly hot"]
["Fermentis S-04","Fermentis","S-04","S-04","Sèche","Haute",0.75,0.75,{"$f":"IFERROR(AVERAGE(Tableau48[[#This Row],[Atténuation min]],Tableau48[[#This Row],[Atténuation max]]),\"\")","v":0.75},15,20,59,68,11,"Ordinary Bitter,\nEnglish Pale Ale,\nIndian Pale Ale,\nScottish Ale,\nLight Porter,\nClassic Stout","A suitable yeast for English style ales.\nEnglish ale yeast selected for its fast fermentation character and its ability to form a compact sediment at the end of fermentation, helping to improve beer clarity.\nRecommended for the production of a large range of ales and specially adapted to cask-conditioned ones and fermentation in cylindo-conical tanks."]
["Fermentis S-189","Fermentis","S-189","S-189","Sèche","Haute",0.82,0.82,{"$f":"IFERROR(AVERAGE(Tableau48[[#This Row],[Atténuation min]],Tableau48[[#This Row],[Atténuation max]]),\"\")","v":0.82},12,15,53.6,59,11,"Bock,\nDark Munich,\nDoppelbock","The Swiss bottom fermenting strain.\nOriginating from the Hürlimann brewery in Switzerland.\nThis lager strain’s attenuation profile allows to brew fairly neutral flavor beers with a high drinkability."]
["Fermentis S-23","Fermentis","S-23","S-23","Sèche","Haute",0.82,0.82,{"$f":"IFERROR(AVERAGE(Tableau48[[#This Row],[Atténuation min]],Tableau48[[#This Row],[Atténuation max]]),\"\")","v":0.82},12,15,53.6,59,11,"Dortmunder","The bottom fermenting strain originating from Berlin.\nBottom fermenting yeast originating from Berlin (Germany) recommended for the production of fruity and estery lagers.\nIts lower attenuation profile gives beers with a good length on the palate."]
["Fermentis S-33","Fermentis","S-33","S-33","Sèche","Moyenne",0.7,0.7,{"$f":"IFERROR(AVERAGE(Tableau48[[#This Row],[Atténuation min]],Tableau48[[#This Row],[Atténuation max]]),\"\")","v":0.7},15,20,59,68,11,"Scottish Ale Export,\nScottish Ale Strong,\nForeign Stout,\nBarley Wine,\nStrong Bitter","Ideal for specialty ales and trappist type beers.\nGeneral purpose ale yeast with neutral flavor profiles. Its low attenuation gives beers with a very good length on the palate.\nParticularly recommended for specialty ales and trappist type beers.\nYeast with a medium sedimentation: forms no clumps but a powdery haze when resuspended in the beer."]
["Fermentis T-58","Fermentis","T-58","T-58","Sèche","Basse- Moyenne",0.7,0.7,{"$f":"IFERROR(AVERAGE(Tableau48[[#This Row],[Atténuation min]],Tableau48[[#This Row],[Atténuation max]]),\"\")","v":0.7},15,20,59,68,11,"Imperial Stout,\nBarley Wine","Famous for its estery development and some spicy notes.\nSpecialty yeast selected for its estery somewhat peppery and spicy flavor development (POF+), producing clovelike aroma.\nYeast with a medium sedimentation: forms no clumps but a powdery haze when resuspended in the beer."]
["The Yeast Bay  TYB184  BRETTANOMYCES BRUXELLENSIS\nSTRAI","The Yeast Bay","TYB184"," TYB184  BRETTANOMYCES BRUXELLENSIS\nSTRAI","Liquide","Basse - Moyenne",0.82,0.88,{"$f":"IFERROR(AVERAGE(Tableau48[[#This Row],[Atténuation min]],Tableau48[[#This Row],[Atténuation max]]),\"\")","v":0.85},22.2,27.8,72,82,"High","Brettanomyces","Isolated from a rustic farmhouse style beer produced in the Northeastern United States, this single strain of Brettanomyces bruxellensis is attenuative, produces a moderate citric acidic-like character and an ester profile of lemon/pineapple.\nAnother notable characteristic of this isolate is the mild barnyard character it produces that doesn't take over the profile; rather, it balances the ester profile."]
["The Yeast Bay  TYB184  BRETTANOMYCES BRUXELLENSIS\nSTRAI","The Yeast Bay","TYB207"," TYB184  BRETTANOMYCES BRUXELLENSIS\nSTRAI","Liquide","Basse - Moyenne",0.8,0.82,{"$f":"IFERROR(AVERAGE(Tableau48[[#This Row],[Atténuation min]],Tableau48[[#This Row],[Atténuation max]]),\"\")","v":0.81},22.2,27.8,72,82,"High","Brettanomyces","Isolated from a Belgian-inspired brewery in the Northeastern United States, this single strain of Brettanomyces bruxellensis exhibits good attenuation, and produces a moderate acidic-like character and a tropical fruit ester profile the combination of which produces a character reminiscent of sweet tarts.\nIt's a fruity, funky tartness that's refreshing and crisp. This strain is well-suited for primary and secondary fermentation."]
["The Yeast Bay  TYB207  BRETTANOMYCES BRUXELLENSIS\nSTRAI","The Yeast Bay","TYB261"," TYB207  BRETTANOMYCES BRUXELLENSIS\nSTRAI","Liquide","Basse - Moyenne",0.8,0.82,{"$f":"IFERROR(AVERAGE(Tableau48[[#This Row],[Atténuation min]],Tableau48[[#This Row],[Atténuation max]]),\"\")","v":0.81},22.2,27.8,72,82,"High","Brettanomyces","Isolated from a unique mixed fermentation beer produced in the Midwestern United States, this Brettanomyces bruxellensis isolate exhibits a mild tartness and soft funk with a solid backbone of tropical fruit esters (papaya, guava, pineapple, guinep).\nIt's great primary fermenter, but really shines in secondary fermentation following u p a primary fermentation that produces a lot of flavor compounds.\nThis strain is a true flavor modulator, and the more raw material it has to work with the greater the complexity that will b e achieved in the finished beer.\nThis strain will produce a massive, thick krausen."]
["The Yeast Bay  TYB261  BRETTANOMYCES BRUXELLENSIS\nSTRAI","The Yeast Bay","TYB282"," TYB261  BRETTANOMYCES BRUXELLENSIS\nSTRAI","Liquide","N/A",0.05,0.05,{"$f":"IFERROR(AVERAGE(Tableau48[[#This Row],[Atténuation min]],Tableau48[[#This Row],[Atténuation max]]),\"\")","v":0.05},21.1,32.200000000000003,70,90,"N/A","Lactic Acid Bacteria","TYB282 is a single strain of Lactobacillus brevis isolated out of an unintentionally soured golden ale produced b y a Mexican craft brewery.\nThis strain produces a nice, clean lactic acidity (down to ~pH 3.16-3.18) in unhopped wort within 36 hours at a temperature of ~72-77 °F.\nThe higher the temperature up to 90 °F, the faster the acid production.\nThis is a great strain for kettle souring, but really shines in souring fermented beer as a result of its hop tolerance (15-20 IBU)."]
["The Yeast Bay  TYB282  LACTOBACILLUS BREVIS\nSTRAI","The Yeast Bay","TYB307"," TYB282  LACTOBACILLUS BREVIS\nSTRAI","Liquide","Basse",0.8,0.84,{"$f":"IFERROR(AVERAGE(Tableau48[[#This Row],[Atténuation min]],Tableau48[[#This Row],[Atténuation max]]),\"\")","v":0.82000000000000006},21.1,26.7,70,80,"High","Beta","This isolate is a single strain of Brettanomyces bruxellensis isolated from a California brewery that utilizes an extensive and diverse array of organisms in the production of their wild/sour/funky beers.\nThis strain exhibits a lemony-tartness with hints of hay and mild barnyard funkiness, and has a crisp and dry finish. TYB307 is suitable for primary fermentation and extended aging."]
["The Yeast Bay  TYB307  BRETTANOMYCES BRUXELLENSIS\nSTRAI","The Yeast Bay","TYB415"," TYB307  BRETTANOMYCES BRUXELLENSIS\nSTRAI","Liquide","Basse",0.82,0.86,{"$f":"IFERROR(AVERAGE(Tableau48[[#This Row],[Atténuation min]],Tableau48[[#This Row],[Atténuation max]]),\"\")","v":0.84},21.1,26.7,70,80,"High","Beta","This isolate is a single strain of Brettanomyces bruxellensis isolated from a brewer of all things sour and wild in the Mountain West.\nThis strain exhibits a strong profile of complex tropical fruit that is dominated by pineapple with a noticeable earthiness that adds a unique complexity and depth of character to the beer.\nTYB415 is suitable for primary fermentation and extended aging."]
["Fermentis US-05","Fermentis","US-05","US-05","Sèche","Moyenne - Haute",0.81,0.81,{"$f":"IFERROR(AVERAGE(Tableau48[[#This Row],[Atténuation min]],Tableau48[[#This Row],[Atténuation max]]),\"\")","v":0.81},12,25,53.6,77,11,"Kölsch,\nMild Ale,\nAmerican Pale Ale,\nBrown Ale,\nScottish Ale Light,\nPorter,\nClassic Stout","Ideal strain for typical American Ales.\nAmerican ale yeast producing well balanced beers with low diacetyl and a very clean, crisp end palate.\nForms a firm foam head and presents a very good ability to stay in suspension during fermentation."]
["Imperial Yeast W15 Suburban Brett","Imperial Yeast","W15","W15 Suburban Brett","Liquide","Basse",0.75,0.8,{"$f":"IFERROR(AVERAGE(Tableau48[[#This Row],[Atténuation min]],Tableau48[[#This Row],[Atténuation max]]),\"\")","v":0.77500000000000002},17.8,23.3,64,74,null,"Wilds & Sours","Suburban Brett is a single Brettanomyces yeast strain that works great as a secondary aging strain.\nIt really shines when used in wood barrels and will produce complex and balanced aromas of sour cherry and dried fruit. \nIt can also be used for as a primary strain for brett only beers"]
["Fermentis W-34/70","Fermentis","W-34/70","W-34/70","Sèche","Haute",0.82,0.82,{"$f":"IFERROR(AVERAGE(Tableau48[[#This Row],[Atténuation min]],Tableau48[[#This Row],[Atténuation max]]),\"\")","v":0.82},12,15,53.6,59,11,"Pilsner,\nLight Munich,\nVienna,\nMarzenbier,\nOktoberfest","The bottom fermenting strain originating from Weihenstephan.\nThis famous yeast strain from Weihenstephan in Germany is used world-wide within the brewing industry.\nSafLager™ W-34/70 allows to brew beers with a good balance of floral and fruity aromas and gives clean flavors and high drinkable beers."]
["Fermentis WB-06","Fermentis","WB-06","WB-06","Sèche","Basse",0.86,0.86,{"$f":"IFERROR(AVERAGE(Tableau48[[#This Row],[Atténuation min]],Tableau48[[#This Row],[Atténuation max]]),\"\")","v":0.86},17.8,23.9,64,75,11,"Wheat Bier,\nWeizen Bier","The choice for wheat beer fermentation.\nThe SafAle™ WB-06 is a Saccharomyces cerevisiae var. diastaticus and is characterized by a particularly high attenuation.\nThis typical yeast strain is recommended for wheat beer fermentations and produces subtle estery and phenol flavor notes (POF+) such as clove notes typical of wheat beers.\nAllows to brew beer with a high drinkability profile and presents a very good ability to suspend during fermentation."]
["Whitelabs WLP001 California Ale Yeast","Whitelabs","WLP001 ","WLP001 California Ale Yeast","Liquide","Moyenne",0.73,0.8,{"$f":"IFERROR(AVERAGE(Tableau48[[#This Row],[Atténuation min]],Tableau48[[#This Row],[Atténuation max]]),\"\")","v":0.76500000000000001},20,22.8,68,73,"10 a 15",null,null,"This strain was the first yeast strain produced by White Labs in 1995.\nIt’s our best-selling yeast, famous for its clean flavors and hardy fermentations.\nKnown for its use in hoppy beers, it accentuates hop flavors and aromas and attenuates well, even for high gravity beers.\nThis strain has the ability to be used in almost any style of ale ranging from IPA to porter and even kölsch, which makes it a great all-around house strain. "]
["Whitelabs WLP002 English Ale Yeast","Whitelabs","WLP002 ","WLP002 English Ale Yeast","Liquide","Très  Haute",0.63,0.68,{"$f":"IFERROR(AVERAGE(Tableau48[[#This Row],[Atténuation min]],Tableau48[[#This Row],[Atténuation max]]),\"\")","v":0.65500000000000003},18.3,20,65,68,"5 to 10%",null,null,"This is a classic ESB strain from one of England’s largest independent breweries.\nWhile it is traditionally used for English-style ales including milds, bitters, porters, and stouts, it is also ideal for American-style pale ales and IPAs.\nResidual sweetness accentuates malt character along with mild fruity esters, adding complexity to the flavor and aroma of finished beers.\nSlight diacetyl production is common.\nDue to this strain’s high flocculation, the beer will finish clear and the yeast can easily be harvested from the fermenter for future use.\nIt is common for this yeast to look coagulated."]
["Whitelabs WLP003 German Ale II Yeast","Whitelabs","WLP003 ","WLP003 German Ale II Yeast","Liquide","Moyenne",0.73,0.8,{"$f":"IFERROR(AVERAGE(Tableau48[[#This Row],[Atténuation min]],Tableau48[[#This Row],[Atténuation max]]),\"\")","v":0.76500000000000001},18.3,21.1,65,70,"5 to 10%",null,null,"A great strain for clean ales such as kölsch, altbier, and German-style pale ales.\nIt has a strong sulfur component that will reduce with conditioning.\nLager-like in flavor, this strain ferments clean and produces subdued fruity esters which are more present than WLP029 German/Kölsch Ale Yeast."]
["Whitelabs WLP004 Irish Ale Yeast","Whitelabs","WLP004 ","WLP004 Irish Ale Yeast","Liquide","Moyenne  -  Haute",0.69,0.74,{"$f":"IFERROR(AVERAGE(Tableau48[[#This Row],[Atténuation min]],Tableau48[[#This Row],[Atténuation max]]),\"\")","v":0.71499999999999997},18.3,20,65,68,"8 to 12%",null,null,"This yeast is from one of the oldest stout-producing breweries in the world.\nIt’s great for many beer styles but really shines in malty British styles such as stouts, porters and brown ales.\nMedium attenuation helps with a dry finish that promotes roasty notes.\nEsters help round out the overall flavor making a soft drinkable stout."]
["Whitelabs WLP005 British Ale Yeast","Whitelabs","WLP005 ","WLP005 British Ale Yeast","Liquide","Haute",0.67,0.74,{"$f":"IFERROR(AVERAGE(Tableau48[[#This Row],[Atténuation min]],Tableau48[[#This Row],[Atténuation max]]),\"\")","v":0.70500000000000007},18.3,21.1,65,70,"5 to 10%",null,null,"Known for its use in malty English beers, this strain is a great choice for any beers using traditional English malts like Marris Otter, Golden Promise or floor malted barley.\nThis strain will push bready, grainy malt flavors while being a mild ester producer."]
["Whitelabs WLP006 Bedford British Ale Yeast","Whitelabs","WLP006 ","WLP006 Bedford British Ale Yeast","Liquide","Moyenne  -  Haute",0.72,0.8,{"$f":"IFERROR(AVERAGE(Tableau48[[#This Row],[Atténuation min]],Tableau48[[#This Row],[Atténuation max]]),\"\")","v":0.76},18.3,21.1,65,70,"8 to 12%",null,null,"Ferments dry and flocculates very well; produces a distinct ester profile.\nThis yeast yields a full mouthfeel, perfect for creating English-style ales, including bitters, pale ales, porters, stouts and browns."]
["Whitelabs WLP007 Dry English Ale Yeast","Whitelabs","WLP007 ","WLP007 Dry English Ale Yeast","Liquide","Moyenne  -  Haute",0.7,0.8,{"$f":"IFERROR(AVERAGE(Tableau48[[#This Row],[Atténuation min]],Tableau48[[#This Row],[Atténuation max]]),\"\")","v":0.75},18.3,21.1,65,70,"8 to 12%",null,null,"This yeast is known for its high attenuation, achieving 80% even with 10% ABV beers.\nThe high attenuation eliminates residual sweetness, making the yeast well-suited for high gravity ales and clean, well-attenuated beer styles.\nThis strain has become a go-to house strain for American breweries due to its clean profile and high attenuation.\nIt’s an ideal strain for American and English hoppy beers as well as malty ambers, porters and brown ales.\nThis strain can be a substitute for WLP001 California Ale Yeast®."]
["Whitelabs WLP008 East Coast Ale Yeast","Whitelabs","WLP008 ","WLP008 East Coast Ale Yeast","Liquide","Basse  -  Moyenne",0.7,0.75,{"$f":"IFERROR(AVERAGE(Tableau48[[#This Row],[Atténuation min]],Tableau48[[#This Row],[Atténuation max]]),\"\")","v":0.72499999999999998},20,22.8,68,73,"5 to 10%",null,null,"This strain can be used to reproduce many American versions of classic beer styles but has been gaining popularity for its use in East Coast IPAs.\nIt is cleaner and crisper than other haze producing strains.\nIt possesses the similar neutral character of WLP001 California Ale Yeast® with slightly higher ester production.\nThis strain’s attenuation leaves some mouthfeel and residual sweetness which balances hop bitterness.\nIt’s a great all-around strain for balanced, accessible beer styles such as blondes, pale ales and amber ales."]
["Whitelabs WLP009 Australian Ale Yeast","Whitelabs","WLP009 ","WLP009 Australian Ale Yeast","Liquide","Haute",0.7,0.75,{"$f":"IFERROR(AVERAGE(Tableau48[[#This Row],[Atténuation min]],Tableau48[[#This Row],[Atténuation max]]),\"\")","v":0.72499999999999998},18.3,21.1,65,70,"5 to 10%",null,null,"This yeast produces a clean, malty beer with pleasant ester characters that can be described as “bready.”\nIt ferments successfully and cleanly at higher temperatures, combined with good flocculation and good attenuation."]
["Whitelabs WLP011 European Ale Yeast","Whitelabs","WLP011 ","WLP011 European Ale Yeast","Liquide","Moyenne",0.65,0.7,{"$f":"IFERROR(AVERAGE(Tableau48[[#This Row],[Atténuation min]],Tableau48[[#This Row],[Atténuation max]]),\"\")","v":0.67500000000000004},18.3,21.1,65,70,"5 to 10%",null,null,"A malty northern European-origin ale yeast. Its low ester production gives it a clean profile, with little to no sulfur production.\nLow attenuation helps to contribute to the malty character.\nGood for altbiers, kölsch-style ales, malty English-style ales, and fruit beers."]
["Whitelabs WLP013 London Ale Yeast","Whitelabs","WLP013 ","WLP013 London Ale Yeast","Liquide","Moyenne",0.67,0.75,{"$f":"IFERROR(AVERAGE(Tableau48[[#This Row],[Atténuation min]],Tableau48[[#This Row],[Atténuation max]]),\"\")","v":0.71},18.899999999999999,21.7,66,71,"5 to 10%",null,null,"Oak ester character makes this yeast well-suited for classic British beer styles such as pales and bitters, or dark malty beers like brown ales and porters.\nMedium flocculation characteristics allow attenuation up to 75% leaving beer dry while adding malt complexity and pushing hop bitterness.\nIf you love WLP001 California Ale Yeast®, give this strain a try as it has more character."]
["Whitelabs WLP017 Whitbread II Ale Yeast","Whitelabs","WLP017 ","WLP017 Whitbread II Ale Yeast","Liquide","Haute",0.67,0.73,{"$f":"IFERROR(AVERAGE(Tableau48[[#This Row],[Atténuation min]],Tableau48[[#This Row],[Atténuation max]]),\"\")","v":0.7},18.899999999999999,21.1,66,70,"5 to 10%",null,null,"Traditional mixed yeast culture with British character. Slightly fruity with a hint of sulfur production.\nThis yeast can be used for many different beer styles.\nThe most traditional choices would be English-style ales, including milds, bitters, porters, and English-style stouts.\nNorth American-style ales will also benefit from fermentation with this strain."]
["Whitelabs WLP022 Essex Ale Yeast","Whitelabs","WLP022 ","WLP022 Essex Ale Yeast","Liquide","Moyenne  -  Haute",0.71,0.76,{"$f":"IFERROR(AVERAGE(Tableau48[[#This Row],[Atténuation min]],Tableau48[[#This Row],[Atténuation max]]),\"\")","v":0.73499999999999999},18.899999999999999,21.1,66,70,"5 to 10%",null,null,"A flavorful British-style yeast that produces slightly fruity and bready characters.\nA good top-fermenting yeast strain that is well suited for top cropping.\nIt is ideal for classic British-style milds, pale ales, bitters and stouts. Does not flocculate as much as other English strains."]
["Whitelabs WLP023 Burton Ale Yeast","Whitelabs","WLP023 ","WLP023 Burton Ale Yeast","Liquide","Moyenne",0.69,0.75,{"$f":"IFERROR(AVERAGE(Tableau48[[#This Row],[Atténuation min]],Tableau48[[#This Row],[Atténuation max]]),\"\")","v":0.72},20,22.8,68,73,"5 to 10%",null,null,"This strain is sourced from Burton upon Trent, England which is known for pushing IPAs into the spotlight.\nIt produces a subtle fruity ester profile which can be described as notes of apple, clover honey and pear.\nA background sulfur note is common with this strain.\nGreat for use in hoppy American and English styles such as pale ales, bitters and ambers.\nCan also be an alternative to WLP001 California Ale Yeast®."]
["Whitelabs WLP025 Southwold Ale Yeast","Whitelabs","WLP025 ","WLP025 Southwold Ale Yeast","Liquide","Moyenne",0.68,0.75,{"$f":"IFERROR(AVERAGE(Tableau48[[#This Row],[Atténuation min]],Tableau48[[#This Row],[Atténuation max]]),\"\")","v":0.71500000000000008},18.899999999999999,20.6,66,69,"5 to 10%",null,null,"From Suffolk County, England. This yeast produces complex fruit, citrus, and spice flavors.\nGreat for British-style bitters and pale ales.\nA slight sulfur note is produced during fermentation, but disappears with aging."]
["Whitelabs WLP026 Premium Bitter Ale Yeast","Whitelabs","WLP026 ","WLP026 Premium Bitter Ale Yeast","Liquide","Moyenne",0.7,0.75,{"$f":"IFERROR(AVERAGE(Tableau48[[#This Row],[Atténuation min]],Tableau48[[#This Row],[Atténuation max]]),\"\")","v":0.72499999999999998},19.399999999999999,21.1,67,70,"5 to 10%",null,null,"From Staffordshire, England. Fermentation gives a mild but complex estery character.\nFerments strong and dry and is good for high-gravity beers. Best for all English-style ales, including bitters, milds, ESBs, porters, stouts and barleywines."]
["Whitelabs WLP028 Edinburgh Scottish Ale Yeast","Whitelabs","WLP028 ","WLP028 Edinburgh Scottish Ale Yeast","Liquide","Moyenne",0.7,0.75,{"$f":"IFERROR(AVERAGE(Tableau48[[#This Row],[Atténuation min]],Tableau48[[#This Row],[Atténuation max]]),\"\")","v":0.72499999999999998},18.3,21.1,65,70,"8 a 12",null,null,"This strain produces underlying esters of pear and melon which work well with hop and malt derived notes.\nIt’s medium to high alcohol tolerance is well-suited for strong Scotch-style ales or barleywine beers.\nThis is a versatile strain that can be neutral at the low end of the recommended fermentation temperature range or provide more esters at the higher range."]
["Whitelabs WLP028 Edinburgh Scottish Ale Yeast","Whitelabs","WLP028 ","WLP028 Edinburgh Scottish Ale Yeast","Liquide","Moyenne",0.7,0.75,{"$f":"IFERROR(AVERAGE(Tableau48[[#This Row],[Atténuation min]],Tableau48[[#This Row],[Atténuation max]]),\"\")","v":0.72499999999999998},18.3,21.1,65,70,"8 to 12%",null,null,"This strain produces underlying esters of pear and melon which work well with hop and malt derived notes.\nIt’s medium to high alcohol tolerance is well-suited for strong Scotch-style ales or barleywine beers.\nThis is a versatile strain that can be neutral at the low end of the recommended fermentation temperature range or provide more esters at the higher range."]
["Whitelabs WLP029 German Ale/ Kölsch Yeast","Whitelabs","WLP029 ","WLP029 German Ale/ Kölsch Yeast","Liquide","Moyenne",0.72,0.78,{"$f":"IFERROR(AVERAGE(Tableau48[[#This Row],[Atténuation min]],Tableau48[[#This Row],[Atténuation max]]),\"\")","v":0.75},18.3,20.6,65,69,"5 to 10%",null,null,"Sourced from a small brewpub in Cologne, Germany, this strain is fitting for German ales such as kölsch and altbier.\nKnown for accentuating hop flavor and bitterness while creating crisp, clean lager like characters, it performs exceptionally well at temperatures ranging from 65° to 69°F (18-20°C) and does not ferment well below 62°F (17°C) after peak fermentation.\nTypically has low flocculation characteristics after the first generation."]
["Whitelabs WLP033 Klassic Ale Yeast","Whitelabs","WLP033 ","WLP033 Klassic Ale Yeast","Liquide","Moyenne",0.66,0.74,{"$f":"IFERROR(AVERAGE(Tableau48[[#This Row],[Atténuation min]],Tableau48[[#This Row],[Atténuation max]]),\"\")","v":0.7},18.899999999999999,21.1,66,70,"5 to 10%",null,null,"Traditional English single-strain yeast.\nProduces signature ester characters and does not mask hop flavors. Leaves ales with a slightly sweet malt character.\nBest for bitters, milds, porters and stouts.\nAlso good for Scottish-style ales."]
["Whitelabs WLP036 Düsseldorf Alt Ale Yeast","Whitelabs","WLP036 ","WLP036 Düsseldorf Alt Ale Yeast","Liquide","Moyenne",0.65,0.72,{"$f":"IFERROR(AVERAGE(Tableau48[[#This Row],[Atténuation min]],Tableau48[[#This Row],[Atténuation max]]),\"\")","v":0.68500000000000005},18.3,20.6,65,69,"5 to 10%",null,null,"A traditional altbier-style yeast from Düsseldorf, Germany.\nIt produces clean, malty German brown and amber ales.\nThis strain keeps the contribution of hop bitterness in the background while promoting sweet malt notes."]
["Whitelabs WLP037 Yorkshire Square Ale Yeast","Whitelabs","WLP037 ","WLP037 Yorkshire Square Ale Yeast","Liquide","Haute",0.68,0.72,{"$f":"IFERROR(AVERAGE(Tableau48[[#This Row],[Atténuation min]],Tableau48[[#This Row],[Atténuation max]]),\"\")","v":0.7},18.3,21.1,65,70,"8 - 12%",null,null,"This yeast produces a beer that is malty and well balanced.\nExpect toasty flavors with malt-driven esters.\nHighly flocculent and a good choice for English-style pale ales, brown ales, and milds."]
["Whitelabs WLP038 Manchester Ale Yeast","Whitelabs","WLP038 ","WLP038 Manchester Ale Yeast","Liquide","Moyenne  -  Haute",0.7,0.74,{"$f":"IFERROR(AVERAGE(Tableau48[[#This Row],[Atténuation min]],Tableau48[[#This Row],[Atténuation max]]),\"\")","v":0.72},18.3,21.1,65,70,"8 - 12%",null,null,"A top-fermenting ale yeast that is traditionally good for top-cropping.\nModerately flocculent with a clean, dry finish. Has a low ester profile and produces a highly balanced English-style beer."]
["Whitelabs WLP039 East Midlands Ale Yeast","Whitelabs","WLP039 ","WLP039 East Midlands Ale Yeast","Liquide","Moyenne  -  Haute",0.73,0.82,{"$f":"IFERROR(AVERAGE(Tableau48[[#This Row],[Atténuation min]],Tableau48[[#This Row],[Atténuation max]]),\"\")","v":0.77499999999999991},18.899999999999999,21.1,66,70,"5 - 10%",null,null,"British-style ale yeast with a very dry finish. Medium to low fruit and fusel alcohol production.\nA good top-fermenting yeast strain well suited for top-cropping. A great choice for pale ales, ambers, porters and stouts."]
["Whitelabs WLP041 Pacific Ale Yeast","Whitelabs","WLP041 ","WLP041 Pacific Ale Yeast","Liquide","Haute",0.65,0.7,{"$f":"IFERROR(AVERAGE(Tableau48[[#This Row],[Atténuation min]],Tableau48[[#This Row],[Atténuation max]]),\"\")","v":0.67500000000000004},18.3,20,65,68,"5 - 10%",null,null,"Hailing from the Pacific Northwest, this strain is a mild ester producer while promoting malt character.\nIt can be used for a range of styles from an English mild to an American IPA or Irish stout.\nA great flocculator, it leaves a clear beer and saves on conditioning time."]
["Whitelabs WLP051 California V Ale Yeast","Whitelabs","WLP051 ","WLP051 California V Ale Yeast","Liquide","Moyenne  -  Haute",0.7,0.75,{"$f":"IFERROR(AVERAGE(Tableau48[[#This Row],[Atténuation min]],Tableau48[[#This Row],[Atténuation max]]),\"\")","v":0.72499999999999998},18.899999999999999,21.1,66,70,"8 - 12%",null,null,"This strain has more similarities to an English strain than WLP001 California Ale Yeast®.\nIt is a big ester producer, showcasing notes of cherry and apple which compliment pale ales, blonde and brown ales.\nTypically leaves some residual, lager-like sulfur compounds in finished beer.\nRecent sequencing studies show that WLP051 belongs to Saccharomyces pastorianus species, the same hybrid species as most lager strains.\nHowever, this strain has been used to make ales for decades and was previously categorized as belonging to Saccharomyces cerevisiae."]
["Whitelabs WLP059 Melbourne Ale Yeast","Whitelabs","WLP059 ","WLP059 Melbourne Ale Yeast","Liquide","Moyenne",0.74,0.78,{"$f":"IFERROR(AVERAGE(Tableau48[[#This Row],[Atténuation min]],Tableau48[[#This Row],[Atténuation max]]),\"\")","v":0.76},18,23,"N/A","N/A","N/A",null,null,"A yeast isolated from Australia in the early 1900s, it is a clean fermenting strain well suited for many American and English beer styles.\nRenowned Australian homebrewer, Peter Symon, researched this strain for his book Bronzed Brews and asked White Labs to acquire it from a yeast bank in London, England.\nThis historic strain was used in Australia because of its ability to ferment well in the Australian climate and Australian cane sugar."]
["Whitelabs WLP060 American Ale Yeast Blend","Whitelabs","WLP060 ","WLP060 American Ale Yeast Blend","Liquide","Moyenne",0.72,0.8,{"$f":"IFERROR(AVERAGE(Tableau48[[#This Row],[Atténuation min]],Tableau48[[#This Row],[Atténuation max]]),\"\")","v":0.76},20,22.2,68,72,"8 - 12%",null,null,"This blend of three strains creates a clean and neutral fermentation character, making it ideal for use in many different American beer styles.\nThe blend lends complexity to finished beer by exhibiting a crisp, clean lager-like character with accentuated hop flavors and bitterness.\nA slight amount of sulfur can be produced during peak fermentation."]
["Whitelabs WLP060 American Ale Yeast Blend","Whitelabs","WLP060 ","WLP060 American Ale Yeast Blend","Liquide","Moyenne",0.72,0.8,{"$f":"IFERROR(AVERAGE(Tableau48[[#This Row],[Atténuation min]],Tableau48[[#This Row],[Atténuation max]]),\"\")","v":0.76},20,22.2,68,72,"8 - 12%",null,null,"This blend of three strains creates a clean and neutral fermentation character, making it ideal for use in many different American beer styles.\nThe blend lends complexity to finished beer by exhibiting a crisp, clean lager-like character with accentuated hop flavors and bitterness.\nA slight amount of sulfur can be produced during peak fermentation."]
["Whitelabs WLP064 Buchner Ale Yeast Blend","Whitelabs","WLP064 ","WLP064 Buchner Ale Yeast Blend","Liquide","Moyenne",0.72,0.78,{"$f":"IFERROR(AVERAGE(Tableau48[[#This Row],[Atténuation min]],Tableau48[[#This Row],[Atténuation max]]),\"\")","v":0.75},19.399999999999999,22.2,67,72,"8 - 12%",null,null,"A blend of two strains that adds creaminess with a hint of crispness. Great for pale ales, cream ales and American wheats.\nFlocculation is good due to one of the strains being a heavy flocculator."]
["Whitelabs WLP066 London Fog Ale Yeast","Whitelabs","WLP066 ","WLP066 London Fog Ale Yeast","Liquide","Basse  -  Moyenne",0.75,0.82,{"$f":"IFERROR(AVERAGE(Tableau48[[#This Row],[Atténuation min]],Tableau48[[#This Row],[Atténuation max]]),\"\")","v":0.78499999999999992},17.8,22.2,64,72,"8 - 12%",null,null,"This is the go-to strain for New England-style IPAs.\nIt produces a medium ester profile similar to WLP008 East Coast Ale Yeast.\nIt leaves some residual sweetness, helping accentuate both malt and hop flavors and aromas, while retaining a velvety mouthfeel."]
["Whitelabs WLP067 Coastal Haze Ale Yeast Blend","Whitelabs","WLP067 ","WLP067 Coastal Haze Ale Yeast Blend","Liquide","Basse  -  Moyenne",0.7,0.75,{"$f":"IFERROR(AVERAGE(Tableau48[[#This Row],[Atténuation min]],Tableau48[[#This Row],[Atténuation max]]),\"\")","v":0.72499999999999998},20,22.2,68,72,"8 - 12%",null,null,"This blend of our favorite New England-style IPA strains is great for producing beers with a hazy appearance and tropical, fruit-forward esters.\nProducing dry, yet juicy beers, the mango and pineapple characteristics will lend to added drinkability."]
["Whitelabs WLP072 French Ale Yeast","Whitelabs","WLP072 ","WLP072 French Ale Yeast","Liquide","Moyenne  -  Haute",0.68,0.75,{"$f":"IFERROR(AVERAGE(Tableau48[[#This Row],[Atténuation min]],Tableau48[[#This Row],[Atténuation max]]),\"\")","v":0.71500000000000008},17.2,22.8,63,73,"5 - 10%",null,null,"A clean strain that complements malt flavor.\nLow to moderate esters are produced when fermentation temperature is below 70°F (21°C).\nModerate to high ester character achieved above 70°F (21°C).\nLow diacetyl production.\nA good yeast strain for Bière de Garde, blondes, ambers, brown ales and specialty beers."]
["Whitelabs WLP073 Artisanal Country Ale Yeast","Whitelabs","WLP073 ","WLP073 Artisanal Country Ale Yeast","Liquide","Basse  -  Moyenne",0.75,0.8,{"$f":"IFERROR(AVERAGE(Tableau48[[#This Row],[Atténuation min]],Tableau48[[#This Row],[Atténuation max]]),\"\")","v":0.77500000000000002},21.1,27.8,70,82,"8 - 12%",null,null,"A classic Bière de Garde strain, it produces slight esters and mild phenols, while preserving the sweet aromatics from the malt bill.\nThis strain fully attenuates, leaving the beer with a crisp, dry finish."]
["Whitelabs WLP075 Hansen Ale Yeast Blend","Whitelabs","WLP075 ","WLP075 Hansen Ale Yeast Blend","Liquide","Moyenne  -  Haute",0.75,0.8,{"$f":"IFERROR(AVERAGE(Tableau48[[#This Row],[Atténuation min]],Tableau48[[#This Row],[Atténuation max]]),\"\")","v":0.77500000000000002},18.899999999999999,21.1,66,70,"10 - 15%",null,null,"This is a blend of many IPA strain favorites. It has the attenuation of WLP090 San Diego Super Ale Yeast and the character of WLP007 Dry English Ale Yeast. This strain produces dry, hop-forward beers with minor ester production and is blend is a great flocculator.\nUsed in the White Labs Tasting Room. Visit tastingroom.yeastman.com, and search under the appropriate \"strain #\" for more details.\nAccording to White Labs Brewing Manager Joe Kurowski, \"the strain produced dry attenuation, was hop-forward with minor ester production, and it was a great flocculator.\""]
["Whitelabs WLP076 Old Sonoma Ale Yeast","Whitelabs","WLP076 ","WLP076 Old Sonoma Ale Yeast","Liquide","Moyenne",0.7,0.74,{"$f":"IFERROR(AVERAGE(Tableau48[[#This Row],[Atténuation min]],Tableau48[[#This Row],[Atténuation max]]),\"\")","v":0.72},18.899999999999999,21.1,66,70,"5 - 10%",null,null,"From a historic brewery in Northern California.\nThis strain was embraced by the early pioneers of craft beer in America and is ideal for those seeking to use a traditional British-style yeast.\nA neutral and versatile strain, a great for pale ales, porters, and stouts."]
["Whitelabs WLP080 Cream Ale Yeast Blend","Whitelabs","WLP080 ","WLP080 Cream Ale Yeast Blend","Liquide","Moyenne",0.75,0.8,{"$f":"IFERROR(AVERAGE(Tableau48[[#This Row],[Atténuation min]],Tableau48[[#This Row],[Atténuation max]]),\"\")","v":0.77500000000000002},18.3,21.1,65,70,"8 - 12%",null,null,"A blend of ale and lager yeast, this strain produces a classic cream ale.\nThe blend produces a pleasing light fruity note from the ale yeast, while the lager strain produces clean pilsner-like flavors and a slightly subdued hop bitterness.\nThis blend is known for producing subtle sulfur during primary fermentation."]
["Whitelabs WLP085 English Ale Yeast Blend","Whitelabs","WLP085 ","WLP085 English Ale Yeast Blend","Liquide","Moyenne  -  Haute",0.69,0.76,{"$f":"IFERROR(AVERAGE(Tableau48[[#This Row],[Atténuation min]],Tableau48[[#This Row],[Atténuation max]]),\"\")","v":0.72499999999999998},20,22.2,68,72,"5 - 10%",null,null,"A blend of British ale yeast strains designed to add complexity and attenuation to your ale.\nModerate fruitiness and mineral-like character, with little to no sulfur.Drier than WLP002 English Ale Yeast and WLP005 British Ale Yeast, but with similar flocculation properties.\nSuitable for English pale ales, bitters, porters, stouts and IPAs."]
["Whitelabs WLP090 San Diego Super Yeast","Whitelabs","WLP090 ","WLP090 San Diego Super Yeast","Liquide","Moyenne  -  Haute",0.76,0.83,{"$f":"IFERROR(AVERAGE(Tableau48[[#This Row],[Atténuation min]],Tableau48[[#This Row],[Atténuation max]]),\"\")","v":0.79499999999999993},18.3,20,65,68,"10 - 15%",null,null,"A low ester producing strain, it’s known for quick fermentations and producing a neutral flavor and aroma profile similar to WLP001 California Ale Yeast®.\nDue to high attenuation, this strain produces very dry beers with increased perceived bitterness.\nIt also has a high alcohol tolerance which is suitable for a variety of styles and beverages from double IPAs to barleywines, ciders and mead.\nThis is a great all around house strain and ideal for breweries who produce hop-forward beers."]
["Whitelabs WLP095 Burlington Ale Yeast","Whitelabs","WLP095 ","WLP095 Burlington Ale Yeast","Liquide","Moyenne",0.72,0.78,{"$f":"IFERROR(AVERAGE(Tableau48[[#This Row],[Atténuation min]],Tableau48[[#This Row],[Atténuation max]]),\"\")","v":0.75},19.399999999999999,21.1,67,70,"8 - 12%",null,null,"This yeast is the signature strain for a brewery in the Northeast United States, making it ideal for New England-style IPAs.\nAdding personality to your beer by contributing esters and body, this strain will blend with hop flavors and aromas while balancing bitterness.\nEsters are higher than WLP001 California Ale Yeast® and this strain has been known to result in more diacetyl increasing the temperature at the end of fermentation is suggested."]
["Whitelabs WLP099 Super High Gravity Ale Yeast","Whitelabs","WLP099 ","WLP099 Super High Gravity Ale Yeast","Liquide","Moyenne",0.8,1,{"$f":"IFERROR(AVERAGE(Tableau48[[#This Row],[Atténuation min]],Tableau48[[#This Row],[Atténuation max]]),\"\")","v":0.9},18.3,20.6,65,69,"> 15%",null,null,"From England, this yeast can ferment up to 25% alcohol when used correctly.\nIt produces ester characters that increase with increasing gravity.\nMalt character dominates at lower gravities. To achieve >25% ABV, sugar needs to be fed over the course of the fermentation."]
["Whitelabs WLP1983 Charlie's Fist Bump Yeast","Whitelabs","WLP1983","WLP1983 Charlie's Fist Bump Yeast","Liquide","Basse",0.66,0.7,{"$f":"IFERROR(AVERAGE(Tableau48[[#This Row],[Atténuation min]],Tableau48[[#This Row],[Atténuation max]]),\"\")","v":0.67999999999999994},12.8,22.8,55,73,"5 - 10%",null,null,"Previously called WLP862 Cry Havoc Lager Yeast, this strain is licensed from Charlie Papazian and can ferment at both ale and lager temperatures, allowing brewers to produce diverse beer styles.\nThe recipes in both Papazian’s books, \"The Complete Joy of Homebrewing,\" \"The Homebrewer’s Companion,\" and \"Microbrewed Adventures\" were originally developed and brewed with this yeast."]
["Whitelabs WLP380 Hefeweizen Ale IV","Whitelabs","WLP380 ","WLP380 Hefeweizen Ale IV","Liquide","Basse",0.73,0.8,{"$f":"IFERROR(AVERAGE(Tableau48[[#This Row],[Atténuation min]],Tableau48[[#This Row],[Atténuation max]]),\"\")","v":0.76500000000000001},19,21.1,66,70,"8 - 12%","Weissbier",null,"Arôme et saveur prononcés de clou de girofle et de phénols avec un goût de banane moindre. Notes rafraîchissantes d'agrumes et d'abricot. Hefeweizen pétillante. Flocule moins que la Hefeweizen Ale Yeast, mais sa production de soufre est plus élevée."]
["Whitelabs WLP518 Opshaug Kveik Ale Yeast","Whitelabs","WLP518 ","WLP518 Opshaug Kveik Ale Yeast","Liquide","Moyenne  -  Haute",0.7,0.8,{"$f":"IFERROR(AVERAGE(Tableau48[[#This Row],[Atténuation min]],Tableau48[[#This Row],[Atténuation max]]),\"\")","v":0.75},25,30,77,86,"8 - 12%",null,null,"Sourced from our friend Lars Marius Garshol, this kveik strain was isolated from a mixed culture which belonged to Harald Opshaug, a farmhouse brewer in Stranda, Norway.\nThis strain was originally used in the 1990s to produce several kornøl-style beers.\nIt is a clean fermenting yeast and has tolerated temperatures up to 91°F (33°C) while finishing fermentation within three to four days.\nThe hop-forward, clean characteristics of this strain make it ideal for IPAs and pale ales."]
["Whitelabs WLP564 Leeuwenhoek Saison Yeast Blend","Whitelabs","WLP564 ","WLP564 Leeuwenhoek Saison Yeast Blend","Liquide","Basse",0.76,0.82,{"$f":"IFERROR(AVERAGE(Tableau48[[#This Row],[Atténuation min]],Tableau48[[#This Row],[Atténuation max]]),\"\")","v":0.79},18.899999999999999,23.9,66,75,15,null,null,"A blend of two saison strains and a low phenolic Belgian strain, developed for the White Labs in-house saisons. Approximately 85% attenuation which makes for a dryer saison. The strain proved very versatile, creating spicy, dry and clean beers.\n\nUsed in the White Labs Tasting Room for various saisons, dubbels, and roggenbiers. For beers made in the Tasting Room, the strain proved very versatile, creating spicy, dry and clean beers. Visit tastingroom.yeastman.com, and search under the appropriate \"strain #\" for beer testing details with this strain."]
["Whitelabs WLP565 Belgian Saison I Yeast","Whitelabs","WLP565 ","WLP565 Belgian Saison I Yeast","Liquide","Moyenne",0.65,0.75,{"$f":"IFERROR(AVERAGE(Tableau48[[#This Row],[Atténuation min]],Tableau48[[#This Row],[Atténuation max]]),\"\")","v":0.7},20,23.9,68,75,10,null,"Belgian Saison 3724","A classic saison strain sourced from the Wallonia region of Belgium.\nThis strain makes a classic saison by producing flavors and aromas noted as earthy, peppery and spicy.\nWith attenuation averaging around 70 to 75%, some malt flavor will remain present.\nFor best fermentation results, let this strain free-rise to allow for complete attenuation and production of the subtle, traditional aroma characteristics.\nWith high gravity saisons, it’s suggested to dry the beer with an alternate yeast (such as WLP001 California Ale Yeast®) added after 50 to 60% fermentation."]
["Whitelabs WLP566 Belgian Saison II Ale Yeast","Whitelabs","WLP566 ","WLP566 Belgian Saison II Ale Yeast","Liquide","Moyenne",0.78,0.85,{"$f":"IFERROR(AVERAGE(Tableau48[[#This Row],[Atténuation min]],Tableau48[[#This Row],[Atténuation max]]),\"\")","v":0.81499999999999995},20,25.6,68,78,10,null,null,"This strain is a moderate phenol producer with clove-like flavor and aromatic notes present in finished beer.\nSome fruit-forward ester production provides a balance between fruit and spice aroma and flavors.\nThis strain ferments and flocculates well, making it an easy-to-use option for saison and farmhouse ales."]
["Whitelabs WLP568 Belgian Style Saison Ale Yeast Blend","Whitelabs","WLP568 ","WLP568 Belgian Style Saison Ale Yeast Blend","Liquide","Moyenne",0.7,0.8,{"$f":"IFERROR(AVERAGE(Tableau48[[#This Row],[Atténuation min]],Tableau48[[#This Row],[Atténuation max]]),\"\")","v":0.75},21.1,26.7,70,80,10,null,null,"This blend incorporates multiple Belgian and saison strains to produce pear-like esters backed by spicy, earthy and clove-like flavors and aromas.\nThe cultures encourage complete fermentation in a timely manner and create harmony and complexity throughout its ester and phenol production."]
["Whitelabs WLP590 French Saison Ale Yeast","Whitelabs","WLP590 ","WLP590 French Saison Ale Yeast","Liquide","Moyenne",0.73,0.8,{"$f":"IFERROR(AVERAGE(Tableau48[[#This Row],[Atténuation min]],Tableau48[[#This Row],[Atténuation max]]),\"\")","v":0.76500000000000001},20.6,23.9,69,75,10,null,null,"One of our most popular saison strains, it is great for farmhouse-style beers because it produces flavors and aromas of pear, apple and cracked pepper. This strain is a high attenuator producing a very dry and drinkable finishing beer."]
["Whitelabs WLP670 American Farmhouse Blend","Whitelabs","WLP670 ","WLP670 American Farmhouse Blend","Liquide","Moyenne",0.75,0.82,{"$f":"IFERROR(AVERAGE(Tableau48[[#This Row],[Atténuation min]],Tableau48[[#This Row],[Atténuation max]]),\"\")","v":0.78499999999999992},20,22.2,68,72,"5 - 10%",null,null,"Inspired by local American brewers crafting semi-traditional Belgian-style ales, this blend creates a complex flavor profile with a moderate level of sourness.\nIt consists of a traditional farmhouse yeast strain and Brettanomyces.\nGreat yeast for farmhouse ales, saisons, and other Belgian-inspired beers."]
["Whitelabs WLP715 Champagne Yeast","Whitelabs","WLP715 ","WLP715 Champagne Yeast","Liquide","Basse",0.75,0.1,{"$f":"IFERROR(AVERAGE(Tableau48[[#This Row],[Atténuation min]],Tableau48[[#This Row],[Atténuation max]]),\"\")","v":0.42499999999999999},21.1,23.9,70,75,"> 15%",null,null,"Classic yeast that is neutral in character, and a strong fermenter. Great for use in wine, cider and mead allowing the character of the fermentables to become prominent flavors.\nWLP715 Champagne Yeast is POF+, this strain will contribute phenolic characteristics to finished products. "]
["Whitelabs WLP780 Thai Rice Chong Yeast","Whitelabs","WLP780 ","WLP780 Thai Rice Chong Yeast","Liquide","N/A",0.76,0.76,{"$f":"IFERROR(AVERAGE(Tableau48[[#This Row],[Atténuation min]],Tableau48[[#This Row],[Atténuation max]]),\"\")","v":0.76},"N/A","N/A","N/A","N/A","10 - 15%",null,null,"Typically used for making rice wine but has shown to ferment beer just fine.\nThe ester profile is very fruity and produces a surprising amount of alcohol (15%).\nThe aroma and flavor were highly favorable compared to rice wine made with the traditional yeast balls."]
["Lallemand BELLE SAISON","Lallemand",null,"BELLE SAISON Belgian","Sèche","Basse",0.76,0.8,{"$f":"IFERROR(AVERAGE(Tableau48[[#This Row],[Atténuation min]],Tableau48[[#This Row],[Atténuation max]]),\"\")","v":0.78},15,35,59,95,15,"Berliner Weiss,\nGose,\nSaison,\n","Belle Saison is a Belgian style ale yeast selected specifically for its ability to create Saison-style beers.\nBelle Saison lets brewers create Saison styles easily and with all the expected characteristics noted for this classic style.\nDesigned for warm temperature fermentation true to traditional production methods, beers brewed with Belle Saison exhibit the \"Farmhouse” flavors and aromas making for fruity, spicy and refreshing beer."]
["Lallemand WINDSOR","Lallemand",null,"WINDSOR","Sèche","Basse",0.74,0.76,{"$f":"IFERROR(AVERAGE(Tableau48[[#This Row],[Atténuation min]],Tableau48[[#This Row],[Atténuation max]]),\"\")","v":0.75},15,22.2,59,72,12,"American Wheat,\nBaltic Porter,\nBlonde Ale,\nBrown Porter,\nCream Ale,\nEnglish Brown Ale,\nEnglish IPA,\nExtra Special  Bitter,\nIrish Red Ale,\nMild,\nOatmeal Stout,\nOld Ale,\nOrdinary Bitter,\nRobust Porter,\nScottish Ale,\nSpecial/Best Bitter,\nSweet Stout","Windsor ale yeast is a true English strain that produces a beer which is estery to both palate and nose with a slight fresh yeasty flavor. Beers created with Windsor are usually described as full-bodied, fruity English ales.\nBrewers choose Windsor to produce beers that range from pale ale to porter with moderate alcohol levels and the flavor and aroma characteristics of the best traditional ales.\nWindsor does not utilize the sugar maltotriose (a molecule composed of 3 glucose units). Maltotriose is present in wort in an average 10-15% of all malt worts.\nThe result will be fuller body and residual sweetness in beer. Be advised to adjust mash temperatures according to desired result."]
["Lallemand MUNICH CLASSIC","Lallemand",null,"MUNICH CLASSIC","Sèche","Basse",0.69,0.71,{"$f":"IFERROR(AVERAGE(Tableau48[[#This Row],[Atténuation min]],Tableau48[[#This Row],[Atténuation max]]),\"\")","v":0.7},17.2,22.2,63,72,12,"Dunkel Weizen,\nGose,\nWeizen/WeissBier,\nWeizenbock","Munich Classic is a Bavarian wheat beer strain that can easily express the spicy and estery aroma profile typical to German wheat beer styles.\nThis strain is simple to use over a wide range of recipe variations and fermentation conditions, making it a great choice for a number of traditional styles of wheat beer.\nIn classic open fermentation vessels, the yeast can be skimmed off the top in the traditional manner. "]
["Lallemand MUNICH Wheat","Lallemand",null,"MUNICH Wheat","Sèche","Basse","","",{"$f":"IFERROR(AVERAGE(Tableau48[[#This Row],[Atténuation min]],Tableau48[[#This Row],[Atténuation max]]),\"\")","v":""},17.2,22.2,63,72,12,"American Wheat,\nBerliner Weiss,\nDunkel Weizen,\nGose,\nRoggenbier,\nWeizen/WeissBier,\nWeizenbock,\nWitbier","Munich Wheat Beer yeast originated in Bavaria, German and is a neutral strain which can be used to produce a wide variety of wheat-based beer styles.\nWith only slight esters and phenol production, Munich’s allows brewers to showcase other spice additions"]
["Lallemand LONDON ESB","Lallemand",null,"LONDON ESB","Sèche","Basse",0.71,0.74,{"$f":"IFERROR(AVERAGE(Tableau48[[#This Row],[Atténuation min]],Tableau48[[#This Row],[Atténuation max]]),\"\")","v":0.72499999999999998},18.3,22.2,65,72,12,"American Pale Ale,\nBaltic Porter,\nBrown Porter,\nCream Ale,\nEnglish Brown Ale,\nEnglish IPA,\nExtra Special Bitter,\nIrish Red Ale,\nMild,\nOatmeal Stout,\nOld Ale,\nOrdinary Bitter,\nRobust Porter,\nScottish Ale,\nSpecial/Best Bitter,\nSweet Stout","London ESB is a true English ale strain selected for reliable fermentation performance and moderate ester production that lets the delicacies of the malt and hop aromas shine through.\nLondon ESB was selected from the Lallemand yeast culture library, and is a brilliant choice not only for brewing Extra Special Bitter but for other authentic heritage UK styles.\nLondon ESB may also be used in the production of Ciders. London ESB does not utilize the sugar maltotriose (a molecule composed of 3\nglucose units). Maltotriose is present in wort in an average 10-15% of all malt worts.\nThe result will be fuller body and residual sweetness in beer.\nBe advised to adjust mash temperatures according to desired result."]
["Lallemand NOTTINGHAM","Lallemand",null,"NOTTINGHAM","Sèche","Haute",0.76,0.79,{"$f":"IFERROR(AVERAGE(Tableau48[[#This Row],[Atténuation min]],Tableau48[[#This Row],[Atténuation max]]),\"\")","v":0.77500000000000002},10,22.2,50,72,14,"American Amber Ale,\nAmerican Barleywine,\nAmerican Brown Ale,\nAmerican Ipa,\nAmerican Pale Ale,\nAmerican Stout,\nAmerican Wheat,\nBaltic Porter,\nBelgian Blonde Ale,\nBelgian Dark Strong,\nBelgian Golden Strong Ale,\nBelgian Pale Ale,\nBlonde Ale,\nBohemian Pilsner,\nBrown Porter,\nCalifornia Common,\nClassic American Pilsner,\nCream Ale,\nDark American Lager,\nDoppelbock,\nDortmunder Export,\nDry Stout,\nDüsseldorf Altbier,\nEisbock,\nEnglish Barleywine,\nEnglish Brown Ale,\nEnglish Ipa,\nExtra Special Bitter,\nForeign Extra Stout,\nGerman Pilsner,\nImperial Ipa,\nIrish Red Ale,\nKölsch,\nMaibock/Helles Bock,\nMild,\nMunich Dunkel,\nMunich Helles,\nOatmeal Stout,\nOktoberfest/Märzen,\nOld Ale,\nOrdinary Bitter,\nRobust Porter,\nRoggenbier,\nRussian Imperial Stout,\nSchwarzbier,\nScottish Ale,\nSession Ipa,\nSpecial/Best Bitter,\nStrong Scotch Ale,\nSweet Stout,\nTraditional Bock,\nVienna Lager,\nWeizenbock,\nWitbier","Nottingham is an English style ale yeast selected for its high performance ability and versatility. Furthermore, this highly adaptable yeast strain allows for tremendous creativity when brewing beers out of the regular spectrum.\nNottingham can also be used in the production of cider.\nAt lower temperature it is possible to ferment lager-style beers in all-malt wort within 9 days"]
["Lallemand DIAMOND Lager","Lallemand",null,"DIAMOND Lager","Sèche","Haute",0.85,0.9,{"$f":"IFERROR(AVERAGE(Tableau48[[#This Row],[Atténuation min]],Tableau48[[#This Row],[Atténuation max]]),\"\")","v":0.875},10,15,50,59,13,"Bohemian Lager,\nCalifornia Common,\nClassic American Pilsner,\nDark American Lager,\nDoppelbock,\nDortmunder Export,\nEistbock,\nGerman Pilsner,\nMaibock/Helles Bock,\nMunich Dunkel,\nMunich Helles,\nOktoberfest/Märzen,\nSchwarzbier,\nTraditional Bock,\nWeizen Lager","Diamond Lager yeast is a true lager strain originating in Germany.\nChosen for its robust character, Diamond Lager yeast delivers excellent fermentation performance, and has the ability to produce clean, authentic lagers. "]
["Lallemand BRY-97 American West Coast Ale","Lallemand",null,"BRY-97 American West Coast Ale","Sèche","Haute","","",{"$f":"IFERROR(AVERAGE(Tableau48[[#This Row],[Atténuation min]],Tableau48[[#This Row],[Atténuation max]]),\"\")","v":""},15,22.2,59,72,13,"American Amber Ale,\nAmerican BarleyWine,\nAmerican Brown Ale,\nAmerican IPA,\nAmerican Pale Ale,\nAmerican Stout,\nAmerican Wheat,\nBelgian Blond Ale,\nBlond Ale,\nCream Ale,\nDry Stout,\nDüsserldorf Altbier,\nExtra Special Bitter,\nForeign Extra Stout,\nImperial IPA,\nIrish Red Ale,\nKölsch,\nOatmeal Stout,\nOld Ale,\nRoggenbier,\nRussian Imperial Stout,\nScottish Ale,\nSession IPA,\nStrong Scottish Ale","BRY-97 is an American West Coast Style ale yeast that was selected from the Siebel Institute Culture Collection for its ability to deliver high quality ales.\nBRY-97 is a neutral strain with a high flocculation ability that can be used to make a wide variety of American style beers. "]
["Lallemand ABBAYE","Lallemand",null,"ABBAYE","Sèche","Haute",0.7,0.74,{"$f":"IFERROR(AVERAGE(Tableau48[[#This Row],[Atténuation min]],Tableau48[[#This Row],[Atténuation max]]),\"\")","v":0.72},17.2,25,63,77,14,"Belgian Blond Ale,\nBelgian Dark Strong,\nBelgian Dubbel,\nBelgian Golden Strong Ale,\nBelgian Pale Ale,\nBelgian Quad,\nBelgian Tripel,\nBière de Garde,\nWitbier","Abbaye is an Ale yeast of Belgian origin.\nSelected for its ability to ferment Belgian style beers ranging from low to high alcohol, Abbaye produces the spiciness and fruitiness typical of Belgian and Trappist style ales.\nWhen fermented at higher temperatures, typical flavors and aromas include tropical, spicy and banana.\nAt lower temperatures Abbaye produces darker fruit aromas and flavors of raisin, date and fig."]
["Lallemand LalBrew New England East Coast Ale","Lallemand",null,"LalBrew™ New England East Coast Ale","Sèche","Moyenne","","",{"$f":"IFERROR(AVERAGE(Tableau48[[#This Row],[Atténuation min]],Tableau48[[#This Row],[Atténuation max]]),\"\")","v":""},15,22.2,59,72,9,"American Wheat,\nBlonde Ale,\nBrown Porter,\nCream Ale,\nEnglish Brown Ale,\nEnglish Ipa,\nExtra Special Bitter,\nIrish Red Ale,\nMild,\nOrdinary Bitter,\nSpecial/Best Bitter;\nSweet Stout","LalBrewTM New England is an ale strain selected specifically for its fermentative consistency and ability to produce a unique fruit-forward ester profile desired in East Coast styles of beer.\nTypical fermentation with LalBrewTM New England will produce tropical and fruity esters, notably stone fruits like peach."]
["Lallemand WildBrew™ Sour Pitch","Lallemand",null,"WildBrew™ Sour Pitch","Sèche",null,null,null,{"$f":"IFERROR(AVERAGE(Tableau48[[#This Row],[Atténuation min]],Tableau48[[#This Row],[Atténuation max]]),\"\")","v":""},30,40,86,104,null,"Berliner Weiss,\nGose,\nKettle Sours,\nSaison","WildBrew™ Sour Pitch is a high-performance, high-purity lactic acid bacteria specifically selected for its ability to consistently produce a wide range of sour beer styles.\nWildBrew™ Sour Pitch produces a clean and balanced citrus flavor profile typical of both traditional and modern sour beer styles.\nWhen inoculated at optimal temperature and the right conditions, it is a powerful, safe and easy way to handle bacteria for various beer souring techniques, such as a typical kettle souring process."]
["The Yeast Bay  TYB415  BRETTANOMYCES BRUXELLENSIS\nSTRAI","The Yeast Bay",null," TYB415  BRETTANOMYCES BRUXELLENSIS\nSTRAI","Liquide","Basse",0.2,0.25,{"$f":"IFERROR(AVERAGE(Tableau48[[#This Row],[Atténuation min]],Tableau48[[#This Row],[Atténuation max]]),\"\")","v":0.22500000000000001},15.6,32.200000000000003,60,90,"TBD","Beta","M. reukaufii is a nectar specialist that was isolated from flowers in the Berkeley Hills of California\nEvolutionarily, these yeast likely evolved to produce a more odorous and attractive nectar for pollinators by enzymatically altering otherwise inodorous nectar compounds like glycosides.\nWhile only attenuating to 20-25% in brewer’s wort and not utilizing maltose or maltose polymers, in co-fermentations it has been shown to drop gravity and pH of the fermentation faster, accentuate and modulate the flavor and aroma profile and soften the perceived bitterness of the finished product.\nThis strain MUST be used in conjunction with other yeast that can ferment brewer’s wort (capable of fermenting maltose)."]
["The Yeast Bay AMALGAMATION I\nBRETTANOMYCES BLEND","The Yeast Bay",null,"AMALGAMATION I\nBRETTANOMYCES BLEND","Liquide","Basse",0.85,0.85,{"$f":"IFERROR(AVERAGE(Tableau48[[#This Row],[Atténuation min]],Tableau48[[#This Row],[Atténuation max]]),\"\")","v":0.85},21.1,26.7,70,80,"High","Brettanomyces","Amalgamation is the union of our six favorite Brettanomyces isolates from our microbe library.\nEach isolate produces a unique bouquet of bright and fruity flavors and aromas, and the combination of all of them into one blend results in the coalescence of these unique flavors and aromas into something truly special.\nExpect this blend to create a dry beer with a bright and complex fruitforward flavor and aroma of berries and citrus, accompanied b y some funk on the palate."]
["The Yeast Bay AMALGAMATION II\nBRETTANOMYCES BLEND","The Yeast Bay",null,"AMALGAMATION II\nBRETTANOMYCES BLEND","Liquide","Basse",0.82,0.86,{"$f":"IFERROR(AVERAGE(Tableau48[[#This Row],[Atténuation min]],Tableau48[[#This Row],[Atténuation max]]),\"\")","v":0.84},21.1,26.7,70,80,"High","Brettanomyces","The second installment of our \"Brett Super Blend\", Amalgamation II is a blend of 5 Brettanomyces bruxellensis isolates.\nThis culture is the coalescence of all of the great qualities of each isolate: The balanced funk of the Beersel isolates and TYB184, the sweet tart character of TYB207, and the tropical bouquet of lemon/pineapple/guava/mango/papaya esters contributed by TYB261."]
["The Yeast Bay BEERSEL BRETTANOMYCES\nBLEND","The Yeast Bay",null,"BEERSEL BRETTANOMYCES\nBLEND","Liquide","Basse",0.82,0.85,{"$f":"IFERROR(AVERAGE(Tableau48[[#This Row],[Atténuation min]],Tableau48[[#This Row],[Atténuation max]]),\"\")","v":0.83499999999999996},21.1,26.7,70,80,"High","Brettanomyces","This blend combines Brettanomyces strains isolated from a lambic produced in the Beersel area in the Belgian province of Flemish Brabant. All of the strains in this blend provide a balanced profile of fruitiness, funkiness and a crisp tartness. This blend tends to be a quick starter and forms a nice pellicle."]
["The Yeast Bay SAISON BLEND I","The Yeast Bay",null,"SAISON BLEND I","Liquide","Basse - Moyenne",0.78,0.8,{"$f":"IFERROR(AVERAGE(Tableau48[[#This Row],[Atténuation min]],Tableau48[[#This Row],[Atténuation max]]),\"\")","v":0.79},20,26.7,68,80,"High","Belgian Ale","A blend of two unique Saccharomyces cerevisiae strains isolated from beers that embody the saison style, this blend is a balance of the many characteristic saison flavors and aromas.\nOne yeast strain is a good attenuator that produces a spicy and mildly tart and tangy beer with a full mouthfeel. The other yeast strain is also a good attenuator that produces a delightful ester profile of grapefruit and orange zest and imparts a long, dry and earthy finish to the beer.\nTogether, they produce a dry but balanced beer with a unique flavor and aroma profile."]
["The Yeast Bay WALLONIAN FARMHOUSE II","The Yeast Bay",null,"WALLONIAN FARMHOUSE II","Liquide","Basse - Moyenne",0.8,0.82,{"$f":"IFERROR(AVERAGE(Tableau48[[#This Row],[Atténuation min]],Tableau48[[#This Row],[Atténuation max]]),\"\")","v":0.81},20,26.7,68,80,"Medium - High","Belgian Ale","This is a single strain of Saccharomyces cerevisiae isolated from the same source as our Wallonian Farmhouse strain, a well-known brewery hailing from the Walloon region of Belgium.\nSlightly less attenuative and exhibiting a more restrained phenolic and expressive ester profile than Wallonian Farmhouse I, this yeast exhibits a great balance of fruitiness and rustic farmhouse character."]
["The Yeast Bay WALLONIAN FARMHOUSE III ","The Yeast Bay",null,"WALLONIAN FARMHOUSE III ","Liquide","Basse - Moyenne",0.82,0.84,{"$f":"IFERROR(AVERAGE(Tableau48[[#This Row],[Atténuation min]],Tableau48[[#This Row],[Atténuation max]]),\"\")","v":0.83},20,26.7,68,80,"Medium - High","Belgian Ale","This is a single strain of Saccharomyces cerevisiae isolated from a wellknown brewery hailing from the Walloon region of Belgium.\nThis strain is as attenuative as our original Wallonian Farmhouse and exhibits a more balanced profile of ester and phenols.\nThis yeast is similar to a classic saison strain offered b y many other yeast manufacturers, without the slow/low attenuation and stalling issues often observed in those cultures. "]
["The Yeast Bay BRUSSELS BRETTANOMYCES\nBLEND","The Yeast Bay",null,"BRUSSELS BRETTANOMYCES\nBLEND","Liquide","Basse - Moyenne",0.8,0.9,{"$f":"IFERROR(AVERAGE(Tableau48[[#This Row],[Atténuation min]],Tableau48[[#This Row],[Atténuation max]]),\"\")","v":0.85000000000000009},21.1,26.7,70,80,"High","Brettanomyces","This blend combines Brettanomyces strains isolated from a unique lambic produced in the Brussels region of Belgium.\nAll of the isolates in this blend produce a pronounced barnyard funk with mild acidity and mild fruitiness.\nThis blend is a great addition to any beer that you want to funk up."]
["The Yeast Bay LOCHRISTI BRETTANOMYCES\nBLEND","The Yeast Bay",null,"LOCHRISTI BRETTANOMYCES\nBLEND","Liquide","Basse - Moyenne",0.8,0.88,{"$f":"IFERROR(AVERAGE(Tableau48[[#This Row],[Atténuation min]],Tableau48[[#This Row],[Atténuation max]]),\"\")","v":0.84000000000000008},21.1,26.7,70,80,"High","Brettanomyces","This blend combines Brettanomyces strains isolated from a unique beer produced in the Lochristi area in East Flanders.\nOne strain provides a moderate funk and light fruitiness, while the other strain adds a more assertive fruitiness dominated b y hints of strawberry.\nThis blend also imparts a pleasant acidity over time that helps to balance out the profile of the finished beer."]
["The Yeast Bay SAISON/BRETTANOMYCES\nBLEND II","The Yeast Bay",null,"SAISON/BRETTANOMYCES\nBLEND II","Liquide","Basse - Moyenne",0.82,0.85,{"$f":"IFERROR(AVERAGE(Tableau48[[#This Row],[Atténuation min]],Tableau48[[#This Row],[Atténuation max]]),\"\")","v":0.83499999999999996},22.2,26.7,72,80,"High","Mixed Cultures","The cultures in this new and unique blend include two saison-style Saccharomyces cerevisiae isolates (Wallonian Farmhouse II and Wallonian Farmhouse III) and two Brettanomyces bruxellensis cultures (TYB184, TYB207).\nThis blend will produce a beer that is bursting with classic saison character with a rustic kick of Brettanomyces fruitiness and funkiness.\nWhile exhibiting a mild hay/barnyard component, the overall character is more fruit-forward."]
["The Yeast Bay MÉLANGE","The Yeast Bay",null,"MÉLANGE","Liquide","Basse - Moyenne",0.85,1,{"$f":"IFERROR(AVERAGE(Tableau48[[#This Row],[Atténuation min]],Tableau48[[#This Row],[Atténuation max]]),\"\")","v":0.92500000000000004},20,25.6,68,78,"High","Mixed Cultures","Mélange is made up of a rich diversity of fermentative organisms, intended for use in the production of sour beers in which a balance of fruity esters, earthiness, funk and sourness is desired.\nThis blend contains two Saccharomyces cerevisiae isolates, Saccharomyces fermentati , five Brettanomyces isolates, Lactobacillus brevis , Lactobacillus delbreuckii and Pediococcus damnosus . *DIASTATIC COMPONENTS"]
["The Yeast Bay FARMHOUSE SOUR ALE","The Yeast Bay",null,"FARMHOUSE SOUR ALE","Liquide","Basse - Moyenne",0.8,1,{"$f":"IFERROR(AVERAGE(Tableau48[[#This Row],[Atténuation min]],Tableau48[[#This Row],[Atténuation max]]),\"\")","v":0.9},21.1,25.6,70,78,"Medium - High","Mixed Cultures","This blend contains two farmhouse/saison Saccharomyces cerevisiae isolates, Lactobacillus brevis , and Lactobacillus delbreuckii .\nThe two Saccharomyces strains will combine to create a delightful ester profile of grapefruit and orange zest accompanied by a mild earthiness and spiciness, while two Lactobacillus strains will produce a balanced acid profile."]
["The Yeast Bay SAISON/BRETTANOMYCES\nBLEND I","The Yeast Bay",null,"SAISON/BRETTANOMYCES\nBLEND I","Liquide","Basse - Moyenne",0.8,0.8,{"$f":"IFERROR(AVERAGE(Tableau48[[#This Row],[Atténuation min]],Tableau48[[#This Row],[Atténuation max]]),\"\")","v":0.8},21.1,25.6,70,78,"High","Mixed Cultures","This blend combines one of the Saccharomyces strains from the Saison Blend and two unique Brettanomyces isolates from our yeast library.\nThe Saccharomyces yeast strain is a strong attenuator that produces a delightful ester profile of grapefruit and orange zest and imparts a long, dry and earthy finish to the beer.\nThe Brettanomyces strains are both good attenuators that produce some fruity esters and mild funk, and add a bright character to the beer.\nThe combination of these yeast produces a dry but balanced character with a delightful ester profile and just the right amount of funk."]
["The Yeast Bay TYB HOUSE SOUR\nBLEND","The Yeast Bay",null,"TYB HOUSE SOUR\nBLEND","Liquide","Basse - Moyenne",0.85,1,{"$f":"IFERROR(AVERAGE(Tableau48[[#This Row],[Atténuation min]],Tableau48[[#This Row],[Atténuation max]]),\"\")","v":0.92500000000000004},20,25.6,68,78,"High","Beta","As we isolate new organisms and evaluate them, we find individual strains of yeast and bacteria that we think have great character that add something unique to the profile of a beer.\nWhile the base for this blend consists of the same organisms in our Melange Blend, it contains a cornucopia of new strains that we incorporate as we go about our strain discovery process.\nWhile a majority of each lot consists largely of propagations of the base strains along with new isolates, each new lot of TYB House Sour contains a small portion of the previous lot, resulting in a character that is constantly\nmaturing and evolving. *DIASTATIC COMPONENTS"]
["The Yeast Bay NORTHEASTERN ABBEY","The Yeast Bay",null,"NORTHEASTERN ABBEY","Liquide","Basse - Moyenne",0.77,0.81,{"$f":"IFERROR(AVERAGE(Tableau48[[#This Row],[Atténuation min]],Tableau48[[#This Row],[Atténuation max]]),\"\")","v":0.79},20,23.9,68,75,"Medium - High","Belgian Ale","Northeastern Abbey is a strain of Saccharomyces cerevisiae that was isolated from a beer crafted b y a well-known producer of Belgian-style ales in the Northeastern United States.\nThis yeast produces a very mild spiciness and earthy flavor and aroma which is complemented b y a subtle but magnificent array of fruity esters, including pear and citrus fruit.\nExpect this yeast to produce a large, thick krausen."]
["The Yeast Bay FUNKTOWN PALE ALE","The Yeast Bay",null,"FUNKTOWN PALE ALE","Liquide","Basse - Moyenne",0.78,0.95,{"$f":"IFERROR(AVERAGE(Tableau48[[#This Row],[Atténuation min]],Tableau48[[#This Row],[Atténuation max]]),\"\")","v":0.86499999999999999},20,23.3,68,74,"Medium - High","Mixed Cultures","Funktown Pale Ale is a blend of our Vermont Ale strain and a unique wild strain of Saccharomyces that is well suited for primary fermentation.\nThe combination of the citrus/peach esters from the Vermont Ale strain and the very light funk and pineapple/mango esters from the wild Saccharomyces produces a unique flavor and aroma profile that is fruit-forward.\nExpect this blend to finish drier than the Vermont Ale. *DIASTATIC COMPONENT"]
["The Yeast Bay VERMONT ALE","The Yeast Bay",null,"VERMONT ALE","Liquide","Basse - Moyenne",0.78,0.82,{"$f":"IFERROR(AVERAGE(Tableau48[[#This Row],[Atténuation min]],Tableau48[[#This Row],[Atténuation max]]),\"\")","v":0.8},17.8,22.2,64,72,"Medium - High","American/British Ale","Isolated from a uniquely crafted double IPA out of the Northeastern United States and originally of British lineage, this single strain of Saccharomyces cerevisiae produces a balanced fruity ester profile of peaches and light citrus that complements any aggressively hopped beer."]
["The Yeast Bay HAZY DAZE II ","The Yeast Bay",null,"HAZY DAZE II ","Liquide","Basse - Moyenne",0.81,0.85,{"$f":"IFERROR(AVERAGE(Tableau48[[#This Row],[Atténuation min]],Tableau48[[#This Row],[Atténuation max]]),\"\")","v":0.83000000000000007},18.899999999999999,22.2,66,72,"Medium - High","American/British Ale","Hazy Daze II is a proprietary blend of four Saccharomyces cerevisiae strains, and will exhibit an intense yet balanced ester profile of stone fruit (peach, apricot, nectarine and), tropical fruit (mango, guava) and grapefruit citrus esters.\nIt will also ferment faster and finish at a slightly lower terminal gravity as compared to our original Hazy Daze. *DIASTATIC COMPONENT"]
["The Yeast Bay HAZY DAZE","The Yeast Bay",null,"HAZY DAZE","Liquide","Basse - Moyenne",0.79,0.83,{"$f":"IFERROR(AVERAGE(Tableau48[[#This Row],[Atténuation min]],Tableau48[[#This Row],[Atténuation max]]),\"\")","v":0.81},17.8,21.1,64,70,"Medium - High","American/British Ale","Hazy Daze contains a proprietary blend of three Saccharomyces cerevisiae strains, all of which offer unique contributions to the production of crisp, hop forward beers.\nExpect this blend to throw bountiful amounts of peach, apricot, nectarine and grapefruit citrus esters, exhibit lower flocculation and achieve good attenuation to produce beers with a dry and crisp character."]
["The Yeast Bay FRANCONIAN DARK LAGER","The Yeast Bay",null,"FRANCONIAN DARK LAGER","Liquide","Basse - Moyenne",0.74,0.78,{"$f":"IFERROR(AVERAGE(Tableau48[[#This Row],[Atténuation min]],Tableau48[[#This Row],[Atténuation max]]),\"\")","v":0.76},8.9,10.6,48,51,"Medium - High","Lager","Franconian Dark Lager is a single strain of Saccharomyces pastorianus that hails from the Franconia region of Germany.\nThis yeast exhibits a short lag time and has flavor profile characteristics that complement dark, roasted malts.\nThe dark malt complementing nature of this yeast makes it a perfect fit for any big, malt driven dark lagers.\nWhile well-suited for dark lagers, this yeast also performs well in producing lagers derived from a pale worts."]
["The Yeast Bay HESSIAN PILS","The Yeast Bay",null,"HESSIAN PILS","Liquide","Basse - Moyenne",0.73,0.76,{"$f":"IFERROR(AVERAGE(Tableau48[[#This Row],[Atténuation min]],Tableau48[[#This Row],[Atténuation max]]),\"\")","v":0.745},7.2,8.9,45,48,"Medium","Lager","Hessian Pils is a single strain of Saccharomyces pastorianus that hails from the Hess region of Germany.\nIt exhibits everything you want in a great Pilsner yeast: it's a clean fermenter with relatively low ester formation, exhibits a short lag time, ferments wort quickly and attenuates well even at the low end of the temperature range. These characteristics allow the malt and hop profile to really shine, and creates a crisp finished beer."]
["The Yeast Bay SIGMUND'S VOSS KVEIK","The Yeast Bay",null,"SIGMUND'S VOSS KVEIK","Liquide","Haute",0.78,0.83,{"$f":"IFERROR(AVERAGE(Tableau48[[#This Row],[Atténuation min]],Tableau48[[#This Row],[Atténuation max]]),\"\")","v":0.80499999999999994},21.1,37.799999999999997,70,100,"High","Kveik","Sigmund's Voss Kveik yeast is a single strain of Saccharomyces cerevisiae isolated from a sample of kveik generously provided by Sigmund Gjernes via Lars Garshol.\nThis strain exhibits the ability to ferment wort over a large temperature range, 70 - 100 °F, without major changes to the flavor profile or production of any harsh phenolics or fusel alchohols.\nWe highly recommend taking this into the high end of temperature range, 90-100 °F."]
["The Yeast Bay SIMONAITIS LITHUANIAN\nFARMHOUSE YEAST","The Yeast Bay",null,"SIMONAITIS LITHUANIAN\nFARMHOUSE YEAST","Liquide","Haute",0.76,0.82,{"$f":"IFERROR(AVERAGE(Tableau48[[#This Row],[Atténuation min]],Tableau48[[#This Row],[Atténuation max]]),\"\")","v":0.79},23.9,35,75,95,"High","Lithuanian","This culture is a single strain of Sacchromyces cerevisiae , isolated from a Lithuanian Farmhouse mixed culture kindly provided b y Julius Simonaitis via Lars Garshol.\nWhile not a traditional “kveik” yeast, it handles high temperatures and high gravity worts well, with an upper fermentation temperature of 95 ºF.\nAcross a wide temperature range this culture will throw an intriguing mix of orange, tropical fruit and stonefruit esters that is reminiscent of POG Juice (passionfruit, orange, guava), and produces distinct spicy/earthy/herbal undertones."]
["The Yeast Bay FLANDERS SPECIALTY ALE","The Yeast Bay",null,"FLANDERS SPECIALTY ALE","Liquide","Moyenne",0.78,0.82,{"$f":"IFERROR(AVERAGE(Tableau48[[#This Row],[Atténuation min]],Tableau48[[#This Row],[Atténuation max]]),\"\")","v":0.8},20,26.7,68,80,"High","Belgian Ale","Flanders Specialty Ale is a single strain of Saccharomyces cerevisiae isolated from a fascinating Belgian producer of a wide array of traditional Belgian beer styles.\nThis is a versatile yeast that will ferment fairly dry and produce a balanced flavor and aroma profile laced with a myriad of esters and phenols."]
["The Yeast Bay SAISON BLEND II","The Yeast Bay",null,"SAISON BLEND II","Liquide","Moyenne",0.85,1,{"$f":"IFERROR(AVERAGE(Tableau48[[#This Row],[Atténuation min]],Tableau48[[#This Row],[Atténuation max]]),\"\")","v":0.92500000000000004},20,26.7,68,80,"High","Belgian Ale","This combination of Saccharomyces cerevisiae strains embodies the balanced fusion of the two foremost saison flavor/aroma characters, fruitiness and earthiness.\nEach Saccharomyces strain in this blend produces flavor compounds that serve as the yin to the other's yang, and the result is an exceptionally complex yet balanced flavor and aroma profile.\nOne strain will serve to create an ester profile of grapefruit and orange zest, while the other will produce a mild earthiness and spiciness. *DIASTATIC COMPONENT"]
["The Yeast Bay WALLONIAN FARMHOUSE I ","The Yeast Bay",null,"WALLONIAN FARMHOUSE I ","Liquide","Moyenne",0.81,1,{"$f":"IFERROR(AVERAGE(Tableau48[[#This Row],[Atténuation min]],Tableau48[[#This Row],[Atténuation max]]),\"\")","v":0.90500000000000003},22.2,26.7,72,80,"High","Belgian Ale","Isolated from a unique farmhouse-style ale that hails from the Walloon region of Belgium, this strain of Saccharomyces cerevisiae is one of the funkier \"clean\" yeast we have in our stable.\nIt imparts a slight earthy funk and tart character to the beer, and is a very mild producer of slightly spicy and mildly smokey flavor compounds.\nWe recommend controlling the dryness b y adding malts or adjuncts to the mash tun that will lend some body and residual sweetness to the beer. *DIASTATIC"]
["The Yeast Bay MIDWESTERN ALE","The Yeast Bay",null,"MIDWESTERN ALE","Liquide","Moyenne",0.76,0.8,{"$f":"IFERROR(AVERAGE(Tableau48[[#This Row],[Atténuation min]],Tableau48[[#This Row],[Atténuation max]]),\"\")","v":0.78},17.8,22.2,64,72,"Medium - High","American/British Ale","Midwestern Ale yeast is a single strain of Saccharomyces cerevisiae isolated from a storied brewery in the heartland of America, well suited for fermentation of a broad spectrum of worts.\nA relatively fast fermenter with good attenuation, expect this yeast to ferment cleaner with a low ester profile at the cooler fermentation temperatures, and produce a more pronounced ester profile at warmer fermentation temperatures.\nThis yeast is a great choice for a versatile house yeast."]
["The Yeast Bay KVEIK'N HILLS","The Yeast Bay",null,"KVEIK'N HILLS","Liquide","Moyenne - Haute",0.78,0.83,{"$f":"IFERROR(AVERAGE(Tableau48[[#This Row],[Atténuation min]],Tableau48[[#This Row],[Atténuation max]]),\"\")","v":0.80499999999999994},21.1,37.799999999999997,70,100,"High","Beta","This culture is the marriage of our M. reukaufii isolate from the Berkeley Hills of California with Sigmund’s Voss Kveik.\nExpect this culture to ferment to approximately the same dryness as Sigmund’s Voss Kveik alone with a softer finish on the back end, especially noticeable in more heavily hop worts.\nWhile still citrus-ester forward, a more complex and accentuated aroma and flavor profile will develop based upon the hop profile chosen of the beer."]
["The Yeast Bay LITHUANIA'N HILLS","The Yeast Bay",null,"LITHUANIA'N HILLS","Liquide","Moyenne - Haute",0.76,0.82,{"$f":"IFERROR(AVERAGE(Tableau48[[#This Row],[Atténuation min]],Tableau48[[#This Row],[Atténuation max]]),\"\")","v":0.79},23.9,35,75,95,"High","Beta","This culture is the marriage of our M. reukaufii isolate from the Berkeley Hills of California with Simonaitis Lithuanian Farmhouse yeast.\nExpect this culture to ferment to approximately the same dryness as Simonaitis Lithuanian Farmhouse alone with a softer finish on the back end, especially noticeable in more heavily hop worts. A more complex and accentuated ester profile of POG Juice (passionfruit, orange, guava) will evolve based upon the hop profile chosen of the beer."]
["The Yeast Bay DRY BELGIAN ALE","The Yeast Bay",null,"DRY BELGIAN ALE","Liquide","Moyenne - Haute",0.85,1,{"$f":"IFERROR(AVERAGE(Tableau48[[#This Row],[Atténuation min]],Tableau48[[#This Row],[Atténuation max]]),\"\")","v":0.92500000000000004},20,23.3,68,74,"High","Belgian Ale","Dry Belgian Ale is single strain of Saccharomyces cerevisiae isolated from a unique golden strong ale.\nThe profile is a complex and balanced mix of apple, pear and light citrus fruit with some mild spicy and peppery notes.\nThis strain is highly attenuative and alcohol tolerant.\nFor a yeast that's as dry as it is, it creates beers with a surprising amount of body even without the use of specialty grains or adjuncts. *DIASTATIC"]
["The Yeast Bay LACTOBACILLUS BLEND","The Yeast Bay",null,"LACTOBACILLUS BLEND","Liquide","N/A",0.05,0.05,{"$f":"IFERROR(AVERAGE(Tableau48[[#This Row],[Atténuation min]],Tableau48[[#This Row],[Atténuation max]]),\"\")","v":0.05},21.1,32.200000000000003,70,90,"N/A","Lactic Acid Bacteria"]
[{"$f":"Tableau48[[#This Row],[Fournisseur]]&\" \"&Tableau48[[#This Row],[Nom]]","v":" "},null,null,null,null,null,null,null,{"$f":"IFERROR(AVERAGE(Tableau48[[#This Row],[Atténuation min]],Tableau48[[#This Row],[Atténuation max]]),\"\")","v":""}]
[{"$f":"Tableau48[[#This Row],[Fournisseur]]&\" \"&Tableau48[[#This Row],[Nom]]","v":" "},null,null,null,null,null,null,null,{"$f":"IFERROR(AVERAGE(Tableau48[[#This Row],[Atténuation min]],Tableau48[[#This Row],[Atténuation max]]),\"\")","v":""}]
[{"$f":"Tableau48[[#This Row],[Fournisseur]]&\" \"&Tableau48[[#This Row],[Nom]]","v":" "},null,null,null,null,null,null,null,{"$f":"IFERROR(AVERAGE(Tableau48[[#This Row],[Atténuation min]],Tableau48[[#This Row],[Atténuation max]]),\"\")","v":""}]
[{"$f":"Tableau48[[#This Row],[Fournisseur]]&\" \"&Tableau48[[#This Row],[Nom]]","v":" "},null,null,null,null,null,null,null,{"$f":"IFERROR(AVERAGE(Tableau48[[#This Row],[Atténuation min]],Tableau48[[#This Row],[Atténuation max]]),\"\")","v":""}]
[{"$f":"Tableau48[[#This Row],[Fournisseur]]&\" \"&Tableau48[[#This Row],[Nom]]","v":" "},null,null,null,null,null,null,null,{"$f":"IFERROR(AVERAGE(Tableau48[[#This Row],[Atténuation min]],Tableau48[[#This Row],[Atténuation max]]),\"\")","v":""}]
[{"$f":"Tableau48[[#This Row],[Fournisseur]]&\" \"&Tableau48[[#This Row],[Nom]]","v":" "},null,null,null,null,null,null,null,{"$f":"IFERROR(AVERAGE(Tableau48[[#This Row],[Atténuation min]],Tableau48[[#This Row],[Atténuation max]]),\"\")","v":""}]
[{"$f":"Tableau48[[#This Row],[Fournisseur]]&\" \"&Tableau48[[#This Row],[Nom]]","v":" "},null,null,null,null,null,null,null,{"$f":"IFERROR(AVERAGE(Tableau48[[#This Row],[Atténuation min]],Tableau48[[#This Row],[Atténuation max]]),\"\")","v":""}]
[{"$f":"Tableau48[[#This Row],[Fournisseur]]&\" \"&Tableau48[[#This Row],[Nom]]","v":" "},null,null,null,null,null,null,null,{"$f":"IFERROR(AVERAGE(Tableau48[[#This Row],[Atténuation min]],Tableau48[[#This Row],[Atténuation max]]),\"\")","v":""}]
[{"$f":"Tableau48[[#This Row],[Fournisseur]]&\" \"&Tableau48[[#This Row],[Nom]]","v":" "},null,null,null,null,null,null,null,{"$f":"IFERROR(AVERAGE(Tableau48[[#This Row],[Atténuation min]],Tableau48[[#This Row],[Atténuation max]]),\"\")","v":""}]
[{"$f":"Tableau48[[#This Row],[Fournisseur]]&\" \"&Tableau48[[#This Row],[Nom]]","v":" "},null,null,null,null,null,null,null,{"$f":"IFERROR(AVERAGE(Tableau48[[#This Row],[Atténuation min]],Tableau48[[#This Row],[Atténuation max]]),\"\")","v":""}]
[{"$f":"Tableau48[[#This Row],[Fournisseur]]&\" \"&Tableau48[[#This Row],[Nom]]","v":" "},null,null,null,null,null,null,null,{"$f":"IFERROR(AVERAGE(Tableau48[[#This Row],[Atténuation min]],Tableau48[[#This Row],[Atténuation max]]),\"\")","v":""}]
[{"$f":"Tableau48[[#This Row],[Fournisseur]]&\" \"&Tableau48[[#This Row],[Nom]]","v":" "},null,null,null,null,null,null,null,{"$f":"IFERROR(AVERAGE(Tableau48[[#This Row],[Atténuation min]],Tableau48[[#This Row],[Atténuation max]]),\"\")","v":""}]
[{"$f":"Tableau48[[#This Row],[Fournisseur]]&\" \"&Tableau48[[#This Row],[Nom]]","v":" "},null,null,null,null,null,null,null,{"$f":"IFERROR(AVERAGE(Tableau48[[#This Row],[Atténuation min]],Tableau48[[#This Row],[Atténuation max]]),\"\")","v":""}]
[{"$f":"Tableau48[[#This Row],[Fournisseur]]&\" \"&Tableau48[[#This Row],[Nom]]","v":" "},null,null,null,null,null,null,null,{"$f":"IFERROR(AVERAGE(Tableau48[[#This Row],[Atténuation min]],Tableau48[[#This Row],[Atténuation max]]),\"\")","v":""}]
[{"$f":"Tableau48[[#This Row],[Fournisseur]]&\" \"&Tableau48[[#This Row],[Nom]]","v":" "},null,null,null,null,null,null,null,{"$f":"IFERROR(AVERAGE(Tableau48[[#This Row],[Atténuation min]],Tableau48[[#This Row],[Atténuation max]]),\"\")","v":""}]
[{"$f":"Tableau48[[#This Row],[Fournisseur]]&\" \"&Tableau48[[#This Row],[Nom]]","v":" "},null,null,null,null,null,null,null,{"$f":"IFERROR(AVERAGE(Tableau48[[#This Row],[Atténuation min]],Tableau48[[#This Row],[Atténuation max]]),\"\")","v":""}]
[{"$f":"Tableau48[[#This Row],[Fournisseur]]&\" \"&Tableau48[[#This Row],[Nom]]","v":" "},null,null,null,null,null,null,null,{"$f":"IFERROR(AVERAGE(Tableau48[[#This Row],[Atténuation min]],Tableau48[[#This Row],[Atténuation max]]),\"\")","v":""}]
[{"$f":"Tableau48[[#This Row],[Fournisseur]]&\" \"&Tableau48[[#This Row],[Nom]]","v":" "},null,null,null,null,null,null,null,{"$f":"IFERROR(AVERAGE(Tableau48[[#This Row],[Atténuation min]],Tableau48[[#This Row],[Atténuation max]]),\"\")","v":""}]
[{"$f":"Tableau48[[#This Row],[Fournisseur]]&\" \"&Tableau48[[#This Row],[Nom]]","v":" "},null,null,null,null,null,null,null,{"$f":"IFERROR(AVERAGE(Tableau48[[#This Row],[Atténuation min]],Tableau48[[#This Row],[Atténuation max]]),\"\")","v":""}]
[{"$f":"Tableau48[[#This Row],[Fournisseur]]&\" \"&Tableau48[[#This Row],[Nom]]","v":" "},null,null,null,null,null,null,null,{"$f":"IFERROR(AVERAGE(Tableau48[[#This Row],[Atténuation min]],Tableau48[[#This Row],[Atténuation max]]),\"\")","v":""}]
[{"$f":"Tableau48[[#This Row],[Fournisseur]]&\" \"&Tableau48[[#This Row],[Nom]]","v":" "},null,null,null,null,null,null,null,{"$f":"IFERROR(AVERAGE(Tableau48[[#This Row],[Atténuation min]],Tableau48[[#This Row],[Atténuation max]]),\"\")","v":""}]
[{"$f":"Tableau48[[#This Row],[Fournisseur]]&\" \"&Tableau48[[#This Row],[Nom]]","v":" "},null,null,null,null,null,null,null,{"$f":"IFERROR(AVERAGE(Tableau48[[#This Row],[Atténuation min]],Tableau48[[#This Row],[Atténuation max]]),\"\")","v":""}]
[{"$f":"Tableau48[[#This Row],[Fournisseur]]&\" \"&Tableau48[[#This Row],[Nom]]","v":" "},null,null,null,null,null,null,null,{"$f":"IFERROR(AVERAGE(Tableau48[[#This Row],[Atténuation min]],Tableau48[[#This Row],[Atténuation max]]),\"\")","v":""}]
[{"$f":"Tableau48[[#This Row],[Fournisseur]]&\" \"&Tableau48[[#This Row],[Nom]]","v":" "},null,null,null,null,null,null,null,{"$f":"IFERROR(AVERAGE(Tableau48[[#This Row],[Atténuation min]],Tableau48[[#This Row],[Atténuation max]]),\"\")","v":""}]
[{"$f":"Tableau48[[#This Row],[Fournisseur]]&\" \"&Tableau48[[#This Row],[Nom]]","v":" "},null,null,null,null,null,null,null,{"$f":"IFERROR(AVERAGE(Tableau48[[#This Row],[Atténuation min]],Tableau48[[#This Row],[Atténuation max]]),\"\")","v":""}]
[{"$f":"Tableau48[[#This Row],[Fournisseur]]&\" \"&Tableau48[[#This Row],[Nom]]","v":" "},null,null,null,null,null,null,null,{"$f":"IFERROR(AVERAGE(Tableau48[[#This Row],[Atténuation min]],Tableau48[[#This Row],[Atténuation max]]),\"\")","v":""}]
[{"$f":"Tableau48[[#This Row],[Fournisseur]]&\" \"&Tableau48[[#This Row],[Nom]]","v":" "},null,null,null,null,null,null,null,{"$f":"IFERROR(AVERAGE(Tableau48[[#This Row],[Atténuation min]],Tableau48[[#This Row],[Atténuation max]]),\"\")","v":""}]
[{"$f":"Tableau48[[#This Row],[Fournisseur]]&\" \"&Tableau48[[#This Row],[Nom]]","v":" "},null,null,null,null,null,null,null,{"$f":"IFERROR(AVERAGE(Tableau48[[#This Row],[Atténuation min]],Tableau48[[#This Row],[Atténuation max]]),\"\")","v":""}]
[{"$f":"Tableau48[[#This Row],[Fournisseur]]&\" \"&Tableau48[[#This Row],[Nom]]","v":" "},null,null,null,null,null,null,null,{"$f":"IFERROR(AVERAGE(Tableau48[[#This Row],[Atténuation min]],Tableau48[[#This Row],[Atténuation max]]),\"\")","v":""}]
[{"$f":"Tableau48[[#This Row],[Fournisseur]]&\" \"&Tableau48[[#This Row],[Nom]]","v":" "},null,null,null,null,null,null,null,{"$f":"IFERROR(AVERAGE(Tableau48[[#This Row],[Atténuation min]],Tableau48[[#This Row],[Atténuation max]]),\"\")","v":""}]
[{"$f":"Tableau48[[#This Row],[Fournisseur]]&\" \"&Tableau48[[#This Row],[Nom]]","v":" "},null,null,null,null,null,null,null,{"$f":"IFERROR(AVERAGE(Tableau48[[#This Row],[Atténuation min]],Tableau48[[#This Row],[Atténuation max]]),\"\")","v":""}]
[{"$f":"Tableau48[[#This Row],[Fournisseur]]&\" \"&Tableau48[[#This Row],[Nom]]","v":" "},null,null,null,null,null,null,null,{"$f":"IFERROR(AVERAGE(Tableau48[[#This Row],[Atténuation min]],Tableau48[[#This Row],[Atténuation max]]),\"\")","v":""}]
[{"$f":"Tableau48[[#This Row],[Fournisseur]]&\" \"&Tableau48[[#This Row],[Nom]]","v":" "},null,null,null,null,null,null,null,{"$f":"IFERROR(AVERAGE(Tableau48[[#This Row],[Atténuation min]],Tableau48[[#This Row],[Atténuation max]]),\"\")","v":""}]
[{"$f":"Tableau48[[#This Row],[Fournisseur]]&\" \"&Tableau48[[#This Row],[Nom]]","v":" "},null,null,null,null,null,null,null,{"$f":"IFERROR(AVERAGE(Tableau48[[#This Row],[Atténuation min]],Tableau48[[#This Row],[Atténuation max]]),\"\")","v":""}]
[{"$f":"Tableau48[[#This Row],[Fournisseur]]&\" \"&Tableau48[[#This Row],[Nom]]","v":" "},null,null,null,null,null,null,null,{"$f":"IFERROR(AVERAGE(Tableau48[[#This Row],[Atténuation min]],Tableau48[[#This Row],[Atténuation max]]),\"\")","v":""}]
[{"$f":"Tableau48[[#This Row],[Fournisseur]]&\" \"&Tableau48[[#This Row],[Nom]]","v":" "},null,null,null,null,null,null,null,{"$f":"IFERROR(AVERAGE(Tableau48[[#This Row],[Atténuation min]],Tableau48[[#This Row],[Atténuation max]]),\"\")","v":""}]
[{"$f":"Tableau48[[#This Row],[Fournisseur]]&\" \"&Tableau48[[#This Row],[Nom]]","v":" "},null,null,null,null,null,null,null,{"$f":"IFERROR(AVERAGE(Tableau48[[#This Row],[Atténuation min]],Tableau48[[#This Row],[Atténuation max]]),\"\")","v":""}]
[{"$f":"Tableau48[[#This Row],[Fournisseur]]&\" \"&Tableau48[[#This Row],[Nom]]","v":" "},null,null,null,null,null,null,null,{"$f":"IFERROR(AVERAGE(Tableau48[[#This Row],[Atténuation min]],Tableau48[[#This Row],[Atténuation max]]),\"\")","v":""}]
[{"$f":"Tableau48[[#This Row],[Fournisseur]]&\" \"&Tableau48[[#This Row],[Nom]]","v":" "},null,null,null,null,null,null,null,{"$f":"IFERROR(AVERAGE(Tableau48[[#This Row],[Atténuation min]],Tableau48[[#This Row],[Atténuation max]]),\"\")","v":""}]
[{"$f":"Tableau48[[#This Row],[Fournisseur]]&\" \"&Tableau48[[#This Row],[Nom]]","v":" "},null,null,null,null,null,null,null,{"$f":"IFERROR(AVERAGE(Tableau48[[#This Row],[Atténuation min]],Tableau48[[#This Row],[Atténuation max]]),\"\")","v":""}]
[{"$f":"Tableau48[[#This Row],[Fournisseur]]&\" \"&Tableau48[[#This Row],[Nom]]","v":" "},null,null,null,null,null,null,null,{"$f":"IFERROR(AVERAGE(Tableau48[[#This Row],[Atténuation min]],Tableau48[[#This Row],[Atténuation max]]),\"\")","v":""}]
[{"$f":"Tableau48[[#This Row],[Fournisseur]]&\" \"&Tableau48[[#This Row],[Nom]]","v":" "},null,null,null,null,null,null,null,{"$f":"IFERROR(AVERAGE(Tableau48[[#This Row],[Atténuation min]],Tableau48[[#This Row],[Atténuation max]]),\"\")","v":""}]
[{"$f":"Tableau48[[#This Row],[Fournisseur]]&\" \"&Tableau48[[#This Row],[Nom]]","v":" "},null,null,null,null,null,null,null,{"$f":"IFERROR(AVERAGE(Tableau48[[#This Row],[Atténuation min]],Tableau48[[#This Row],[Atténuation max]]),\"\")","v":""}]
[{"$f":"Tableau48[[#This Row],[Fournisseur]]&\" \"&Tableau48[[#This Row],[Nom]]","v":" "},null,null,null,null,null,null,null,{"$f":"IFERROR(AVERAGE(Tableau48[[#This Row],[Atténuation min]],Tableau48[[#This Row],[Atténuation max]]),\"\")","v":""}]
[{"$f":"Tableau48[[#This Row],[Fournisseur]]&\" \"&Tableau48[[#This Row],[Nom]]","v":" "},null,null,null,null,null,null,null,{"$f":"IFERROR(AVERAGE(Tableau48[[#This Row],[Atténuation min]],Tableau48[[#This Row],[Atténuation max]]),\"\")","v":""}]
[{"$f":"Tableau48[[#This Row],[Fournisseur]]&\" \"&Tableau48[[#This Row],[Nom]]","v":" "},null,null,null,null,null,null,null,{"$f":"IFERROR(AVERAGE(Tableau48[[#This Row],[Atténuation min]],Tableau48[[#This Row],[Atténuation max]]),\"\")","v":""}]
[{"$f":"Tableau48[[#This Row],[Fournisseur]]&\" \"&Tableau48[[#This Row],[Nom]]","v":" "},null,null,null,null,null,null,null,{"$f":"IFERROR(AVERAGE(Tableau48[[#This Row],[Atténuation min]],Tableau48[[#This Row],[Atténuation max]]),\"\")","v":""}]
[{"$f":"Tableau48[[#This Row],[Fournisseur]]&\" \"&Tableau48[[#This Row],[Nom]]","v":" "},null,null,null,null,null,null,null,{"$f":"IFERROR(AVERAGE(Tableau48[[#This Row],[Atténuation min]],Tableau48[[#This Row],[Atténuation max]]),\"\")","v":""}]
[{"$f":"Tableau48[[#This Row],[Fournisseur]]&\" \"&Tableau48[[#This Row],[Nom]]","v":" "},null,null,null,null,null,null,null,{"$f":"IFERROR(AVERAGE(Tableau48[[#This Row],[Atténuation min]],Tableau48[[#This Row],[Atténuation max]]),\"\")","v":""}]
[{"$f":"Tableau48[[#This Row],[Fournisseur]]&\" \"&Tableau48[[#This Row],[Nom]]","v":" "},null,null,null,null,null,null,null,{"$f":"IFERROR(AVERAGE(Tableau48[[#This Row],[Atténuation min]],Tableau48[[#This Row],[Atténuation max]]),\"\")","v":""}]
[{"$f":"Tableau48[[#This Row],[Fournisseur]]&\" \"&Tableau48[[#This Row],[Nom]]","v":" "},null,null,null,null,null,null,null,{"$f":"IFERROR(AVERAGE(Tableau48[[#This Row],[Atténuation min]],Tableau48[[#This Row],[Atténuation max]]),\"\")","v":""}]
[{"$f":"Tableau48[[#This Row],[Fournisseur]]&\" \"&Tableau48[[#This Row],[Nom]]","v":" "},null,null,null,null,null,null,null,{"$f":"IFERROR(AVERAGE(Tableau48[[#This Row],[Atténuation min]],Tableau48[[#This Row],[Atténuation max]]),\"\")","v":""}]
[{"$f":"Tableau48[[#This Row],[Fournisseur]]&\" \"&Tableau48[[#This Row],[Nom]]","v":" "},null,null,null,null,null,null,null,{"$f":"IFERROR(AVERAGE(Tableau48[[#This Row],[Atténuation min]],Tableau48[[#This Row],[Atténuation max]]),\"\")","v":""}]
[{"$f":"Tableau48[[#This Row],[Fournisseur]]&\" \"&Tableau48[[#This Row],[Nom]]","v":" "},null,null,null,null,null,null,null,{"$f":"IFERROR(AVERAGE(Tableau48[[#This Row],[Atténuation min]],Tableau48[[#This Row],[Atténuation max]]),\"\")","v":""}]
[{"$f":"Tableau48[[#This Row],[Fournisseur]]&\" \"&Tableau48[[#This Row],[Nom]]","v":" "},null,null,null,null,null,null,null,{"$f":"IFERROR(AVERAGE(Tableau48[[#This Row],[Atténuation min]],Tableau48[[#This Row],[Atténuation max]]),\"\")","v":""}]
[{"$f":"Tableau48[[#This Row],[Fournisseur]]&\" \"&Tableau48[[#This Row],[Nom]]","v":" "},null,null,null,null,null,null,null,{"$f":"IFERROR(AVERAGE(Tableau48[[#This Row],[Atténuation min]],Tableau48[[#This Row],[Atténuation max]]),\"\")","v":""}]
[{"$f":"Tableau48[[#This Row],[Fournisseur]]&\" \"&Tableau48[[#This Row],[Nom]]","v":" "},null,null,null,null,null,null,null,{"$f":"IFERROR(AVERAGE(Tableau48[[#This Row],[Atténuation min]],Tableau48[[#This Row],[Atténuation max]]),\"\")","v":""}]
[{"$f":"Tableau48[[#This Row],[Fournisseur]]&\" \"&Tableau48[[#This Row],[Nom]]","v":" "},null,null,null,null,null,null,null,{"$f":"IFERROR(AVERAGE(Tableau48[[#This Row],[Atténuation min]],Tableau48[[#This Row],[Atténuation max]]),\"\")","v":""}]
[{"$f":"Tableau48[[#This Row],[Fournisseur]]&\" \"&Tableau48[[#This Row],[Nom]]","v":" "},null,null,null,null,null,null,null,{"$f":"IFERROR(AVERAGE(Tableau48[[#This Row],[Atténuation min]],Tableau48[[#This Row],[Atténuation max]]),\"\")","v":""}]
[{"$f":"Tableau48[[#This Row],[Fournisseur]]&\" \"&Tableau48[[#This Row],[Nom]]","v":" "},null,null,null,null,null,null,null,{"$f":"IFERROR(AVERAGE(Tableau48[[#This Row],[Atténuation min]],Tableau48[[#This Row],[Atténuation max]]),\"\")","v":""}]
[{"$f":"Tableau48[[#This Row],[Fournisseur]]&\" \"&Tableau48[[#This Row],[Nom]]","v":" "},null,null,null,null,null,null,null,{"$f":"IFERROR(AVERAGE(Tableau48[[#This Row],[Atténuation min]],Tableau48[[#This Row],[Atténuation max]]),\"\")","v":""}]
[{"$f":"Tableau48[[#This Row],[Fournisseur]]&\" \"&Tableau48[[#This Row],[Nom]]","v":" "},null,null,null,null,null,null,null,{"$f":"IFERROR(AVERAGE(Tableau48[[#This Row],[Atténuation min]],Tableau48[[#This Row],[Atténuation max]]),\"\")","v":""}]
[{"$f":"Tableau48[[#This Row],[Fournisseur]]&\" \"&Tableau48[[#This Row],[Nom]]","v":" "},null,null,null,null,null,null,null,{"$f":"IFERROR(AVERAGE(Tableau48[[#This Row],[Atténuation min]],Tableau48[[#This Row],[Atténuation max]]),\"\")","v":""}]
[{"$f":"Tableau48[[#This Row],[Fournisseur]]&\" \"&Tableau48[[#This Row],[Nom]]","v":" "},null,null,null,null,null,null,null,{"$f":"IFERROR(AVERAGE(Tableau48[[#This Row],[Atténuation min]],Tableau48[[#This Row],[Atténuation max]]),\"\")","v":""}]
[{"$f":"Tableau48[[#This Row],[Fournisseur]]&\" \"&Tableau48[[#This Row],[Nom]]","v":" "},null,null,null,null,null,null,null,{"$f":"IFERROR(AVERAGE(Tableau48[[#This Row],[Atténuation min]],Tableau48[[#This Row],[Atténuation max]]),\"\")","v":""}]
[{"$f":"Tableau48[[#This Row],[Fournisseur]]&\" \"&Tableau48[[#This Row],[Nom]]","v":" "},null,null,null,null,null,null,null,{"$f":"IFERROR(AVERAGE(Tableau48[[#This Row],[Atténuation min]],Tableau48[[#This Row],[Atténuation max]]),\"\")","v":""}]
[{"$f":"Tableau48[[#This Row],[Fournisseur]]&\" \"&Tableau48[[#This Row],[Nom]]","v":" "},null,null,null,null,null,null,null,{"$f":"IFERROR(AVERAGE(Tableau48[[#This Row],[Atténuation min]],Tableau48[[#This Row],[Atténuation max]]),\"\")","v":""}]
[{"$f":"Tableau48[[#This Row],[Fournisseur]]&\" \"&Tableau48[[#This Row],[Nom]]","v":" "},null,null,null,null,null,null,null,{"$f":"IFERROR(AVERAGE(Tableau48[[#This Row],[Atténuation min]],Tableau48[[#This Row],[Atténuation max]]),\"\")","v":""}]
[{"$f":"Tableau48[[#This Row],[Fournisseur]]&\" \"&Tableau48[[#This Row],[Nom]]","v":" "},null,null,null,null,null,null,null,{"$f":"IFERROR(AVERAGE(Tableau48[[#This Row],[Atténuation min]],Tableau48[[#This Row],[Atténuation max]]),\"\")","v":""}]
[{"$f":"Tableau48[[#This Row],[Fournisseur]]&\" \"&Tableau48[[#This Row],[Nom]]","v":" "},null,null,null,null,null,null,null,{"$f":"IFERROR(AVERAGE(Tableau48[[#This Row],[Atténuation min]],Tableau48[[#This Row],[Atténuation max]]),\"\")","v":""}]
[{"$f":"Tableau48[[#This Row],[Fournisseur]]&\" \"&Tableau48[[#This Row],[Nom]]","v":" "},null,null,null,null,null,null,null,{"$f":"IFERROR(AVERAGE(Tableau48[[#This Row],[Atténuation min]],Tableau48[[#This Row],[Atténuation max]]),\"\")","v":""}]
[{"$f":"Tableau48[[#This Row],[Fournisseur]]&\" \"&Tableau48[[#This Row],[Nom]]","v":" "},null,null,null,null,null,null,null,{"$f":"IFERROR(AVERAGE(Tableau48[[#This Row],[Atténuation min]],Tableau48[[#This Row],[Atténuation max]]),\"\")","v":""}]
[{"$f":"Tableau48[[#This Row],[Fournisseur]]&\" \"&Tableau48[[#This Row],[Nom]]","v":" "},null,null,null,null,null,null,null,{"$f":"IFERROR(AVERAGE(Tableau48[[#This Row],[Atténuation min]],Tableau48[[#This Row],[Atténuation max]]),\"\")","v":""}]
[{"$f":"Tableau48[[#This Row],[Fournisseur]]&\" \"&Tableau48[[#This Row],[Nom]]","v":" "},null,null,null,null,null,null,null,{"$f":"IFERROR(AVERAGE(Tableau48[[#This Row],[Atténuation min]],Tableau48[[#This Row],[Atténuation max]]),\"\")","v":""}]
[{"$f":"Tableau48[[#This Row],[Fournisseur]]&\" \"&Tableau48[[#This Row],[Nom]]","v":" "},null,null,null,null,null,null,null,{"$f":"IFERROR(AVERAGE(Tableau48[[#This Row],[Atténuation min]],Tableau48[[#This Row],[Atténuation max]]),\"\")","v":""}]
[{"$f":"Tableau48[[#This Row],[Fournisseur]]&\" \"&Tableau48[[#This Row],[Nom]]","v":" "},null,null,null,null,null,null,null,{"$f":"IFERROR(AVERAGE(Tableau48[[#This Row],[Atténuation min]],Tableau48[[#This Row],[Atténuation max]]),\"\")","v":""}]
[{"$f":"Tableau48[[#This Row],[Fournisseur]]&\" \"&Tableau48[[#This Row],[Nom]]","v":" "},null,null,null,null,null,null,null,{"$f":"IFERROR(AVERAGE(Tableau48[[#This Row],[Atténuation min]],Tableau48[[#This Row],[Atténuation max]]),\"\")","v":""}]
[{"$f":"Tableau48[[#This Row],[Fournisseur]]&\" \"&Tableau48[[#This Row],[Nom]]","v":" "},null,null,null,null,null,null,null,{"$f":"IFERROR(AVERAGE(Tableau48[[#This Row],[Atténuation min]],Tableau48[[#This Row],[Atténuation max]]),\"\")","v":""}]
[{"$f":"Tableau48[[#This Row],[Fournisseur]]&\" \"&Tableau48[[#This Row],[Nom]]","v":" "},null,null,null,null,null,null,null,{"$f":"IFERROR(AVERAGE(Tableau48[[#This Row],[Atténuation min]],Tableau48[[#This Row],[Atténuation max]]),\"\")","v":""}]
[{"$f":"Tableau48[[#This Row],[Fournisseur]]&\" \"&Tableau48[[#This Row],[Nom]]","v":" "},null,null,null,null,null,null,null,{"$f":"IFERROR(AVERAGE(Tableau48[[#This Row],[Atténuation min]],Tableau48[[#This Row],[Atténuation max]]),\"\")","v":""}]
[{"$f":"Tableau48[[#This Row],[Fournisseur]]&\" \"&Tableau48[[#This Row],[Nom]]","v":" "},null,null,null,null,null,null,null,{"$f":"IFERROR(AVERAGE(Tableau48[[#This Row],[Atténuation min]],Tableau48[[#This Row],[Atténuation max]]),\"\")","v":""}]
[{"$f":"Tableau48[[#This Row],[Fournisseur]]&\" \"&Tableau48[[#This Row],[Nom]]","v":" "},null,null,null,null,null,null,null,{"$f":"IFERROR(AVERAGE(Tableau48[[#This Row],[Atténuation min]],Tableau48[[#This Row],[Atténuation max]]),\"\")","v":""}]
[{"$f":"Tableau48[[#This Row],[Fournisseur]]&\" \"&Tableau48[[#This Row],[Nom]]","v":" "},null,null,null,null,null,null,null,{"$f":"IFERROR(AVERAGE(Tableau48[[#This Row],[Atténuation min]],Tableau48[[#This Row],[Atténuation max]]),\"\")","v":""}]
[{"$f":"Tableau48[[#This Row],[Fournisseur]]&\" \"&Tableau48[[#This Row],[Nom]]","v":" "},null,null,null,null,null,null,null,{"$f":"IFERROR(AVERAGE(Tableau48[[#This Row],[Atténuation min]],Tableau48[[#This Row],[Atténuation max]]),\"\")","v":""}]
[{"$f":"Tableau48[[#This Row],[Fournisseur]]&\" \"&Tableau48[[#This Row],[Nom]]","v":" "},null,null,null,null,null,null,null,{"$f":"IFERROR(AVERAGE(Tableau48[[#This Row],[Atténuation min]],Tableau48[[#This Row],[Atténuation max]]),\"\")","v":""}]
[{"$f":"Tableau48[[#This Row],[Fournisseur]]&\" \"&Tableau48[[#This Row],[Nom]]","v":" "},null,null,null,null,null,null,null,{"$f":"IFERROR(AVERAGE(Tableau48[[#This Row],[Atténuation min]],Tableau48[[#This Row],[Atténuation max]]),\"\")","v":""}]
[{"$f":"Tableau48[[#This Row],[Fournisseur]]&\" \"&Tableau48[[#This Row],[Nom]]","v":" "},null,null,null,null,null,null,null,{"$f":"IFERROR(AVERAGE(Tableau48[[#This Row],[Atténuation min]],Tableau48[[#This Row],[Atténuation max]]),\"\")","v":""}]
[{"$f":"Tableau48[[#This Row],[Fournisseur]]&\" \"&Tableau48[[#This Row],[Nom]]","v":" "},null,null,null,null,null,null,null,{"$f":"IFERROR(AVERAGE(Tableau48[[#This Row],[Atténuation min]],Tableau48[[#This Row],[Atténuation max]]),\"\")","v":""}]
[{"$f":"Tableau48[[#This Row],[Fournisseur]]&\" \"&Tableau48[[#This Row],[Nom]]","v":" "},null,null,null,null,null,null,null,{"$f":"IFERROR(AVERAGE(Tableau48[[#This Row],[Atténuation min]],Tableau48[[#This Row],[Atténuation max]]),\"\")","v":""}]
[{"$f":"Tableau48[[#This Row],[Fournisseur]]&\" \"&Tableau48[[#This Row],[Nom]]","v":" "},null,null,null,null,null,null,null,{"$f":"IFERROR(AVERAGE(Tableau48[[#This Row],[Atténuation min]],Tableau48[[#This Row],[Atténuation max]]),\"\")","v":""}]
[{"$f":"Tableau48[[#This Row],[Fournisseur]]&\" \"&Tableau48[[#This Row],[Nom]]","v":" "},null,null,null,null,null,null,null,{"$f":"IFERROR(AVERAGE(Tableau48[[#This Row],[Atténuation min]],Tableau48[[#This Row],[Atténuation max]]),\"\")","v":""}]
[{"$f":"Tableau48[[#This Row],[Fournisseur]]&\" \"&Tableau48[[#This Row],[Nom]]","v":" "},null,null,null,null,null,null,null,{"$f":"IFERROR(AVERAGE(Tableau48[[#This Row],[Atténuation min]],Tableau48[[#This Row],[Atténuation max]]),\"\")","v":""}]
[{"$f":"Tableau48[[#This Row],[Fournisseur]]&\" \"&Tableau48[[#This Row],[Nom]]","v":" "},null,null,null,null,null,null,null,{"$f":"IFERROR(AVERAGE(Tableau48[[#This Row],[Atténuation min]],Tableau48[[#This Row],[Atténuation max]]),\"\")","v":""}]
[{"$f":"Tableau48[[#This Row],[Fournisseur]]&\" \"&Tableau48[[#This Row],[Nom]]","v":" "},null,null,null,null,null,null,null,{"$f":"IFERROR(AVERAGE(Tableau48[[#This Row],[Atténuation min]],Tableau48[[#This Row],[Atténuation max]]),\"\")","v":""}]
[{"$f":"Tableau48[[#This Row],[Fournisseur]]&\" \"&Tableau48[[#This Row],[Nom]]","v":" "},null,null,null,null,null,null,null,{"$f":"IFERROR(AVERAGE(Tableau48[[#This Row],[Atténuation min]],Tableau48[[#This Row],[Atténuation max]]),\"\")","v":""}]
[{"$f":"Tableau48[[#This Row],[Fournisseur]]&\" \"&Tableau48[[#This Row],[Nom]]","v":" "},null,null,null,null,null,null,null,{"$f":"IFERROR(AVERAGE(Tableau48[[#This Row],[Atténuation min]],Tableau48[[#This Row],[Atténuation max]]),\"\")","v":""}]
[{"$f":"Tableau48[[#This Row],[Fournisseur]]&\" \"&Tableau48[[#This Row],[Nom]]","v":" "},null,null,null,null,null,null,null,{"$f":"IFERROR(AVERAGE(Tableau48[[#This Row],[Atténuation min]],Tableau48[[#This Row],[Atténuation max]]),\"\")","v":""}]
[{"$f":"Tableau48[[#This Row],[Fournisseur]]&\" \"&Tableau48[[#This Row],[Nom]]","v":" "},null,null,null,null,null,null,null,{"$f":"IFERROR(AVERAGE(Tableau48[[#This Row],[Atténuation min]],Tableau48[[#This Row],[Atténuation max]]),\"\")","v":""}]
[{"$f":"Tableau48[[#This Row],[Fournisseur]]&\" \"&Tableau48[[#This Row],[Nom]]","v":" "},null,null,null,null,null,null,null,{"$f":"IFERROR(AVERAGE(Tableau48[[#This Row],[Atténuation min]],Tableau48[[#This Row],[Atténuation max]]),\"\")","v":""}]
[{"$f":"Tableau48[[#This Row],[Fournisseur]]&\" \"&Tableau48[[#This Row],[Nom]]","v":" "},null,null,null,null,null,null,null,{"$f":"IFERROR(AVERAGE(Tableau48[[#This Row],[Atténuation min]],Tableau48[[#This Row],[Atténuation max]]),\"\")","v":""}]
[{"$f":"Tableau48[[#This Row],[Fournisseur]]&\" \"&Tableau48[[#This Row],[Nom]]","v":" "},null,null,null,null,null,null,null,{"$f":"IFERROR(AVERAGE(Tableau48[[#This Row],[Atténuation min]],Tableau48[[#This Row],[Atténuation max]]),\"\")","v":""}]
[{"$f":"Tableau48[[#This Row],[Fournisseur]]&\" \"&Tableau48[[#This Row],[Nom]]","v":" "},null,null,null,null,null,null,null,{"$f":"IFERROR(AVERAGE(Tableau48[[#This Row],[Atténuation min]],Tableau48[[#This Row],[Atténuation max]]),\"\")","v":""}]
[{"$f":"Tableau48[[#This Row],[Fournisseur]]&\" \"&Tableau48[[#This Row],[Nom]]","v":" "},null,null,null,null,null,null,null,{"$f":"IFERROR(AVERAGE(Tableau48[[#This Row],[Atténuation min]],Tableau48[[#This Row],[Atténuation max]]),\"\")","v":""}]
[{"$f":"Tableau48[[#This Row],[Fournisseur]]&\" \"&Tableau48[[#This Row],[Nom]]","v":" "},null,null,null,null,null,null,null,{"$f":"IFERROR(AVERAGE(Tableau48[[#This Row],[Atténuation min]],Tableau48[[#This Row],[Atténuation max]]),\"\")","v":""}]
[{"$f":"Tableau48[[#This Row],[Fournisseur]]&\" \"&Tableau48[[#This Row],[Nom]]","v":" "},null,null,null,null,null,null,null,{"$f":"IFERROR(AVERAGE(Tableau48[[#This Row],[Atténuation min]],Tableau48[[#This Row],[Atténuation max]]),\"\")","v":""}]
[{"$f":"Tableau48[[#This Row],[Fournisseur]]&\" \"&Tableau48[[#This Row],[Nom]]","v":" "},null,null,null,null,null,null,null,{"$f":"IFERROR(AVERAGE(Tableau48[[#This Row],[Atténuation min]],Tableau48[[#This Row],[Atténuation max]]),\"\")","v":""}]
[{"$f":"Tableau48[[#This Row],[Fournisseur]]&\" \"&Tableau48[[#This Row],[Nom]]","v":" "},null,null,null,null,null,null,null,{"$f":"IFERROR(AVERAGE(Tableau48[[#This Row],[Atténuation min]],Tableau48[[#This Row],[Atténuation max]]),\"\")","v":""}]
[{"$f":"Tableau48[[#This Row],[Fournisseur]]&\" \"&Tableau48[[#This Row],[Nom]]","v":" "},null,null,null,null,null,null,null,{"$f":"IFERROR(AVERAGE(Tableau48[[#This Row],[Atténuation min]],Tableau48[[#This Row],[Atténuation max]]),\"\")","v":""}]
[{"$f":"Tableau48[[#This Row],[Fournisseur]]&\" \"&Tableau48[[#This Row],[Nom]]","v":" "},null,null,null,null,null,null,null,{"$f":"IFERROR(AVERAGE(Tableau48[[#This Row],[Atténuation min]],Tableau48[[#This Row],[Atténuation max]]),\"\")","v":""}]
[{"$f":"Tableau48[[#This Row],[Fournisseur]]&\" \"&Tableau48[[#This Row],[Nom]]","v":" "},null,null,null,null,null,null,null,{"$f":"IFERROR(AVERAGE(Tableau48[[#This Row],[Atténuation min]],Tableau48[[#This Row],[Atténuation max]]),\"\")","v":""}]
[{"$f":"Tableau48[[#This Row],[Fournisseur]]&\" \"&Tableau48[[#This Row],[Nom]]","v":" "},null,null,null,null,null,null,null,{"$f":"IFERROR(AVERAGE(Tableau48[[#This Row],[Atténuation min]],Tableau48[[#This Row],[Atténuation max]]),\"\")","v":""}]
[{"$f":"Tableau48[[#This Row],[Fournisseur]]&\" \"&Tableau48[[#This Row],[Nom]]","v":" "},null,null,null,null,null,null,null,{"$f":"IFERROR(AVERAGE(Tableau48[[#This Row],[Atténuation min]],Tableau48[[#This Row],[Atténuation max]]),\"\")","v":""}]
[{"$f":"Tableau48[[#This Row],[Fournisseur]]&\" \"&Tableau48[[#This Row],[Nom]]","v":" "},null,null,null,null,null,null,null,{"$f":"IFERROR(AVERAGE(Tableau48[[#This Row],[Atténuation min]],Tableau48[[#This Row],[Atténuation max]]),\"\")","v":""}]
[{"$f":"Tableau48[[#This Row],[Fournisseur]]&\" \"&Tableau48[[#This Row],[Nom]]","v":" "},null,null,null,null,null,null,null,{"$f":"IFERROR(AVERAGE(Tableau48[[#This Row],[Atténuation min]],Tableau48[[#This Row],[Atténuation max]]),\"\")","v":""}]
[{"$f":"Tableau48[[#This Row],[Fournisseur]]&\" \"&Tableau48[[#This Row],[Nom]]","v":" "},null,null,null,null,null,null,null,{"$f":"IFERROR(AVERAGE(Tableau48[[#This Row],[Atténuation min]],Tableau48[[#This Row],[Atténuation max]]),\"\")","v":""}]
[{"$f":"Tableau48[[#This Row],[Fournisseur]]&\" \"&Tableau48[[#This Row],[Nom]]","v":" "},null,null,null,null,null,null,null,{"$f":"IFERROR(AVERAGE(Tableau48[[#This Row],[Atténuation min]],Tableau48[[#This Row],[Atténuation max]]),\"\")","v":""}]
[{"$f":"Tableau48[[#This Row],[Fournisseur]]&\" \"&Tableau48[[#This Row],[Nom]]","v":" "},null,null,null,null,null,null,null,{"$f":"IFERROR(AVERAGE(Tableau48[[#This Row],[Atténuation min]],Tableau48[[#This Row],[Atténuation max]]),\"\")","v":""}]
[{"$f":"Tableau48[[#This Row],[Fournisseur]]&\" \"&Tableau48[[#This Row],[Nom]]","v":" "},null,null,null,null,null,null,null,{"$f":"IFERROR(AVERAGE(Tableau48[[#This Row],[Atténuation min]],Tableau48[[#This Row],[Atténuation max]]),\"\")","v":""}]
[{"$f":"Tableau48[[#This Row],[Fournisseur]]&\" \"&Tableau48[[#This Row],[Nom]]","v":" "},null,null,null,null,null,null,null,{"$f":"IFERROR(AVERAGE(Tableau48[[#This Row],[Atténuation min]],Tableau48[[#This Row],[Atténuation max]]),\"\")","v":""}]
[{"$f":"Tableau48[[#This Row],[Fournisseur]]&\" \"&Tableau48[[#This Row],[Nom]]","v":" "},null,null,null,null,null,null,null,{"$f":"IFERROR(AVERAGE(Tableau48[[#This Row],[Atténuation min]],Tableau48[[#This Row],[Atténuation max]]),\"\")","v":""}]
[{"$f":"Tableau48[[#This Row],[Fournisseur]]&\" \"&Tableau48[[#This Row],[Nom]]","v":" "},null,null,null,null,null,null,null,{"$f":"IFERROR(AVERAGE(Tableau48[[#This Row],[Atténuation min]],Tableau48[[#This Row],[Atténuation max]]),\"\")","v":""}]
[{"$f":"Tableau48[[#This Row],[Fournisseur]]&\" \"&Tableau48[[#This Row],[Nom]]","v":" "},null,null,null,null,null,null,null,{"$f":"IFERROR(AVERAGE(Tableau48[[#This Row],[Atténuation min]],Tableau48[[#This Row],[Atténuation max]]),\"\")","v":""}]
[{"$f":"Tableau48[[#This Row],[Fournisseur]]&\" \"&Tableau48[[#This Row],[Nom]]","v":" "},null,null,null,null,null,null,null,{"$f":"IFERROR(AVERAGE(Tableau48[[#This Row],[Atténuation min]],Tableau48[[#This Row],[Atténuation max]]),\"\")","v":""}]
[{"$f":"Tableau48[[#This Row],[Fournisseur]]&\" \"&Tableau48[[#This Row],[Nom]]","v":" "},null,null,null,null,null,null,null,{"$f":"IFERROR(AVERAGE(Tableau48[[#This Row],[Atténuation min]],Tableau48[[#This Row],[Atténuation max]]),\"\")","v":""}]
[{"$f":"Tableau48[[#This Row],[Fournisseur]]&\" \"&Tableau48[[#This Row],[Nom]]","v":" "},null,null,null,null,null,null,null,{"$f":"IFERROR(AVERAGE(Tableau48[[#This Row],[Atténuation min]],Tableau48[[#This Row],[Atténuation max]]),\"\")","v":""}]
[{"$f":"Tableau48[[#This Row],[Fournisseur]]&\" \"&Tableau48[[#This Row],[Nom]]","v":" "},null,null,null,null,null,null,null,{"$f":"IFERROR(AVERAGE(Tableau48[[#This Row],[Atténuation min]],Tableau48[[#This Row],[Atténuation max]]),\"\")","v":""}]
[{"$f":"Tableau48[[#This Row],[Fournisseur]]&\" \"&Tableau48[[#This Row],[Nom]]","v":" "},null,null,null,null,null,null,null,{"$f":"IFERROR(AVERAGE(Tableau48[[#This Row],[Atténuation min]],Tableau48[[#This Row],[Atténuation max]]),\"\")","v":""}]
[{"$f":"Tableau48[[#This Row],[Fournisseur]]&\" \"&Tableau48[[#This Row],[Nom]]","v":" "},null,null,null,null,null,null,null,{"$f":"IFERROR(AVERAGE(Tableau48[[#This Row],[Atténuation min]],Tableau48[[#This Row],[Atténuation max]]),\"\")","v":""}]
[{"$f":"Tableau48[[#This Row],[Fournisseur]]&\" \"&Tableau48[[#This Row],[Nom]]","v":" "},null,null,null,null,null,null,null,{"$f":"IFERROR(AVERAGE(Tableau48[[#This Row],[Atténuation min]],Tableau48[[#This Row],[Atténuation max]]),\"\")","v":""}]
[{"$f":"Tableau48[[#This Row],[Fournisseur]]&\" \"&Tableau48[[#This Row],[Nom]]","v":" "},null,null,null,null,null,null,null,{"$f":"IFERROR(AVERAGE(Tableau48[[#This Row],[Atténuation min]],Tableau48[[#This Row],[Atténuation max]]),\"\")","v":""}]
[{"$f":"Tableau48[[#This Row],[Fournisseur]]&\" \"&Tableau48[[#This Row],[Nom]]","v":" "},null,null,null,null,null,null,null,{"$f":"IFERROR(AVERAGE(Tableau48[[#This Row],[Atténuation min]],Tableau48[[#This Row],[Atténuation max]]),\"\")","v":""}]
[{"$f":"Tableau48[[#This Row],[Fournisseur]]&\" \"&Tableau48[[#This Row],[Nom]]","v":" "},null,null,null,null,null,null,null,{"$f":"IFERROR(AVERAGE(Tableau48[[#This Row],[Atténuation min]],Tableau48[[#This Row],[Atténuation max]]),\"\")","v":""}]
[{"$f":"Tableau48[[#This Row],[Fournisseur]]&\" \"&Tableau48[[#This Row],[Nom]]","v":" "},null,null,null,null,null,null,null,{"$f":"IFERROR(AVERAGE(Tableau48[[#This Row],[Atténuation min]],Tableau48[[#This Row],[Atténuation max]]),\"\")","v":""}]
[{"$f":"Tableau48[[#This Row],[Fournisseur]]&\" \"&Tableau48[[#This Row],[Nom]]","v":" "},null,null,null,null,null,null,null,{"$f":"IFERROR(AVERAGE(Tableau48[[#This Row],[Atténuation min]],Tableau48[[#This Row],[Atténuation max]]),\"\")","v":""}]
[{"$f":"Tableau48[[#This Row],[Fournisseur]]&\" \"&Tableau48[[#This Row],[Nom]]","v":" "},null,null,null,null,null,null,null,{"$f":"IFERROR(AVERAGE(Tableau48[[#This Row],[Atténuation min]],Tableau48[[#This Row],[Atténuation max]]),\"\")","v":""}]
[{"$f":"Tableau48[[#This Row],[Fournisseur]]&\" \"&Tableau48[[#This Row],[Nom]]","v":" "},null,null,null,null,null,null,null,{"$f":"IFERROR(AVERAGE(Tableau48[[#This Row],[Atténuation min]],Tableau48[[#This Row],[Atténuation max]]),\"\")","v":""}]
[{"$f":"Tableau48[[#This Row],[Fournisseur]]&\" \"&Tableau48[[#This Row],[Nom]]","v":" "},null,null,null,null,null,null,null,{"$f":"IFERROR(AVERAGE(Tableau48[[#This Row],[Atténuation min]],Tableau48[[#This Row],[Atténuation max]]),\"\")","v":""}]
[{"$f":"Tableau48[[#This Row],[Fournisseur]]&\" \"&Tableau48[[#This Row],[Nom]]","v":" "},null,null,null,null,null,null,null,{"$f":"IFERROR(AVERAGE(Tableau48[[#This Row],[Atténuation min]],Tableau48[[#This Row],[Atténuation max]]),\"\")","v":""}]
[{"$f":"Tableau48[[#This Row],[Fournisseur]]&\" \"&Tableau48[[#This Row],[Nom]]","v":" "},null,null,null,null,null,null,null,{"$f":"IFERROR(AVERAGE(Tableau48[[#This Row],[Atténuation min]],Tableau48[[#This Row],[Atténuation max]]),\"\")","v":""}]
[{"$f":"Tableau48[[#This Row],[Fournisseur]]&\" \"&Tableau48[[#This Row],[Nom]]","v":" "},null,null,null,null,null,null,null,{"$f":"IFERROR(AVERAGE(Tableau48[[#This Row],[Atténuation min]],Tableau48[[#This Row],[Atténuation max]]),\"\")","v":""}]
[{"$f":"Tableau48[[#This Row],[Fournisseur]]&\" \"&Tableau48[[#This Row],[Nom]]","v":" "},null,null,null,null,null,null,null,{"$f":"IFERROR(AVERAGE(Tableau48[[#This Row],[Atténuation min]],Tableau48[[#This Row],[Atténuation max]]),\"\")","v":""}]
[{"$f":"Tableau48[[#This Row],[Fournisseur]]&\" \"&Tableau48[[#This Row],[Nom]]","v":" "},null,null,null,null,null,null,null,{"$f":"IFERROR(AVERAGE(Tableau48[[#This Row],[Atténuation min]],Tableau48[[#This Row],[Atténuation max]]),\"\")","v":""}]
[{"$f":"Tableau48[[#This Row],[Fournisseur]]&\" \"&Tableau48[[#This Row],[Nom]]","v":" "},null,null,null,null,null,null,null,{"$f":"IFERROR(AVERAGE(Tableau48[[#This Row],[Atténuation min]],Tableau48[[#This Row],[Atténuation max]]),\"\")","v":""}]
[{"$f":"Tableau48[[#This Row],[Fournisseur]]&\" \"&Tableau48[[#This Row],[Nom]]","v":" "},null,null,null,null,null,null,null,{"$f":"IFERROR(AVERAGE(Tableau48[[#This Row],[Atténuation min]],Tableau48[[#This Row],[Atténuation max]]),\"\")","v":""}]
[{"$f":"Tableau48[[#This Row],[Fournisseur]]&\" \"&Tableau48[[#This Row],[Nom]]","v":" "},null,null,null,null,null,null,null,{"$f":"IFERROR(AVERAGE(Tableau48[[#This Row],[Atténuation min]],Tableau48[[#This Row],[Atténuation max]]),\"\")","v":""}]
[{"$f":"Tableau48[[#This Row],[Fournisseur]]&\" \"&Tableau48[[#This Row],[Nom]]","v":" "},null,null,null,null,null,null,null,{"$f":"IFERROR(AVERAGE(Tableau48[[#This Row],[Atténuation min]],Tableau48[[#This Row],[Atténuation max]]),\"\")","v":""}]
[{"$f":"Tableau48[[#This Row],[Fournisseur]]&\" \"&Tableau48[[#This Row],[Nom]]","v":" "},null,null,null,null,null,null,null,{"$f":"IFERROR(AVERAGE(Tableau48[[#This Row],[Atténuation min]],Tableau48[[#This Row],[Atténuation max]]),\"\")","v":""}]
[{"$f":"Tableau48[[#This Row],[Fournisseur]]&\" \"&Tableau48[[#This Row],[Nom]]","v":" "},null,null,null,null,null,null,null,{"$f":"IFERROR(AVERAGE(Tableau48[[#This Row],[Atténuation min]],Tableau48[[#This Row],[Atténuation max]]),\"\")","v":""}]
[{"$f":"Tableau48[[#This Row],[Fournisseur]]&\" \"&Tableau48[[#This Row],[Nom]]","v":" "},null,null,null,null,null,null,null,{"$f":"IFERROR(AVERAGE(Tableau48[[#This Row],[Atténuation min]],Tableau48[[#This Row],[Atténuation max]]),\"\")","v":""}]
[{"$f":"Tableau48[[#This Row],[Fournisseur]]&\" \"&Tableau48[[#This Row],[Nom]]","v":" "},null,null,null,null,null,null,null,{"$f":"IFERROR(AVERAGE(Tableau48[[#This Row],[Atténuation min]],Tableau48[[#This Row],[Atténuation max]]),\"\")","v":""}]
[{"$f":"Tableau48[[#This Row],[Fournisseur]]&\" \"&Tableau48[[#This Row],[Nom]]","v":" "},null,null,null,null,null,null,null,{"$f":"IFERROR(AVERAGE(Tableau48[[#This Row],[Atténuation min]],Tableau48[[#This Row],[Atténuation max]]),\"\")","v":""}]
[{"$f":"Tableau48[[#This Row],[Fournisseur]]&\" \"&Tableau48[[#This Row],[Nom]]","v":" "},null,null,null,null,null,null,null,{"$f":"IFERROR(AVERAGE(Tableau48[[#This Row],[Atténuation min]],Tableau48[[#This Row],[Atténuation max]]),\"\")","v":""}]
[{"$f":"Tableau48[[#This Row],[Fournisseur]]&\" \"&Tableau48[[#This Row],[Nom]]","v":" "},null,null,null,null,null,null,null,{"$f":"IFERROR(AVERAGE(Tableau48[[#This Row],[Atténuation min]],Tableau48[[#This Row],[Atténuation max]]),\"\")","v":""}]
[{"$f":"Tableau48[[#This Row],[Fournisseur]]&\" \"&Tableau48[[#This Row],[Nom]]","v":" "},null,null,null,null,null,null,null,{"$f":"IFERROR(AVERAGE(Tableau48[[#This Row],[Atténuation min]],Tableau48[[#This Row],[Atténuation max]]),\"\")","v":""}]
[{"$f":"Tableau48[[#This Row],[Fournisseur]]&\" \"&Tableau48[[#This Row],[Nom]]","v":" "},null,null,null,null,null,null,null,{"$f":"IFERROR(AVERAGE(Tableau48[[#This Row],[Atténuation min]],Tableau48[[#This Row],[Atténuation max]]),\"\")","v":""}]
[{"$f":"Tableau48[[#This Row],[Fournisseur]]&\" \"&Tableau48[[#This Row],[Nom]]","v":" "},null,null,null,null,null,null,null,{"$f":"IFERROR(AVERAGE(Tableau48[[#This Row],[Atténuation min]],Tableau48[[#This Row],[Atténuation max]]),\"\")","v":""}]
[{"$f":"Tableau48[[#This Row],[Fournisseur]]&\" \"&Tableau48[[#This Row],[Nom]]","v":" "},null,null,null,null,null,null,null,{"$f":"IFERROR(AVERAGE(Tableau48[[#This Row],[Atténuation min]],Tableau48[[#This Row],[Atténuation max]]),\"\")","v":""}]
[{"$f":"Tableau48[[#This Row],[Fournisseur]]&\" \"&Tableau48[[#This Row],[Nom]]","v":" "},null,null,null,null,null,null,null,{"$f":"IFERROR(AVERAGE(Tableau48[[#This Row],[Atténuation min]],Tableau48[[#This Row],[Atténuation max]]),\"\")","v":""}]
[{"$f":"Tableau48[[#This Row],[Fournisseur]]&\" \"&Tableau48[[#This Row],[Nom]]","v":" "},null,null,null,null,null,null,null,{"$f":"IFERROR(AVERAGE(Tableau48[[#This Row],[Atténuation min]],Tableau48[[#This Row],[Atténuation max]]),\"\")","v":""}]
[{"$f":"Tableau48[[#This Row],[Fournisseur]]&\" \"&Tableau48[[#This Row],[Nom]]","v":" "},null,null,null,null,null,null,null,{"$f":"IFERROR(AVERAGE(Tableau48[[#This Row],[Atténuation min]],Tableau48[[#This Row],[Atténuation max]]),\"\")","v":""}]
[{"$f":"Tableau48[[#This Row],[Fournisseur]]&\" \"&Tableau48[[#This Row],[Nom]]","v":" "},null,null,null,null,null,null,null,{"$f":"IFERROR(AVERAGE(Tableau48[[#This Row],[Atténuation min]],Tableau48[[#This Row],[Atténuation max]]),\"\")","v":""}]
[{"$f":"Tableau48[[#This Row],[Fournisseur]]&\" \"&Tableau48[[#This Row],[Nom]]","v":" "},null,null,null,null,null,null,null,{"$f":"IFERROR(AVERAGE(Tableau48[[#This Row],[Atténuation min]],Tableau48[[#This Row],[Atténuation max]]),\"\")","v":""}]
[{"$f":"Tableau48[[#This Row],[Fournisseur]]&\" \"&Tableau48[[#This Row],[Nom]]","v":" "},null,null,null,null,null,null,null,{"$f":"IFERROR(AVERAGE(Tableau48[[#This Row],[Atténuation min]],Tableau48[[#This Row],[Atténuation max]]),\"\")","v":""}]
[{"$f":"Tableau48[[#This Row],[Fournisseur]]&\" \"&Tableau48[[#This Row],[Nom]]","v":" "},null,null,null,null,null,null,null,{"$f":"IFERROR(AVERAGE(Tableau48[[#This Row],[Atténuation min]],Tableau48[[#This Row],[Atténuation max]]),\"\")","v":""}]
[{"$f":"Tableau48[[#This Row],[Fournisseur]]&\" \"&Tableau48[[#This Row],[Nom]]","v":" "},null,null,null,null,null,null,null,{"$f":"IFERROR(AVERAGE(Tableau48[[#This Row],[Atténuation min]],Tableau48[[#This Row],[Atténuation max]]),\"\")","v":""}]
[{"$f":"Tableau48[[#This Row],[Fournisseur]]&\" \"&Tableau48[[#This Row],[Nom]]","v":" "},null,null,null,null,null,null,null,{"$f":"IFERROR(AVERAGE(Tableau48[[#This Row],[Atténuation min]],Tableau48[[#This Row],[Atténuation max]]),\"\")","v":""}]
[{"$f":"Tableau48[[#This Row],[Fournisseur]]&\" \"&Tableau48[[#This Row],[Nom]]","v":" "},null,null,null,null,null,null,null,{"$f":"IFERROR(AVERAGE(Tableau48[[#This Row],[Atténuation min]],Tableau48[[#This Row],[Atténuation max]]),\"\")","v":""}]
[{"$f":"Tableau48[[#This Row],[Fournisseur]]&\" \"&Tableau48[[#This Row],[Nom]]","v":" "},null,null,null,null,null,null,null,{"$f":"IFERROR(AVERAGE(Tableau48[[#This Row],[Atténuation min]],Tableau48[[#This Row],[Atténuation max]]),\"\")","v":""}]
[{"$f":"Tableau48[[#This Row],[Fournisseur]]&\" \"&Tableau48[[#This Row],[Nom]]","v":" "},null,null,null,null,null,null,null,{"$f":"IFERROR(AVERAGE(Tableau48[[#This Row],[Atténuation min]],Tableau48[[#This Row],[Atténuation max]]),\"\")","v":""}]
[{"$f":"Tableau48[[#This Row],[Fournisseur]]&\" \"&Tableau48[[#This Row],[Nom]]","v":" "},null,null,null,null,null,null,null,{"$f":"IFERROR(AVERAGE(Tableau48[[#This Row],[Atténuation min]],Tableau48[[#This Row],[Atténuation max]]),\"\")","v":""}]
[{"$f":"Tableau48[[#This Row],[Fournisseur]]&\" \"&Tableau48[[#This Row],[Nom]]","v":" "},null,null,null,null,null,null,null,{"$f":"IFERROR(AVERAGE(Tableau48[[#This Row],[Atténuation min]],Tableau48[[#This Row],[Atténuation max]]),\"\")","v":""}]
[{"$f":"Tableau48[[#This Row],[Fournisseur]]&\" \"&Tableau48[[#This Row],[Nom]]","v":" "},null,null,null,null,null,null,null,{"$f":"IFERROR(AVERAGE(Tableau48[[#This Row],[Atténuation min]],Tableau48[[#This Row],[Atténuation max]]),\"\")","v":""}]
[{"$f":"Tableau48[[#This Row],[Fournisseur]]&\" \"&Tableau48[[#This Row],[Nom]]","v":" "},null,null,null,null,null,null,null,{"$f":"IFERROR(AVERAGE(Tableau48[[#This Row],[Atténuation min]],Tableau48[[#This Row],[Atténuation max]]),\"\")","v":""}]
[{"$f":"Tableau48[[#This Row],[Fournisseur]]&\" \"&Tableau48[[#This Row],[Nom]]","v":" "},null,null,null,null,null,null,null,{"$f":"IFERROR(AVERAGE(Tableau48[[#This Row],[Atténuation min]],Tableau48[[#This Row],[Atténuation max]]),\"\")","v":""}]
[{"$f":"Tableau48[[#This Row],[Fournisseur]]&\" \"&Tableau48[[#This Row],[Nom]]","v":" "},null,null,null,null,null,null,null,{"$f":"IFERROR(AVERAGE(Tableau48[[#This Row],[Atténuation min]],Tableau48[[#This Row],[Atténuation max]]),\"\")","v":""}]
[{"$f":"Tableau48[[#This Row],[Fournisseur]]&\" \"&Tableau48[[#This Row],[Nom]]","v":" "},null,null,null,null,null,null,null,{"$f":"IFERROR(AVERAGE(Tableau48[[#This Row],[Atténuation min]],Tableau48[[#This Row],[Atténuation max]]),\"\")","v":""}]

{"sheet":"BJCCP","index":9,"n_rows":119,"n_cols":57,"rows_kept":119,"cut":false,"hidden":false,"merged":[]}
["Style","OG min","OG max","FG min","FG max","EBC min","EBC max","IBUs min","IBUs max","ABV min","ABV max","SRM min","SRM max","OG min2","OG max3","FG min4","FG max5","#","Styles","vol CO2 min","vol CO2 max","Calcium (ppm)","Magnésium (ppm)","Alcalinité en CaCO3","Sulfate (ppm)","Chloride (ppm)","Sodium (ppm)","Alcalinité Résiduelle","BJCP Categories","Style Family","Style History","Origin","FG min6","Colonne7","FG max8","Overall Impression","Aroma","Appearance","Flavor","Mouthfell","Comments","History","Characteristic Ingredients","Style Comparison","Commercial Examples","Notes","Impression générale","Arôme","Apparence","Saveur","Corps","Commentaires","Histoire","Ingrédient","Comparaison de style","Exemples commerciaux","Colonne9"]
["01A - American Light Lager",{"$f":"N2/1000","v":1.028},{"$f":"O2/1000","v":1.04},{"$f":"P2/1000","v":0.998},{"$f":"Q2/1000","v":1.008},3.94,5.91,8,12,2.8,4.2,2,3,1028,1040,998,1008,{"$f":"LEFT(A2,3)","v":"01A"},"American Light Lager",2.5,2.9,{"$f":"VLOOKUP(A2,Feuil2!$A$1:$H$74,2,FALSE)","v":"50-60"},{"$f":"VLOOKUP(A2,Feuil2!$A$1:$H$74,3,FALSE)","v":"0-30"},{"$f":"VLOOKUP(A2,Feuil2!$A$1:$H$74,4,FALSE)","v":"0-40"},{"$f":"VLOOKUP(A2,Feuil2!$A$1:$H$74,5,FALSE)","v":"0-50"},{"$f":"VLOOKUP(A2,Feuil2!$A$1:$H$74,6,FALSE)","v":"50-100"},{"$f":"VLOOKUP(A2,Feuil2!$A$1:$H$74,7,FALSE)","v":"<100"},{"$f":"VLOOKUP(A2,Feuil2!$A$1:$H$74,8,FALSE)","v":"-60-0"},"01-Standard American Beer","Pale Lager","Mass Market Pale Lager","United States",998,{"$f":"R2&\" - \"&S2","v":"01A - American Light Lager"},1008,"Highly carbonated, very light-bodied, nearly flavorless lager designed to be consumed very cold. Very refreshing and thirst quenching.","Low to no malt aroma, although it can be perceived as grainy, sweet, or corn-like if present. Hop aroma is light to none, with a spicy or floral hop character if present. While a clean fermentation character is desirable, a light amount of yeast character (particularly a light apple fruitiness) is not a fault. Light DMS is not a fault.","Very pale straw to pale yellow color. White, frothy head seldom persists. Very clear.","Relatively neutral palate with a crisp and dry finish and a low to very low grainy or corn-like flavor that might be perceived as sweetness due to the low bitterness. Hop flavor ranges from none to low levels, and can have a floral, spicy, or herbal quality (although rarely strong enough to detect). Low to very low hop bitterness. Balance may vary from slightly malty to slightly bitter, but is relatively close to even. High levels of carbonation may accentuate the crispness of the dry finish. Clean lager fermentation character.","Very light (sometimes watery) body. Very highly carbonated with slight carbonic bite on the tongue.","Designed to appeal to as broad a range of the general public as possible. Strong flavors are a fault.","Coors briefly made a light lager in the early 1940s. Modern versions were first produced by Rheingold in 1967 to appeal to diet-conscious drinkers, but only became popular starting in 1973 after Miller Brewing acquired the recipe and marketed the beer heavily to sports fans with the “tastes great, less filling” campaign. Beers of this genre became the largest sellers in the United States in the 1990s.","Two- or six-row barley with high percentage (up to 40%) of rice or corn as adjuncts. Additional enzymes can further lighten the body and lower carbohydrates.","A lighter-bodied, lower-alcohol, lower calorie version of an American Lager. Less hop character and bitterness than a Leichtbier. ","Bud Light, Coors Light, Keystone Light, Michelob Light, Miller Lite, Old Milwaukee Light",null,"Bière très carbonatée avec un corps très léger, presque sans saveur et conçue pour être consommée très fraîche. Bière très rafraîchissante et désaltérante. ","Peu ou pas d'arômes maltés. S'ils existent, ils peuvent être perçus comme des arômes de céréales, doux ou similaires à ceux du maïs. L'arôme des houblons peut être absent ou léger, épicé ou floral s'il est décelable. Si l'absence d'arôme lié aux levures est souhaitable, un faible taux (en particulier un léger arôme fruité de pomme verte) n'est pas un défaut. Un faible taux de DMS (diméthylsulfure) est également acceptable. ","Couleur blond paille très claire à jaune pâle. Col de mousse blanche, rarement persistante. Limpide. ","Palais relativement neutre avec une saveur en fin de bouche fraîche et sèche, de faibles saveurs de malts ou de maïs qui peuvent être perçues comme un goût sucré du fait de la faible amertume. Les saveurs de houblons sont soit absentes, soit de faible intensité et peuvent être florales, épicées ou présenter des notes végétales (bien que rarement assez fortes pour être détectées). L'amertume est faible à très faible. L'équilibre peut varier de légèrement malté à légèrement amer, mais doit être relativement proche de l'équilibre. De hauts niveaux de carbonatation peuvent accentuer la sensation de fraîcheur et de sécheresse en fin de bouche. ","Corps très léger lié à l'utilisation d'un pourcentage important de céréales additionnelles comme le riz ou le maïs. Forte carbonatation avec une légère sensation de piquant sur la langue. Le corps peut sembler aqueux. ","Une bière dont la densité initiale et la teneur en calories sont inférieures à celles des bières lager \"internationales\". Des saveurs fortes sont un défaut pour ce type de bières. Elles sont conçues pour plaire au plus grand nombre. ","La Brasserie Coors a brièvement brassé une lager légère au début des années 1940. Les versions modernes ont été en premier lieu produites par la brasserie Rheingold en 1967 pour satisfaire les consommateurs soucieux de leur régime alimentaire. Elles ne sont devenues populaires qu'à partir de 1973, après que la compagnie Miller Brewing ait acquis la recette et ait fortement promu la bière aux fans de sport via une campagne publicitaire dont le slogan était \"tastes great, less filling\" soit \"pleine de goût, plus légère\". Les bières de ce genre sont devenues les plus vendues aux États-Unis dans les années 1990. ","Malt d'orge 2 rangs ou 6 rangs avec un important pourcentage de riz ou de maïs comme compléments (jusqu'à 40%). ","Une version plus fine en bouche, légère en alcool et en calories que la Lager Américaine, avec moins d'arôme et d'amertume des houblons qu'une Leichtbier. ","Bud Light, Coors Light, Keystone Light, Michelob Light, Miller Lite, Old Milwaukee Light "]
["01B - American Lager",1.04,1.05,1.004,1.01,3.94,7.88,8,18,4.2,5.3,2,4,1040,1050,1004,1010,{"$f":"LEFT(A3,3)","v":"01B"},"American Lager",2.5,2.9,{"$f":"VLOOKUP(A3,Feuil2!$A$1:$H$74,2,FALSE)","v":"50-75"},{"$f":"VLOOKUP(A3,Feuil2!$A$1:$H$74,3,FALSE)","v":"0-30"},{"$f":"VLOOKUP(A3,Feuil2!$A$1:$H$74,4,FALSE)","v":"0-40"},{"$f":"VLOOKUP(A3,Feuil2!$A$1:$H$74,5,FALSE)","v":"50-150"},{"$f":"VLOOKUP(A3,Feuil2!$A$1:$H$74,6,FALSE)","v":"50-100"},{"$f":"VLOOKUP(A3,Feuil2!$A$1:$H$74,7,FALSE)","v":"<100"},{"$f":"VLOOKUP(A3,Feuil2!$A$1:$H$74,8,FALSE)","v":-60},"01-Standard American Beer","Pale Lager","Mass Market Pale Lager","United States",1004,"01B - American Lager",1010,"A very pale, highly-carbonated, light-bodied, well-attenuated lager with a very neutral flavor profile and low bitterness. Served very cold, it can be a very refreshing and thirst quenching drink.","Low to no malt aroma, although it can be perceived as grainy, sweet or corn-like if present. Hop aroma may range from none to a light, spicy or floral hop presence. While a clean fermentation character is desirable, a light amount of yeast character (particularly a light apple character) is not a fault. Light DMS is also not a fault.","Very pale straw to medium yellow color. White, frothy head seldom persists. Very clear.","Relatively neutral palate with a crisp and dry finish and a moderately-low to low grainy or corn-like flavor that might be perceived as sweetness due to the low bitterness. Hop flavor ranges from none to moderately-low levels, and can have a floral, spicy, or herbal quality (although often not strong enough to distinguish). Hop bitterness at low to medium-low level. Balance may vary from slightly malty to slightly bitter, but is relatively close to even. High levels of carbonation may accentuate the crispness of the dry finish. Clean lager fermentation character.","Low to medium-low body. Very highly carbonated with slight carbonic bite on the tongue.","Strong flavors are a fault. Often what non-craft beer drinkers expect to be served if they order beer in the United States. May be marketed as Pilsner beers outside of Europe, but should not be confused with traditional examples.","Although German immigrants had brewed traditional Pilsner-inspired lager beer in the United States since the mid-late 1800s, the modern American lager style was heavily influenced by Prohibition and World War II. Surviving breweries consolidated, expanded distribution, and heavily promoted a beer style that was appealing to a broad range of the population. Became the dominant beer style for many decades, and spawning many international rivals who would develop similarly bland products for the mass market supported by heavy advertising.","Two- or six-row barley with high percentage (up to 40%) of rice or corn as adjuncts.","Stronger, more flavor and body than a Light American Lager. Less bitterness and flavor than an International Lager. Significantly less flavor, hops, and bitterness than traditional European Pilsners.","Budweiser, Coors Original, Grain Belt Premium Lager, Miller High Life, Pabst Blue Ribbon, Special Export",null,"Une bière de fermentation basse de type lager de couleur très claire, fortement carbonatée mais avec un corps léger. Bien atténuée, elle a un profil de saveur assez neutre et une faible amertume. Servie très fraîche, ce type de bière est rafraîchissant et se boit très facilement. ","Peu ou pas d'arômes de malts mais si ils existent, ils peuvent être perçus comme des arômes de céréales, doux ou similaires à ceux du maïs. L'arôme des houblons peut être absent ou léger, épicé ou floral s'il est perceptible. Si l'absence d'arômes liés aux levures est souhaitable, un faible taux n'est pas considéré comme un défaut (en particulier un léger arôme fruité de pomme verte). Un faible taux de DMS est également acceptable. ","De couleur blond paille très claire à jaune pâle avec un col de mousse blanche et rarement persistante, elle est totalement limpide. ","Palais relativement neutre avec une fin de bouche fraîche et sèche, sur une saveur modérée à faible de céréales ou de maïs qui peut être perçue comme sucrée du fait de la faible amertume. Les saveurs de houblons varient de nulles à modérées et peuvent être florales, épicées ou comporter des notes végétales, bien que dans l'ensemble celles-ci soient souvent trop peu prononcées pour être distinguées. L'amertume est faible à moyennement faible. L'équilibre peut varier de légèrement malté à légèrement amer, mais doit rester relativement proche du niveau d'équilibre. De hauts niveaux de carbonatation peuvent parfois accentuer la fraîcheur et la sécheresse en fin de bouche. Les saveurs associées à la fermentation doivent être issues d'une fermentation basse dont les températures sont maitrisées. ","Corps faible à moyen, associé à un taux de carbonatation assez fort jusqu'à apporter une légère sensation de piquant sur la langue. ","Dans ce type de bière, les fortes saveurs sont considérées comme un défaut. Il s'agit du type de bière à laquelle doit s'attendre un buveur de bière \"non artisanale\" lorsqu'il commande une \"bière\" aux États-Unis. Ce type de lager peut être commercialisé sous le nom de Pilsner en dehors de l'Europe, mais ne doit pas être confondu avec les bières Pilsner traditionnelles. ","Bien que les immigrants allemands aient brassé aux Etats-Unis des lagers inspirées par les Pilsner traditionnelles européennes entre le milieu et la fin du XIXe siècle, le style moderne des bières américaines de type \"lager\" a été largement influencé par la prohibition et la seconde guerre mondiale. Les brasseries qui ont survécu à ces deux périodes ont consolidé et étendu leur distribution, promouvant largement un type de bière qui plaisait au plus grand nombre. Il est devenu le style de bière dominant pendant plusieurs décennies, inspirant de nombreux concurrents internationaux qui ont eux même développé des produits tout aussi fades à destination de la grande distribution et soutenus par de grosses campagnes publicitaires. ","Malt d'orge 2-rangs ou 6-rangs avec une bonne dose de riz ou de maïs comme complément (jusqu'à 40%). ","Plus forte, savoureuse et ronde en bouche que la Lager Américaine Légère, avec moins d'amertume et d'arômes qu'une Lager Internationale et encore bien moins de saveurs, de houblons et d'amertume que les Pilsners européennes traditionnelles. ","Budweiser, Coors Original, Grain Belt Premium Lager, Miller High Life, Pabst Blue Ribbon, Special Export"]
["01C - Cream Ale",1.042,1.0549999999999999,1.006,1.012,4.9249999999999998,9.85,8,20,4.2,5.6,2.5,5,1042,1055,1006,1012,"01C","Cream Ale",2.5,2.9,{"$f":"VLOOKUP(A4,Feuil2!$A$1:$H$74,2,FALSE)","v":"50-100"},{"$f":"VLOOKUP(A4,Feuil2!$A$1:$H$74,3,FALSE)","v":"0-30"},{"$f":"VLOOKUP(A4,Feuil2!$A$1:$H$74,4,FALSE)","v":"0-80"},{"$f":"VLOOKUP(A4,Feuil2!$A$1:$H$74,5,FALSE)","v":"0-50"},{"$f":"VLOOKUP(A4,Feuil2!$A$1:$H$74,6,FALSE)","v":"0-100"},{"$f":"VLOOKUP(A4,Feuil2!$A$1:$H$74,7,FALSE)","v":"<100"},{"$f":"VLOOKUP(A4,Feuil2!$A$1:$H$74,8,FALSE)","v":"-30-30"},"01-Standard American Beer","Pale Ale","Indigenous American Beer","United States",1006,"01C - Cream Ale",1012,"A clean, well-attenuated, flavorful American “lawnmower” beer. Easily drinkable and refreshing, with more character than typical American lagers.","Medium-low to low malt notes, with a sweet, corn-like aroma. Low levels of DMS are allowable, but are not required. Hop aroma medium low to none, and can be of any variety although floral, spicy, or herbal notes are most common. Overall, a subtle aroma with neither hops nor malt dominating. Low fruity esters are optional.","Pale straw to moderate gold color, although usually on the pale side. Low to medium head with medium to high carbonation. Fair head retention. Brilliant, sparkling clarity.","Low to medium-low hop bitterness. Low to moderate maltiness and sweetness, varying with gravity and attenuation. Usually well-attenuated. Neither malt nor hops dominate the palate. A low to moderate corny flavor is commonly found, as is light DMS (optional). Finish can vary from somewhat dry to faintly sweet. Low fruity esters are optional. Low to medium-low hop flavor (any variety, but typically floral, spicy, or herbal).","Generally light and crisp, although body can reach medium. Smooth mouthfeel with medium to high attenuation; higher attenuation levels can lend a “thirst quenching” quality. High carbonation. ","Pre-prohibition Cream Ales were slightly stronger, hoppier (including some dry hopping) and more bitter (25-30+ IBUs). These versions should be entered in the historical category. Most commercial examples are in the 1.050–1.053 OG range, and bitterness rarely rises above 20 IBUs.","A sparkling or present-use ale that existed in the 1800s and survived prohibition. An ale version of the American lager style. Produced by ale brewers to compete with lager brewers in Canada and the Northeast, Mid-Atlantic, and Midwest states. Originally known as sparkling or present use ales, lager strains were (and sometimes still are) used by some brewers, but were not historically mixed with ale strains. Many examples are kräusened to achieve carbonation. Cold conditioning isn’t traditional, although modern brewers sometimes use it.","American ingredients most commonly used. A grain bill of six-row malt, or a combination of six-row and North American two-row, is common. Adjuncts can include up to 20% maize in the mash, and up to 20% glucose or other sugars in the boil. Any variety of hops can be used for bittering and finishing.","Similar to a Standard American Lager, but with more character.","Genesee Cream Ale, Liebotschaner Cream Ale, Little Kings Cream Ale, New Glarus Spotted Cow, Old Style, Sleeman Cream Ale",null,"Une bière américaine claire et nette, goutue et bien atténuée, du type de celles que l'on peut boire \"à cheval sur sa tondeuse à gazon\". Facile à boire et rafraichissante, avec tout de même un peu plus de caractère qu'une Lager Américaine standard. ","L'arôme est moyennement faible à faible, avec une pointe sucrée proche de l'arôme du maïs. De faibles niveaux de DMS sont acceptables mais ne sont pas indispensables. Les arômes de houblons sont moyens à absents et peuvent être de n'importe quel type bien que les notes florales, épicées ou herbacées soient les plus communes. Dans son ensemble, l'arôme est subtil et ni les houblons ni les malts ne dominent. Une faible présence d'esters fruités peut être admise.  ","Couleur blond paille à doré mais généralement plutôt située du côté blond. Un col de mousse petit à moyen, de persistance raisonnable, avec une carbonatation moyenne à haute. Apparence brillante avec une clarté étincelante. ","Amertume faible à moyennement faible. Les saveurs maltées et sucrées sont faibles à moyennes et varient avec la densité initiale et l'atténuation. La bière est le plus souvent bien atténuée et le palais n'est dominé ni par les malts ni par les houblons. On retrouve couramment dans ce type de bière des saveurs faibles à modérées de maïs et de DMS, mais cette dernière n'est pas indispensable. La fin de bouche peut varier de légèrement sèche à faiblement sucrée. De faibles taux d'esters fruités peuvent être acceptés. Les saveurs des houblons sont faibles à moyennement faibles, et peuvent être de n'importe quel type, bien qu'elles soient généralement florales, épicées ou herbacées. ","Corps généralement léger et frais, bien qu'il puisse parfois être moyennement rond, apportant une sensation en bouche douce pour des atténuations moyennes à élevées. Des niveaux d'atténuation supérieurs peuvent la rendre plus désaltérante. Le niveau de carbonatation est élevé. ","Les Cream Ales d'avant la prohibition étaient légèrement plus alcoolisées, plus houblonnées (elles faisaient parfois l'objet d'un houblonnage à cru) et plus amères (amertume allant de 25 à plus de 30 IBUs) que leurs homologues actuelles. Ces anciennes versions devraient donc être placées dans la catégorie \"Historique\" du guide dans la mesure où la plupart des exemples commerciaux actuels ont une densité initiale comprise entre 1.050 et 1.053 pour une amertume dépassant rarement les 20 IBUs. ","Les Cream Ales étaient originellement connues sous les noms de \"Sparkling\" ou \"Present Use Ales\". Elles appartiennent à un style de bière de fermentation haute qui existait dans les années 1800 et qui a survécu à la prohibition. Ce style peut être tout à fait considéré comme une variante obtenue par fermentation haute du style \"Lager Américaine\". Les Cream Ales étaient à l'origine produites pour rivaliser avec les brasseurs de Lager Canadiens, des États du Nord-Est, du Mid-Atlantic et du MidWest. À l'époque, des souches de levures de type Lager étaient (et sont encore parfois) utilisées par certain brasseurs lors de la fermentation, mais elles n'étaient pas historiquement associées avec des souches de levures de fermentation haute. De nombreux exemples sont recarbonatés à l'aide de moût en cours de fermentation (suivant la technique du \"Krausening\"). Le conditionnement ou garde à froid n'était pas traditionnellement pratiqué bien que certains brasseurs actuels l'utilisent. ","Les ingrédients les plus communément utilisés sont d'origine américaine. La base maltée est habituellement composée de malt 6-rangs, mais une combinaison de malts 6-rangs et de malts 2-rangs nord-américains est courante. Les compléments peuvent inclure jusqu'à 20% de maïs durant l'empâtage, et jusqu'à 20% de glucose et autres sucres lors de l'ébullition. N'importe quelle variété de houblons peut être utilisée pour obtenir amertume et arômes. ","Identiques aux Lagers américaines standard mais avec plus de caractère. ","Genesee Cream Ale, Liebotschaner Cream Ale, Little Kings Cream Ale, New Glarus Spotted Cow, Old Style, Sleeman Cream Ale"]
["01D - American Wheat Beer",1.04,1.0549999999999999,1.008,1.0129999999999999,5.91,11.82,15,30,4,5.5,3,6,1040,1055,1008,1013,"01D","American Wheat Beer",2.5,2.9,{"$f":"VLOOKUP(A5,Feuil2!$A$1:$H$74,2,FALSE)","v":"50-100"},{"$f":"VLOOKUP(A5,Feuil2!$A$1:$H$74,3,FALSE)","v":"0-30"},{"$f":"VLOOKUP(A5,Feuil2!$A$1:$H$74,4,FALSE)","v":"0-80"},{"$f":"VLOOKUP(A5,Feuil2!$A$1:$H$74,5,FALSE)","v":"100-200"},{"$f":"VLOOKUP(A5,Feuil2!$A$1:$H$74,6,FALSE)","v":"50-100"},{"$f":"VLOOKUP(A5,Feuil2!$A$1:$H$74,7,FALSE)","v":"<100"},{"$f":"VLOOKUP(A5,Feuil2!$A$1:$H$74,8,FALSE)","v":"-60-0"},"01-Standard American Beer","Wheat Beer","Wheat Beer","United States",1008,"01D - American Wheat Beer",1013,"Refreshing wheat beers that can display more hop character and less yeast character than their German cousins. A clean fermentation character allows bready, doughy, or grainy wheat flavors to be complemented by hop flavor and bitterness rather than yeast qualities.","Low to moderate grainy, bready, or doughy wheat character. A light to moderate malty sweetness is acceptable. Esters can be moderate to none, although should reflect relatively neutral yeast strains; banana is inappropriate. Hop aroma may be low to moderate, and can have a citrusy, spicy, floral, or fruity character. No clove phenols.","Usually pale yellow to gold. Clarity may range from brilliant to hazy with yeast approximating the German weissbier style of beer. Big, long-lasting white head.","Light to moderately-strong bready, doughy, or grainy wheat flavor, which can linger into the finish. May have a moderate malty sweetness or finish quite dry. Low to moderate hop bitterness, which sometimes lasts into the finish. Balance is usually even, but may be slightly bitter. Low to moderate hop flavor (citrusy, spicy, floral, or fruity). Esters can be moderate to none, but should not include banana. No clove phenols. May have a slightly crisp finish.","Medium-light to medium body. Medium-high to high carbonation. Slight creaminess is optional; wheat beers sometimes have a soft, ‘fluffy’ impression.","Different variations exist, from an easy-drinking fairly sweet beer to a dry, aggressively-hopped beer with a strong wheat flavor. American rye beers should be entered in the Alternative Fermentables specialty category.","An American craft beer adaptation of the German weissbier style using a cleaner yeast and more hops, first widely popularized by Widmer in the mid-1980s.","Clean American ale or lager yeast (German weissbier yeast is inappropriate). Large proportion of wheat malt (often 30–50%, which is lower than is typical in German weissbiers). American, German, or New World hops are typical.","More hop character and less yeast character than German weissbier. Never with the banana and clove character of German weissbier. Generally can have the same range and balance as Blonde Ales, but with a wheat character as the primary malt flavor.","Bell’s Oberon, Boulevard Unfiltered Wheat Beer, Goose Island 312 Urban Wheat Ale, Widmer Hefeweizen",null,"Bières de blé rafraichissantes qui peuvent développer un caractère plus houblonné et moins porté sur les levures que leurs homologues allemandes. Une fermentation maitrisée, en termes de températures et de durée, permet aux saveurs briochées, de pâte à pain ou de blé, d'être complétées par les saveurs houblonnées et l'amertume plutôt que par celles associées aux levures. ","Arômes de grains, de brioche ou de pâte à pain d'intensités faibles à modérées. Une douceur maltée d'intensité légère à modérée est acceptable. Les esters peuvent être absents ou présents en quantité modérée, mais ils doivent refléter l'activité de levures relativement neutres ; un arôme de banane est par exemple inapproprié pour ce style de bière. L'arôme des houblons varie de faible à modéré et peut être citronné, épicé, floral ou fruité. Les composés phénolés rappelant le clou de girofle sont absents. ","La robe varie habituellement de jaune pâle à dorée. La limpidité varie de translucide à floue, du fait de levures en suspension, se rapprochant alors du style des Weissbier allemandes. Le col de mousse blanc est épais et persistent. ","Saveurs briochées, de pâte à pain ou de blé légères à modérément fortes, qui peuvent persister en fin de bouche. Celle-ci peut présenter une douceur maltée ou être assez sèche. L'amertume varie de faible à moyenne et peut persister également en finition. L'équilibre est généralement bien réparti, mais peut pencher légèrement en faveur de l'amertume. Les saveurs de houblons citronnées, épicées, florales ou fruitées ont une intensité faible à modérée. Les esters peuvent être absents ou modérés, mais ne doivent pas comporter de saveurs de banane. Il n'y a pas non plus de saveur de clou de girofle. La fin de bouche peut être légèrement sèche et nette. ","Corps moyennement léger à moyen. Carbonatation moyennement élevée à élever. Un côté légèrement crémeux est possible, les bières de blé donnant parfois une légère sensation cotonneuse/duveteuse en bouche. ","Il existe différentes variations de ce style, allant de bières assez sucrées et facile à boire à des bières sèches, fortement houblonnées et dotées d'une forte saveur de blé. Les bières de seigle américaines devraient être par contre inscrite dans la catégorie des spécialités \"Fermentescibles Alternatifs\" (ndt: en attendant une appellation plus sympathique). ","Les Bières de Blé Américaines sont issues d'une adaptation des Weissbier allemandes.  Elles sont produites en utilisant des levures plus neutres et plus de houblons. Elles ont d'abord été popularisées par la brasserie Widmer Brothers au milieu des années 1980. ","On utilise pour ce type de bière une levure neutre américaine ou une levure de fermentation basse. L'utilisation d'une levure allemande dédiée à la fermentation des bières de blé est inappropriée pour ce style. On utilise une importante proportion de malt de blé (entre 30% et 50%, ce qui est inférieur à ce qui est habituellement utilisé dans les Weissbier allemandes). L'utilisation des houblons américains, allemands ou du nouveau monde est maintenant habituelle. ","Plus de notes houblonnées et moins de levures que les weissbier allemandes. Aucune présence d'arômes de banane et clou de girofle des weissbier. Elles peuvent avoir  les mêmes caractéristiques et équilibre que les Ales blondes mais avec la présence du blé comme principale note maltée. ","Bell’s Oberon, Boulevard Unfiltered Wheat Beer, Goose Island 312 Urban Wheat Ale, Widmer Hefeweizen"]
["02A - International Pale Lager",1.042,1.05,1.008,1.012,3.94,11.82,18,25,4.5999999999999996,6,2,6,1042,1050,1008,1012,"02A","International Pale Lager",2.2000000000000002,2.7,{"$f":"VLOOKUP(A6,Feuil2!$A$1:$H$74,2,FALSE)","v":{"$error":"#N/A"}},{"$f":"VLOOKUP(A6,Feuil2!$A$1:$H$74,3,FALSE)","v":{"$error":"#N/A"}},{"$f":"VLOOKUP(A6,Feuil2!$A$1:$H$74,4,FALSE)","v":{"$error":"#N/A"}},{"$f":"VLOOKUP(A6,Feuil2!$A$1:$H$74,5,FALSE)","v":{"$error":"#N/A"}},{"$f":"VLOOKUP(A6,Feuil2!$A$1:$H$74,6,FALSE)","v":{"$error":"#N/A"}},{"$f":"VLOOKUP(A6,Feuil2!$A$1:$H$74,7,FALSE)","v":{"$error":"#N/A"}},{"$f":"VLOOKUP(A6,Feuil2!$A$1:$H$74,8,FALSE)","v":{"$error":"#N/A"}},"02-International Lager","Pale Lager","Mass Market Pale Lager","International",1008,"02A - International Pale Lager",1012,"A highly-attenuated pale lager without strong flavors, typically well-balanced and highly carbonated. Served cold, it is refreshing and thirst-quenching.","Low to medium-low malt aroma, which can be grainy-malty or slightly corny-sweet. Hop aroma may range from very low to a medium, spicy or floral hop presence. While a clean fermentation profile is generally most desirable, low levels of yeast character (such as a light apple fruitiness) are not a fault. A light amount of DMS or corn aroma is not a fault.","Pale straw to gold color. White, frothy head may not be long lasting. Very clear.","Low to moderate levels of grainy-malt flavor, with a crisp, dry, well-attenuated finish. The grain character can be somewhat neutral, or show a light bready-crackery quality or up to moderate corny or malty sweetness. Hop flavor ranges from none to medium levels, and often showing a floral, spicy, or herbal character if detected. Hop bitterness at medium-low to medium level. Balance may vary from slightly malty to slightly bitter, but is relatively close to even. Neutral aftertaste with light malt and sometimes hop flavors. A light amount of DMS is not a fault.","Light to medium body. Moderately high to highly carbonated. Can have a slight carbonic bite on the tongue.","International lagers tend to have fewer adjuncts than standard American lagers. They may be all-malt, although strong flavors are still a fault. A broad category of international mass-market lagers ranging from up-scale American lagers to the typical “import” or “green bottle” international beers found in America and many export markets. Often confusingly labeled as a “Pilsner.” Any skunkiness in commercial beers from being lightstruck in a green bottle is a mishandling fault, not a characteristic of the style.","In the United States, developed as a premium version of the standard American lager, with a similar history. Outside the United States, developed either as an imitation of American style lagers, or as a more accessible (and often drier and less bitter) version of a Pilsner-type beer. Often heavily marketed and exported by large industrial or multi-national breweries.","Two- or six-row barley. May use rice, corn, or sugar as adjuncts, or may be all malt.","Generally more bitter and filling than American lager. Less hoppy and bitter than a German Pils. Less body, malt flavor, and hop character than a Czech Premium Pale Lager. More robust versions can approach a Munich Helles in flavor, although with more of an adjunct quality.","Asahi Super Dry, Birra Moretti, Corona Extra, Devils Backbone Gold Leaf Lager, Full Sail Session Premium Lager, Heineken, Red Stripe, Singha",null,"Une lager pâle très atténuée, dénuée de saveurs prononcées ou fortes, généralement bien équilibrée et fortement carbonatée. Servie fraîche, c'est une bière rafraichissante et désaltérante.","L'arôme de malt est faible à moyennement faible. Il peut rappeler l'arôme de grain ou de grain malté, mais il peut aussi être légèrement doux et sucré rappelant le maïs. L'arôme de houblon a une intensité faible à moyenne, épicé ou floral. Un profil aromatique issu d'une fermentation maîtrisée (en termes de température et de durée) est préférable, mais de faibles taux d'arômes associés aux levures (comme un léger arôme fruité de pomme) ne constituent pas un défaut. De même, un léger taux de DMS ou d'arôme de maïs ne sont pas un défaut.","Couleur variant du jaune paille au doré, claire et limpide. Le col de mousse très blanche n'est pas nécessairement persistant.","Saveur de grains maltés faible à modérée, avec une brève fin de bouche, sèche et bien atténuée. La saveur de grain peut être soit quasiment neutre, soit légèrement briochée, soit rappeler les biscuits salés (crackers) ou encore présenter une douceur modérée de maïs ou de malt. La saveur des houblons peut être soit absente, soit modérée, auquel cas elle est souvent florale, épicée ou herbacée. L'amertume a une intensité moyennement faible à moyenne. L'équilibre peut varier de légèrement malté à légèrement amer, mais reste proche de l'équilibre. L'arrière-goût est neutre avec parfois de légères notes de malts et de houblons. Un faible taux de DMS n'est pas considéré comme un défaut.","Corps léger à moyen. La carbonatation varie de moyennement élevée à élever. Dans ce dernier cas, la bière peut présenter un léger piquant dû à cette forte effervescence.","Les Lagers Blondes Internationales tendent à contenir moins de compléments que les Lagers Américaines standards. Elles sont parfois brassées avec uniquement du malt (sic.), bien que de fortes saveurs constituent un défaut pour ce style de bière. Les Lagers Blondes Internationales représentent une large catégorie de bières de grande distribution, allant des Lagers Américaines haut de gamme, aux Lagers Internationales d'import, conditionnées en bouteilles de verre vert, que l'on trouve aux USA ainsi que sur de nombreux marchés d'export internationaux. Les Lagers Blondes Internationales sont souvent labellées à tort comme étant des \"Pilsners\". On note que l'odeur de moufette liée à l'exposition de la bière à la lumière, et que l'on retrouve dans les bières commerciales conditionnées en bouteilles de verre vert, est simplement le résultat de ces mauvaises manipulations. Elle n'est donc absolument pas caractéristique de ce style.","Aux États-Unis d'Amérique, les Lagers Blondes Internationales ont été développées comme une version supérieure des Lagers Américaines Standards, et suivant une histoire similaire. En dehors des États-Unis d'Amérique, le style a été développé, soit comme une imitation du style des Lagers Américaines, soit comme une version plus accessible, parce que plus sèche et moins amère, des bières de type Pilsner. Ces bières sont souvent commercialisées et exportées par des brasseries industrielles de grande envergure et multinationales.","Bière à base d'orge 2-rangs ou 6-rangs. Il est possible d'utiliser du riz, du maïs ou du sucre comme compléments, mais la base céréalière doit être composée uniquement de malts d'orge.","Les Lager Blonde Internationales sont généralement plus amères et caloriques que les Lagers Américaines tout en étant cependant moins houblonnées et amères que les Pilsners Allemandes. Elles possèdent moins de corps, moins de saveurs maltées et houblonnées que les Lagers Blondes Tchèques mais les versions les plus fortes se rapprochent par contre des Munich Helles en termes de saveurs, bien que l'on y sente la présence de compléments.","Brasserie Asashi - Asahi Super Dry, Heineken - Birra Moretti, Grupo Modelo (Anheuser-Bush Inbev) - Corona Extra, Brasserie Devils Backbone - Devils Backbone Gold Leaf Lager, Brasserie Full Sail - Full Sail Session Premium Lager, Heineken- Heineken - Red Stripe, Boon Rawd – Singha"]
["02B - International Amber Lager",1.042,1.0549999999999999,1.008,1.014,13.79,27.58,8,25,4.5999999999999996,6,7,14,1042,1055,1008,1014,"02B","International Amber Lager",2.2000000000000002,2.7,{"$f":"VLOOKUP(A7,Feuil2!$A$1:$H$74,2,FALSE)","v":{"$error":"#N/A"}},{"$f":"VLOOKUP(A7,Feuil2!$A$1:$H$74,3,FALSE)","v":{"$error":"#N/A"}},{"$f":"VLOOKUP(A7,Feuil2!$A$1:$H$74,4,FALSE)","v":{"$error":"#N/A"}},{"$f":"VLOOKUP(A7,Feuil2!$A$1:$H$74,5,FALSE)","v":{"$error":"#N/A"}},{"$f":"VLOOKUP(A7,Feuil2!$A$1:$H$74,6,FALSE)","v":{"$error":"#N/A"}},{"$f":"VLOOKUP(A7,Feuil2!$A$1:$H$74,7,FALSE)","v":{"$error":"#N/A"}},{"$f":"VLOOKUP(A7,Feuil2!$A$1:$H$74,8,FALSE)","v":{"$error":"#N/A"}},"02-International Lager","Amber Lager","Amber Lager","International",1008,"02B - International Amber Lager",1014,"A well-attenuated malty amber lager with an interesting caramel or toast quality and restrained bitterness. Usually fairly well-attenuated, often with an adjunct quality. Smooth, easily-drinkable lager character.","Low to moderate malt aroma which can be grainy, with a very low to moderate caramel-sweet to toasty-malty aroma. Hop aroma can range from low to none with a mildly floral or spicy character. Clean lager profile. A slight DMS or corny aroma is acceptable.","Golden-amber to reddish-copper color. Bright clarity. White to off-white foam stand which may not last.","Low to moderate malt profile which can vary from dry to grainy-sweet. Low to moderate levels of caramel and toasty-bready notes can be evident. Low to medium-low corny sweetness is optional, but not a fault. Hop bitterness is low to moderate, and hop flavor is low to moderate with a spicy, herbal, or floral character. The balance can be fairly malty to nearly even, with the bitterness becoming more noticeable but not objectionable. The bitterness level can increase if the malt character increases to match. Clean fermentation profile. Finish is moderately dry with a moderately malty aftertaste.","Light to medium body. Medium to high carbonation. Smooth; some examples can be creamy.","A wide spectrum of mass-market Amber lagers developed either independently in various countries, or describing rather generic amber beers that may have had more historical relevance but who eventually changed into an indistinguishable product in modern times.","Varies by country, but generally represents an adaptation of the mass-market International Lager or an evolution of indigenous styles into a more generic product.","Two-row or six-row base malt. Color malts such as victory, amber, etc. Caramel malt adjuncts. European or American hops or a combination of both.","Less well-developed malt flavor than a Vienna lager, often with an adjunct taste.","Brooklyn Lager, Capital Winter Skål, Dos Equis Amber, Schell’s Oktoberfest, Yuengling Lager",null,"Une lager ambrée, bien atténuée et maltée, avec des notes caramélisées et toastées intéressantes, accompagnée d'une amertume modérée. On sent la présence des céréales ajoutées mais elle demeure une lager douce et facile à boire. ","Les arômes maltés, qui peuvent pencher vers les arômes de grain, sont d'intensité faible à modérée, complétés par des arômes allant de caramel sucré à grillé et malté, avec des intensités faibles à modérées. Les arômes de houblon sont absents à faibles, modérément floraux ou épicés. Le profil aromatique des levures est celui d'une fermentation basse, bien maitrisée en termes de températures et durée. De légers arômes de DMS et de maïs sont acceptables. ","Couleur ambrée-dorée à cuivrée-rougeâtre, claire et brillante. Le col de mousse de couleur blanche à blanc-cassé peut voir sa persistance limitée dans le temps. ","Profil malté d'intensité faible à modérée, variant de sec à doux avec des saveurs de grains. Des notes modérées de caramel et de brioche grillée peuvent être perceptibles. Une saveur douce de maïs est acceptable, mais n'est pas un défaut. L'amertume est faible à modérée et les saveurs de houblons, elles aussi faibles à modérées, sont plutôt épicées, herbacées ou florales. L'équilibre peut pencher du côté malté, ou bien neutre ou encore vers une amertume devenant plus présente sans être désagréable. Si nécessaire, cette amertume peut être renforcée pour contrebalancer un caractère malté plus important. Le profil de la fermentation est neutre (fermentation basse maitrisée). La fin de bouche est modérément sèche avec un arrière-goût malté raisonnable. ","Corps léger à moyen et carbonatation moyenne à élever, elle présente une sensation de douceur en bouche. Certains exemples peuvent même présenter un corps un peu plus onctueux. ","L'appellation Lagers Ambrées Internationales désigne un large spectre de bières de grande distribution, développées largement dans de nombreux pays. Elle décrit aussi des bières ambrées génériques dont la pertinence historique éventuelle a disparu pour laisser place à des bières devenues finalement indifférenciables les unes des autres. ","L'histoire des Lagers Ambrées Internationales varie selon les pays, mais ces bières reflètent généralement soit une variation des lagers commercialisées dans la grande distribution, soit une évolution de styles indigènes en un produit plus générique. ","La base maltée est composée de malts d'orges 2-rangs ou 6-rangs. Les malts colorés généralement trouvés parmi les Victory, Amber Malt ou autres similaires mais complétés également de malts caramels. Les houblons utilisés peuvent être européens, américains ou même une combinaison des deux. ","Ce style de bière présente une saveur maltée bien moins prononcée qu'une Lager Viennoise et révèle souvent le goût des céréales utilisées en complément. ","Brooklyn Lager, Capital Winter Skål, Cuauhtémoc Moctezuma : Dos Equis Amber, Schell’s Oktoberfest, Yuengling Lager."]
["02C - International Dark Lager",1.044,1.056,1.008,1.012,27.58,43.339999999999996,8,20,4.2,6,14,22,1044,1056,1008,1012,"02C","International Dark Lager",2.2000000000000002,2.7,{"$f":"VLOOKUP(A8,Feuil2!$A$1:$H$74,2,FALSE)","v":"50-75"},{"$f":"VLOOKUP(A8,Feuil2!$A$1:$H$74,3,FALSE)","v":"0-30"},{"$f":"VLOOKUP(A8,Feuil2!$A$1:$H$74,4,FALSE)","v":"80-120"},{"$f":"VLOOKUP(A8,Feuil2!$A$1:$H$74,5,FALSE)","v":"0-50"},{"$f":"VLOOKUP(A8,Feuil2!$A$1:$H$74,6,FALSE)","v":"50-150"},{"$f":"VLOOKUP(A8,Feuil2!$A$1:$H$74,7,FALSE)","v":"<100"},{"$f":"VLOOKUP(A8,Feuil2!$A$1:$H$74,8,FALSE)","v":"40 - 80"},"02-International Lager","Dark Lager","Dark Lager","International",1008,"02C - International Dark Lager",1012,"A darker and somewhat sweeter version of international pale lager with a little more body and flavor, but equally restrained in bitterness. The low bitterness leaves the malt as the primary flavor element, and the low hop levels provide very little in the way of balance.","Little to no malt aroma; may have a light corn character. Medium-low to no roast and caramel malt aroma. Hop aroma may range from none to light spicy or floral hop presence. While a clean fermentation profile is generally most desirable, low levels of yeast character (such as a light apple fruitiness) are not a fault. A light amount of DMS or corn aroma is not a fault.","Deep amber to dark brown with bright clarity and ruby highlights. Foam stand may not be long lasting, and is beige to light tan in color.","Low to medium malty sweetness with medium-low to no caramel and/or roasted malt flavors (and may include hints of coffee, molasses or cocoa). Hop flavor ranges from none to low levels, and is typically floral, spicy, or herbal. Low to medium hop bitterness. May have a very light fruitiness. Moderately crisp finish. The balance is typically somewhat malty. Burnt or moderately strong roasted malt flavors are a defect. ","Light to medium-light body. Smooth with a light creaminess. Medium to high carbonation.","A broad range of international lagers that are darker than pale, and not assertively bitter and/or roasted. ","Darker versions of International Pale Lagers often created by the same large, industrial breweries and meant to appeal to a broad audience. Often either a colored or sweetened adaptation of the standard pale industrial lager, or a more broadly accessible (and inexpensive) version of more traditional dark lagers.","Two- or six-row barley, corn, rice, or sugars as adjuncts. Light use of caramel and darker malts. Commercial versions may use coloring agents.","Less flavor and richness than Munich Dunkel, Schwarzbier, or other dark lagers. Frequently uses adjuncts, as is typical of other International Lagers.","Baltika #4 Original, Devils Backbone Old Virginia Dark, Dixie Blackened Voodoo, Saint Pauli Girl Dark, San Miguel Dark, Session Black Dark Lager, Shiner Bock",null,"Une version plus sombre et légèrement plus sucrée d'une Lager Blonde Internationale, avec un peu plus de corps et de saveur, mais d'une amertume également modérée. \nCette faible amertume laisse la place à une saveur maltée dominante, le faible taux de houblonnage n'apportant que peu de chose dans le rétablissement de l'équilibre général.","L'arôme de malt est très faible ou absent mais on peut le plus souvent percevoir un léger arôme de maïs. Les arômes de grillé et de caramel sont moyennement faibles à absents, ceux des houblons sont indétectables à légèrement épicés ou floraux. Tandis qu'un profil de fermentation neutre est généralement désiré, de faibles niveaux d'arômes liés aux levures (comme une légère note fruitée de pomme) ne sont pas un défaut. De même, de légers taux de DMS ou de faibles arômes de maïs sont également tolérables. ","Couleur ambrée profonde à brun-noire, limpide et brillante avec des reflets rubis. Le col de mousse, beige à brun pâle, peut être peu persistant. ","Sa saveur douce et maltée d'intensité faible à moyenne, avec des notes caramel et/ou légèrement grillées moyennement faibles à absentes, peut présenter des notes de café, mélasse ou cacao. Les saveurs de houblons sont d'intensité nulle à faible et sont habituellement florales, épicées ou herbacées. L'amertume est d'intensité faible à moyenne agrémentée de possibles saveurs fruitées. La fin de bouche est moyennement fraîche et l'équilibre penche généralement un peu du côté malté. Par contre, des notes brûlées ou de fortes saveurs de malts torréfiés seront considérées comme un défaut pour cette bière. ","Corps léger à moyennement léger, voire doux avec une légère sensation crémeuse et carbonatation moyenne à élever. ","Le style Lager Brune Internationale recouvre une large gamme de lagers internationales les plus sombres et dont l'amertume et/ou les notes torréfiées ne sont malgré tout pas trop affirmées. ","Les Lagers Brunes Internationales sont des déclinaisons plus sombres des Lagers Blondes Internationales, souvent crées par les même brasseriesindustrielles de grande envergure. Elles sont conçues pour plaire au plus grand nombre et restent souvent soit des adaptations plus colorées des Lagers Blondes industrielles standard, soit des versions plus accessibles et moins chères des Lagers Brunes plus traditionnelles. ","La base de ces bières est composée de malts d'orge 2 ou 6 rangs et de maïs, de riz ou de sucre comme compléments. De légères quantités de malts caramélisés ou de malts plus foncés sont parfois utilisées bien que des versions ultra commerciales de ce style utilisent parfois simplement des agents colorants. ","Les Lagers Brunes Internationales possèdent moins de saveurs et de complexité que les Munich Dunkel, Schwarzbier et autres Lagers Brunes. L'usage d'ingrédients complémentaires est fréquent, comme c'est aussi le cas dans les autres Lagers Internationales. ","Baltika #4 Original, Devils Backbone - Old Virginia Dark, Dixie Blackened Voodoo, Saint Pauli Girl Dark, San Miguel Dark, Full Sail - Session Black Dark Lager, Spoetzl - Shiner Bock"]
["03A - Czech Pale Lager",1.028,1.044,1.008,1.014,5.91,11.82,20,35,3,4.0999999999999996,3,6,1028,1044,1008,1014,"03A","Czech Pale Lager",2.2000000000000002,2.7,{"$f":"VLOOKUP(A9,Feuil2!$A$1:$H$74,2,FALSE)","v":{"$error":"#N/A"}},{"$f":"VLOOKUP(A9,Feuil2!$A$1:$H$74,3,FALSE)","v":{"$error":"#N/A"}},{"$f":"VLOOKUP(A9,Feuil2!$A$1:$H$74,4,FALSE)","v":{"$error":"#N/A"}},{"$f":"VLOOKUP(A9,Feuil2!$A$1:$H$74,5,FALSE)","v":{"$error":"#N/A"}},{"$f":"VLOOKUP(A9,Feuil2!$A$1:$H$74,6,FALSE)","v":{"$error":"#N/A"}},{"$f":"VLOOKUP(A9,Feuil2!$A$1:$H$74,7,FALSE)","v":{"$error":"#N/A"}},{"$f":"VLOOKUP(A9,Feuil2!$A$1:$H$74,8,FALSE)","v":{"$error":"#N/A"}},"03-Czech Lager","Pale Lager","Pilsner","Czech Republic",1008,"03A - Czech Pale Lager",1014,"A lighter-bodied, rich, refreshing, hoppy, bitter pale Czech lager having the familiar flavors of the stronger Czech Premium Pale Lager (Pilsner-type) beer but in a lower alcohol, lighter-bodied, and slightly less intense format.","Light to moderate bready-rich malt combined with light to moderate spicy or herbal hop bouquet; the balance between the malt and hops may vary. Faint hint of caramel is acceptable. Light (but never intrusive) diacetyl and light, fruity hop-derived esters are acceptable, but need not be present. No sulfur.","Light gold to deep gold color. Brilliant to very clear, with a long-lasting, creamy white head. ","Medium-low to medium bready-rich malt flavor with a rounded, hoppy finish. Low to medium-high spicy or herbal hop flavor. Bitterness is prominent but never harsh. Flavorful and refreshing. Diacetyl or fruity esters are acceptable at low levels, but need not be present and should never be overbearing.","Medium-light to medium body. Moderate carbonation. ","The Czech name of the style is světlé výčepní pivo. ","Josef Groll initially brewed two types of beer in 1842–3, a výčepní and a ležák, with the smaller beer having twice the production; Evan Rail speculates that these were probably 10 °P and 12 °P beers, but that the výčepní could have been weaker. This is the most consumed type of beer in the Czech Republic at present.","Soft water with low sulfate and carbonate content, Saazer-type hops, Czech Pilsner malt, Czech lager yeast. Low ion water provides a distinctively soft, rounded hop profile despite high hopping rates. ","A lighter-bodied, lower-intensity, refreshing, everyday version of Czech Premium Pale Lager.","Březňák Světlé výčepní pivo, Notch Session Pils, Pivovar Kout na Šumavě Koutská 10°, Únětické pivo 10°",null,"Une lager tchèque blonde légère et plus fine en bouche, riche, rafraichissante, houblonnée présentant les flaveurs habituelles des Lager tchèques blondes premium (de type Pilsner) mais avec moins d'alcool, un corps plus fin et un profil globalement moins intense. ","Des arômes de malt au goût de pain léger combinés à un bouquet de houblon légèrement à modérément épicé et herbeux ; l'équilibre entre malts et houblons peut être variable. Une légère touche de caramel est acceptable. Un diacetyl léger (mais non intrusif) et des esters légers, fruités, provenant des houblons sont acceptables également mais non nécessaires. Pas de soufre en tous cas. ","Couleur dorée légère à profonde. Brillante à très claire, avec une mousse crémeuse et blanche persistante. ","Saveurs maltées moyennement basses à moyennement prononcées tirant sur le pain, avec une fin ronde en bouche et houblonnée. Des saveurs de houblon épicées ou herbeuses faibles à moyennement hautes. L'amertume est proéminente mais jamais astringente, riche en saveurs et rafraichissante. Le diacetyl et les esters fruités sont acceptables à faibles niveaux, mais non nécessaires et ne doivent jamais dominer le reste du profil. ","Corps moyen-faible à moyen. Carbonatation modérée. ","Le nom tchèque de ce style est světlé výčepní pivo (bière légère). Pivo étant le mot désignant la bière dans un bon nombre de langues d'Europe de l'Est. ","Josef Groll (maître brasseur bavarois à l'origine du procédé et du renouveau de la bière à Pilsen) brassait initialement deux types de bières dans les années 1842-43, une výčepní et une ležák, avec la plus légère représentant les 2/3 de la production ; Evan Rail suppose qu'il s'agissait de bières à 10 et 12°P, mais la výčepní pourrait avoir été plus faible. Il s'agit du type de bière le plus consommé en république tchèque aujourd'hui. ","Une eau douce avec un faible taux de sulfates et carbonates, des houblons de type Saaz, du malt Pilsner et des levures basses typiquement Tchèque. Une eau faible en ions apporte un profil houblonné particulièrement doux et rond malgré des teneurs élevées. ","Une version plus fine en bouche, moins intense, rafraichissante, de consommation quotidienne de la Lager Blonde Premium Tchèque. ","Březňák Světlé výčepní pivo, Notch Session Pils, Pivovar Kout na Šumavě Koutská 10°, Únětické pivo 10°"]
["03B - Czech Premium Pale Lager",1.044,1.06,1.0129999999999999,1.0169999999999999,6.8949999999999996,11.82,30,45,4.2,5.8,3.5,6,1044,1060,1013,1017,"03B","Czech Premium Pale Lager",2.2000000000000002,2.7,{"$f":"VLOOKUP(A10,Feuil2!$A$1:$H$74,2,FALSE)","v":{"$error":"#N/A"}},{"$f":"VLOOKUP(A10,Feuil2!$A$1:$H$74,3,FALSE)","v":{"$error":"#N/A"}},{"$f":"VLOOKUP(A10,Feuil2!$A$1:$H$74,4,FALSE)","v":{"$error":"#N/A"}},{"$f":"VLOOKUP(A10,Feuil2!$A$1:$H$74,5,FALSE)","v":{"$error":"#N/A"}},{"$f":"VLOOKUP(A10,Feuil2!$A$1:$H$74,6,FALSE)","v":{"$error":"#N/A"}},{"$f":"VLOOKUP(A10,Feuil2!$A$1:$H$74,7,FALSE)","v":{"$error":"#N/A"}},{"$f":"VLOOKUP(A10,Feuil2!$A$1:$H$74,8,FALSE)","v":{"$error":"#N/A"}},"03-Czech Lager","Pilsner","Pilsner","Czech Republic",1013,"03B - Czech Premium Pale Lager",1017,"Rich, characterful, pale Czech lager, with considerable malt and hop character and a long, rounded finish. Complex yet well-balanced and refreshing. The malt flavors are complex for a Pilsner-type beer, and the bitterness is strong but clean and without harshness, which gives a rounded impression that enhances drinkability.","Medium to medium-high bready-rich malt and medium-low to medium-high spicy, floral, or herbal hop bouquet; though the balance between the malt and hops may vary, the interplay is rich and complex. Light diacetyl, or very low fruity hop-derived esters are acceptable, but need not be present. ","Gold to deep gold color. Brilliant to very clear clarity. Dense, long-lasting, creamy white head. ","Rich, complex, bready maltiness combined with a pronounced yet soft and rounded bitterness and floral and spicy hop flavor. Malt and hop flavors are medium to medium-high, and the malt may contain a slight impression of caramel. Bitterness is prominent but never harsh. The long finish can be balanced towards hops or malt but is never aggressively tilted either way. Light to moderate diacetyl and low hop-derived esters are acceptable, but need not be present.","Medium body. Moderate to low carbonation. ","Generally a group of pivo Plzeňského typu, or Pilsner-type beers. This style is a combination of the Czech styles světlý ležák (11–12.9 °P) and světlé speciální pivo (13–14.9 °P). In the Czech Republic, only Pilsner Urquell is called a Pilsner, despite how widely adopted this name is worldwide. Kvasnicové (“yeast beer”) versions are popular in the Czech Republic, and may be either kräusened with yeasted wort or given a fresh dose of pure yeast after fermentation. These beers are sometimes cloudy, with subtle yeastiness and enhanced hop character. Modern examples vary in their malt to hop balance and many are not as hop-forward as Pilsner Urquell.","Commonly associated with Pilsner Urquell, which was first brewed in 1842 after construction of a new brewhouse by burghers dissatisfied with the standard of beer brewed in Plzeň. Bavarian brewer Josef Groll is credited with first brewing the beer.","Soft water with low sulfate and carbonate content, Saazer-type hops, Czech malt, Czech lager yeast. Low ion water provides a distinctively soft, rounded hop profile despite high hopping rates. The bitterness level of some larger commercial examples has dropped in recent years, although not as much as in many contemporary German examples.","More color, malt richness, and body than a German Pils, with a fuller finish and a cleaner, softer impression. Stronger than a Czech Pale Lager.","Bernard Sváteční ležák, Gambrinus Premium, Kout na Šumavě Koutská 12°, Pilsner Urquell, Pivovar Jihlava Ježek 11°, Primátor Premium, Únětická 12°",null,"Lager tchèque pleine de caractère, avec une présence maltée et houblonnée marquée puis une ronde et longue fin de bouche. Complexe mais bien équilibrée et rafraichissante. Les saveurs de malts, plutôt variées pour une bière de type Pilsner et l'amertume puissante mais propre, sans âpreté, lui donne une impression de rondeur qui la rend encore plus facile à boire. ","Arômes maltés au goût de pain de moyen à moyennement haut et un bouquet houblonné tendance épicé, floral ou herbeux moyennement bas à moyennement haut ; même si l'équilibre entre malts et houblons peut varier, la combinaison est néanmoins riche et complexe. Un léger diacetyl ou très peu d'esters fruités provenant des houblons sont acceptables, mais non indispensables.","D'une couleur dorée à dorée profond, brillante à très limpide avec une mousse blanche et crémeuse très tenace. ","Des malts aux saveurs de pain riches, complexes, une amertume douce et ronde bien prononcée et des arômes de houblons épicés et floraux. Les saveurs de malts et houblons sont moyennes à moyennement hautes, le malt pouvant apporter une légère impression de caramel. L'amertume est imposante mais jamais âpre. Une longue fin de bouche peut pencher légèrement du côté houblons ou bien malts mais sans jamais basculer d'un côté ou de l'autre. Un diacetyl léger à raisonnable et des esters houblonnés sont acceptables mais (encore une fois) non indispensables. ","Corps moyen. Carbonatation modérée à faible. ","Il s'agit généralement d'un ensemble de pivo Plzeňského typu ou bières de type Pilsner. Ce style est une combinaison de styles tchèquessvětlý ležák (11–12.9 °P) et světlé speciální pivo (13–14.9 °P). En république tchèque, seule la Pilsner Urquell est appelée Pilsner, peu importe la manière dont ce terme est mondialement utilisé. Les versions Kvasnicové (“bières de levure”), populaires dans le pays sont resucrées avec un moût ensemencé ou se voient ajouter une nouvelle dose de levure fraîche après fermentation. Ces bières sont parfois troubles, avec des saveurs de levures et une présence renforcée des houblons. Les exemples modernes varient dans leur équilibre entre malt et houblon mais beaucoup ne sont plus aussi portées sur les saveurs des houblons que la Pilsner Urquell. ","Communément associée à la Pilsner Urquell qui fut brassée pour la première fois en 1842 après la construction d'une nouvelle brasserie par des villageois insatisfaits du genre de bière brassée à Plzeň, on attribue au brasseur bavarois Josef Groll le premier brassin de cette bière. ","Une eau douce et faible en sulfates et carbonates, des houblons de type Saaz, une levure de lager tchèque. L'eau pauvre en ions apporte un profil houblonné doux et rond malgré les hauts niveaux d'amertume. Ceux-ci ont cependant largement diminué dans les exemples commerciaux les plus répandus, cependant pas autant que dans la plupart des versions allemandes contemporaines. ","Plus de couleur, de richesse maltée et de corps qu'une Pils allemande, avec une fin de bouche plus ronde et nette, une impression plus douce. Plus forte aussi qu'une Lager Blonde Tchèque standard. ","Bernard Sváteční ležák, Gambrinus Premium, Kout na Šumavě Koutská 12°, Pilsner Urquell, Pivovar Jihlava Ježek 11°, Primátor Premium, Únětická 12°"]
["03C - Czech Amber Lager",1.044,1.06,1.0129999999999999,1.0169999999999999,19.7,31.52,20,35,4.4000000000000004,5.8,10,16,1044,1060,1013,1017,"03C","Czech Amber Lager",2.2000000000000002,2.7,{"$f":"VLOOKUP(A11,Feuil2!$A$1:$H$74,2,FALSE)","v":{"$error":"#N/A"}},{"$f":"VLOOKUP(A11,Feuil2!$A$1:$H$74,3,FALSE)","v":{"$error":"#N/A"}},{"$f":"VLOOKUP(A11,Feuil2!$A$1:$H$74,4,FALSE)","v":{"$error":"#N/A"}},{"$f":"VLOOKUP(A11,Feuil2!$A$1:$H$74,5,FALSE)","v":{"$error":"#N/A"}},{"$f":"VLOOKUP(A11,Feuil2!$A$1:$H$74,6,FALSE)","v":{"$error":"#N/A"}},{"$f":"VLOOKUP(A11,Feuil2!$A$1:$H$74,7,FALSE)","v":{"$error":"#N/A"}},{"$f":"VLOOKUP(A11,Feuil2!$A$1:$H$74,8,FALSE)","v":{"$error":"#N/A"}},"03-Czech Lager","Amber Lager","Amber Lager","Czech Republic",1013,"03C - Czech Amber Lager",1017,"Malt-driven amber Czech lager with hop character that can vary from low to quite significant. The malt flavors can vary quite a bit, leading to different interpretations ranging from drier, bready, and slightly biscuity to sweeter and somewhat caramelly.","Moderate intensity, rich malt aroma that can be either bready and Maillard product-dominant or slightly caramelly and candy-like. Spicy, floral or herbal hop character may be moderate to none. Clean lager character, though low fruity esters (stone fruit or berries) may be present. Diacetyl is optional and can range from low to none.","Deep amber to copper color. Clear to bright clarity. Large, off-white, persistent head. ","Complex malt flavor is dominant (medium to medium-high), though its nature may vary from dry and Maillard product-dominant to caramelly and almost sweet. Some examples have a candy-like to graham-cracker malt character. Low to moderate spicy hop flavor. Prominent but clean hop bitterness provides a balanced finish. Subtle plum or berry esters optional. Low diacetyl optional. No roasted malt flavor. Finish may vary from dry and hoppy to relatively sweet.","Medium-full to medium body. Soft and round, often with a gentle creaminess. Moderate to low carbonation.","The Czech name of the style is polotmavé pivo, which translates as half dark. This style is a combination of the Czech styles polotmavý ležák (11–12.9 °P) and polotmavé speciální pivo (13–14.9 °P).","A Vienna-style lager which has continued to be brewed in the Czech Republic. A resurgence of small breweries opening in the Czech Republic has increased the number of examples of this style. ","Pilsner and caramel malts, but Vienna and Munich malts may also be used. Low mineral content water, Saazer-type hops, Czech lager yeast. ","The style can be similar to a Vienna lager but with Saazer-type hop character, or that approaching an English bitter but significantly richer with more of a deep caramel character. Large brewery versions are generally similar to Czech Premium Pale Lager with slightly darker malt flavors and less hop, while smaller breweries often make versions with considerable hop character, malt complexity, or residual sweetness.","Bernard Jantarový ležák, Pivovar Vysoký Chlumec Démon, Primátor polotmavý 13°, Strakonický Dudák Klostermann polotmavý ležák 13°",null,"Une lager tchèque dominée par les malts avec un profil houblonné qui peut varier de faible à bien présent. Les saveurs de malt peuvent être variables et perçues soit comme sèches, soit rappelant le pain ou légèrement biscuitées soit être plus sucrées voire presque caramel. ","Arômes de malt d'intensité moyenne mais complexe, rappelant le pain et les produits de réactions de Maillard ou légèrement caramel voire bonbon. Le profil des houblons épicé, floral ou herbeux peut varier de moyen à absent. Un profil typique de lager, même si de légers esters fruités (prunes ou baies) peut être présent. Le diacetyl n'est pas indispensable et peut varier de faible à nul. ","Couleur ambrée profonde à cuivre. Limpidité claire à brillante. Mousse blanchâtre, abondante et persistante. ","Les flaveurs complexes de malt dominent (de moyen à moyen haut), même si leur nature peut varier de sèches ou rappelant les produits des réactions de Maillard jusqu'à caramel et presque sucrées. Certains exemples présentent des notes de malts proches du bonbon ou des biscuits anglais type crackers. Saveurs épicées de houblons faibles à moyennes. Une amertume claire et bien présente apporte une finition bien équilibrée. De légers esters de prunes ou baies peuvent être présents, une faible présence de diacetyl également, mais pas de saveurs de malts torréfiés. La fin de bouche peut varier de sèche et houblonnée à relativement douce. ","Corps moyen à moyennement plein. Doux et rond, souvent légèrement crémeux. Carbonatation modérée à faible. ","Le nom tchèque du style est polotmavé pivo, ce qui peut être traduit par mi- brune. Ce style est une combinaison des styles tchèques polotmavý ležák (11–12.9 °P) et polotmavé speciální pivo (13–14.9 °P). ","Les flaveurs complexes de malt dominent (de moyen à moyen haut), même si leur nature peut varier de sèches ou rappelant les produits des réactions de Maillard jusqu'à caramel et presque sucrées. Certains exemples présentent des notes de malts proches du bonbon ou des biscuits anglais type crackers. Saveurs épicées de houblons faibles à moyennes. Une amertume claire et bien présente apporte une finition bien équilibrée. De légers esters de prunes ou baies peuvent être présents, une faible présence de diacetyl également, mais pas de saveurs de malts torréfiés. La fin de bouche peut varier de sèche et houblonnée à relativement douce. ","Des malts pilsner et caramel bien sûr, mais les malts Vienna et Munich peuvent également être utilisés. Une eau douce et pauvre en minéraux, des houblons de type Saaz et une levure typique de lager tchèque. ","Ce style peut être très proche d'une lager viennoise mais avec le profil typique des houblons de type Saaz, ou celui approchant d'une Bitter anglaise mais beaucoup plus complexe avec plus de notes profondes de caramel. Les versions des grandes brasseries sont généralement identiques aux lagers blondes tchèques type \"Premium\" avec de légères saveurs de malts plus foncés en plus et moins de houblons, alors que les micro-brasseries en produisent des versions aux profils houblonnés, à la complexité des malts et à la douceur résiduelle plus marqués. ","Bernard Jantarový ležák, Pivovar Vysoký Chlumec Démon, Primátor polotmavý 13°, Strakonický Dudák Klostermann polotmavý ležák 13° "]
["03D - Czech Dark Lager",1.044,1.06,1.0129999999999999,1.0169999999999999,27.58,68.95,18,34,4.4000000000000004,5.8,14,35,1044,1060,1013,1017,"03D","Czech Dark Lager",2.2000000000000002,2.7,{"$f":"VLOOKUP(A12,Feuil2!$A$1:$H$74,2,FALSE)","v":"50-60"},{"$f":"VLOOKUP(A12,Feuil2!$A$1:$H$74,3,FALSE)","v":"0-30"},{"$f":"VLOOKUP(A12,Feuil2!$A$1:$H$74,4,FALSE)","v":"0-40"},{"$f":"VLOOKUP(A12,Feuil2!$A$1:$H$74,5,FALSE)","v":"0-50"},{"$f":"VLOOKUP(A12,Feuil2!$A$1:$H$74,6,FALSE)","v":"50-100"},{"$f":"VLOOKUP(A12,Feuil2!$A$1:$H$74,7,FALSE)","v":"<100"},{"$f":"VLOOKUP(A12,Feuil2!$A$1:$H$74,8,FALSE)","v":"-60-0"},"03-Czech Lager","Dark Lager","Dark Lager","Czech Republic",1013,"03D - Czech Dark Lager",1017,"A rich, dark, malty Czech lager with a roast character that can vary from almost absent to quite prominent. Malty with an interesting and complex flavor profile, with variable levels of hopping providing a range of possible interpretations.","Medium to medium-high rich, deep, sometimes sweet maltiness, with optional qualities such as bread crusts, toast, nuts, cola, dark fruit, or caramel. Roasted malt characters such as chocolate or sweetened coffee can vary from moderate to none but should not overwhelm the base malt character. Low, spicy hop aroma is optional. Low diacetyl and low fruity esters (plums or berries) may be present.","Dark copper to almost black color, often with a red or garnet tint. Clear to bright clarity. Large, off-white to tan, persistent head.","Medium to medium-high deep, complex maltiness dominates, typically with malty-rich Maillard products and a light to moderate residual malt sweetness. Malt flavors such as caramel, toast, nuts, licorice, dried dark fruit, chocolate and coffee may also be present, with very low to moderate roast character. Spicy hop flavor can be moderately-low to none. Hop bitterness may be moderate to medium-low but should be perceptible. Balance can vary from malty to relatively well-balanced to gently hop-forward. Low to moderate diacetyl and light plum or berry esters may be present. ","Medium to medium-full body, considerable mouthfeel without being heavy or cloying. Moderately creamy in texture. Smooth. Moderate to low carbonation. Can have a slight alcohol warmth in stronger versions.","This style is a combination of the Czech styles tmavý ležák (11–12.9 °P) and tmavé speciální pivo (13–14.9 °P). More modern examples are drier and have higher bitterness while traditional versions often have IBUs in the 18–20 range with a sweeter balance.","The U Fleků brewery has been operating in Prague since 1499. Many small, new breweries are brewing this style.","Pilsner and dark caramel malts with the addition of debittered roasted malts are most common, but additions of Vienna or Munich malt are also appropriate. Low mineral content water, Saazer-type hops, Czech lager yeast. Any fruity esters are typically from malt, not yeast.","The beer is the Czech equivalent of a dark lager ranging in character from Munich Dunkel to Schwarzbier, but typically with greater malt richness and hop character (aroma, flavor, and/or bitterness).","Bohemian Brewery Cherny Bock 4%, Budweiser Budvar B:Dark tmavý ležák, Devils Backbone Morana, Kout na Šumavě Koutský tmavý speciál 14°, Notch Černé Pivo, Pivovar Březnice Herold, U Fleků Flekovský tmavý 13° ležák",null,"Une lager tchèque complexe, sombre, maltée avec un profil torréfié qui peut varier de carrément absent à presque proéminent. Maltée avec des saveurs complexes et intéressantes, ses niveaux variables de houblonnages permettent une multitude d'interprétations. ","Des arômes maltés d'une complexité moyenne à moyennement haute, profonde, parfois sucrée, avec d'autres notes éventuelles de croûte de pain, toast, noix, cola, fruits noirs (ndt : mûres, prunes...) ou caramel. Le profil des malts torréfiés tels que chocolat ou café doux peut varier de modéré à absent mais ne doit jamais prendre le pas sur le profil de base des malts. Les arômes légers de houblons épicés peuvent être perçus mais non indispensables. Un diacetyl et des esters fruités (prunes ou baies) peut également parfois être perceptibles. ","De couleur cuivre sombre à presque noir, souvent teintée de rouge ou grenat. Limpidité claire à brillante. Mousse persistante, abondante, blanchâtre à ocre ou brune. ","Les saveurs maltées, complexes, profondes, moyennes à moyennement hautes dominent, surtout avec les produits fortement maltés de la réaction de Maillard ainsi qu'une légère à moyenne douceur résiduelle des malts. Les saveurs telles que caramel, toast, noix, réglisse, pruneaux, chocolat et café peuvent être présentes, avec une touche de torréfié faible à légère. Les saveurs épicées de houblons peuvent être moyennement faibles à absentes. \nL'amertume des houblons peut être modérée à moyennement faible mais doit être perceptible. L'équilibre peut varier de clairement maltée à relativement bien équilibrée jusqu'à légèrement plus portée sur le houblon. Un diacetyl léger à modéré et des esters de prunes et baies peuvent être présents. ","Moyen à moyennement haut, la rondeur en bouche est bien là mais sans être trop lourde ou écœurante. Sa texture est modérément crémeuse, douce et sa carbonatation modérée à faible. Certaines versions peuvent présenter une légère chaleur d'alcool pour les plus fortes. ","Ce style est une combinaison des styles tchèques tmavý ležák (11–12.9 °P) ettmavé speciální pivo (13–14.9 °P). Les versions modernes sont plus sèches et présentent une amertume supérieure alors que les versions plus traditionnelles ont un niveau d'amertume entre 18 et 20 IBUs avec un équilibre plus doux. ","La brasserie U Fleků est en service à Prague depuis 1499, mais désormais beaucoup de petites et nouvelles brasseries reprennent ce style. ","Les malts pilsner et foncés et l'ajout de malts torréfiés désamérisés sont les plus courants, mais l'ajout de malts Vienna ou Munich est également bien approprié. \nUne eau légère en minéraux, des houblons de type Saaz et une levure de lager tchèque sont habituels. Les esters fruités proviennent essentiellement des malts mais pas des levures. ","Cette bière est l'équivalent des lagers brunes allant des profils de Munich Dunkel aux Schwarzbier, mais généralement avec un profil malté et houblonné (arôme, saveur et/ou amertume) plus prononcés. ","Bohemian Brewery Cherny Bock 4%, Budweiser Budvar B:Dark tmavý ležák, Devils Backbone Morana, Kout na Šumavě Koutský tmavý speciál 14°, Notch Černé Pivo, Pivovar Březnice Herold, U Fleků Flekovský tmavý 13° ležák"]
["04A - Munich Helles",1.044,1.048,1.006,1.012,5.91,9.85,16,22,4.7,5.4,3,5,1044,1048,1006,1012,"04A","Munich Helles",2.2000000000000002,2.7,{"$f":"VLOOKUP(A13,Feuil2!$A$1:$H$74,2,FALSE)","v":"50-60"},{"$f":"VLOOKUP(A13,Feuil2!$A$1:$H$74,3,FALSE)","v":"0-30"},{"$f":"VLOOKUP(A13,Feuil2!$A$1:$H$74,4,FALSE)","v":"0-40"},{"$f":"VLOOKUP(A13,Feuil2!$A$1:$H$74,5,FALSE)","v":"0-50"},{"$f":"VLOOKUP(A13,Feuil2!$A$1:$H$74,6,FALSE)","v":"50-100"},{"$f":"VLOOKUP(A13,Feuil2!$A$1:$H$74,7,FALSE)","v":"<100"},{"$f":"VLOOKUP(A13,Feuil2!$A$1:$H$74,8,FALSE)","v":"-60-0"},"04-Pale Malty European Lager","Pale Lager","European Pale Lager","Germany",1006,"04A - Munich Helles",1012,"A clean, malty, gold-colored German lager with a smooth grainy-sweet malty flavor and a soft, dry finish. Subtle spicy, floral, or herbal hops and restrained bitterness help keep the balance malty but not sweet, which helps make this beer a refreshing, everyday drink.","Moderate grainy-sweet malt aroma. Low to moderately-low spicy, floral, or herbal hop aroma. While a clean aroma is most desirable, a very low background note of DMS is not a fault. Pleasant, clean fermentation profile, with malt dominating the balance. The freshest examples will have more of a malty-sweet aroma.","Medium yellow to pale gold. Clear. Persistent creamy white head.","Moderately malty start with the suggestion of sweetness, moderate grainy-sweet malt flavor with a soft, rounded palate impression, supported by a low to medium-low hop bitterness. The finish is soft and dry, not crisp and biting. Low to moderately-low spicy, floral or herbal hop flavor. The malt dominates the hops in the palate, finish, and aftertaste, but the hops should be noticeable. There should not be any residual sweetness, simply the impression of maltiness with restrained bitterness. Very fresh examples will seem sweeter due to the fresh, rich malt character that can fade with time. Clean fermentation profile.","Medium body. Medium carbonation. Smooth, well-lagered character.","A fully-attenuated Pils malt showcase, Helles is a malt-accentuated beer that is not overly sweet, but rather focuses on malt flavor with underlying hop bitterness in a supporting role. Export examples can quickly lose some of the rich malt character that often suggests sweetness. Helles in Munich tends to be lighter in all aspects than those outside the city, which can be more assertive with more body, flavor, and hop character.","Created in Munich in 1894 at the Spaten brewery to compete with pale Pilsner-type beers. Currently the most popular style in Southern Germany.","Continental Pilsner malt, traditional German Saazer-type hop varieties, clean German lager yeast.","Similar in malt balance and bitterness to Munich Dunkel, but less malty-sweet in nature and pale rather than dark. More body and malt presence than a German Pils, with less hop character throughout. Similar malt profile as a German Exportbier, but with less hops in the balance. ","Augustiner Lagerbier Hell, Bürgerbräu Wolznacher Hell Naturtrüb, Hacker-Pschorr Münchner Gold, Löwenbraü Original, Paulaner Premium Lager, Spaten Premium Lager, Weihenstephaner Original",null,"Lager allemande de couleur or, limpide et maltée, elles présentent de douces touches sucrées et de grains avec une fin de bouche douce et sèche. Les houblons subtilement épicés, floraux ou herbeux et une faible amertume aident à garder un équilibre plutôt malté mais non sucré, ce qui en fait une bière rafraichissante pour une boisson quotidienne. ","Les arômes des malts sont modérément sucrés et rappellent le grain et les houblons épicés, floraux ou herbeux vont de modérément faible à faible. Bien que des arômes nets soient préférables, une très légère présence de DMS en arrière plan n'est pas considérée comme un défaut. Le profil de fermentation est net, plaisant avec une dominance des arômes de malts. Les exemples les plus rafraîchissants penchent un peu plus vers les arômes maltés et sucrés. ","Jaune moyen à jaune doré, ce sont des bières limpides avec une mousse blanche crémeuse et persistante. ","Saveurs maltées avec une légère impression de sucré en début de bouche, saveur maltée encore de sucre et de grain avec une impression de rondeur au palais soutenue par une amertume faible à moyennement faible. La fin de bouche est douce et sèche et ne doit pas paraître piquante ni mordante. Les saveurs épicées, florales ou de houblon vont de faibles à moyennement faibles. Les saveurs maltées doivent dominer les houblons au palais, en finition et arrière goût mais ces derniers doivent être perceptibles. Il ne doit pas subsister de goût sucré, seulement des saveurs de malts associées à une légère amertume. Les bières les plus rafraîchissantes apparaîtront légèrement plus sucrées à cause d'un profil malté frais et riche qui peut s’estomper avec le temps. Les arômes de fermentation sont neutres. ","Corps et carbonatation moyenne. Le profil doux d'une lager bien fermentée. ","Parfait exemple de Pils complètement atténuées, les Helles sont des bières maltées pas trop sucrées mais centrées sur les saveurs des malts et soutenues par une légère amertume. Les versions Export perdent souvent la richesse des arômes maltés qui suggèrent ce côté doux et sucré. Les Helles munichoises sont plus légères que dans les autres villes à tout point de vue : corps, flaveurs et profil d'amertume. ","Créé à Munich en 1894 par la brasserie Spaten pour concurrencer les bières blonde de type Pilsner. C’est actuellement le style le plus populaire dans le sud de l'Allemagne. ","Matls pilsner continental accompagné de variétés de houblons traditionnels de type Saaz, elles sont fermentées avec des souches neutres de levure à lager allemandes. ","Leur équilibre malts/houblons est comparable à celui des Dunkel munichoises, mais moins maltées/sucrées et plus claires que foncées. Elles ont un corps plus important et un profil malté plus prononcé que les autres pilsner allemandes et moins d’arômes houblonnés. Le profil est identique aux Exports allemandes avec moins de houblon. ","Augustiner Lagerbier Hell, Bürgerbräu Wolznacher Hell Naturtrüb, Hacker-Pschorr Münchner Gold, Löwenbraü Original, Paulaner Premium Lager, Spaten Premium Lager, Weihenstephaner Original."]
["04B - Festbier",1.054,1.0569999999999999,1.01,1.012,7.88,13.79,18,25,5.8,6.3,4,7,1054,1057,1010,1012,"04B","Festbier",2.2000000000000002,2.7,{"$f":"VLOOKUP(A14,Feuil2!$A$1:$H$74,2,FALSE)","v":{"$error":"#N/A"}},{"$f":"VLOOKUP(A14,Feuil2!$A$1:$H$74,3,FALSE)","v":{"$error":"#N/A"}},{"$f":"VLOOKUP(A14,Feuil2!$A$1:$H$74,4,FALSE)","v":{"$error":"#N/A"}},{"$f":"VLOOKUP(A14,Feuil2!$A$1:$H$74,5,FALSE)","v":{"$error":"#N/A"}},{"$f":"VLOOKUP(A14,Feuil2!$A$1:$H$74,6,FALSE)","v":{"$error":"#N/A"}},{"$f":"VLOOKUP(A14,Feuil2!$A$1:$H$74,7,FALSE)","v":{"$error":"#N/A"}},{"$f":"VLOOKUP(A14,Feuil2!$A$1:$H$74,8,FALSE)","v":{"$error":"#N/A"}},"04-Pale Malty European Lager","Pale Lager","European Pale Lager","Germany",1010,"04B - Festbier",1012,"A smooth, clean, pale German lager with a moderately strong malty flavor and a light hop character. Deftly balances strength and drinkability, with a palate impression and finish that encourages drinking. Showcases elegant German malt flavors without becoming too heavy or filling.","Moderate malty richness, with an emphasis on toasty-doughy aromatics and an impression of sweetness. Low to medium-low floral, herbal, or spicy hops. The malt should not have a deeply toasted, caramel, or biscuity quality. Clean lager fermentation character.","Deep yellow to deep gold color; should not have amber hues. Bright clarity. Persistent white to off-white foam stand. Most commercial examples are medium gold in color.","Medium to medium-high malty flavor initially, with a lightly toasty, bread dough quality and an impression of soft sweetness. Medium to medium-low bitterness, definitely malty in the balance. Well-attenuated and crisp, but not dry. Medium-low to medium floral, herbal, or spicy hop flavor. Clean lager fermentation character. The taste is mostly of Pils malt, but with slightly toasty hints. The bitterness is supportive, but still should yield a malty, flavorful finish.","Medium body, with a smooth, somewhat creamy texture. Medium carbonation. Alcohol strength barely noticeable as warming, if at all. ","This style represents the modern German beer served at Oktoberfest (although it is not solely reserved for Oktoberfest; it can be found at many other ‘fests’), and is sometimes called Wiesn (“the meadow” or local name for the Oktoberfest festival). We chose to call this style Festbier since by German and EU regulations, Oktoberfestbier is a protected appellation for beer produced at large breweries within the Munich city limits for consumption at Oktoberfest. Other countries are not bound by these rules, so many craft breweries in the US produce beer called Oktoberfest, but based on the traditional style described in these guidelines as Märzen.","Since 1990, the majority of beer served at Oktoberfest in Munich has been this style. Export beer specifically made for the United States is still mainly of the traditional amber style, as are US-produced interpretations. Paulaner first created the golden version in the mid-1970s because they thought the traditional Oktoberfest was too filling. So they developed a lighter, more drinkable but still malty version that they wanted to be “more poundable” (according to the head brewer at Paulaner). But the actual type of beer served at Oktoberfest is set by a Munich city committee.","Majority Pils malt, but with some Vienna and/or Munich malt to increase maltiness. Differences in commercial examples are mostly due to different maltsters and yeast, not major grist differences.","Less intense and less richly toasted than a Märzen. More rich-heavy in body than a Helles, with more hop flavor and higher alcohol. Less rich in malt intensity than a Maibock. The malt complexity is similar to a higher-gravity Czech Premium Pale Lager, although without the associated hops.","Augustiner Oktoberfest, Hacker-Pschorr Superior Festbier, Hofbräu Festbier, Löwenbräu Oktoberfestbier, Paulaner Wiesn, Schönramer Gold, Weihenstephaner Festbier",null,"Une lager allemande blonde, douce et limpide, avec une saveur maltée modérément forte et un léger profil houblonné. Ce style de bière marie avec habilité la force et la buvabilité, avec une impression en bouche et une fin qui encouragent à reprendre une prochaine gorgée. Les saveurs des malts allemands sont mises en avant, sans toutefois devenir trop écœurantes.","Richesse maltée modérée avec une emphase sur des arômes de pain grillé ou de pâte à pain et une impression de sucré. Les arômes de houblons, floraux, herbacés ou épicés sont d'intensité moyenne à faible. Les malts ne doivent pas être trop grillés ni caramélisés, ni avoir un goût de biscuit trop prononcé. Les arômes issus de la fermentation sont ceux d'une lager claire et nette.","Couleur jaune profond à doré mais qui ne doit pas présenter de nuances ambrées. Robe limpide et brillante. Col de mousse persistant, de couleur blanche à blanc-cassé. La plupart des exemples commerciaux ont une couleur modérément dorée.","Saveurs maltées d'intensités moyennes à moyennement élevées, avec de légères notes de pain grillé, de pâte à pain et une douce impression de sucré. Amertume moyenne à moyennement faible, avec un équilibre qui penche clairement vers le côté malté. La bière est bien atténuée, fraîche et vive en bouche, mais pas sèche. Les arômes de houblons, floraux, herbacés ou épicés, sont d'une intensité moyenne à moyennement faible. Le goût est majoritairement celui du malt Pilsner, mais on peut sentir quelques légères pointes de toasté. L'amertume est soutenue, mais doit toujours rester en retrait d'une finition maltée et riche.","Corps moyen, avec une texture douce et quelque peu crémeuse. Carbonatation moyenne. La forte teneur en alcool est à peine perceptible quand elle l'est.","Ce style représente la bière allemande servie actuellement lors de l'Oktoberfest (ce style n'est pas réservé pour l'Oktoberfest; il peut être trouvé dans de nombreux festivals). Il est parfois nommé \"Wiesn\" (abréviation de \"Theresienwiese\", littéralement \"la prairie de Thérèse\", qui désigne, en Bavarois, le lieu où se déroule le festival de l'Oktoberfest ).  Nous avons décidé d'appeler ce style Festbier dans la mesure où, selon les régulations Allemandes et Européennes, l'appellation Oktoberfest est une appellation protégée désignant la bière produite par de grandes brasseries situées sur la commune de Munich pour une consommation au festival de l'Oktoberfest. Les autres pays ne sont pas soumis à cette règle et de nombreuses brasseries artisanales étatsuniennes produisent des bières appelées Oktoberfest mais plus basées sur le style traditionnel décrit dans ce guide sous le nom de Märzen.","Depuis 1990, la majorité des bières servies au festival de l'Oktoberfest de Munich appartient à ce style. Les bières d'exportation spécifiquement brassées pour les États-Unis d'Amérique appartiennent encore au style ambré traditionnel, tout comme le sont les interprétations produites sur le territoire étatsunien. Paulaner a d'abord crée la version dorée de ce style au milieu des années 1970 parce qu'ils pensaient que les Oktoberfest traditionnelles étaient trop écœurantes. Ils ont donc développé une version plus légère et plus facile à boire, mais toujours maltée. Le maître brasseur de Paulaner a décrit cette version comme une bière \"que l'on pourrait consommer rapidement, en grande quantité et de manière continue\" (traduction de \"poundable beer\", cf. Urban Dictionnary). Mais les bières qui sont servies actuellement à l'Oktoberfest sont choisies par un comité de la ville de Munich.\nNdt: L'Oktoberfest était traditionnellement aussi le moment où l'on \"vidait\" les caves des restes de bières brassées en Mars... d'où la proximité avec les Märzen.","Majoritairement de malt Pilsner, parfois complété par du malt Vienna et/ou Munich pour accentuer le côté malté. Les différences entre les styles commerciaux sont majoritairement dues aux différences entre malteries ainsi qu'aux différentes levures utilisées, et non à des différences dans la composition de la base maltée.","Ce style est moins intense et possède moins d'arômes et de saveurs de grillé qu'une Märzen. Il possède un corps plus riche et lourd qu'une Helles, avec plus de saveurs houblonnées et un titre alcoolique plus élevé. Il est moins malté qu'une Maibock. La complexité des saveurs malts est similaire à celle d'une Lager Blonde tchèque de première qualité sans les houblons associés.","Augustiner Oktoberfest, Hacker- Pschorr Superior Festbier, Hofbräu Festbier, Löwenbräu Oktoberfestbier, Paulaner Wiesn, Schönramer Gold, Weihenstephaner Festbier"]
["04C - Helles Bock",1.0640000000000001,1.0720000000000001,1.0109999999999999,1.018,11.82,21.669999999999998,23,35,6.3,7.4,6,11,1064,1072,1011,1018,"04C","Helles Bock",2.2000000000000002,2.7,{"$f":"VLOOKUP(A15,Feuil2!$A$1:$H$74,2,FALSE)","v":"50-75"},{"$f":"VLOOKUP(A15,Feuil2!$A$1:$H$74,3,FALSE)","v":"0-30"},{"$f":"VLOOKUP(A15,Feuil2!$A$1:$H$74,4,FALSE)","v":"40-80"},{"$f":"VLOOKUP(A15,Feuil2!$A$1:$H$74,5,FALSE)","v":"0-100"},{"$f":"VLOOKUP(A15,Feuil2!$A$1:$H$74,6,FALSE)","v":"50-150"},{"$f":"VLOOKUP(A15,Feuil2!$A$1:$H$74,7,FALSE)","v":"<100"},{"$f":"VLOOKUP(A15,Feuil2!$A$1:$H$74,8,FALSE)","v":"0-60 "},"04-Pale Malty European Lager","Bock","European Pale Lager","Germany",1011,"04C - Helles Bock",1018,"A relatively pale, strong, malty German lager beer with a nicely attenuated finish that enhances drinkability. The hop character is generally more apparent than in other bocks.","Moderate to strong grainy-sweet malt aroma, often with a lightly toasted quality and low Maillard products. Moderately-low to no hop aroma, often with a spicy, herbal, or floral quality. Clean fermentation profile. Fruity esters should be low to none. Very light alcohol may be noticeable. May have a light DMS aroma.","Deep gold to light amber in color. Bright to clear clarity. Large, creamy, persistent, white head.","Moderately to moderately strong grainy-sweet malt flavor dominates with some toasty notes and/or Maillard products providing added interest. Little to no caramel flavors. May have a light DMS flavor. Moderate to no hop flavor (spicy, herbal, floral, peppery). Moderate hop bitterness (more so in the balance than in other bocks). Clean fermentation profile. Well-attenuated, not cloying, with a moderately-dry finish that may taste of both malt and hops.","Medium-bodied. Moderate to moderately-high carbonation. Smooth and clean with no harshness or astringency, despite the increased hop bitterness. A light alcohol warming may be present.","Also known as Mai Bock, but there is some dispute whether Helles (“pale”) Bock and Mai (“May”) Bock are synonymous. Most agree that they are identical, but some believe that Maibock is a “fest” type beer hitting the upper limits of hopping and color for the range. Any fruitiness is due to Munich and other specialty malts, not yeast-derived esters developed during fermentation. The hops compensate for the lower level of Maillard products.","A fairly recent development in comparison to the other members of the bock family. The serving of Maibock is specifically associated with springtime and the month of May.","Base of Pils and/or Vienna malt with some Munich malt to add character (although much less than in a traditional bock). No non-malt adjuncts. Saazer-type hops. Clean lager yeast. Decoction mash is typical, but boiling is less than in Dunkles Bock to restrain color development.","Can be thought of as either a pale version of a Dunkles Bock, or a Munich Helles brewed to bock strength. While quite malty, this beer typically has less dark and rich malt flavors, and can be drier, hoppier, and more bitter than a Dunkles Bock. Has more of a rich malt character and more alcohol than a Festbier.","Altenmünster Maibock, Ayinger Maibock, Capital Maibock, Blind Tiger Maibock, Einbecker Mai-Urbock, Hacker-Pschorr Hubertus Bock, Mahr’s Bock",null,"Bière blonde relativement claire, forte, au malt bien prononcé dans la tradition des bières blondes allemandes, elle présente une fin de bouche assez sèche, la rendant facile à boire. Le côté houblon est généralement plus présent que dans d’autres bocks. ","Arômes maltés-sucrés modérés à fort, souvent accompagnés d’arômes de malts légèrement grillés et des produits de la réaction de Maillard. Les arômes de houblons sont absents à faible, mais quand ils sont présents ils sont épicés, herbeux ou floraux. La fermentation doit être neutre, pas ou peu d’ester fruités. Une légère note d’alcool peut parfois être identifiée tout comme la présence discrète de DMS. ","Doré profond à légèrement ambrées, elles sont limpides à transparentes. Leur mousse est abondante, onctueuse et persistante. ","Les saveurs provenant des malts, modérées à modérément fortes, sont dominantes avec souvent des notes de malts toastés et/ou de produits issus de la réaction de Maillard. Elles peuvent posséder quelques notes de DMS ; de caramel également mais de faibles à absentes. Les saveurs de houblons, d'aucunes à faibles, sont épicées, florales, herbales voire poivrées. Les Helles Bock présentes une amertume modérée, plus que dans la plupart des autres Bocks. La fermentation est neutre avec une bonne atténuation, elles présentent une fin de bouche relativement sèche, pas du tout écœurante (bien au contraire), équilibrée entre les arômes de malts et de houblon. ","Corps moyen, carbonatation modérée à modérément forte. Ce sont des bières douces en bouche, propres, sans astringence malgré le niveau relativement élevé d’amertume. Une certaine chaleur due à l’alcool peut être ressentie. ","Les Helles Bock sont aussi connus sous le nom de Mai Bock (Bock de mai), même s’il existe une controverse pour savoir si les Helles (claire), Bock et les Mai Bock sont identiques. Le consensus tend à dire que ce sont les mêmes bières, mais certains pensent que les Maibock sont des bières de type FestBier avec un houblonnage et une couleur dans la limite haute du style. Le côté éventuellement fruité est principalement dû au malt Munich et aux malts spéciaux mais pas aux esters développés pendant la fermentation. Le houblonnage compense une plus faible quantité de produits de la réaction de Maillard. ","Les Helles Bock sont des créations récentes en comparaison des autres Bock. Traditionnellement consommées vers le mois de mai, ce sont des bières de printemps. ","Les malts de base utilisés sont des Pils ou Vienna associés à du malt Munich pour apporter plus de caractère, bien que beaucoup moins que dans les autres Bock. Aucun ingrédient non malté ne doit être ajouté. Les houblons sont de type Saaz, les levures de fermentation basse et neutre. Elles sont traditionnellement brassées par décoction, mais une ébullition plus courte que les Dunkel permet de limiter la prise de couleur. ","Elles peuvent être vues soit comme des versions plus claires des Dunkles Bock soit comme des Munich Helles brassées de même force que les Bocks. Bien que plutôt maltées, les Helles Bock ont moins de flaveurs maltées foncées et riches, que les DunkleBock ; sont plus sèches, plus houblonnées et plus amères. Elles restent cependant plus maltées et fortes que les FestBier. ","Altenmünster Maibock, Ayinger Maibock, Capital Maibock, Blind Tiger Maibock, Einbecker Mai-Urbock, Hacker-Pschorr Hubertus Bock, Mahr’s Bock."]
["05A - German Leichtbier",1.026,1.034,1.006,1.01,3.94,9.85,15,28,2.4,3.6,2,5,1026,1034,1006,1010,"05A","German Leichtbier",2.2000000000000002,2.7,{"$f":"VLOOKUP(A16,Feuil2!$A$1:$H$74,2,FALSE)","v":{"$error":"#N/A"}},{"$f":"VLOOKUP(A16,Feuil2!$A$1:$H$74,3,FALSE)","v":{"$error":"#N/A"}},{"$f":"VLOOKUP(A16,Feuil2!$A$1:$H$74,4,FALSE)","v":{"$error":"#N/A"}},{"$f":"VLOOKUP(A16,Feuil2!$A$1:$H$74,5,FALSE)","v":{"$error":"#N/A"}},{"$f":"VLOOKUP(A16,Feuil2!$A$1:$H$74,6,FALSE)","v":{"$error":"#N/A"}},{"$f":"VLOOKUP(A16,Feuil2!$A$1:$H$74,7,FALSE)","v":{"$error":"#N/A"}},{"$f":"VLOOKUP(A16,Feuil2!$A$1:$H$74,8,FALSE)","v":{"$error":"#N/A"}},"05-Pale Bitter European beer","Pale Lager","Pilsner","Germany",1006,"05A - German Leichtbier",1010,"A pale, highly-attenuated, light-bodied German lager with lower alcohol and calories than normal-strength beers. Moderately bitter with noticeable malt and hop flavors, the beer is still interesting to drink.","Low to medium hop aroma, with a spicy, herbal, or floral character. Low to medium-low grainy-sweet or slightly crackery malt aroma. Clean fermentation profile. ","Straw to pale gold in color. Brilliant clarity. Moderate white head with average to below average persistence.","Low to medium grainy-sweet malt flavor initially. Medium hop bitterness. Low to medium hop flavor, with a spicy, herbal, or floral quality. Clean fermentation character, well-lagered. Dry finish with a light malty and hoppy aftertaste.","Light to very light body. Medium to high carbonation. Smooth, well-attenuated.","Marketed primarily as a diet-oriented beer with lower carbohydrates, alcohol, and calories. Pronounced “LYESHT-beer.” May also be known as a Diat Pils or Helles, this style is in the schankbier gravity class. Other variations of Leicht class beers can be made from Weissbier, Kölsch, and Altbier; those beers are best entered in the Mixed-Style Beer category.","Traditional versions existed as drinks for physical laborers in factories or fields, but modern versions are more based on popular American products in the same class.","Similar to a German Pils or Helles, continental Pils malt, German lager yeast, Saazer-type hops.","Like a lower-alcohol, lighter-bodied, slightly less aggressive German Pils or Helles.","Beck’s Light, Bitburger Light, Mahr’s Leicht, Paulaner Münchner Hell Leicht, Paulaner Premium Leicht",null,"Blonde, forte atténuation, peu de corps pour cette Lager allemande avec un taux d'alcool et de calories en dessous de la moyenne des bières. Moyennement amère avec des arômes de malt et de houblons tout de même perceptibles, ce type de bière reste tout de même intéressant à boire. ","Arômes légers à moyen de houblons épicés, herbeux ou floraux. Arômes de malts légers à moyennement légers de sucré, de grains voire proche du goût des biscuits crackers. Profil de fermentation propre et neutre. ","Couleur paille à doré clair. Mousse moyenne et blanche avec une persistance moyenne à faible. ","Des flaveurs faibles à moyennement portées sur le sucre et grains en premier lieu. Amertume moyenne des houblons. Saveurs légères à moyennes de houblons épicés, herbeux ou floraux. Profil de fermentation clair, bien lagerisée (garde à froid). Fin de bouche sèche avec un arrière-goût léger de malts et houblons. ","Corps léger à très léger. Carbonatation moyenne à forte. Douce et bien atténuée. ","Présentée tout d'abord comme une bière de régime avec peu d'hydrates de carbone, d'alcool et de calories. Prononcer \"Licht Bir\". Elle est aussi connue sous le nom de Diat Pils ou Helles, ce style fait partie de catégorie de densités des schankbier. D'autres variations de bière de type Leicht peuvent être produites sur la base de Weissbier, Kölsch et Altbier ; celles-ci seront plutôt présentées dans la catégorie \"Styles mixtes\". ","Des versions traditionnelles ont existé comme boisson pour les travailleurs physiques en usine ou dans les champs, mais les versions modernes sont plutôt basées sur les produits américains du même type. [sic] ","Similaires aux Pils allemandes ou Helles, soit du malt Pilsen continental, des levures à lager allemande, des houblons de type Saaz. ","Une version plus légère en alcool, plus fine en bouche et légèrement moins agressive d'une German Pils ou d'une Helles. ","Beck’s Light, Bitburger Light, Mahr’s Leicht, Paulaner Münchner Hell Leicht, Paulaner Premium Leicht "]
["05B - Kölsch",1.044,1.05,1.0069999999999999,1.0109999999999999,6.8949999999999996,9.85,18,30,4.4000000000000004,5.2,3.5,5,1044,1050,1007,1011,"05B","Kölsch",2.2000000000000002,2.7,{"$f":"VLOOKUP(A17,Feuil2!$A$1:$H$74,2,FALSE)","v":"50-100"},{"$f":"VLOOKUP(A17,Feuil2!$A$1:$H$74,3,FALSE)","v":"0-30"},{"$f":"VLOOKUP(A17,Feuil2!$A$1:$H$74,4,FALSE)","v":"0-80"},{"$f":"VLOOKUP(A17,Feuil2!$A$1:$H$74,5,FALSE)","v":"0-50"},{"$f":"VLOOKUP(A17,Feuil2!$A$1:$H$74,6,FALSE)","v":"0-100"},{"$f":"VLOOKUP(A17,Feuil2!$A$1:$H$74,7,FALSE)","v":"<100"},{"$f":"VLOOKUP(A17,Feuil2!$A$1:$H$74,8,FALSE)","v":"-30-30"},"05-Pale Bitter European beer","Pale Ale","Top-Fermented German Lagers","Germany",1007,"05B - Kölsch",1011,"A clean, crisp, delicately-balanced beer usually with a very subtle fruit and hop character. Subdued maltiness throughout leads into a pleasantly well-attenuated and refreshing finish. Freshness makes a huge difference with this beer, as the delicate character can fade quickly with age. Brilliant clarity is characteristic.","Low to very low malt aroma, with a grainy-sweet character. A pleasant, subtle fruit aroma from fermentation (apple, cherry or pear) is acceptable, but not always present. A low floral, spicy or herbal hop aroma is optional but not out of style. Some yeast strains may give a slight winy or sulfury character (this characteristic is also optional, but not a fault). Overall, the intensity of aromatics is fairly subtle but generally balanced, clean, and fresh.","Very pale gold to light gold. Very clear (authentic commercial versions are filtered to a brilliant clarity). Has a delicate white head that may not persist.","Soft, rounded palate comprised of a delicate flavor balance between soft yet attenuated malt, an almost imperceptible fruity sweetness from fermentation, and a medium-low to medium bitterness with a delicate dryness and slight crispness in the finish (but no harsh aftertaste). The malt tends to be grainy-sweet, possibly with a very light bready or honey quality. The hop flavor is variable, and can range from low to moderately-high; most are medium-low to medium intensity and have a floral, spicy, or herbal character. May have a malty-sweet impression at the start, but this is not required. No noticeable residual sweetness. May have a slightly winy, minerally, or sulfury accent that accentuates the dryness and flavor balance. A slight wheat taste is rare but not a fault. Otherwise, very clean.","Medium-light to medium body (most are medium-light). Medium to medium-high carbonation. Smooth and generally crisp and well-attenuated.","Characterized in Germany as a top-fermented, lagered beer. Each Köln brewery produces a beer of different character, and each interprets the Kölsch Konvention slightly differently. Allow for a range of variation within the style when judging. Note that drier versions may seem hoppier or more bitter than the IBU specifications might suggest. Due to its delicate flavor profile, Kölsch tends to have a relatively short shelf-life; older examples and imports can easily show some oxidation defects. Served in Köln in a tall, narrow 200ml glass called a Stange.","Cologne, Germany (Köln) has a top-fermenting brewing tradition since the Middle Ages, but developed the beer now known as Kölsch in the late 1800s to combat encroaching bottom-fermented pale lagers. Kölsch is an appellation protected by the Kölsch Konvention (1986), and is restricted to the 20 or so breweries in and around Köln. The Konvention simply defines the beer as a “light, highly attenuated, hop-accentuated, clear, top-fermenting Vollbier.” ","Traditional German hops (Hallertau, Tettnang, Spalt or Hersbrucker). German Pils or pale malt. Attenuative, clean ale yeast. Up to 20% wheat malt may be used, but this is quite rare in authentic versions. Current commercial practice is to ferment warm, cold condition for a short period of time, and serve young.","To the untrained taster, easily mistaken for a cream ale or somewhat subtle Pils.","Früh Kölsch, Gaffel Kölsch, Mühlen Kölsch, Reissdorf Kölsch, Sion Kölsch, Sünner Kölsch",null,"Une bière limpide, fraîche, délicate et bien équilibrée, avec généralement des notes subtiles de fruits et de houblons. La composante maltée, discrète mais présente à toutes les étapes de la dégustation, amène à un fin de bouche plaisante, bien atténuée et rafraîchissante. La fraîcheur du produit fait toute la différence pour cette bière, dans la mesure où le caractère délicat de cette bière s'affadit rapidement avec le temps. Sa limpidité brillante est caractéristique de ce style. ","Arômes de malts faibles à très faibles, avec des notes de grains sucrées. Des arômes subtils de fruits (pomme, cerise ou poire) produits par la fermentation sont acceptables mais pas toujours présents. De faibles arômes de houblons, épicés ou herbacés, sont optionnels. Certaines souches de levures peuvent apporter des notes vineuses ou sulfureuses (optionnelles mais qui ne constituent pas un défaut). Dans l'ensemble, l'intensité arômatique est assez subtile mais généralement équilibrée, épurée et fraîche. ","Couleur or pâle à or clair. Robe très limpide (les versions commerciales sont filtrées afin d'obtenir une limpidité irréprochable). Col de mousse blanche et délicate qui n'est pas nécessairement persistant. ","Palais doux et rond, composé d'un délicat équilibre entre des saveurs maltées douces mais atténuées, une douceur fruitée presque imperceptible provenant de la fermentation et une amertume moyennement faible à moyenne amenant une sécheresse délicate et une légère fraîcheur en fin de bouche (mais sans astringence dans l'arrière goût). Les saveurs maltées rappellent les saveurs de grains sucrés, parfois avec avec des notes briochées ou mielleuses. Les saveurs houblonnées varient en intensité de faibles à modérément élevées ; elles sont la plupart du temps de moyennement faibles à moyennes et sont florales, épicées ou herbacées. Lors de la dégustation, il est possible d'avoir une sensation maltée sucrée en début de bouche, mais ce n'est pas indispensable. La présence de sucres résiduels n'est pas perceptible. La bière peut avoir des accents vineux, minéraux ou sulfureux qui peuvent accentuer la sécheresse et l'équilibre des saveurs. Un léger goût de blé est rare mais ne constitue pas un défaut. Quoiqu'il en soit, c'est propre et net. ","Corps moyennement léger à moyen (la plupart du temps, moyennement léger). Carbonatation moyenne à moyennement élevée. Doux et généralement frais, bien atténué. ","Ce style de bière est caractéristique en Allemagne comme bière de fermentation haute ayant subi une garde à froid (lagering : de l'allemand lagern, \"stocker)  après fermentation. Chaque brasserie de Cologne produit une bière légèrement différente dans la mesure où chacune interprète la convention de Cologne à sa manière (la \"Kölsch Konvention\" réglemente le brassage de la Kölsch au niveau local, mais autorise quelques variations lorsque les brasseurs adhérents à la convention le désire). On note que les versions les plus sèches peuvent paraître plus houblonnées ou plus amères que ce que les IBU ne pourraient suggèrer. En raison de son profil aromatique délicat, les Kölsch ont une durée de vie relativement courte et doivent être consommées rapidement. Les exemplaires vieux ou importés sont régulièrement oxydés. Elle est servie à Cologne dans un verre étroit et haut de 200ml appelé un Stange, (littéralement \"barre\"). ","La ville de Cologne (Köln) en Allemagne possède une tradition brassicole de fermentation haute qui date du Moyen-Âge mais on développé le style Kölsch fin 19ème pour contrer l'arrivée des bière blondes de type Lager. L'appelation Kölsch est protégée par la Kölsch Konvention (1986), qui restreint le brassage de la Kölsch à une vingtaines de brasseries localisées dans Cologne ou aux alentours. La convention définit simplement la bière Kölsch comme une \"Vollbier de fermentation haute, légère, fortement atténuée, limpide et plutôt houblonnée\". ","Houblons traditionnels allemands (Hallertau, Tettnag, Spalt ou Hersbrucker). Malt Pilsner allemand ou Pale. Levures de fermentation haute assez neutres et ayant une bonne atténuation. Il est possible d'utiliser jusqu'à 20% de malt de blé, mais cela reste assez rare dans les versions \"authentiques\". Les pratiques commerciales actuelles consistent en une fermentation haute suivie d'une courte période de garde à froid (laggering), puis une consommation lorsque là bière est encore jeune. ","Pour un goûteur inexpérimenté, une bière Kölsch est aisément confondue avec une Cream Ale ou une Pils subtile. ","Früh Kölsch, Gaffel Kölsch, Mühlen Kölsch, Reissdorf Kölsch, Sion Kölsch, Sünner Kölsch"]
["05C - German Helles Exportbier",1.048,1.056,1.01,1.0149999999999999,7.88,13.79,20,30,4.8,6,4,7,1048,1056,1010,1015,"05C","German Helles Exportbier",2.2000000000000002,2.7,{"$f":"VLOOKUP(A18,Feuil2!$A$1:$H$74,2,FALSE)","v":"75-150"},{"$f":"VLOOKUP(A18,Feuil2!$A$1:$H$74,3,FALSE)","v":"0-30"},{"$f":"VLOOKUP(A18,Feuil2!$A$1:$H$74,4,FALSE)","v":"40-80"},{"$f":"VLOOKUP(A18,Feuil2!$A$1:$H$74,5,FALSE)","v":"50-150"},{"$f":"VLOOKUP(A18,Feuil2!$A$1:$H$74,6,FALSE)","v":"50-100"},{"$f":"VLOOKUP(A18,Feuil2!$A$1:$H$74,7,FALSE)","v":"<100"},{"$f":"VLOOKUP(A18,Feuil2!$A$1:$H$74,8,FALSE)","v":"-30-30"},"05-Pale Bitter European beer","Pale Lager","European Pale Lager","Germany",1010,"05C - German Helles Exportbier",1015,"A pale, well-balanced, smooth German lager that is slightly stronger than the average beer with a moderate body and a mild, aromatic hop and malt character. ","Low to medium hop aroma, typically floral, spicy, or herbal in character. Moderate grainy-sweet malt aroma. Clean fermentation profile. A slight sulfury note at the start that dissipates is not a fault, neither is a low background note of DMS.","Light gold to deep gold. Clear. Persistent white head.","Neither grainy-sweet malt nor floral, spicy, or herbal hops dominate, but both are in good balance with a touch of malty sweetness, providing a smooth yet crisply refreshing beer. Balance continues through the finish and the hop bitterness lingers in aftertaste (although some examples may finish slightly sweet). Clean fermentation character. Some mineral character might be noted from the water, although it usually does not come across as an overt minerally flavor.","Medium body, medium carbonation. Smooth but crisp.","Sometimes known as Dortmunder or Dortmunder Export. Brewed to a slightly higher starting gravity than other light lagers, providing a firm malty body and underlying maltiness to complement the sulfate-accentuated hop bitterness. The term “Export” is a beer strength descriptor under German brewing tradition, and is not strictly synonymous with the “Dortmunder” style; beer from other cities or regions can be brewed to Export strength, and labeled as such (even if not necessarily exported).","The Dortmunder style developed in the Dortmund industrial region in the 1870s in response to pale Pilsner-type beers, it became very popular after World War II but declined in the 1970s. Other Export-class beers developed independently, and reflected a slightly stronger version of existing beers. The modern German style is typically 12-13 °P.","Minerally water with high levels of sulfates, carbonates and chlorides, German or Czech noble hops, Pilsner malt, German lager yeast. Newer commercial versions can contain adjuncts and hop extract.","Less finishing hops and more body than a Pils but more bitter than a Helles.","DAB Original, Dortmunder Kronen, Dortmunder Union Export, Flensburger Gold, Gordon Biersch Golden Export, Great Lakes Dortmunder Gold",null,"Une lager allemande, blonde, bien équilibrée et douce, légèrement plus forte qu'une bière standard et qui possède un corps moyen et un profil aromatique modérément malté et houblonné. ","Arôme de houblon d'intensité faible à moyenne, habituellement floral, épicé ou herbacé. Arôme de grains doux-sucrés modéré. Le profil aromatique issu de la fermentation est net. De légères notes sulfureuses en début d'arôme mais qui se dissipent ensuite, de même que la présence de faibles notes de DMS en toile de fond, ne constituent pas des défauts. ","Couleur allant de l'or clair à l'or foncé. Robe limpide. Mousse blanche persistante. ","Ni les saveurs maltées de grain doux-sucré, ni les saveurs houblonnées florales, épicées ou herbacées ne dominent. Elles sont bien équilibrées, avec une touche maltée sucrée, ce qui permet à la bière d'être à la fois douce et rafraîchissante. L'équilibre se poursuit en fin de bouche et l'amertume persiste en l'arrière-bouche (on note que certains exemples possèdent parfois une fin de bouche légèrement sucrée). Les saveurs associées à la fermentation sont neutres. On relève parfois des notes minérales provenant de l'eau utilisée, mais elles ne transparaissent habituellement pas comme des saveurs ouvertement minérales. ","Corps moyen. Carbonatation moyenne. Sensation en bouche douce, mais pétillante. ","La German Helles Exportbier est aussi connue sous le nom de Dortmunder ou Dortmunder Export. Elle est brassée vers une densité initiale légèrement plus élevée que les autre Lager légères, cela lui confère un corps malté ferme qui complète l'amertume des houblons, accentuée par les fortes teneurs en ions sulfates. Dans la tradition brassicole allemande, le terme \"Export\" fait référence à une classe de titres alcooliques. Ici, il n'est donc pas strictement synonyme du style Dortmunder et des bières provenant d'autre villes ou régions peuvent être brassées de manière à avoir un titre alcoolique de la classe \"Export\" et être désignées comme des Exportbier ainsi, sans pour autant être nécessairement destinées à l'export. ","Le style Dortmunder a été développé dans la région de Dortmund dans les années 1870 en réponse au bières blondes de type Pilsner. Ce style est devenu très populaire après la seconde guerre mondiale, mais il a commencé à décliner dans les années 1970. Depuis, d'autres bières de type Exportbier ont été développées de manière indépendante et sont des versions légèrement plus alcoolisées de bières existantes ; le style allemand moderne ayant une densité initiale habituellement comprise entre 12°P et 13°P (DI:1.048-1.053). ","L'eau utilisée est une eau minérale contenant de haut niveaux d'ions sulfates, carbonates et chlorures. Les houblons sont des houblons nobles allemands ou tchèques. La base maltée est constituée de malt Pilsner. Les levures utilisées sont des levures de fermentation basse allemandes. Les nouvelles versions commerciales peuvent contenir des compléments et des extraits de houblons. ","Les bières de ce styles sont brassées avec moins de houblons aromatiques et de manière à avoir plus de corps qu'une Pils, mais sont plus amères qu'une Helles. ","DAB Original, Dortmunder Kronen, Dortmunder Union Export, Flensburger Gold, Gordon Biersch Golden Export, Great Lakes Dortmunder Gold"]
["05D - German Pils",1.044,1.05,1.008,1.0129999999999999,3.94,9.85,22,40,4.4000000000000004,5.2,2,5,1044,1050,1008,1013,"05D","German Pils",2.2000000000000002,2.7,{"$f":"VLOOKUP(A19,Feuil2!$A$1:$H$74,2,FALSE)","v":"50-75"},{"$f":"VLOOKUP(A19,Feuil2!$A$1:$H$74,3,FALSE)","v":"0-30"},{"$f":"VLOOKUP(A19,Feuil2!$A$1:$H$74,4,FALSE)","v":"0-40"},{"$f":"VLOOKUP(A19,Feuil2!$A$1:$H$74,5,FALSE)","v":"50-150"},{"$f":"VLOOKUP(A19,Feuil2!$A$1:$H$74,6,FALSE)","v":"50-100"},{"$f":"VLOOKUP(A19,Feuil2!$A$1:$H$74,7,FALSE)","v":"<100"},{"$f":"VLOOKUP(A19,Feuil2!$A$1:$H$74,8,FALSE)","v":"-60-0"},"05-Pale Bitter European beer","Pilsner","Pilsner","Germany",1008,"05D - German Pils",1013,"A light-bodied, highly-attenuated, gold-colored, bottom-fermented bitter German beer showing excellent head retention and an elegant, floral hop aroma. Crisp, clean, and refreshing, a German Pils showcases the finest quality German malt and hops.","Medium-low to low grainy-sweet-rich malt character (often with a light honey and slightly toasted cracker quality) and distinctive flowery, spicy, or herbal hops. Clean fermentation profile. May optionally have a very light sulfury note that comes from water as much as yeast. The hops are moderately-low to moderately-high, but should not totally dominate the malt presence. One-dimensional examples are inferior to the more complex qualities when all ingredients are sensed. May have a very low background note of DMS.","Straw to light gold, brilliant to very clear, with a creamy, long-lasting white head.","Medium to high hop bitterness dominates the palate and lingers into the aftertaste. Moderate to moderately-low grainy-sweet malt character supports the hop bitterness. Low to high floral, spicy, or herbal hop flavor. Clean fermentation profile. Dry to medium-dry, crisp, well-attenuated finish with a bitter aftertaste and light malt flavor. Examples made with water with higher sulfate levels often will have a low sulfury flavor that accentuates the dryness and lengthens the finish; this is acceptable but not mandatory. Some versions have a soft finish with more of a malt flavor, but still with noticeable hop bitterness and flavor, with the balance still towards bitterness.","Medium-light body. Medium to high carbonation.","Modern examples of Pils tend to become paler in color, drier in finish, and more bitter as you move from South to North in Germany, often mirroring the increase in sulfate in the water. The Pils found in Bavaria tend to be a bit softer in bitterness with more malt flavor and late hop character, yet still with sufficient hops and crispness of finish to differentiate itself from a Helles. The use of the term ‘Pils’ is more common in Germany than ‘Pilsner’ to differentiate it from the Czech style, and (some say) to show respect.","Adapted from Czech Pilsner to suit brewing conditions in Germany, particularly water with higher mineral content and domestic hop varieties. First brewed in Germany in the early 1870s. Became more popular after WWII as German brewing schools emphasized modern techniques. Along with its sister beer, Czech Pilsner, is the ancestor of the most widely produced beer styles today. Average IBUs of many well-regarded commercial examples have dropped over time.","Continental Pilsner malt, German hop varieties (especially Saazer-type varieties such as Tettnanger, Hallertauer, and Spalt for taste and aroma; Saaz is less common), German lager yeast.","Lighter in body and color, drier, crisper, and more fully attenuated, with more of a lingering bitterness, and with higher carbonation than a Czech Premium Pale Lager. More hop character, malt flavor, and bitterness than International Pale Lagers. More hop character and bitterness with a drier, crisper finish than a Munich Helles; the Helles has more malt flavor, but of the same character as the Pils.","König Pilsener, Left Hand Polestar Pils, Paulaner Premium Pils, Schönramer Pils, Stoudt Pils, Tröegs Sunshine Pils, Trumer Pils",null,"Une lager allemande de fermentation basse, amère, au corps léger, fortement atténuée, de couleur dorée avec une mousse élégante et persistante puis des arômes floraux de houblon. La Pils Allemande est pétillante, rafraîchissante et représente à la perfection la très grande qualité des malts et des houblons allemands. ","Arômes maltés avec une douce richesse de céréales moyennement faible à faible (souvent avec de légères notes de miel et de biscuit légèrement toasté) et de houblons floraux caractéristiques, épicés ou herbeux. Profil de fermentation neutre. Eventuellement une note soufrée très légère provenant de l'eau autant que de la levure. Les houblons sont modérément faibles à modérément élevés, mais ne doivent pas écraser totalement la présence de malt. Certains exemples plus basiques sont moins qualitatifs que ceux plus complexes dans lesquels on peut ressentir tous les ingrédients. Peut avoir une très faible note de DMS en arrière-plan. ","Blonde paille à dorée claire, brillante à très limpide, avec une mousse blanche onctueuse et persistante. ","L'amertume du houblon moyenne à élever domine le palais avec une arrière-bouche persistante. Les saveurs maltées modérées à modérément faibles ont une certaine douceur du grain soutenue par l'amertume du houblon. Les saveurs du houblon sont faibles et très florales, épicées ou herbeuses. Profil de fermentation neutre. Fin de bouche sèche à mi- sèche, fraîche, bien atténuée avec un arrière-goût amer et une saveur de malt franche. Les variantes produites avec de l'eau aux teneurs en sulfate élevées auront souvent une légère saveur de soufre qui accentue la sècheresse et allonge la fin en bouche ; cela reste acceptable, mais pas obligatoire. Certaines versions ont également une finition douce avec plus de saveurs maltées, mais toujours avec une amertume et des saveurs de houblon perceptibles, avec un équilibre penchant encore du côté de l'amertume. ","Corps assez léger, carbonatation moyenne à élevée. ","Les exemples modernes de Pils ont tendance à devenir plus clairs, avec une note finale plus sèche et plus amère au fur et à mesure que vous vous déplacez du Sud au Nord de l'Allemagne, reflétant souvent l'augmentation des sulfates présents dans l'eau. Les Pils de Bavière ont tendance à être un peu plus douces en amertume avec plus de saveur de malts et un caractère houblonné persistant, mais toujours avec suffisamment de houblon et une fraîcheur en fin de bouche qui les différencient d'une Helles. L'utilisation du terme \"Pils\" est plus fréquente en Allemagne que \"Pilsner\" pour les différencier du style tchèque, et selon ce que certains en disent faire preuve de respect. ","Il s'agit surtout d'une variante du style Pilsner tchèque adaptée aux conditions de brassage existantes en Allemagne, en particulier l'eau avec des teneurs plus élevées de minéraux et des variétés de houblons locales. Initialement brassée en Allemagne au début des années 1870, la Pils est devenu plus populaire après la Seconde Guerre mondiale après que les écoles de brassage allemandes aient assimilé les techniques modernes. Avec sa bière jumelle, la Pilsner tchèque, c'est l'ancêtre du style des bières les plus produites aujourd'hui dans le monde. La moyenne des IBUs de nombreux exemples commerciaux réputés ont cependant chuté au fil du temps. ","Malt Pilsner continental, variétés de houblons allemands (en particulier les variétés nobles telles que Hallertau, Tettnang et Spalt pour les arômes et les saveurs ; le Saaz moins fréquemment), levure allemande de fermentation basse. ","Corps et couleur plus légers, plus sec, plus net et atténué, avec une amertume plus persistante et une carbonatation plus élevé qu'une Lager Tchèque Blonde Premium. Plus de caractère houblonné, d'arômes de malt et d'amertume que les Lagers Blondes Internationales. Plus de caractère houblonnée et d'amertume avec une fin de bouche sèche et fraîche qu'une Munich Helles ; les Helles ayant plus de saveur de malts, tout en gardant les caractéristiques d'une Pils. ","König Pilsener, Left Hand Polestar Pils, Paulaner Premium Pils, Schönramer Pils, Stoudt Pils, Tröegs Sunshine Pils, Trumer Pils"]
["06A - Märzen",1.054,1.06,1.01,1.014,15.76,33.49,18,24,5.8,6.3,8,17,1054,1060,1010,1014,"06A","Märzen",2.6,2.7,{"$f":"VLOOKUP(A20,Feuil2!$A$1:$H$74,2,FALSE)","v":"50-75"},{"$f":"VLOOKUP(A20,Feuil2!$A$1:$H$74,3,FALSE)","v":"0-30"},{"$f":"VLOOKUP(A20,Feuil2!$A$1:$H$74,4,FALSE)","v":"40-120"},{"$f":"VLOOKUP(A20,Feuil2!$A$1:$H$74,5,FALSE)","v":"0-100"},{"$f":"VLOOKUP(A20,Feuil2!$A$1:$H$74,6,FALSE)","v":"50-150"},{"$f":"VLOOKUP(A20,Feuil2!$A$1:$H$74,7,FALSE)","v":"<100"},{"$f":"VLOOKUP(A20,Feuil2!$A$1:$H$74,8,FALSE)","v":"0-60 "},"06-Amber Malty European Lager","Amber Lager","Amber Lager","Germany",1010,"06A - Märzen",1014,"An elegant, malty German amber lager with a clean, rich, toasty and bready malt flavor, restrained bitterness, and a dry finish that encourages another drink. The overall malt impression is soft, elegant, and complex, with a rich aftertaste that is never cloying or heavy. ","Moderate intensity aroma of German malt, typically rich, bready, somewhat toasty, with light bread crust notes. Clean lager fermentation character. No hop aroma. Caramel, dry-biscuity, or roasted malt aromas inappropriate. Very light alcohol might be detected, but should never be sharp. Clean, elegant malt richness should be the primary aroma.","Amber-orange to deep reddish-copper color; should not be golden. Bright clarity, with persistent, off-white foam stand.","Initial malt flavor often suggests sweetness, but finish is moderately-dry to dry. Distinctive and complex maltiness often includes a bready, toasty aspect. Hop bitterness is moderate, and the hop flavor is low to none (German types: complex, floral, herbal, or spicy). Hops provide sufficient balance that the malty palate and finish do not seem sweet. The aftertaste is malty, with the same elegant, rich malt flavors lingering. Noticeable caramel, biscuit, or roasted flavors are inappropriate. Clean lager fermentation profile.","Medium body, with a smooth, creamy texture that often suggests a fuller mouthfeel. Medium carbonation. Fully attenuated, without a sweet or cloying impression. May be slightly warming, but the strength should be relatively hidden.","Modern domestic German Oktoberfest versions are golden – see the Festbier style for this version. Export German versions (to the United States, at least) are typically orange-amber in color, have a distinctive toasty malt character, and are most often labeled Oktoberfest. American craft versions of Oktoberfest are generally based on this style, and most Americans will recognize this beer as Oktoberfest. Historic versions of the beer tended to be darker, towards the brown color range, but there have been many ‘shades’ of Märzen (when the name is used as a strength); this style description specifically refers to the stronger amber lager version. The modern Festbier can be thought of as a pale Märzen by these terms.","As the name suggests, brewed as a stronger “March beer” in March and lagered in cold caves over the summer. Modern versions trace back to the lager developed by Spaten in 1841, contemporaneous to the development of Vienna lager. However, the Märzen name is much older than 1841; the early ones were dark brown, and in Austria the name implied a strength band (14 °P) rather than a style. The German amber lager version (in the Viennese style of the time) was first served at Oktoberfest in 1872, a tradition that lasted until 1990 when the golden Festbier was adopted as the standard festival beer. ","Grist varies, although traditional German versions emphasized Munich malt. The notion of elegance is derived from the finest quality ingredients, particularly the base malts. A decoction mash was traditionally used to develop the rich malt profile.","Not as strong and rich as a Dunkles Bock. More malt depth and richness than a Festbier, with a heavier body and slightly less hops. Less hoppy and equally malty as a Czech Amber Lager.","Buergerliches Ur-Saalfelder, Hacker-Pschorr Original Oktoberfest, Paulaner Oktoberfest, Weltenburg Kloster Anno 1050",null,"Une Lager ambrée allemande élégante et maltée avec des saveurs nettes, riches de malt grillé et brioché, l'amertume est modérée avec une note finale sèche qui la rend facile à boire. Plutôt maltée et sucrée, élégante et complexe, avec une fin de bouche bien ronde mais jamais écœurante ou lourde","Des arômes de malt allemand d'intensité moyenne, généralement riche, aux senteurs de pain, un peu grillé, avec des notes légères de croûte de pain. Profil de fermentation neutre typique des Lager. Aucun arôme de houblon. Les notes de malt torréfié, de caramel ou de biscuits secs doivent être bannies. L'alcool peut être perceptible de manière discrète, mais ne doit jamais être trop puissant. Un arôme de malt riche, élégant et net doit constituer l'arôme principal. ","Orange-ambré à rouge cuivré profond mais jamais dorée. Limpide et brillante, avec une mousse persistante blanc cassé. ","Les premières saveurs de malt suggèrent souvent la douceur et le sucré, mais la note finale est assez sèche à sèche. Les saveurs maltées sont particulièrement complexes évoquant souvent la brioche ou le pain grillé. L'amertume des houblons est modérée et leurs saveurs sont faibles ou nulles, de type allemands : complexes, floraux, herbeux ou épicés et équilibrent suffisamment le reste pour que le goût malté en fin de bouche ne paraisse pas trop sucré. La finale est maltée, avec les mêmes saveurs persistantes, élégantes et riches. Les notes de caramel, de biscuit ou de grillé doivent être évitées. Le profil de fermentation est celui des Lagers donc neutre. ","Le corps est moyen avec une texture lisse et crémeuse qui suggère souvent une bouche plus ronde. La carbonatation est moyenne, le niveau élevé d'atténuation ne laisse aucune impression sucrée ou douceâtre. Elle peut présenter une légère chaleur d'alcool mais qui doit rester relativement discrète. ","Les versions allemandes modernes de l'Oktoberfest sont dorées (voir le style Festbier). Les versions export (vers les États-Unis du moins) sont généralement oranges-ambrées avec des notes de malt grillé particulières et sont le plus souvent étiquetées Oktoberfest. Les versions artisanales américaines de l'Oktoberfest sont généralement basées sur ce style et la plupart des américains reconnaissent cette version comme une Oktoberfest. Les versions historiques de ce style de bière ont cependant tendance à être plus sombres, dans une gamme de couleur brune, mais il y a eu beaucoup de « nuances » de Märzen, (ndt : les fameuses 50 nuances...), lorsque le nom est utilisé pour la force ; cette description de style se réfère spécifiquement à la version de Lager Ambrée Forte. La Festbier moderne peut ainsi être considéré elle, comme une Märzen Blonde. ","Comme son nom l'indique, elle était brassée à l'origine comme une \"bière de Mars\" plus forte et gardée au froid dans des grottes pendant l'été. Les versions modernes remontent aux Lagers développées par Spaten en 1841, contemporaines du développement des Lagers viennoises. Cependant, le nom Märzen est beaucoup plus vieux, les versions plus anciennes étaient d'ailleurs de couleur brun foncé et en Autriche le nom se réfère surtout à une force (14°P) plutôt qu'à un style. La version Lager Ambrée Allemande (dans le style viennois de l'époque) fut servie en premier lieu pour l'Oktoberfest en 1872, une tradition qui a duré jusqu'en 1990, lorsque la version blonde de la Festbier a été alors adoptée comme la bière de référence du festival. ","La composition du moût peut varier bien que les versions traditionnelles font surtout la part belle au malt Munich. L'impression d'élégance provient des ingrédients de qualité, en particulier les malts de base. Un empâtage par décoction était traditionnellement utilisé pour développer ce profil malté particulièrement riche. ","Pas aussi forte et riche qu'une Dunkles Bock, avec un profil malté plus présent et plus riche qu'une Festbier, ainsi qu'un corps plus rond et un peu moins de houblon. Moins houblonnée également mais aussi maltée qu'une Lager Tchèque Ambrée. ","Buergerliches Ur-Saalfelder, Hacker-Pschorr Original Oktoberfest, Paulaner Oktoberfest, Weltenburg Kloster Anno 1050"]
["06B - Rauchbier",1.05,1.0569999999999999,1.012,1.016,23.64,43.339999999999996,20,30,4.8,6,12,22,1050,1057,1012,1016,"06B","Rauchbier",2.2000000000000002,2.7,{"$f":"VLOOKUP(A21,Feuil2!$A$1:$H$74,2,FALSE)","v":{"$error":"#N/A"}},{"$f":"VLOOKUP(A21,Feuil2!$A$1:$H$74,3,FALSE)","v":{"$error":"#N/A"}},{"$f":"VLOOKUP(A21,Feuil2!$A$1:$H$74,4,FALSE)","v":{"$error":"#N/A"}},{"$f":"VLOOKUP(A21,Feuil2!$A$1:$H$74,5,FALSE)","v":{"$error":"#N/A"}},{"$f":"VLOOKUP(A21,Feuil2!$A$1:$H$74,6,FALSE)","v":{"$error":"#N/A"}},{"$f":"VLOOKUP(A21,Feuil2!$A$1:$H$74,7,FALSE)","v":{"$error":"#N/A"}},{"$f":"VLOOKUP(A21,Feuil2!$A$1:$H$74,8,FALSE)","v":{"$error":"#N/A"}},"06-Amber Malty European Lager","Amber Lager","European Smoked Beer","Germany",1012,"06B - Rauchbier",1016,"An elegant, malty German amber lager with a balanced, complementary beechwood smoke character. Toasty-rich malt in aroma and flavor, restrained bitterness, low to high smoke flavor, clean fermentation profile, and an attenuated finish are characteristic. ","Blend of smoke and malt, with a varying balance and intensity. The beechwood smoke character can range from subtle to fairly strong, and can seem smoky, woody, or bacon-like. The malt character can be low to moderate, and be somewhat rich, toasty, or malty-sweet. The malt and smoke components are often inversely proportional (i.e., when smoke increases, malt decreases, and vice versa). Hop aroma may be very low to none. Clean lager fermentation character.","This should be a very clear beer, with a large, creamy, rich, tan- to cream-colored head. Medium amber/light copper to dark brown color.","Generally follows the aroma profile, with a blend of smoke and malt in varying balance and intensity, yet always complementary. Märzen-like qualities should be noticeable, particularly a malty, toasty richness, but the beechwood smoke flavor can be low to high. At higher levels, the smoke can take on a ham- or bacon-like character, which is acceptable as long as it doesn’t veer into the greasy range. The palate can be somewhat malty, rich, and sweet, yet the finish tends to be medium-dry to dry with the smoke character sometimes enhancing the dryness of the finish. The aftertaste can reflect both malt richness and smoke flavors, with a balanced presentation desirable. Moderate, balanced, hop bitterness. Moderate to none hop flavor with spicy, floral, or herbal notes. Clean lager fermentation character. Harsh, bitter, burnt, charred, rubbery, sulfury or phenolic smoky characteristics are inappropriate.","Medium body. Medium to medium-high carbonation. Smooth lager character. Significant astringent, phenolic harshness is inappropriate.","Literally “smoke beer” in German. The intensity of smoke character can vary widely; not all examples are highly smoked. Allow for variation in the style when judging. Other examples of smoked beers are available in Germany based on styles such as Dunkles Bock, Weissbier, Dunkel, Schwarzbier, and Helles, including examples such as Spezial Lager; these should be entered in the Classic Style Smoked Beer category. This description specifically refers to the smoked Märzen version.","A historical specialty of the city of Bamberg, in the Franconian region of Bavaria in Germany. Beechwood-smoked malt is used to make a Märzen-style amber lager. The smoke character of the malt varies by maltster; some breweries produce their own smoked malt (rauchmalz).","German Rauchmalz (beechwood-smoked Vienna-type malt) typically makes up 20-100% of the grain bill, with the remainder being German malts typically used in a Märzen. Some breweries adjust the color slightly with a bit of roasted malt. German lager yeast. German or Czech hops.","Like a Märzen with but with a balanced, sweet, smoky aroma and flavor and a somewhat darker color.","Eisenbahn Rauchbier, Kaiserdom Rauchbier, Schlenkerla Rauchbier Märzen, Spezial Rauchbier Märzen Victory Scarlet Fire Rauchbier",null,"Une Lager allemande maltée à la robe élégante avec des saveurs de hêtre fumé caractéristique. Des arômes de malts grillés aussi bien en bouche qu'au nez qui en réduisent l'amertume. Un nez fumé plus ou moins intense, des arômes de levure discrets ou absents et une atténuation prononcée sont caractéristiques de ce style.  ","Des arômes de fumée et de malt dans un équilibre et une intensité variable. Le caractère fumé du bois de hêtre peut varier de subtile à assez fort et peut paraître fumé, boisé, ou ressembler au bacon. Les arômes de malt peuvent aller de faible à modérés et être relativement riches, grillés ou sucrés. Le rapport malt/fumé est souvent inversement proportionnel (c.à.d. quand l'arôme fumé augmente, le malt diminue et vice versa). L'houblonnage peut être très faible voir nul. Arôme propre et net, typique d'une fermentation de lager. ","Cette bière doit être très limpide, avec un grand, généreux et crémeux col de couleur crème. Sa robe va de l'ambré moyen/légèrement cuivré à brun foncé. ","Les saveurs répondent généralement aux arômes, avec un mélange malté et fumé d'équilibre et intensités variables mais toujours complémentaires. Comme la Märzen, les mêmes qualités doivent être perceptibles, en particulier, une généreuse saveur de malt grillé alors que la saveur du bois de hêtre fumé peut aller de faible à élevé. En grande quantité, le goût fumé peut prendre un caractère de jambon (fumé) ou de bacon, ce qui est acceptable tant qu'il ne devient surtout pas écœurant. Le palais peut être un peu malté, généreux et sucré, mais la fin de bouche tend à être moyennement sèche à sèche avec le caractère fumé accentuant parfois encore cette sensation de sécheresse. L'arrière-goût peut rappeler la richesse du malt et la saveur fumée dans un bon équilibre. L'amertume du houblon est équilibrée et modérée, allant d'absente à moyennement présente avec des saveurs épicées, florales ou herbeuses. Profil propre et neutre caractéristique de la fermentation des Lager. Dure, âpre, carbonisée, caoutchouteuse, sulfureuse ou phénolique sont des caractéristiques fumées à proscrire. ","Corps moyen et carbonatation moyenne à moyennement élevée sur un profil doux de lager. Une astringence significative ou une rugosité phénolique sont inappropriées. ","Signifiant littéralement \"bière fumée\" en allemand, l'intensité de ces saveurs fumées peut énormément varier, toutes n'étant pas aussi puissantes. Il est donc recommandé d'en tenir compte lors de l'évaluation d'une bière dans ce style. D'autres exemples de bières fumées sont disponibles en Allemagne basés sur des styles comme la Dunkles Bock, Weissbier, Dunkel, Schwarzbier et Helles, y compris des exemples comme la Spezial Lager et devront être classées dans le style des Bières Fumées Classiques. Cette description se référant spécifiquement à la version fumée de la Märzen. ","Spécialité historique de la ville de Bamberg dans la région de Franconie de Bavière en Allemagne, c'est un malt fumé au bois de hêtre qui est utilisé pour brasser cette lager ambrée de style Märzen. La puissance des saveurs fumées varie selon les malteries, certaines brasseries produisent parfois même leur propre malt fumé (le Rauchmalz). ","Le Rauchmalz allemand (malt de type Vienna fumé au bois de hêtre) représente généralement de 20 à 100% des malts de chaque recette, le reste étant composé de malts allemands utilisés traditionnellement dans une Märzen. Certaines brasseries ajustent toutefois légèrement la couleur avec un peu de malt torréfié. La levure est celle des lagers allemandes et les houblons sont allemands ou tchèques. ","Evidemment proche d'une Märzen mais avec des arômes et saveurs fumées, équilibrées et douces avec une couleur un peu plus sombre. ","Eisenbahn - Rauchbier, Kaiserdom - Rauchbier, Schlenkerla - Rauchbier Märzen, Brauerei Spezial - Rauchbier Märzen, Victory Brewing Co - Scarlet Fire Rauchbier"]
["06C - Dunkles Bock",1.0640000000000001,1.0720000000000001,1.0129999999999999,1.0189999999999999,27.58,43.339999999999996,20,27,6.3,7.2,14,22,1064,1072,1013,1019,"06C","Dunkles Bock",2.2000000000000002,2.7,{"$f":"VLOOKUP(A22,Feuil2!$A$1:$H$74,2,FALSE)","v":"50-75"},{"$f":"VLOOKUP(A22,Feuil2!$A$1:$H$74,3,FALSE)","v":"0-30"},{"$f":"VLOOKUP(A22,Feuil2!$A$1:$H$74,4,FALSE)","v":"40-80"},{"$f":"VLOOKUP(A22,Feuil2!$A$1:$H$74,5,FALSE)","v":"0-100"},{"$f":"VLOOKUP(A22,Feuil2!$A$1:$H$74,6,FALSE)","v":"50-150"},{"$f":"VLOOKUP(A22,Feuil2!$A$1:$H$74,7,FALSE)","v":"<100"},{"$f":"VLOOKUP(A22,Feuil2!$A$1:$H$74,8,FALSE)","v":"0-60 "},"06-Amber Malty European Lager","Bock","Bock","Germany",1013,"06C - Dunkles Bock",1019,"A dark, strong, malty German lager beer that emphasizes the malty-rich and somewhat toasty qualities of continental malts without being sweet in the finish.","Medium to medium-high bready-malty-rich aroma, often with moderate amounts of rich Maillard products and/or toasty overtones. Virtually no hop aroma. Some alcohol may be noticeable. Clean lager character, although the malts can provide a slight (low to none) dark fruit character, particularly in aged examples. ","Light copper to brown color, often with attractive garnet highlights. Lagering should provide good clarity despite the dark color. Large, creamy, persistent, off-white head.","Complex, rich maltiness is dominated by the toasty-rich Maillard products. Some caramel notes may be present. Hop bitterness is generally only high enough to support the malt flavors, allowing a bit of sweetness to linger into the finish. Well-attenuated, not cloying. Clean fermentation profile, although the malt can provide a slight dark fruit character. No hop flavor. No roasted or burnt character.","Medium to medium-full bodied. Moderate to moderately low carbonation. Some alcohol warmth may be found, but should never be hot. Smooth, without harshness or astringency.","Decoction mashing and long boiling plays an important part of flavor development, as it enhances the caramel and Maillard flavor aspects of the malt. Any fruitiness is due to Munich and other specialty malts, not yeast-derived esters developed during fermentation.","Originated in the Northern German city of Einbeck, which was a brewing center and popular exporter in the days of the Hanseatic League (14th to 17th century). Recreated in Munich starting in the 17th century. The name “bock” is based on a corruption of the name “Einbeck” in the Bavarian dialect, and was thus only used after the beer came to Munich. “Bock” also means “Ram” in German, and is often used in logos and advertisements.","Munich and Vienna malts, rarely a tiny bit of dark roasted malts for color adjustment, never any non-malt adjuncts. Continental European hop varieties are used. Clean German lager yeast. ","Darker, with a richer malty flavor and less apparent bitterness than a Helles Bock. Less alcohol and malty richness than a Doppelbock. Stronger malt flavors and higher alcohol than a Märzen. Richer, less attenuated, and less hoppy than a Czech Amber Lager.","Aass Bock, Einbecker Ur-Bock Dunkel, Great Lakes Rockefeller Bock, Kneitinger Bock, New Glarus Uff-da Bock, Penn Brewery St. Nikolaus Bock",null,"Une lager allemande sombre, maltée et forte qui sublime les saveurs riches et parfois de pain grillé des malts continentaux mais sans être trop sucrée en fin de bouche. ","Une lager allemande sombre, maltée et forte qui sublime les saveurs riches et parfois de pain grillé des malts continentaux mais sans être trop sucrée en fin de bouche. ","Couleur légèrement cuivrée à brune avec souvent de magnifiques reflets grenat. La garde à froid doit normalement permettre une bonne limpidité malgré la couleur sombre. Mousse blanc cassé importante, crémeuse et persistante.","Les saveurs maltées complexes et riches sont dominées par le côté toasté des produits des réactions de Maillard, mais on peut percevoir parfois aussi quelques notes de caramel. L'amertume du houblon est généralement juste assez élevée pour équilibrer les saveurs de malt ce qui permet aux légères touches sucrées de se prolonger en fin de bouche. Bien atténuée et jamais écœurante, son profil de fermentation est neutre, bien que le malt puisse fournir un léger caractère de fruits noirs. Aucune saveur de houblon ni aucune saveur de grillé ou brûlé. ","Corps moyen à moyennement rond, lisse, sans dureté ni astringence. La carbonatation est modérée à modérément faible, un peu de chaleur alcoolique peut être perçue mais ne doit jamais être brulante. Lisse, sans dureté ou astringence","L'empatâge par décoction et une longue ébullition jouent un rôle important dans le développement des flaveurs de cette bière car elles renforcent les notes de caramel et les saveurs des produits de Maillard du malt. L'éventuel côté fruité est dû au malt Munich et autres malts spéciaux mais aucun ester n'est produit par les levures pendant la fermentation. ","Originaire d’Einbeck en Allemagne du Nord qui fut un haut lieu de brassage et d’export lors de la période de la Ligue Hanséatique (du 14 ème au 17 ème siècle), ce style a été recréé à Munich à partir du 17ème siècle. Le nom «bock» est basé sur une déformation de Einbeck en dialecte bavarois et fût donc utilisé uniquement après que cette bière fut arrivée jusqu'à Munich. \"Bock\" signifie aussi \"Bélier\" en allemand, raison pour laquelle il est si souvent utilisé dans des logos et publicités pour ces bières. ","Les malts sont de type Munich ou Vienna avec occasionnellement une poignée de malts torréfiés pour l'ajustement de la couleur, par contre aucun complément n'est jamais ajouté autre que les malts. Des variétés de houblons d'Europe Continentale sont utilisés ainsi qu'une levure neutre de type lager allemande. ","Plus sombre, moins riche en saveurs maltées et une amertume moins marquée qu'un Helles Bock, moins d'alcool et de richesse maltée qu'un Doppelbock, des saveurs de malts plus présentes et plus d'alcool qu'une Märzen, plus riche, moins atténuée, et moins houblonnée qu'une Lager Tchèque Ambrée. ","Aass Bock, Einbecker Ur-Bock Dunkel, Great Lakes Rockefeller Bock, Kneitinger Bock, New Glarus Uff-da Bock, Penn Brewery St. Nikolaus Bock "]
["07A - Vienna Lager",1.048,1.0549999999999999,1.01,1.014,17.73,29.55,18,30,4.7,5.5,9,15,1048,1055,1010,1014,"07A","Vienna Lager",2.4,2.6,{"$f":"VLOOKUP(A23,Feuil2!$A$1:$H$74,2,FALSE)","v":"50-75"},{"$f":"VLOOKUP(A23,Feuil2!$A$1:$H$74,3,FALSE)","v":"0-30"},{"$f":"VLOOKUP(A23,Feuil2!$A$1:$H$74,4,FALSE)","v":"40-120"},{"$f":"VLOOKUP(A23,Feuil2!$A$1:$H$74,5,FALSE)","v":"0-100"},{"$f":"VLOOKUP(A23,Feuil2!$A$1:$H$74,6,FALSE)","v":"50-150"},{"$f":"VLOOKUP(A23,Feuil2!$A$1:$H$74,7,FALSE)","v":"<100"},{"$f":"VLOOKUP(A23,Feuil2!$A$1:$H$74,8,FALSE)","v":"0-60 "},"07-Amber Bitter European Beer","Amber Lager","Amber Lager","Austria",1010,"07A - Vienna Lager",1014,"A moderate-strength amber lager with a soft, smooth maltiness and moderate bitterness, yet finishing relatively dry. The malt flavor is clean, bready-rich, and somewhat toasty, with an elegant impression derived from quality base malts and process, not specialty malts and adjuncts.","Moderately-intense malt aroma, with toasty and malty-rich aromatics. Clean lager character. Floral, spicy hop aroma may be low to none. A significant caramel or roasted aroma is inappropriate.","Light reddish amber to copper color. Bright clarity. Large, off-white, persistent head.","Soft, elegant malt complexity is in the forefront, with a firm enough hop bitterness to provide a balanced finish. The malt flavor tends towards a rich, toasty character, without significant caramel or roast flavors. Fairly dry, crisp finish, with both rich malt and hop bitterness present in the aftertaste. Floral, spicy hop flavor may be low to none. Clean lager fermentation character.","Medium-light to medium body, with a gentle creaminess. Moderate carbonation. Smooth. ","A standard-strength everyday beer, not a beer brewed for festivals. American versions can be a bit stronger, drier and more bitter, while modern European versions tend to be sweeter. Many Mexican amber and dark lagers used to be more authentic, but unfortunately are now more like sweet, adjunct-laden Amber/Dark International Lagers. Regrettably, many modern examples use adjuncts which lessen the rich malt complexity characteristic of the best examples of this style. This style is on the watch list to move to the Historical category in future guidelines; that would allow the classic style to be described while moving the sweeter modern versions to the International Amber or Dark Lager styles.","Developed by Anton Dreher in Vienna in 1841, became popular in the mid-late 1800s. Now nearly extinct in its area of origin, the style continues in Mexico where it was brought by Santiago Graf and other Austrian immigrant brewers in the late 1800s. Authentic examples are increasingly hard to find (except perhaps in the craft beer industry) as formerly good examples become sweeter and use more adjuncts.","Vienna malt provides a lightly toasty and complex, Maillard-rich malt profile. As with Märzens, only the finest quality malt should be used, along with Continental hops (preferably Saazer types or Styrians). Can use some caramel malts and/or darker malts to add color and sweetness, but caramel malts shouldn’t add significant aroma and flavor and dark malts shouldn’t provide any roasted character.","Lighter malt character, slightly less body, and slightly more bitter in the balance than a Märzen, yet with many of the same malt-derived flavors. The malt character is similar to a Märzen, but less intense and more balanced. Lower in alcohol than Märzen or Festbier. Less rich, less malty and less hop-centered compared to Czech Amber Lager.","Cuauhtémoc Noche Buena, Chuckanut Vienna Lager, Devils Backbone Vienna Lager, Figueroa Mountain Danish-style Red Lager, Heavy Seas Cutlass Amber Lager, Schell’s Firebrick",null,"Une lager ambrée, modérément alcoolisée, avec un gout malté doux et une amertume modérée, mais dont la fin de bouche reste relativement sèche. La saveur maltée est nette, briochée, riche, avec une pointe de grillé. L'impression élégante et sophistiquée en bouche vient de la qualité des malts de base, du processus de fabrication et non de l'utilisation de malts spéciaux ou de compléments. ","Arômes de malts modérément intenses, avec de riches notes maltées et de de pain grillé. Les arômes neutres d'une fermentation basse typique de Lager. Les arômes floraux et épicés des houblons peuvent varier de faibles à nuls. Un important arôme torréfié ou de caramel est inapproprié. ","Couleur variant de ambrée et légèrement rougeâtre à cuivrée, limpide et brillante, sous un important col de mousse persistant et de couleur blanc cassé. ","Saveur douce, avec une élégante complexité maltée au premier plan, une amertume suffisante pour apporter une fin de bouche équilibrée. La saveur maltée est riche avec des notes de pain grillé mais ne présente pas de notes dominantes de caramel ou de saveurs torréfiées. La fin de bouche est assez sèche, nette et présente un arrière-goût riche en malt et en amertume. Les saveurs de houblons, florales et épicées, peuvent être faibles ou nulles, le profil de fermentation est celui d'une lager donc neutre. ","Corps modérément léger à moyen, avec une légère onctuosité. La carbonatation est modérée, douce. ","Une bière de consommation courante dotée d'un titre alcoolique moyen, donc pas une bière brassée pour les festivals. Les versions américaines peuvent être plus fortes, plus sèches et plus amères, tandis que les versions européennes modernes tendent à être plus douces. Au Mexique, plusieurs lagers ambrées et noires étaient autrefois plus authentiques et fidèles au style original mais elles sont maintenant devenues des lagers ambrées ou brunes calquées sur le modèle international, sucrées et chargées en compléments divers. Malheureusement, de nombreux exemples modernes utilisent des compléments qui tendent à amoindrir la riche complexité maltée qui caractérise les meilleurs exemples de ce style. C’est pourquoi il est maintenant classé sur la liste de surveillance pour être déplacé dans la catégorie \"Historique\" des futures recommandations du BJCP. Cela permettra de préserver le style original et de déplacer les versions modernes, plus douces et sucrées, dans les catégories Lagers Ambrées Internationales et Lagers Brunes Internationales. ","Crée par Anton Dreher a Vienne en 1841, la lager Viennoise est devenue populaire dans le dernier quart du XIXe siècle. Actuellement presque éteint dans son aire d'origine, ce style continue d'exister à Mexico où il a été importé par Santiago Graf et d'autres brasseurs immigrants autrichiens vers la fin des années 1800. D'authentiques exemples de ce style sont de plus en plus durs à dénicher (sauf peut-être à chercher du côté des brasseries artisanales) puisque les exemples qui étaient autrefois fidèles deviennent de plus en plus sucrés et contiennent de plus en plus de compléments. ","Le malt Vienna apporte un profil malté légèrement grillé et complexe, riche en composés issus des réactions de Maillard. Comme dans le cas de la Märzen (l'ancêtre de l'Oktoberfestbier), seuls les meilleurs malts devraient être utilisés en association avec des houblons européens (préférablement de types Saaz ou Styrian). L'utilisation de malts caramel ou torréfiés pour apporter de la douceur et de la couleur est possible, mais elle ne doit pas apporter d'arômes et de saveurs trop prononcées de grillé. ","Plus légère côté malt, plus fine en bouche et légèrement plus amère qu'une Märzen mais pourtant on y retrouve la plupart des mêmes saveurs issues des malts tout en étant moins intense et plus équilibrée, plus légère en alcool également. Elle est par contre moins riche et maltée, moins centrée sur les houblons comparée à une Lager Tchèque Ambrée. ","Cuauhtémoc Noche Buena, Chuckanut Vienna Lager, Devils Backbone Vienna Lager, FigueroaMountain Danish style red Lager, Heavy Seas cutlass Amber Lager, Schell's Firebrick."]
["07B - Altbier",1.044,1.052,1.008,1.014,21.669999999999998,33.49,25,50,4.3,5.5,11,17,1044,1052,1008,1014,"07B","Altbier",2.1,3.1,{"$f":"VLOOKUP(A24,Feuil2!$A$1:$H$74,2,FALSE)","v":"50-150"},{"$f":"VLOOKUP(A24,Feuil2!$A$1:$H$74,3,FALSE)","v":"0-30"},{"$f":"VLOOKUP(A24,Feuil2!$A$1:$H$74,4,FALSE)","v":"40-120"},{"$f":"VLOOKUP(A24,Feuil2!$A$1:$H$74,5,FALSE)","v":"100-300"},{"$f":"VLOOKUP(A24,Feuil2!$A$1:$H$74,6,FALSE)","v":"50-100"},{"$f":"VLOOKUP(A24,Feuil2!$A$1:$H$74,7,FALSE)","v":"<100"},{"$f":"VLOOKUP(A24,Feuil2!$A$1:$H$74,8,FALSE)","v":"0-60 "},"07-Amber Bitter European Beer","Amber Ale","Top-Fermented German Lagers","Germany",1008,"07B - Altbier",1014,"A well-balanced, well-attenuated, bitter yet malty, clean, and smooth, amber- to copper-colored German beer. The bitterness is balanced by the malt richness, but the malt intensity and character can range from moderate to high (the bitterness increases with the malt richness). ","Clean yet robust and complex aroma of grainy-rich malt and spicy hops with restrained (low to medium-low) fruity esters. The malt character reflects German base malt varieties, with rich baked bread and nutty-toasty bread crust notes. The hop aroma may vary from moderate to low, and can have a peppery, spicy, floral, herbal or perfumy character associated with Saazer-type hops. ","The color ranges from light amber to deep copper color, stopping short of brown; bronze-orange is most common. Brilliant clarity. Thick, creamy, long-lasting off-white head.","Assertive hop bitterness well balanced by a sturdy yet clean and crisp malt character. The malt presence is moderated by medium-high to high attenuation, but considerable rich, complex, and somewhat grainy malt flavors can remain. Some fruity esters (especially cherry-like) may survive the lagering period. A long-lasting, medium-dry to dry, bittersweet or nutty finish reflects both the hop bitterness and malt complexity. Spicy, peppery or floral hop flavor can be moderate to low. No roasted malt flavors or harshness. The apparent bitterness level is sometimes masked by the malt character; the bitterness can seem as low as moderate if the finish is not very dry. Light sulfury or minerally character optional.","Medium-bodied. Smooth. Medium to medium-high carbonation, although can be lower when served from the cask. Astringency low to none. Despite being very full of flavor, is light-bodied enough to be consumed as a gravity-fed session beer in its home brewpubs in Düsseldorf.","A top-fermented lagered beer, fermented at cool ale temperature (59–68 °F), often conditioned at bottom-fermentation temperatures (about 50 °F) and then lagered at cold temperatures to produce a cleaner, smoother palate than is typical for most ales. Zum Uerige is a wonderful beer, but much more aggressively bitter and complex than most other German examples. It may be like the Fuller’s ESB of the strong bitter category – well-known but somewhat of a stylistic outlier. Do not judge all Altbiers as if they were Zum Uerige clones; allow for a more balanced bitterness in the beer (25–35 IBUs is more typical for most other German examples). Stronger sticke and doppelsticke beers should not be entered here.","The traditional style of beer from Düsseldorf. “Alt” refers to the “old” style of brewing (i.e., using top-fermenting yeast) that was common before bottom-fermenting lager brewing became popular. Predates the isolation of bottom-fermenting yeast strains, though it approximates many characteristics of bottom-fermenting lager beers. Many of the classic examples can be found in brewpubs in the Altstadt (“old town”) section of Düsseldorf.","Grists vary, but usually consist of German base malts (usually Pils, sometimes Munich) with small amounts of crystal, chocolate, and/or black malts used to adjust color. Occasionally will include some wheat, including roasted wheat. Spalt hops are traditional, but other Saazer-type hops can also be used. Clean, highly attenuative ale yeast. A step mash or decoction mash program is traditional.","More bitter and malty than international amber lagers. Somewhat similar to California Common, both in production technique and finished flavor and color, though not in ingredients.","Bolten Alt, Diebels Alt, Füchschen Alt, Original Schlüssel Alt, Schlösser Alt, Schumacher Alt, Uerige Altbier",null,"Une bière allemande bien équilibrée et bien atténuée, amère mais maltée, claire et douce, de couleur ambrée à cuivrée. L'amertume est compensée par la richesse du malt, mais l'intensité et le caractère des malts peut varier de modéré à élever (l'amertume augmente avec la présence du malt).  ","Arôme net mais robuste et complexe des malts généreux et de houblons épicés avec de légers esters fruités faibles à assez faibles. Le caractère du malt révèle les variétés Allemandes de malts de bases, avec de riches notes de pain cuit, ainsi que des notes de noisette ou croûtes de pain toasté. L'arôme de houblon modéré à faible peut présenter des notes poivrées, épicées, florales, herbeuses ou des parfums associés classiquement aux houblons de type Saaz. ","La couleur s'échelonne d'ambre clair à cuivré profond juste avant les tons bruns mais le bronze-orangé est le plus courant. Limpidité brillante et mousse de couleur blanc-cassé, épaisse, crémeuse et persistante. ","Une amertume vive de houblon bien équilibrée par un caractère robuste de malt mais qui reste propre et net. La présence des malts est modérée par une atténuation moyennement élevée à forte, mais avec des saveurs de grains généreuses, complexes et parfois persistantes. Certains esters fruités (surtout de type cerise) peuvent survivre à la période de garde à froid. Une longue finale moyennement sèche à sèche, aigre-douce ou noisette reflète à la fois l'amertume du houblon et la complexité de malt. Les notes de houblon épicés, poivrés ou florales peuvent être faibles à modérées et aucune saveur âpre ou torréfiée ne doit être perceptible. Le niveau d'amertume apparent est parfois masqué par la présence des saveurs de malts ; l'amertume peut sembler aussi basse que modérée si la finale n'est pas trop sèche. Des notes de sulfure léger ou minérales sont tolérées mais non indispensables. ","Corps moyen et doux, carbonatation moyenne à moyennement prononcée, parfois plus faible lorsque depuis le fût. L'astringence est faible ou nulle, en dépit d'être pleine de saveurs, elle est assez en bouche pour être consommée comme une bière de soif dans les bars des brasseries d'origine à Düsseldorf. ","Une bière fermentation haute lagerisée, fermentée à des température assez fraîche (15 - 20 °C), souvent conditionnée à des températures de fermentation basse (environ 10 °C), puis gardée à froid pour produire un produit neutre, au palais plus doux, typique de la plupart des Ales. La Zum Uerige est une bière merveilleuse, mais à l'amertume beaucoup plus agressive et plus complexe que la plupart des autres exemples allemands. \nOn pourrait la comparer à la Fuller's ESB pour la catégorie des Strong Bitter - bien connue, mais aux extrêmes limites du style. Ne jugez pas toutes les Altbiers comme si elles étaient des clones de la Zum Uerige ; une amertume plus équilibrée de la bière est admise (25-35 IBU est plus typique de la plupart des autres exemples allemands). \nLes Sticke et Doppelsticke ne sont pas à classer ici. ","Le style traditionnel de la bière de Düsseldorf \"Alt\" fait référence à une \"vieille\" façon de brasser (à l'aide de levures de fermentation haute) qui était commune avant que la fermentation basse de style lager ne devienne populaire. Antérieure donc à l'isolement des souches de levure de fermentation basse, bien qu’elle se rapproche de nombreuses caractéristiques des lagers, beaucoup d'exemples classiques peuvent être consommés dans les cafés-brasseries dans le quartier Altstadt («vieille ville») de Düsseldorf ","Les malts utilisés varient mais sont généralement allemands (Pils, parfois Munich) avec de petites quantités de Crystal, de Chocolat et/ou de malts noirs utilisés pour ajuster la couleur. Parfois un peu de blé est ajouté, y compris du blé torréfié. Les houblons Spalt sont traditionnels, mais d'autres houblons de type Saaz peuvent également être utilisés. Levure de type Ale, de fermentation haute, neutre et à forte atténuation. Un empâtage traditionnel par paliers ou par décoction est pratiqué. ","Plus amère et maltée que les Lagers Ambrées Internationales, assez semblable à une California Common, tant en technique de production qu'en saveur finale et en couleur, mais cependant pas dans les ingrédients utilisés. ","Bolten Alt, Diebels Alt, Füchschen Alt, Original Schlüssel Alt, Schlösser Alt, Schumacher Alt, Uerige Altbier"]
["07C - Pale Kellerbier",1.0449999999999999,1.0509999999999999,1.008,1.012,5.91,13.79,20,35,4.7,5.4,3,7,1045,1051,1008,1012,"07C","Pale Kellerbier",2.2000000000000002,2.7,{"$f":"VLOOKUP(A25,Feuil2!$A$1:$H$74,2,FALSE)","v":{"$error":"#N/A"}},{"$f":"VLOOKUP(A25,Feuil2!$A$1:$H$74,3,FALSE)","v":{"$error":"#N/A"}},{"$f":"VLOOKUP(A25,Feuil2!$A$1:$H$74,4,FALSE)","v":{"$error":"#N/A"}},{"$f":"VLOOKUP(A25,Feuil2!$A$1:$H$74,5,FALSE)","v":{"$error":"#N/A"}},{"$f":"VLOOKUP(A25,Feuil2!$A$1:$H$74,6,FALSE)","v":{"$error":"#N/A"}},{"$f":"VLOOKUP(A25,Feuil2!$A$1:$H$74,7,FALSE)","v":{"$error":"#N/A"}},{"$f":"VLOOKUP(A25,Feuil2!$A$1:$H$74,8,FALSE)","v":{"$error":"#N/A"}},"07-Amber Bitter European Beer","Pale Lager","Pilsner","Germany",1008,"07C - Pale Kellerbier",1012,"A young, fresh Helles, so while still a malty, fully-attenuated Pils malt showcase, the hop character (aroma, flavor and bitterness) is more pronounced, and the beer is cloudy, often with some level of diacetyl, and possibly has some green apple and/or other yeast-derived notes. As with the traditional Helles, the Keller version is still a beer intended to be drunk by the liter, so overall it should remain a light, refreshing, easy drinking golden lager.","Moderately-low to moderately-high spicy, floral, or herbal hop aroma. Very low to moderate diacetyl, possible very low green apple or other yeast derived notes. Pleasantly grainy-sweet, clean malt aroma, with possible low background note of DMS.","Slight haze to moderately cloudy, but never extremely cloudy or murky. Medium yellow to pale gold color. Creamy white head with good persistence. When served on cask, can have low carbonation and very low head.","Moderately malty with a rounded, grainy-sweet profile. Low to moderately-high spicy, floral, or herbal hop flavor, with a moderate hop bitterness that can linger. Finish is crisp and dry, but the aftertaste remains malty. Very low to moderate diacetyl, which should always remain at a pleasant, drinkable level that balances somewhat with the other characteristics of the beer; overwhelming diacetyl is not appropriate. Possible very low green apple or other yeast derived notes, and possible low background note of DMS. ","Medium body. Low to medium carbonation. Depending on the level of yeast in suspension, it may assist in creating a slightly creamy texture. A slight slickness on the tongue may be present from the diacetyl.","Most Pale Kellerbiers are young, unfiltered, unpasteurized versions of Munich Helles beer, although Pils or a different, custom golden lager beer designed specifically for serving young could also be used. The best examples are served only on tap at many of the Munich area breweries. Bottled versions are not likely to have the freshness, hop character and young beer notes exhibited by the draft versions.","Modern adaptation from the traditional Franconian style, using Helles instead of Märzen. Today, a popular summer seasonal beer. Originally, Kellerbier referred to any Lager beer being matured in the caves or cellars under the brewery. In the 19th century, Kellerbier was a strong, aged beer meant to last the summer (Sommerbier), stored in rock cellars and served straight from them. But when refrigeration began to be used, the term shifted to describing special beers that were served young, directly from the cellar or lagering vessel. Today some breweries use the term purely for marketing purposes to make their beers appear special. While a kellerbier is sometimes considered more of a serving style than a beer style, the serving technique is still predominately used with certain styles in certain regions (such as Helles around the Munich area, or a Märzen in the Franconia region).","Pilsner malt, German hops, German lager yeast; same as a Munich Helles.","Most commonly, a young, unfiltered and unpasteurized version of a Munich Helles, though it can be a young, unfiltered and unpasteurized version of other golden German lagers, such as a Pilsner or a seasonal golden lager made specifically for serving young.","(local) Paulaner, Paulaner Brauhaus, Hofbrau, Tegernseer Tal. (bottled) Ayinger Kellerbier, Hacker-Pschorr Munchner Kellerbier Anno 1417, Hofbrau Munchner Sommer Naturtrub, Wolnzacher Hell Naturtrüb","A very common seasonal summer beer brewed by many of the Munich area breweries and served in the beer gardens, where they are very popular.","Une bière saisonnière d'été très commune produite par la plupart des brasseries de la région de Munich et servie dans les Biergarten, où elles sont très populaires. ","Arômes de houblons épicés, floraux, herbeux moyennement faible à moyennement élevés. Très faible à léger diacétyle, très faibles notes de pommes vertes ou d'autres notes drivées de la levure. Douceur agréable et neutre des malts avec une éventuelle faible note discrète de DMS. ","Légèrement voilée à moyennement trouble, mais jamais excessivement, de couleur jaune moyen à doré clair. Mousse blanche crémeuse avec une bonne persistance. Servie à la pression, elle peut avoir une plus faible carbonatation et beaucoup moins de mousse. ","Moyennement maltée avec un profil rond en bouche et la douceur du grain. Saveurs de houblons faibles à moyennement épicées, florales ou herbeuses, avec une amertume modérée qui peut se prolonger en bouche. Fin de bouche nette et sèche, mais l'arrière-goût reste malté. Très faible à moyenne présence de diacétyle qui doit toujours rester à un niveau agréable, buvable qui équilibre un peu avec les autres caractéristiques de la bière. Un diacétyle trop imposant est totalement déplacé mais de possibles faibles notes de pomme verte ou d'autres notes dérivée des levures et ou encore de DMS sont acceptables. ","Corps moyen et carbonatation faible à moyenne, le niveau de la levure en suspension peut aider à créer une sensation légèrement crémeuse. Peut être perçue comme légèrement liquoreuse sur la langue à cause du diacétyle. ","La plupart des Kellerbiers Blondes sont des versions jeunes, non filtrées, non pasteurisées des Munich Helles, bien que des Pils ou d'autres bières blondes puissent avoir été spécialement conçues pour être servies jeunes. Les meilleurs exemples sont servis uniquement à la pression dans la plupart des brasseries de la région de Munich. Les versions en bouteille ne peuvent pas avoir la même fraîcheur, le caractère houblonné et les notes de jeunesse des bières représentées par le style de ce guide. ","Adaptation moderne du style traditionnel de Franconie, en utilisant des Helles au lieu des Märzen. Aujourd'hui, il s'agit d'une bière d'été très populaire. ","Malt Pilsner, houblon et levure de lager allemands comme les Munich Helles. ","Le plus souvent, une version jeune, non filtrée et non pasteurisée d'une Munich Helles, bien qu'il puisse d'agir d'une version jeune, non filtrée et non pasteurisée d'autres bières blondes ou dorées allemandes, comme une Pilsner ou une bière blonde dorée de saison, brassée spécifiquement pour être servie jeune. ","- Sur place : Paulaner, Paulaner Brauhaus, Hofbrau, Tegernseer Tal Brauhaus. - Bouteilles : Ayinger Kellerbier, Hacker-Pschorr Munchner Kellerbier Anno 1417, Hofbrau Munchner Sommer Naturtrub, Wolnzacher Hell Naturtrüb"]
["07C - Amber Kellerbier",1.048,1.054,1.012,1.016,13.79,33.49,25,40,4.8,5.4,7,17,1048,1054,1012,1016,"07C","Amber Kellerbier",2.2000000000000002,2.7,{"$f":"VLOOKUP(A26,Feuil2!$A$1:$H$74,2,FALSE)","v":{"$error":"#N/A"}},{"$f":"VLOOKUP(A26,Feuil2!$A$1:$H$74,3,FALSE)","v":{"$error":"#N/A"}},{"$f":"VLOOKUP(A26,Feuil2!$A$1:$H$74,4,FALSE)","v":{"$error":"#N/A"}},{"$f":"VLOOKUP(A26,Feuil2!$A$1:$H$74,5,FALSE)","v":{"$error":"#N/A"}},{"$f":"VLOOKUP(A26,Feuil2!$A$1:$H$74,6,FALSE)","v":{"$error":"#N/A"}},{"$f":"VLOOKUP(A26,Feuil2!$A$1:$H$74,7,FALSE)","v":{"$error":"#N/A"}},{"$f":"VLOOKUP(A26,Feuil2!$A$1:$H$74,8,FALSE)","v":{"$error":"#N/A"}},"07-Amber Bitter European Beer","Amber Lager","Amber Lager","Germany",1012,"07C - Amber Kellerbier",1016,"A young, unfiltered, and unpasteurized beer that is between a Helles and Märzen in color, spicier in the hops with greater attenuation. Interpretations range in color and balance, but remain in the drinkable 4.8% ABV neighborhood. Balance ranges from the dry, spicy and pale-colored interpretations by St. Georgen and Löwenbräu of Buttenheim, to darker and maltier interpretations in the Fränkische Schweiz. This style is above all a method of producing simple drinkable beers for neighbors out of local ingredients to be served fresh. Balance with a focus on drinkability and digestibility is important.","Moderate intensity of German malt, typically rich, bready, somewhat toasty, with light bread crust notes. Moderately-low to moderate spicy peppery hop aroma. Very low to low diacetyl, occasionally low to moderately-low sulfur and very low green apple or other yeast-derived notes. Caramel, biscuity, or roasted malt aroma is inappropriate.","Moderately cloudy to clear depending on age, but never extremely cloudy or murky. Gold to deep reddish-amber color. Off-white, creamy head. When served on cask, can have low carbonation and very low head.","Initial malt flavor may suggest sweetness, but finish is moderately dry to dry, and slightly bitter. Distinctive and complex maltiness often includes a bready-toasty aspect. Hop bitterness is moderate to moderately high, and spicy or herbal hop flavor is low to moderately high. Balance can be either on the malt or hop side, but the finish is not sweet. Noticeable caramel or roasted malt flavors are inappropriate. Very low to low diacetyl. Possible very low green apple or other yeast-derived notes. Smooth, malty aftertaste.","Medium body, with a creamy texture and medium carbonation. Fully fermented, without a sweet or cloying impression.","The best examples of Amber Kellerbier are served only on tap at many of the small Franconia area breweries (as this is a beer best served fresh and the serving style being an important part of the style). Bottled versions are not likely to have the freshness, hop character and young beer notes exhibited by the draft versions.","This was the classic, historical style before it was adapted in other areas. This original, older style of Kellerbier would have simply been beer served from local taverns that did not lager long enough to drop bright. Many breweries in Franconia would use some of this young beer during the summer months, for festivals such as the Annafest (est. 1840) in July in Forchheim, where it was traditional to drink directly from the lagering vessels. Originally, Kellerbier referred to any Lager beer being matured in the caves or cellars under the brewery. In the 19th century, Kellerbier was a strong, aged beer meant to last the summer (Sommerbier), stored in rock cellars and served straight from them. But when refrigeration began to be used, the term shifted to describing special beers that were served young, directly from the cellar or lagering vessel. Today some breweries use the term purely for marketing purposes to make their beers appear special. While a kellerbier is sometimes considered more of a serving style than a beer style, the serving technique is still predominately used with certain styles in certain regions (such as Helles around the Munich area, or a Märzen in the Franconia region).","Grist varies, although traditional German versions emphasized Franconian pale and color malt. The notion of elegance is derived from the high-quality local ingredients, particularly the malts. Spalt or other typically spicy local hops are most common. Frugal Franconian brewers rarely used decoction brewing due to the cost of energy.","Most commonly, this style is a young, unfiltered, unpasteurized, hoppier version of Munich Helles or Märzen. Fränkische Schweiz versions can edge up to dark amber or brown.","(local) Greif, Eichhorn, Nederkeller, Hebendanz (bottled) Buttenheimer Kaiserdom Kellerbier, Kulmbacher Monchshof Kellerbier, Leikeim Kellerbier, Löwenbräu Kellerbier, Mahr’s Kellerbier, St. Georgen Kellerbier, Tucher Kellerbier Naturtrub","The original style of Kellerbier from the Franconia area of Germany. A much older style compared to the relatively more recent pale Helles-Style Kellerbier that is popular in the Munich area today.","Une bière jeune, non filtrée, non pasteurisée qui se situe entre Helles et Märzen pour la couleur, avec des houblons plus épicés et une plus grande atténuation. Les interprétations varient en couleurs et en équilibre, mais restent très buvables, autour des 4,8%. L'équilibre varie des variantes sèches, épicées et de couleurs claires comme St. Georgen et Löwenbräu of Buttenheim aux versions plus sombres et maltées de la Fränkische Schweiz[1]. Ce style est avant tout une méthode de production de bières buvables et simples pour les voisins faites à partir d'ingrédients locaux et servies fraiches. Un équilibre portant sur une bière buvable et facile à digérer est important. ","L'intensité modérée des malts allemands est généralement riche, au gout de pain, quelque peu toasté, avec des notes légères de croûte de pain. Les arômes de houblons sont moyennement faible à modérément épicés et poivré. Un très faible à faible diacétyle accompagné d'une parfois faible à moyennement faible teneur en soufre et très faibles notes de pomme verte ou autres notes dérivés des levures. Les arômes de malt caramel, biscuit, ou rôti sont à bannir. ","Modérément trouble à claire en fonction de la durée de conservation mais jamais extrêmement trouble ou opaque. De couleur dorée à rouge-ambrée profonde sous une mousse blanc-cassée crémeuse. Elle peut présenter une plus faible carbonatation et moins de mousse quand elle est servie au fût. ","La première saveur de malt peut suggérer une certaine douceur, mais la note finale est modérément sèche à sèche et légèrement amère. Une saveur maltée particulière et complexe qui comprend souvent des touches de pain toasté. L'amertume des houblons est modérée à modérément élevée, de saveur épicée ou herbeuse, faible à modérément élevée. L'équilibre peut être soit du côté du malt ou du côté du houblon, mais la fin en bouche n'est pas sucrée. Des saveurs perceptibles de malt caramel ou de malt torréfié sont inappropriées. Un très faible à faible diacétyle ainsi qu'un très faible gout de pomme verte ou d'autres notes provenant de la levure sont possibles. L'arrière-goût doit être lisse et malté. ","Un corps moyen, avec une texture crémeuse et une carbonatation moyenne. Entièrement atténuée : sans impression sucrée ou douceâtre. ","Les meilleurs exemples de Kellerbier ambrées sont servis uniquement à la pression dans un grand nombre de petites brasseries de la région de Franconie (car c'est une bière bien meilleure servie fraiche, la manière de la servir faisant aussi partie du style). Les versions en bouteille ne peuvent hélas pas avoir la même fraîcheur, le caractère houblonné et les notes de jeunesse.","Ceci était le style classique, historique avant qu'il ne soit adapté dans d'autres régions. Ce style d'origine, le plus ancien des Kellerbier, aurait tout simplement été la bière servie dans les tavernes locales, qui ne faisaient pas de garde à froid suffisamment longue pour clarifier la bière. De nombreuses brasseries en Franconie utilisaient en partie cette bière jeune pendant les mois d'été, pour des festivals tels que le Annafest en Juillet à Forchheim et créé en 1840, où il était de tradition de boire (ou plutôt soutirer [ndt]) directement à partir des cuves de garde. ","La liste des malts utilisés est variable bien que les versions traditionnelles allemandes soit caractérisées par du malt pâle et coloré de Franconie. La notion d'élégance provient de l'utilisation des ingrédients locaux de grande qualité, en particulier les malts. Des houblons de type Spalt ou d'autres variétés locales généralement épicées sont les plus communs. Les brasseurs de Franconie, réputés économes, utilisaient rarement le brassage par décoction en raison du coût supérieur en énergie","Le plus souvent, ce style est une version jeune, non filtrée, non pasteurisée et beaucoup plus houblonnée des Munich Helles ou Märzen. Les versions de Franconie Suisse (Fränkische Schweiz) peuvent aller jusqu'à l'ambre foncé ou le brun. ","(sur place) Greif, Eichhorn, Nederkeller, Hebendanz (bouteilles) Buttenheimer Kaiserdom Kellerbier, Kulmbacher Monchshof Kellerbier, Leikeim Kellerbier, Löwenbräu Kellerbier, Mahr’s Kellerbier, St. Georgen Kellerbier, Tucher Kellerbier Naturtrub "]
["08A - Munich Dunkel",1.048,1.056,1.01,1.016,27.58,55.16,18,28,4.5,5.6,14,28,1048,1056,1010,1016,"08A","Munich Dunkel",2.2000000000000002,2.7,{"$f":"VLOOKUP(A27,Feuil2!$A$1:$H$74,2,FALSE)","v":"50-75"},{"$f":"VLOOKUP(A27,Feuil2!$A$1:$H$74,3,FALSE)","v":"0-30"},{"$f":"VLOOKUP(A27,Feuil2!$A$1:$H$74,4,FALSE)","v":"80-120"},{"$f":"VLOOKUP(A27,Feuil2!$A$1:$H$74,5,FALSE)","v":"0-50"},{"$f":"VLOOKUP(A27,Feuil2!$A$1:$H$74,6,FALSE)","v":"50-150"},{"$f":"VLOOKUP(A27,Feuil2!$A$1:$H$74,7,FALSE)","v":"<100"},{"$f":"VLOOKUP(A27,Feuil2!$A$1:$H$74,8,FALSE)","v":"40 - 80"},"08-Dark European Lager","Dark Lager","Dark Lager","Germany",1010,"08A - Munich Dunkel",1016,"Characterized by depth, richness and complexity typical of darker Munich malts with the accompanying Maillard products. Deeply bready-toasty, often with chocolate-like flavors in the freshest examples, but never harsh, roasty, or astringent; a decidedly malt-balanced beer, yet still easily drinkable.","Rich, elegant, deep malt sweetness, typically like bread crusts (often toasted bread crusts). Hints of chocolate, nuts, caramel, and/or toffee are also acceptable, with fresh traditional versions often showing higher levels of chocolate. Clean fermentation profile. A slight spicy, floral, or herbal hop aroma is acceptable.","Deep copper to dark brown, often with a red or garnet tint. Creamy, light to medium tan head. Usually clear, although murky unfiltered versions exist.","Dominated by the soft, rich, and complex flavor of darker Munich malts, usually with overtones reminiscent of toasted bread crusts, but without a burnt-harsh-grainy toastiness. The palate can be moderately malty, although it should not be overwhelming or cloyingly sweet. Mild caramel, toast or nuttiness may be present. Very fresh examples often have a pleasant malty-chocolate character that isn’t roasty or sweet. Burnt or bitter flavors from roasted malts are inappropriate, as are pronounced caramel flavors from crystal malt. Hop bitterness is moderately low but perceptible, with the balance tipped firmly towards maltiness. Hop flavor is low to none; if noted, should reflect floral, spicy, or herbal German-type varieties. Aftertaste remains malty, although the hop bitterness may become more apparent in the medium-dry finish. Clean fermentation profile and lager character.","Medium to medium-full body, providing a soft and dextrinous mouthfeel without being heavy or cloying. Moderate carbonation. The use of continental Munich-type malts should provide a richness, not a harsh or biting astringency.","Unfiltered versions from Germany can taste like liquid bread, with a yeasty, earthy richness not found in exported filtered examples.","The classic brown lager style of Munich which developed as a darker, more malt-accented beer than other regional lagers. While originating in Munich, the style became popular throughout Bavaria (especially Franconia). Franconian versions are often darker and more bitter.","Grist is traditionally made up of German Munich malt (up to 100% in some cases) with the remainder German Pilsner malt. Small amounts of crystal malt can add dextrins and color but should not introduce excessive residual sweetness. Slight additions of roasted malts (such as Carafa or chocolate) may be used to improve color but should not add strong flavors. Traditional German hop varieties and German lager yeast strains should be used. Often decoction mashed (up to a triple decoction) to enhance the malt flavors and create the depth of color.","Not as intense in maltiness as a bock (and thus more drinkable in quantity). Lacking the more roasted flavors (and often hop bitterness) of a schwarzbier. Richer, more malt-centric, and less hoppy than a Czech Dark Lager.","Ayinger Altbairisch Dunkel, Chuckanut Dunkel Lager, Ettaler Kloster Dunkel, Hacker-Pschorr Alt Munich Dark, Weltenburger Kloster Barock-Dunkel",null,"Les Munich Dunkel sont des bières qui possèdent la richesse maltée, la complexité et la profondeur provenant des malts Munich, ces saveurs sont accompagnées des produits de la réaction de Maillard. Les saveurs puissantes de pain grillé associées à un goût de chocolat sont caractéristiques de ces bières sans pour autant être agressives, brulées ou astringentes. Ce sont des bières dont l’équilibre tend vers le côté malté mais qui restent facile à boire. ","Ces bières présentent des arômes de malts riches, élégants, caractéristiques et profonds rappelant la croûte de pain ou la croute de pain grillée. Des touches de chocolat fourré, de noix et/ou de caramel sont acceptables. Les versions les plus fraîches et traditionnelles ont souvent une plus forte dominance du chocolat. La fermentation est neutre, un léger arôme de houblon floral, épicé ou herbeux est acceptable.","La couleur des Munich Dunkel va de cuivre profond à brun foncé avec souvent une touche de rouge ou grenat. La mousse est crémeuse légèrement à moyennement colorée. Normalement limpide, des versions non filtrées donc plus troubles existent. ","Le goût de cette bière est dominé par la douceur, la richesse et la complexité des malts Munich les plus foncés, avec souvent des touches de croûtes de pain grillé, sans pour autant présenter l’agressivité astringente du côté brûlé des grains torréfiés. Le palais peut être modérément malté mais il ne doit pas dominer ou devenir écœurant. Des touches légères de caramel, de toasts ou de noix peuvent aussi être présentes. Les versions les plus fraîches possèdent des saveurs maltées de chocolat qui ne sont ni grillées ni sucrées. Les notes de brûlé ou amères provenant des grains de malt torréfiés sont à éviter ainsi que les saveurs trop prononcées de caramel, typiques des malts Crystal. L’amertume provenant du houblon est plutôt faible mais reste perceptible, gardant l'équilibre fermement ancré du côté des malts. Les saveurs houblonnées sont donc absentes ou faible, si détectables, elles sont florales, épicées ou herbeuses et de variétés allemandes. L’arrière-goût est malté mais l’amertume provenant du houblon peux revenir avec la fin de bouche relativement sèche. La fermentation est neutre et reste caractéristique des Lager. ","Corps moyen à rond, les Munich Dunkel développent une impression de douceur en bouche typique des dextrines, sans pour autant être lourdes ou écœurantes. La carbonatation est moyenne et l’utilisation des malts Munich continentaux apporte de la richesse en bouche sans qu’elle ne soit agressive ou astringente. ","Les versions locales non filtrées peuvent développer des arômes de pain avec une forte présence du goût de levure qu'on ne retrouve pas dans les bières exportées.  ","Ce style classique de lager brune de la région de Munich est devenu la version plus sombre et plus maltée que celles des autres régions. Bien qu’originaire de Munich, ce style est devenu populaire dans toute la Bavière et plus particulièrement en Franconie. Les versions franconiennes sont souvent plus sombres et amères. ","Essentiellement composée de malts Munich (jusqu’à 100% pour certaines) parfois complétée de Pilsner allemand. Une faible proportion de malts Crystal peut être ajoutée afin d’apporter les dextrines et la couleur, mais ne doit pas apporter trop de sucres résiduels. Une faible proportion de malts torréfiés (Carafa, ou Chocolat) peut aussi ajouter de la profondeur à la couleur sans apporter de saveurs trop fortes. Les houblons utilisés sont les variétés allemandes associées à des souches de levures de fermentation basse, elles aussi allemandes. Traditionnellement ces bières sont brassées par décoction (triple même parfois) afin de renforcer les saveurs maltées et la profondeur de la couleur. ","Elles ne présentent pas un côté malté aussi intense que les bocks (on peut donc les boire en plus grandes quantités) ou encore les saveurs de malts torréfiés et l’amertume apportée par les houblons qu’une Schwarzbier. Elles sont cependant plus riches, tournées vers le malt et moins houblonnées que les Lager brunes tchèques. ","Ayinger Altbairisch Dunkel, Chuckanut Dunkel Lager, Ettaler Kloster Dunkel, Hacker- Pschorr Alt Munich Dark, Weltenburger Kloster Barock- Dunkel "]
["08B - Schwarzbier",1.046,1.052,1.01,1.016,33.49,59.1,20,30,4.4000000000000004,5.4,17,30,1046,1052,1010,1016,"08B","Schwarzbier",2.2000000000000002,2.7,{"$f":"VLOOKUP(A28,Feuil2!$A$1:$H$74,2,FALSE)","v":"50-75"},{"$f":"VLOOKUP(A28,Feuil2!$A$1:$H$74,3,FALSE)","v":"0-30"},{"$f":"VLOOKUP(A28,Feuil2!$A$1:$H$74,4,FALSE)","v":"80-120"},{"$f":"VLOOKUP(A28,Feuil2!$A$1:$H$74,5,FALSE)","v":"0-50"},{"$f":"VLOOKUP(A28,Feuil2!$A$1:$H$74,6,FALSE)","v":"50-150"},{"$f":"VLOOKUP(A28,Feuil2!$A$1:$H$74,7,FALSE)","v":"<100"},{"$f":"VLOOKUP(A28,Feuil2!$A$1:$H$74,8,FALSE)","v":"40 - 80"},"08-Dark European Lager","Dark Lager","Dark Lager","Germany",1010,"08B - Schwarzbier",1016,"A dark German lager that balances roasted yet smooth malt flavors with moderate hop bitterness. The lighter body, dryness, and lack of a harsh, burnt, or heavy aftertaste helps make this beer quite drinkable.","Low to moderate malt, with low aromatic malty sweetness and/or hints of roast malt often apparent. The malt can be clean and neutral or moderately rich and bready, and may have a hint of dark caramel. The roast character can be somewhat dark chocolate- or coffee-like but should never be burnt. A low spicy, floral, or herbal hop aroma is optional. Clean lager yeast character, although a light sulfur is possible.","Medium to very dark brown in color, often with deep ruby to garnet highlights, yet almost never truly black. Very clear. Large, persistent, tan-colored head.","Light to moderate malt flavor, which can have a clean, neutral character to a moderately rich, bread-malty quality. Light to moderate roasted malt flavors can give a bitter-chocolate palate that lasts into the finish, but which are never burnt. Medium-low to medium bitterness, which can last into the finish. Light to moderate spicy, floral, or herbal hop flavor. Clean lager character. Aftertaste tends to dry out slowly and linger, featuring hop bitterness with a complementary but subtle roastiness in the background. Some residual sweetness is acceptable but not required.","Medium-light to medium body. Moderate to moderately-high carbonation. Smooth. No harshness or astringency, despite the use of dark, roasted malts.","Literally means “black beer” in German. While sometimes called a “black Pils,” the beer is rarely as dark as black or as bitter as a Pils; don’t expect strongly roasted, porter-like flavors. ","A regional specialty from Thuringia, Saxony and Franconia in Germany. History is a bit sketchy, but is suspected of being originally a top-fermented beer. Popularity grew after German reunification. Served as the inspiration for black lagers brewed in Japan.","German Munich malt and/or Pilsner malts for the base, supplemented by a judicious use of roasted malts (such as Carafa types) for the dark color and subtle roast flavors. Huskless dark roasted malts can add roast flavors without burnt flavors. German hop varieties and clean German lager yeasts are traditional.","In comparison with a Munich Dunkel, usually darker in color, drier on the palate, lighter in body, and with a noticeable (but not high) roasted malt edge to balance the malt base. Should not taste like an American Porter made with lager yeast. Drier, less malty, with less hop character than a Czech Dark Lager.","Devils Backbone Schwartz Bier, Einbecker Schwarzbier, Eisenbahn Dunkel, Köstritzer Schwarzbier, Mönchshof Schwarzbier, Nuezeller Original Badebier",null,"Lagers brunes allemandes avec un bon équilibre de saveurs de malts torréfiés mais douces avec une amertume modérée des houblons, leur corps est plus léger, une certaine sécheresse et une absence d'astringence ou arrière-goût trop fort rendent cette bière plutôt facile à boire. ","Arômes maltés faibles à modérés, avec une sensation de douceur maltée-sucrée souvent accompagnée d’une touche de malts torréfiés. Ces arômes maltés sont souvent assez neutres, modérément riches tirant vers les saveurs du pain et peuvent développer un côté caramel brun. Les notes torréfiées s’approchent du chocolat noir ou du café mais ne doivent jamais s'approcher des arômes de brûlé. De faibles arômes de houblons épicés, floraux ou herbeux sont possibles, le profil de fermentation est neutre, même si des notes soufrées peuvent être présentes. ","De brun moyennement sombre à sombre les Schwarzbier possèdent souvent des reflets rubis à grenat mais elles ne sont presque jamais réellement noires. Ce sont des bières très limpides avec une mousse légèrement brunie, abondante et persistante.","Les saveurs maltées sont légères à modérées avec un côté pain-malté léger à modérément riche. Les malts torréfiés peuvent rappeler au palais le chocolat amer, persistant en fin de bouche mais jamais de saveurs de brûlé. L'amertume est modérément basse à moyenne, persistante elle aussi. Les houblons apportent des saveurs épicées, florales ou herbeuses, légères à modérées. La fermentation au profil neutre est caractéristique des lagers. L'arrière-goût tend à s'assécher doucement et se prolonger en une amertume houblonnée complétée de subtiles notes de grains torréfiés en arrière-plan. Une légère présence de sucres résiduels est acceptable mais non requise. ","Corps moyen-léger à moyen, la carbonatation est modérément élevée. Ce sont des bières douces, ni agressives ni astringentes malgré l’utilisation de malts foncés à torréfiés. ","Schwarzbier signifie littéralement « bière noire » en allemand. Ces bières sont aussi parfois appelées « Pils noires », pour autant elles sont rarement sombres au point d'être noires et rarement aussi amères que des Pils ; il ne faut pas non plus s’attendre à retrouver les fortes saveurs de malts grillés des Porter. ","La Schwarzbier est une spécialité des régions de Thuringe, Saxe et Franconie en Allemagne. Leur histoire est assez incertaine mais on suppose qu'elles étaient à l’origine des bières de fermentation haute. Leur popularité s’est accrue après la réunification de l’Allemagne et elles ont même servi d’inspiration pour les Lagers noires brassées au Japon. ","La base est composée de malt Munich allemand et/ou de malts Pilsner, complétée par une utilisation judicieuse de malts torréfiés (de type Carafa) pour la couleur sombre et les subtiles arômes torréfiés. Des malts foncés, torréfiés et sans son peuvent apporter ces arômes torréfiés sans donner ce goût désagréable de brûlé. Les houblons traditionnels allemands sont utilisés tout comme les levures de Lager allemandes. ","En comparaison d’une Munich Dunkel, les Schwarzbier sont souvent plus sombres, plus sèches au palais avec un corps plus léger et une présence notable mais non dominante de grains torréfiés pour équilibrer les malts de base. Elles ne doivent pas s'approcher en goût d’un Porter américain même fermenté avec des levures de fermentation basse. Elles sont plus sèches, moins maltées et moins houblonnées que les Lager brunes Tchèques. ","Devils Backbone Schwartz Bier, Einbecker Schwarzbier, Eisenbahn Dunkel, Köstritzer Schwarzbier, Mönchshof Schwarzbier, Nuezeller Original Badebier"]
["09A - Doppelbock",1.0720000000000001,1.1120000000000001,1.016,1.024,11.82,49.25,16,26,7,10,6,25,1072,1112,1016,1024,"09A","Doppelbock",2.2000000000000002,2.7,{"$f":"VLOOKUP(A29,Feuil2!$A$1:$H$74,2,FALSE)","v":"50-100"},{"$f":"VLOOKUP(A29,Feuil2!$A$1:$H$74,3,FALSE)","v":"0-30"},{"$f":"VLOOKUP(A29,Feuil2!$A$1:$H$74,4,FALSE)","v":"80-150"},{"$f":"VLOOKUP(A29,Feuil2!$A$1:$H$74,5,FALSE)","v":"0-100"},{"$f":"VLOOKUP(A29,Feuil2!$A$1:$H$74,6,FALSE)","v":"50-100"},{"$f":"VLOOKUP(A29,Feuil2!$A$1:$H$74,7,FALSE)","v":"<100"},{"$f":"VLOOKUP(A29,Feuil2!$A$1:$H$74,8,FALSE)","v":"60 - 120"},"09-Strong European Beer","Bock","Bock","Germany",1016,"09A - Doppelbock",1024,"A strong, rich, and very malty German lager that can have both pale and dark variants. The darker versions have more richly-developed, deeper malt flavors, while the paler versions have slightly more hops and dryness.","Very strong maltiness. Darker versions will have significant Maillard products and often some toasty aromas. A light caramel aroma is acceptable. Lighter versions will have a strong malt presence with some Maillard products and toasty notes. Virtually no hop aroma, although a light noble hop aroma is acceptable in pale versions. A moderately low malt-derived dark fruit character may be present (but is optional) in dark versions. A very slight chocolate-like aroma may be present in darker versions, but no roasted or burned aromatics should ever be present. Moderate alcohol aroma may be present.","Deep gold to dark brown in color. Darker versions often have ruby highlights. Lagering should provide good clarity. Large, creamy, persistent head (color varies with base style: white for pale versions, off-white for dark varieties). Stronger versions might have impaired head retention, and can display noticeable legs.","Very rich and malty. Darker versions will have significant Maillard products and often some toasty flavors. Lighter versions will have a strong malt flavor with some Maillard products and toasty notes. A very slight chocolate flavor is optional in darker versions, but should never be perceived as roasty or burnt. Clean lager character. A moderately low malt-derived dark fruit character is optional in darker versions. Invariably there will be an impression of alcoholic strength, but this should be smooth and warming rather than harsh or burning. Little to no hop flavor (more is acceptable in pale versions). Hop bitterness varies from moderate to moderately low but always allows malt to dominate the flavor. Most versions are fairly malty-sweet, but should have an impression of attenuation. The sweetness comes from low hopping, not from incomplete fermentation. Paler versions generally have a drier finish.","Medium-full to full body. Moderate to moderately-low carbonation. Very smooth without harshness, astringency. A light alcohol warmth may be noted, but it should never burn.","Most versions are dark colored and may display the caramelizing and Maillard products of decoction mashing, but excellent pale versions also exist. The pale versions will not have the same richness and darker malt flavors of the dark versions, and may be a bit drier, hoppier and more bitter. While most traditional examples are in the lower end of the ranges cited, the style can be considered to have no upper limit for gravity, alcohol and bitterness (thus providing a home for very strong lagers). ","A Bavarian specialty first brewed in Munich by the monks of St. Francis of Paula. Historical versions were less well-attenuated than modern interpretations, with consequently higher sweetness and lower alcohol levels (and hence was considered “liquid bread” by the monks). The term “doppel (double) bock” was coined by Munich consumers. Many commercial doppelbocks have names ending in “-ator,” either as a tribute to the prototypical Salvator or to take advantage of the beer’s popularity. Traditionally dark brown in color; paler examples are a more recent development.","Pils and/or Vienna malt for pale versions (with some Munich), Munich and Vienna malts for darker ones and occasionally a tiny bit of darker color malts (such as Carafa). Saazer-type hops. Clean lager yeast. Decoction mashing is traditional.","A stronger, richer, more full-bodied version of either a Dunkles Bock or a Helles Bock. Pale versions will show higher attenuation and less dark fruity character than the darker versions.","Dark Versions –Andechser Doppelbock Dunkel, Ayinger Celebrator, Paulaner Salvator, Spaten Optimator, Tröegs Troegenator, Weihenstephaner Korbinian,; Pale Versions – Eggenberg Urbock 23º, EKU 28, Plank Bavarian Heller Doppelbock",null,"Lager Allemande forte riche et très maltée déclinée en version blonde ou brune. Les plus sombres présentent des flaveurs de malts plus riches et profondes tandis que les plus claires sont légèrement plus houblonnées et sèches","Avec de forts arômes maltés, les plus brunes possèdent une bonne présence d'arômes issus de la réaction de Maillard et souvent des saveurs de pain grillé. Une légère touche de caramel est acceptable. Les versions plus légères présentent également une dominance des arômes maltés, issus des réactions de Maillard et de pain grillé. On ne relève quasiment aucun arôme de houblons, bien que pour les versions blondes, une note légère de houblons nobles soit tolérée. Dans les bières les plus sombres, une présence modérée d’arômes de fruits noirs : prune, pruneau, raisin est acceptable (mais pas obligatoire) qui peuvent également révéler un très léger arôme de chocolat mais toute note torréfiée/brûlée devra être à proscrire. Un arôme modéré d'alcool peut être présent. ","De couleur or profond à brun foncé, les versions les plus sombres présentent souvent des reflets rubis. Ce sont des bières limpides grâce à la garde à froid. Leur mousse est abondante, crémeuse et persistante de couleur allant du blanc pour les blondes au blanc-cassé pour les brunes. Les versions les plus fortes peuvent éventuellement avoir une moins bonne tenue de mousse et présenter alors de jolies jambes. ","Très riches et maltées les versions brunes possèdent une quantité importante de produits de Maillard et souvent des saveurs de pain grillé alors que les blondes seront fortement maltées avec moins de ces deux dernières saveurs. Une très légère saveur de chocolat est optionnelle dans les versions les plus sombres, mais ne devra jamais apporter une impression de grillé ou brûlé. La fermentation neutre typique de lager, sans diacétyle. Quelques notes de fruits noirs (prune, pruneau ou raisin) est optionnelle dans les versions les plus sombres. La bière laissera sans équivoque une impression de force due à l’alcool, mais elle devra être douce et chaleureuse plutôt qu'agressive et brûlante. Pas ou peu de notes houblonnées pour les plus claires, l’amertume provenant des houblons ira de modérée à modérément basse et doit toujours laisser les saveurs maltées dominer. La plupart des versions sont plutôt maltées et sucrées mais doivent laisser une impression de bonne atténuation. La douceur vient d’un houblonnage léger et non d’une fermentation incomplète. Les Doppelbock les plus claires seront plus sèches en fin de bouche. ","Corps moyennement rond à rond, la carbonatation est modérément basse à modérée. Ce sont des bières douces qui ne sont ni âpres ni astringente. Une chaleur due à l’alcool peut être présente, mais jamais brûlante. ","La plupart des versions sont brunes et offrent les touches de caramel et de produits de la réaction de Maillard (ou mélanoïdines) typiquement obtenues par décoction, mais d'excellentes versions blondes existent également. Ces dernières n’auront pas la même richesse des malts foncés et peuvent être un peu plus sèches, plus houblonnées et plus amères. Bien que les exemples les plus traditionnels se positionnent dans les valeurs inférieures des caractéristiques précédemment citées, le style peut être vu comme n'ayant aucune limite en termes de densité, alcool et amertume (ce qui laisse la porte ouverte à toutes les lagers très fortes).","Spécialité bavaroise brassée en premier lieu par les moines de St François de Paule, les versions historiques étaient moins bien atténuées que les interprétations modernes et étaient par conséquent plus sucrées et moins alcoolisées (d'où l'appellation \"pain liquide\" donnée par les moines). Le terme \"doppel (double) bock\" fut ensuite donné par les consommateurs munichois. Plusieurs Doppelbock possèdent le suffixe \"-ator\" à leur nom, soit par révérence au précurseur Salvator, soit pour simplement tirer avantage de la grande popularité de cette bière. Traditionnellement brunes, les Doppelbock blondes ont été créés plus récemment. ","Malt Pils et/ou Vienna pour les blondes (avec du Munich), malts Munich et Vienna pour les versions plus sombres et occasionnellement une petite quantité de malt plus sombre (comme le Carafa). Les houblons nobles sont de type Saaz. Les levures utilisées sont des levures de fermentation basse au profil neutre. Traditionnellement, les Doppelbock sont brassées par décoction. ","Les Doppelbock sont plus fortes, plus riches avec plus de corps que les Dunkel Bock ou les Helles Bock. Les plus claires auront une meilleure atténuation et moins de notes de fruits noirs (prune, pruneau, raisin) que les plus sombres. ","Versions Brunes : Andechser Doppelbock Dunkel, Ayinger Celebrator, Paulaner Salvator, Spaten Optimator, Tröegs Troegenator, Weihenstephaner Korbinian Version blondes : Eggenberg Urbock 23º, EKU 28, Plank Bavarian Heller Doppelbock "]
["09B - Eisbock",1.0780000000000001,1.1200000000000001,1.02,1.0349999999999999,35.46,59.1,25,35,9,14,18,30,1078,1120,1020,1035,"09B","Eisbock",2.2000000000000002,2.7,{"$f":"VLOOKUP(A30,Feuil2!$A$1:$H$74,2,FALSE)","v":"50-100"},{"$f":"VLOOKUP(A30,Feuil2!$A$1:$H$74,3,FALSE)","v":"0-30"},{"$f":"VLOOKUP(A30,Feuil2!$A$1:$H$74,4,FALSE)","v":"80-150"},{"$f":"VLOOKUP(A30,Feuil2!$A$1:$H$74,5,FALSE)","v":"0-100"},{"$f":"VLOOKUP(A30,Feuil2!$A$1:$H$74,6,FALSE)","v":"50-100"},{"$f":"VLOOKUP(A30,Feuil2!$A$1:$H$74,7,FALSE)","v":"<100"},{"$f":"VLOOKUP(A30,Feuil2!$A$1:$H$74,8,FALSE)","v":"60 - 120"},"09-Strong European Beer","Bock","Bock","Germany",1020,"09B - Eisbock",1035,"A strong, full-bodied, rich, and malty dark German lager often with a viscous quality and strong flavors. Even though flavors are concentrated, the alcohol should be smooth and warming, not burning. ","Dominated by a balance of rich, intense malt and a definite alcohol presence. No hop aroma. May have significant malt-derived dark fruit esters. Alcohol aromas should not be harsh or solventy.","Deep copper to dark brown in color, often with attractive ruby highlights. Lagering should provide good clarity. Head retention may be moderate to poor. Off-white to deep ivory colored head. Pronounced legs are often evident.","Rich, sweet malt balanced by a significant alcohol presence. The malt can have Maillard products, toasty qualities, some caramel, and occasionally a slight chocolate flavor. No hop flavor. Hop bitterness just offsets the malt sweetness enough to avoid a cloying character. May have significant malt-derived dark fruit esters. The alcohol should be smooth, not harsh or hot, and should help the hop bitterness balance the strong malt presence. The finish should be of malt and alcohol, and can have a certain dryness from the alcohol. It should not by sticky, syrupy or cloyingly sweet. Clean lager character.","Full to very full-bodied. Low carbonation. Significant alcohol warmth without sharp hotness. Very smooth without harsh edges from alcohol, bitterness, fusels, or other concentrated flavors.","Extended lagering is often needed post-freezing to smooth the alcohol and enhance the malt and alcohol balance. Pronounced “ICE-bock.”","A traditional Kulmbach specialty brewed by freezing a doppelbock and removing the ice to concentrate the flavor and alcohol content (as well as any defects).","Same as doppelbock. Commercial eisbocks are generally concentrated anywhere from 7% to 33% (by volume).","Eisbocks are not simply stronger doppelbocks; the name refers to the process of freezing and concentrating the beer and is not a statement on alcohol; some doppelbocks are stronger than Eisbocks. Not as thick, rich, or sweet as a Wheatwine.","Kulmbacher Eisbock",null,"Bière de fermentation basse allemande, brune, forte, avec beaucoup de corps, riche et maltée, avec une impression de viscosité et de puissantes saveurs. Même si les arômes sont prononcés, la présence d’alcool doit rester douce et chaleureuse, mais pas brûlante. ","Les arômes sont dominés par un équilibre entre malts intenses, riches et une évidente présence d’alcool. Les arômes de houblons sont absents mais des esters fruités bien présents, particulièrement de fruits noirs tels que prune, pruneau ou raisin. Les arômes d'alcool ne devraient être ni âpres ni laisser une impression de solvant. ","Cuivre profond à brun foncé avec souvent de beaux reflets rubis, sa limpidité est assurée par la garde à froid. La tenue de la mousse est moyenne à faible, de couleur blanc cassé à ivoire profond et dessine souvent des jambes bien galbées. ","Saveurs de malt riches et sucrées équilibrées par une présence significative d'alcool. Le malt peut présenter des mélanoïdines issus de la réaction de Maillard, des touches de pain grillé ou de caramel et occasionnellement une légère saveur de chocolat. On ne retrouve pas de saveur de houblon mais l'amertume est juste là pour compenser suffisamment la douceur du malt afin d'éviter toute sensation d'écœurement. Des notes significatives d'esters fruités peuvent être perceptibles tendant vers les fruits noirs. La présence d'alcool doit rester douce, sans être agressive ou brûlante et doit aider l'amertume à équilibrer le malt. La fin de bouche est maltée et alcoolisée et peut être légèrement sèche en raison de l'alcool. Elle ne doit pas être collante, sirupeuse ou écœurante par un côté trop sucré. Le profil de fermentation reste neutre, typique des lagers. ","Corps rond à très rond et faible carbonatation. La chaleur d'alcool est bien perceptible sans être brûlante. Bière très douce sans le tranchant dû à l'alcool, ni amertume, fusels ni toute autre saveur trop prononcée. ","Une longue garde à froid est souvent nécessaire après la congélation du moût pour adoucir l’alcool et renforcer l'équilibre de ce dernier avec le malt. Note : on prononce « aïe ce bock ! ». ","Une spécialité de la ville bavaroise de Kulmbach, produite par congélation d'un Doppelbock pour en retirer ensuite la glace afin de concentrer les saveurs et la teneur en alcool (ainsi que tout défaut éventuel [sic]). ","Identiques aux Doppelbock. La concentration en alcool des Eisbock du commerce peuvent varier de 7% à 33% par volume. ","L'Eisbock est plus qu'une simple Doppelbock en plus forte : leur nom fait surtout référence au processus de congélation donc de concentration, mais ne fait pas systématiquement référence à une augmentation du taux d’alcool. Certaines Doppelbock sont plus même plus fortes que certaines Eisbock. Elles ne sont pas non plus aussi denses, riches ou sucrées que les Wheatwine (ou \"vin de blé\"). ","Autres exemples : Eggenberg Urbock Dunkel Eisbock, Niagara Eisbock, Capital Eisphyre, Southampton Eisbock "]
["09C - Baltic Porter",1.06,1.0900000000000001,1.016,1.024,33.49,59.1,20,40,6.5,9.5,17,30,1060,1090,1016,1024,"09C","Baltic Porter",2.7,2.2999999999999998,{"$f":"VLOOKUP(A31,Feuil2!$A$1:$H$74,2,FALSE)","v":"50-75"},{"$f":"VLOOKUP(A31,Feuil2!$A$1:$H$74,3,FALSE)","v":"0-30"},{"$f":"VLOOKUP(A31,Feuil2!$A$1:$H$74,4,FALSE)","v":"80-160"},{"$f":"VLOOKUP(A31,Feuil2!$A$1:$H$74,5,FALSE)","v":"50-150"},{"$f":"VLOOKUP(A31,Feuil2!$A$1:$H$74,6,FALSE)","v":"50-150"},{"$f":"VLOOKUP(A31,Feuil2!$A$1:$H$74,7,FALSE)","v":"<100"},{"$f":"VLOOKUP(A31,Feuil2!$A$1:$H$74,8,FALSE)","v":"60 -120"},"09-Strong European Beer","Porter","Porter","Scandinavia",1016,"09C - Baltic Porter",1024,"A Baltic Porter often has the malt flavors reminiscent of an English porter and the restrained roast of a schwarzbier, but with a higher OG and alcohol content than either. Very complex, with multi-layered malt and dark fruit flavors.","Rich malty sweetness often containing caramel, toffee, nutty to deep toast, and/or licorice notes. Complex alcohol and ester profile of moderate strength, and reminiscent of plums, prunes, raisins, cherries or currants, occasionally with a vinous Port-like quality. Some darker malt character that is deep chocolate, coffee or molasses but never burnt. No hops. No sourness. Very smooth.","Dark reddish-copper to opaque dark brown (not black). Thick, persistent tan-colored head. Clear, although darker versions can be opaque.","As with aroma, has a rich malty sweetness with a complex blend of deep malt, dried fruit esters, and alcohol. Has a prominent yet smooth schwarzbier-like roasted flavor that stops short of burnt. Mouth-filling and very smooth. Clean lager character. Starts sweet but darker malt flavors quickly dominates and persists through finish. Just a touch dry with a hint of roast coffee or licorice in the finish. Malt can have a caramel, toffee, nutty, molasses and/or licorice complexity. Light hints of black currant and dark fruits. Medium-low to medium bitterness from malt and hops, just to provide balance. Hop flavor from slightly spicy hops ranges from none to medium-low.","Generally quite full-bodied and smooth, with a well-aged alcohol warmth. Medium to medium-high carbonation, making it seem even more mouth-filling. Not heavy on the tongue due to carbonation level. ","May also be described today as an Imperial Porter, although heavily roasted or hopped versions are not appropriate for this style. Most versions are in the 7–8.5% ABV range. Danish breweries often refer to them as Stouts, which indicates their historic lineage from the days when Porter was used as a generic name for Porter and Stout.","Traditional beer from countries bordering the Baltic Sea, developed indigenously after higher-gravity export brown or imperial stouts from England were established. Historically top-fermented, many breweries adapted the recipes for bottom-fermenting yeast along with the rest of their production.","Generally lager yeast (cold fermented if using ale yeast, as is required when brewed in Russia). Debittered chocolate or black malt. Munich or Vienna base malt. Continental hops (Saazer-type, typically). May contain crystal malts and/or adjuncts. Brown or amber malt common in historical recipes.","Much less roasted and smoother than an Imperial Stout, typically with less alcohol. Lacks the roasty qualities of stouts in general, more taking on the roasted-but-not-burnt characteristics of a schwarzbier. Quite fruity compared to other porters. Higher alcohol than other porters.","Aldaris Porteris, Baltika #6 Porter, Devils Backbone Danzig, Okocim Porter, Sinebrychoff Porter, Zywiec Porter",null,"Le Baltic Porter a souvent des saveurs de malt rappelant un Porter Anglais et les saveurs torréfiées plus discrètes d'une Schwarzbier, mais une densité et une teneur en alcool plus élevées que jamais. Très complexe, avec une superposition d'arômes de malts et de fruits noirs. ","Douceur maltée complexe avec des arômes souvent caramel, toffee, noisette et pouvant aller jusqu'à des notes plus profondes toastées et/ou de réglisse. Alcool et esters complexes de force modérée qui rappellent les prunes, pruneaux, raisins, cerises ou raisins de Corinthe avec de temps en temps des apports vineux de type Porto. Certains parfums de malts foncés sur le chocolat profond, le café ou la mélasse mais jamais de note de brûlé. Sans arômes de houblon ni aucune aigreur, il demeure très doux","De couleur rouge-cuivré foncé à brun, sombre mais pas noire sous une mousse dense et persistante de couleur beige, elle est limpide bien que les versions plus foncées puissent être opaques","Comme pour les arômes, elle possède une riche douceur maltée avec un mélange complexe et profond de malts, d'esters de fruits secs et d'alcool. Elle a comme une Schwarzbier des saveurs dominantes de torréfié qui s'arrêtent juste avant les notes de brûlé. Ronde et douce en bouche, un profil de levure neutre typique des lagers, les premières impressions de douceur sont rapidement dominées par les saveurs des malts foncés persistant jusqu'en fin de bouche avec une touche plus sèche et un soupçon de café torréfié ou de réglisse dans les saveurs finales. Le malt peut apporter des notes plus complexes de caramel, toffee, noix, mélasse et/ou de réglisse, ainsi que de légères notes de cassis et de fruits noirs. L'amertume moyennement faible à moyenne des malts et des houblons vient simplement ajuster son équilibre. Les saveurs du houblon, légèrement épicées, peuvent varier de nulles à moyennement faibles. ","Généralement assez charpenté et doux, avec la chaleur d'un alcool bien vieilli, sa carbonatation moyenne à moyennement élevée le fait percevoir en bouche encore plus rond tout en n'apportant pas de lourdeur sur la langue en raison justement du niveau plutôt élevé de carbonatation. ","Pourrait être aujourd'hui également décrit comme un Imperial Porter, bien que les versions fortement torréfiées ou houblonnées ne soient pas appropriées pour ce style. La plupart des versions varient entre 7 et 8,5% d'alcool et les brasseries danoises les référencent souvent comme des Stouts, ce qui souligne leur lignée historique datant de l'époque où le terme de Porter a été utilisé comme un nom générique pour désigner les Porters et les Stouts. ","Style de bière traditionnel des pays riverains de la mer Baltique et développé localement après que soient apparus les premiers Imperial et Brown Stouts version \"export\" (de densité supérieure) en provenance de l'Angleterre. \nHistoriquement de fermentation haute, de nombreuses brasseries ont adapté leur recette pour les levures de fermentation basse utilisées pour le reste de leur production. ","Généralement des levures de type Lager ou des fermentations en basses températures en cas d'utilisation de levure de type Ale (comme évidemment plutôt inévitable en Russie). Malt chocolat désamérisé ou noir sur une base de Malt Munich ou Vienna. Houblons continentaux généralement de type Saaz. Peut contenir du malt Crystal, et les malts bruns ou ambrés restent assez communs dans les recettes historiques. ","Beaucoup moins torréfié et plus doux qu'un Imperial Stout avec en général moins d'alcool. L'absence de composantes grillées des Stouts le fait pencher en général plus vers le côté \"torréfié mais pas brûlé\" d'une Schwarzbier. Il est plus fruité et plus alcoolisé que les autres Porters. ","Aldaris Porteris, Baltika #6 Porter, Devils Backbone Danzig, Okocim Porter, Sinebrychoff Porter, Zywiec Porter"]
["10A - Weissbier",1.044,1.052,1.01,1.014,3.94,11.82,8,15,4.3,5.6,2,6,1044,1052,1010,1014,"10A","Weissbier",3.3,4.3,{"$f":"VLOOKUP(A32,Feuil2!$A$1:$H$74,2,FALSE)","v":"50-100"},{"$f":"VLOOKUP(A32,Feuil2!$A$1:$H$74,3,FALSE)","v":"0-30"},{"$f":"VLOOKUP(A32,Feuil2!$A$1:$H$74,4,FALSE)","v":"0-80"},{"$f":"VLOOKUP(A32,Feuil2!$A$1:$H$74,5,FALSE)","v":"0-50"},{"$f":"VLOOKUP(A32,Feuil2!$A$1:$H$74,6,FALSE)","v":"0-100"},{"$f":"VLOOKUP(A32,Feuil2!$A$1:$H$74,7,FALSE)","v":"<100"},{"$f":"VLOOKUP(A32,Feuil2!$A$1:$H$74,8,FALSE)","v":"30 - 30"},"10-German Wheat Beer","Wheat Beer","Wheat Beer","Germany",1010,"10A - Weissbier",1014,"A pale, refreshing German wheat beer with high carbonation, dry finish, a fluffy mouthfeel, and a distinctive banana-and-clove yeast character.","Moderate to strong phenols (usually clove) and fruity esters (typically banana). The balance and intensity of the phenol and ester components can vary but the best examples are reasonably balanced and fairly prominent. The hop character ranges from low to none. A light to moderate wheat aroma (which might be perceived as bready or grainy) may be present but other malt characteristics should not. Optional, but acceptable, aromatics can include a light to moderate vanilla character, and/or a faint bubblegum aroma. None of these optional characteristics should be high or dominant, but often can add to the complexity and balance.","Pale straw to gold in color. A very thick, moussy, long-lasting white head is characteristic. The high protein content of wheat impairs clarity in an unfiltered beer, although the level of haze is somewhat variable. ","Low to moderately strong banana and clove flavor. The balance and intensity of the phenol and ester components can vary but the best examples are reasonably balanced and fairly prominent. Optionally, a very light to moderate vanilla character and/or faint bubblegum notes can accentuate the banana flavor, sweetness and roundness; neither should be dominant if present. The soft, somewhat bready or grainy flavor of wheat is complementary, as is a slightly grainy-sweet malt character. Hop flavor is very low to none, and hop bitterness is very low to moderately low. Well-rounded, flavorful palate with a relatively dry finish. The perception of sweetness is more due to the absence of hop bitterness than actual residual sweetness; a sweet or heavy finish would significantly impair drinkability.","Medium-light to medium body; never heavy. Suspended yeast may increase the perception of body. The texture of wheat imparts the sensation of a fluffy, creamy fullness that may progress to a light, spritzy finish aided by high to very high carbonation. Always effervescent.","These are refreshing, fast-maturing beers that are lightly hopped and show a unique banana-and-clove yeast character. These beers often don’t age well and are best enjoyed while young and fresh. The version mit hefe is served with suspended yeast; the krystal version is filtered for excellent clarity. The character of a krystal weizen is generally fruitier and less phenolic than that of the weissbier mit hefe. May be known as hefeweizen, particularly in the United States. ","While Bavaria has a wheat beer tradition dating back hundreds of years, brewing wheat beer used to be a monopoly reserved for Bavarian royalty. Modern weissbier dates from 1872 when Schneider began production. However, pale weissbier only became popular since the 1960s. It is quite popular today, particularly in southern Germany.","By German brewing tradition, at least 50% of the grist must be malted wheat, although some versions use up to 70%; the remainder is typically Pilsner malt. A decoction mash is traditional, although modern brewers typically don’t follow this practice. Weizen ale yeast produces the typical spicy and fruity character, although high fermentation temperatures can affect the balance and produce off-flavors. ",null,"Ayinger Bräu Weisse, Hacker-Pschorr Weisse, Paulaner Hefe-Weizen Naturtrüb, Schneider Weisse Unser Original, Weihenstephaner Hefeweissbier",null,"Bière blonde allemande rafraîchissante au malt de blé avec une forte carbonatation, une fin de bouche sèche, moelleuse en bouche avec des notes de levures très caractéristiques aux parfums de banane et de clou de girofle","Les arômes phénoliques modérés à forts de clou de girofle et esters fruités de banane dont l'équilibre et l'intensité peuvent varier, mais les meilleurs exemples de ce type de bière sont bien équilibrés avec des arômes raisonnablement prononcés. Les arômes de houblons varient de faibles à absents et ceux propres au blé (qui peuvent être perçus comme des notes de pain ou de céréale) peuvent être présents alors qu'on ne doit percevoir aucun autre arôme de malts. D'autres touches aromatiques pouvant rappeler la vanille et/ou le bubble-gum sont acceptables sans être indispensables et ne doivent surtout pas être trop prononcées voire dominantes mais peuvent ajouter à la complexité et l'équilibre général. ","Couleur blond paille à or foncé. Ces bières possèdent une mousse caractéristique : blanche, très dense et persistante. La haute teneur en protéines contenue dans le blé affecte la limpidité des versions non filtrées, bien que le niveau de trouble puisse être assez variable. ","Le goût faible à fort de clous de girofle et de banane, l'équilibre des phénols et esters peut varier mais les meilleurs exemples sont bien équilibrés. Les éventuelles notes légères de vanille ou de chewing-gum peuvent soutenir les saveurs de banane, la douceur, la rondeur et douceur mais si présentes elles ne doivent pas être dominantes. Les notes de pain et de grain apportées par le blé peuvent venir compléter les saveurs en touches légèrement maltées-sucrées. Les saveurs de houblon sont très faibles ou absentes et leur amertume faible à très faible. Ronde en bouche, savoureuse au palais avec une fin de bouche sèche, l'impression de douceur est plus due à l’absence d’amertume qu'à la réelle présence de sucres résiduels : un final sucré ou lourd rendrait la bière mois facile à boire. ","Le corps est moyennement léger à moyen, jamais lourd, mais les levures présentes peuvent accentuer une impression de rondeur. La texture du blé renforce la sensation de moelleux, de crémeux évoluant vers un final léger et pétillant soutenu par une carbonatation forte à très forte : elle est toujours très effervescente","Les weissbier sont des bières rafraichissantes, rapidement fermentées, faiblement houblonnées avec un goût unique de banane et de clou de girofle typique des levures utilisées. Elles vieillissent généralement mal et sont à déguster de préférence jeunes et fraîches. Les versions « mit hefe » sont servies avec les levures en suspension ; les versions « krystal » sont filtrées pour une parfaite limpidité. Généralement, les « krystal weizen » sont plus fruitées et moins phénoliques que les « weissbier mit hefe » parfois aussi appelées « hefeweizen », surtout aux Etats-Unis [sic]. ","La Bavière possède une tradition de brassage de bière au blé remontant de plusieurs centaines d’années, quand brasser des bières de blé était un monopole réservé à la royauté bavaroise. Les bières de blé modernes remontent à 1872, quand Schneider en a commencé la production. Les weissbier blondes ne sont cependant devenues populaires que dans les années 60 et le sont encore largement aujourd'hui, en particulier dans le sud de l’Allemagne. ","Par tradition et dispositions légales, le malt de blé doit représenter au moins 50% des céréales utilisées, certaines bières montant même jusqu’à 70% ; le reste est généralement constitué de malt Pilsner. Le brassage par décoction est la méthode traditionnellement liée à ce style même si les brasseries modernes n’utilisent plus cette pratique. Les levures de type « weizen » produisent ce caractère épicé et fruité typique de ces bières bien que des températures de fermentation élevées puissent affecter leur équilibre et produire des faux-goûts. ",null,"Ayinger Bräu Weisse, Hacker-Pschorr Weisse, Paulaner Hefe-Weizen Naturtrüb, Schneider Weisse Unser Original, Weihenstephaner Hefeweissbier"]
["10B - Dunkles Weissbier",1.044,1.056,1.01,1.014,27.58,45.31,10,18,4.3,5.6,14,23,1044,1056,1010,1014,"10B","Dunkles Weissbier",3.3,4.3,{"$f":"VLOOKUP(A33,Feuil2!$A$1:$H$74,2,FALSE)","v":"50-75"},{"$f":"VLOOKUP(A33,Feuil2!$A$1:$H$74,3,FALSE)","v":"0-30"},{"$f":"VLOOKUP(A33,Feuil2!$A$1:$H$74,4,FALSE)","v":"80-160"},{"$f":"VLOOKUP(A33,Feuil2!$A$1:$H$74,5,FALSE)","v":"50-150"},{"$f":"VLOOKUP(A33,Feuil2!$A$1:$H$74,6,FALSE)","v":"50-150"},{"$f":"VLOOKUP(A33,Feuil2!$A$1:$H$74,7,FALSE)","v":"<100"},{"$f":"VLOOKUP(A33,Feuil2!$A$1:$H$74,8,FALSE)","v":"60 - 120"},"10-German Wheat Beer","Wheat Beer","Wheat Beer","Germany",1010,"10B - Dunkles Weissbier",1014,"A moderately dark German wheat beer with a distinctive banana-and-clove yeast character, supported by a toasted bread or caramel malt flavor. Highly carbonated and refreshing, with a creamy, fluffy texture and light finish that encourages drinking.","Moderate phenols (usually clove) and fruity esters (usually banana). The balance and intensity of the phenol and ester components can vary but the best examples are reasonably balanced. Optionally, a low to moderate vanilla character and/or faint bubblegum notes may be present, but should not dominate. Hop aroma ranges from low to none, and may be lightly floral, spicy, or herbal. A light to moderate wheat aroma (which might be perceived as bready, doughy or grainy) may be present and is often accompanied by a caramel, bread crust, or richer malt aroma. The malt aroma may moderate the phenols and esters somewhat.","Light copper to mahogany brown in color. A very thick, moussy, long-lasting off-white head is characteristic. The high protein content of wheat impairs clarity in this traditionally unfiltered style, although the level of haze is somewhat variable. Suspended yeast sediment can contribute to cloudiness.","Low to moderately strong banana and clove flavor. The balance and intensity of the phenol and ester components can vary but the best examples are reasonably balanced and fairly prominent. Optionally, a very light to moderate vanilla character and/or faint bubblegum notes can accentuate the banana flavor, sweetness and roundness; neither should be dominant if present. The soft, somewhat bready, doughy, or grainy flavor of wheat is complementary, as is a richer caramel, toast, or bread crust flavor. The malty richness can be low to medium-high, and supports the yeast character. A roasted malt character is inappropriate. A spicy, herbal, or floral hop flavor is very low to none, and hop bitterness is very low to low. Well-rounded, flavorful, often somewhat malty palate with a relatively dry finish.","Medium-light to medium-full body. The texture of wheat as well as yeast in suspension imparts the sensation of a fluffy, creamy fullness that may progress to a lighter finish, aided by moderate to high carbonation. Effervescent. ","The presence of Munich and/or Vienna-type barley malts gives this style a deep, rich barley malt character not found in a weissbier. Often known as dunkelweizen, particularly in the United States.","Bavaria has a wheat beer brewing traditional hundreds of years old, but the brewing right was reserved for Bavarian royalty until the late 1700s. Old-fashioned Bavarian wheat beer was often dark, as were most beer of the day. Pale weissbier started to become popular in the 1960s, but traditional dark wheat beer remained somewhat of an old person’s drink.","By German brewing tradition, at least 50% of the grist must be malted wheat, although some versions use up to 70%; the remainder is usually Munich, Vienna, or dark or caramel wheat malts, or Pilsner malt with color malt. A decoction mash is traditional, but infrequently used today. Weizen ale yeasts produce the typical spicy and fruity character, although extreme fermentation temperatures can affect the balance and produce off-flavors. ","Reflecting the best yeast and wheat character of a weissbier blended with the malty richness of a Munich dunkel. The banana and clove character is often less apparent than in a weissbier due to the increased maltiness.","Ayinger Ur-Weisse, Ettaler Weissbier Dunkel, Franziskaner Hefe-Weisse Dunkel, Hacker-Pschorr Weisse Dark, Tucher Dunkles Hefe Weizen, Weihenstephaner Hefeweissbier Dunkel",null,"Cette bière au froment (blé) modérément noire possède des arômes particuliers de banane et clous de girofle produits par les levures et soutenus par des arômes de malts rappelant le pain grillé ou le caramel. Fortement carbonatée et rafraichissante elle offre une texture crémeuse, onctueuse et une fin de bouche légère encourageant l'envie d'en (re)boire. ","Les arômes phénoliques modérés (généralement clou de girofle) et esters fruités (banane) varient en proportions mais les meilleurs exemples sont raisonnablement équilibrés. De légères notes de vanille et/ou de chewing-gum peuvent être éventuellement présentes, mais ne doivent jamais dominer. Les arômes de houblon vont de faibles à nuls et peuvent être légèrement floraux, épicés ou herbeux. Un léger arôme de blé évoquant le pain, les céréales ou la pâte à tarte peut-être présent et souvent accompagné par des saveurs de caramel, de croûte de pain ou des arômes maltés plus soutenus. Ces arômes de malts peuvent parfois atténuer ceux des phénols et des esters. ","De couleur tirant sur le cuivre léger au marron acajou, sous une mousse caractéristique abondante, très épaisse, blanc cassé et persistante. La haute teneur en protéines affecte la limpidité de cette bière généralement non-filtrée, bien que ce degré de trouble soit variable et parfois encore renforcé par des levures en suspension. ","Apportant des saveurs faibles à fortes de clous de girofle et de banane, les proportions et l'intensité des phénols et des esters sont variables mais doivent rester équilibrées. Les notes légères de vanille ou de chewing-gum peuvent soutenir les saveurs de banane, la douceur, la rondeur et l'aspect sucré, mes saveurs non indispensables ne doivent cependant pas dominer. Les arômes doux de pains, de céréales, de pâte à tarte apportés par le blé viennent compléter ceux de caramel, de croûte de pain ou de tartines grillées. La richesse des arômes des malts va de faible à moyennement élevée et vient renforcer les notes apportées par les levures mais les notes de malt grillé sont à éviter. Les saveurs de houblons épicées, florales ou herbeuses vont de très faibles à nulles et leur amertume de très faible à aucune. Ce sont des bières rondes et savoureuses et quelque peu maltées au palais avec une fin de bouche relativement sèche. ","Le corps est modérément léger à modérément rond et la texture du blé, tout comme les levures en suspension, apportent une sensation moelleuse, crémeuse pouvant aller vers une fin de bouche plus légère soutenue par une carbonatation relativement élevée assurant une bonne effervescence. ","La présence de malt d'orge de type Munich et/ou Vienna donne à ce style un caractère riche et puissant de malt qu'on ne trouve pas dans une weissbier. On les appelle souvent Dunkelweizen, particulièrement aux Etats-Unis [sic]. ","La Bavière possède une tradition de brassage de bières au blé remontant à plusieurs centaines d'année, au temps du monopole de la royauté bavaroise jusque dans les années 1700. Les bières de blé bavaroises traditionnelles étaient souvent plus sombres que les bières actuelles, les weissbier plus claires sont devenues populaires dans les années 1960 et mais les bières de blé plus foncées sont restées pour ainsi dire la boisson des vieux. ","Par tradition et dispositions légales, le malt de blé doit représenter au moins 50% des céréales utilisées, certaines bières montant même jusqu’à 70% ; le reste du grain est le plus souvent du malt Munich, Vienna, ou des malts de froment sombres ou caramel ou encore du Pilsner accompagné de malt de couleur. Traditionnellement brassées en décoction, cette technique est toutefois peu utilisée dans les versions modernes. Les levures de type « weizen ale » produisent le caractère épicé et fruité typique de ces bières bien que des températures de fermentation élevées puissent affecter leur équilibre et produire des faux-goûts. ","Les Dunkelweizen reflètent le meilleur des caractéristiques typiques des weissbier par leurs saveurs de blé et de levures, le tout couplé à la richesse maltée des Munich Dunkel. Les saveurs de banane et de clou de girofle sont souvent moins perceptibles que dans les weissbier du fait d'une présence des malts plus intense. ","Ayinger Ur-Weisse, Ettaler Weissbier Dunkel, Franziskaner Hefe-Weisse Dunkel, Hacker-Pschorr Weisse Dark, Tucher Dunkles Hefe Weizen, Weihenstephaner Hefeweissbier Dunkel "]
["10C - Weizenbock",{"$f":"N34/1000","v":1.0640000000000001},{"$f":"O34/1000","v":1.0900000000000001},{"$f":"P34/1000","v":1.0149999999999999},{"$f":"Q34/1000","v":1.022},11.82,49.25,15,30,6.5,9,6,25,1064,1090,1015,1022,"10C","Weizenbock",3.3,4.3,{"$f":"VLOOKUP(A34,Feuil2!$A$1:$H$74,2,FALSE)","v":"50-75"},{"$f":"VLOOKUP(A34,Feuil2!$A$1:$H$74,3,FALSE)","v":"0-30"},{"$f":"VLOOKUP(A34,Feuil2!$A$1:$H$74,4,FALSE)","v":"120-200"},{"$f":"VLOOKUP(A34,Feuil2!$A$1:$H$74,5,FALSE)","v":"50-150"},{"$f":"VLOOKUP(A34,Feuil2!$A$1:$H$74,6,FALSE)","v":"50-150"},{"$f":"VLOOKUP(A34,Feuil2!$A$1:$H$74,7,FALSE)","v":"<100"},{"$f":"VLOOKUP(A34,Feuil2!$A$1:$H$74,8,FALSE)","v":"120 - 200"},"10-German Wheat Beer","Wheat Beer","Wheat Beer","Germany",1015,{"$f":"R34&\" - \"&S34","v":"10C - Weizenbock"},1022,"A strong, malty, fruity, wheat-based ale combining the best malt and yeast flavors of a weissbier (pale or dark) with the malty-rich flavor, strength, and body of a Dunkles Bock or Doppelbock.","Medium-high to high malty-rich character with a significant bready-grainy wheat component. Paler versions will have a bready-toasty malty richness, while darker versions will have a deeper, richer malt presence with significant Maillard products. The malt component is similar to a helles bock for pale versions (grainy-sweet-rich, lightly toasted) or a dunkles bock for dark versions (bready-malty-rich, highly toasted, optional caramel). The yeast contributes a typical weizen character of banana and spice (clove, vanilla), which can be medium-low to medium-high. Darker versions can have some dark fruit aroma (plums, prunes, grapes, raisins), particularly as they age. A low to moderate alcohol aroma is acceptable, but shouldn’t be hot or solventy. No hop aroma. The malt, yeast, and alcohol intertwine to produce a complex, inviting, prominent bouquet.","Pale and dark versions exist, with pale versions being light gold to light amber, and dark versions being dark amber to dark ruby-brown in color. A very thick, moussy, long-lasting white to off-white (pale versions) or light tan (dark versions) head is characteristic. The high protein content of wheat impairs clarity in this traditionally unfiltered style, although the level of haze is somewhat variable. Suspended yeast sediment can contribute to the cloudiness.","Similar to the aroma, a medium-high to high malty-rich flavor together with a significant bready-grainy wheat flavor. Paler versions will have a bready, toasty, grainy-sweet malt richness, while darker versions will have deeper, bready-rich or toasted malt flavors with significant Maillard products, optional caramel. Low to moderate banana and spice (clove, vanilla) yeast character. Darker versions can have some dark fruit flavor (plums, prunes, grapes, raisins), particularly as they age. A light chocolate character (but not roast) is optional in darker versions. No hop flavor. A low hop bitterness can give a slightly sweet palate impression, but the beer typically finishes dry (sometimes enhanced by a light alcohol character). The interplay between the malt, yeast, and alcohol adds complexity and interest, which is often enhanced with age. ","Medium-full to full body. A fluffy or creamy texture is typical, as is the mild warming sensation of substantial alcohol content. Moderate to high carbonation.","A Weissbier brewed to bock or doppelbock strength. Schneider also produces an Eisbock version. Pale and dark versions exist, although dark are more common. Pale versions have less rich malt complexity and often more hops, as with doppelbocks. Lightly oxidized Maillard products can produce some rich, intense flavors and aromas that are often seen in aged imported commercial products; fresher versions will not have this character. Well-aged examples might also take on a slight sherry-like complexity.","Aventinus, the world’s oldest top-fermented wheat doppelbock, was created in 1907 at the Schneider Weisse Brauhaus in Munich. ","A high percentage of malted wheat is used (by German brewing tradition must be at least 50%, although it may contain up to 70%), with the remainder being Munich- and/or Vienna-type barley malts in darker versions, and more Pils malt in paler versions. Some color malts may be used sparingly. A traditional decoction mash can give the appropriate body without cloying sweetness. Weizen ale yeasts produce the typical spicy and fruity character. Too warm or too cold fermentation will cause the phenols and esters to be out of balance and may create off-flavors. Hop choice is essentially irrelevant, but German varieties are most traditional.","Stronger and richer than a Weissbier or Dunkles Weissbier, but with similar yeast character. More directly comparable to the Doppelbock style, with the pale and dark variations. Can vary widely in strength, but most are in the bock to doppelbock range. ","Dark –Eisenbahn Weizenbock, Plank Bavarian Dunkler Weizenbock, Penn Weizenbock, Schneider Unser Aventinus; Pale –Plank Bavarian Heller Weizenbock, Weihenstephaner Vitus",null,"Bière de fermentation haute à base de blé, forte, maltée, fruitée, elle combine le meilleur des arômes de malts et de levures des Weissbier (claires ou sombres) avec les riches saveurs de malts, la force et le corps d'une Dunkles Bock ou Doppelbock.","De moyennement fortes à fortes saveurs maltées s'associent à d’importants arômes de pain et de céréale apportés par le blé. Les versions plus claires présentent des saveurs de pain grillé, alors que les plus sombres vont avoir des saveurs de malts plus profondes et plus riches venant avec d'importants produits issus de la réaction de Maillard, parfois de caramel. Les malts composant ces bières sont identiques à ceux des Helles Bock pour les versions claires (riches en goûts de céréales, sucrées, légèrement toastées) ou des Dunkels Bock pour les versions plus sombres (goût de pain, de malt fortement toasté, parfois caramel). Les levures apportent les saveurs fruitées et épicées de banane et clou-de-girofle typiques des Weizen allant de moyennement faibles à moyennement élevées. Les versions plus sombres peuvent développer des arômes de fruits noirs (prunes, pruneaux, raisin, raisin-sec) en particulier au cours de leur vieillissement. Une légère touche de chocolat peut être présente pour les plus sombres sans atteindre les notes grillées. Un goût d'alcool faible à modéré est acceptable, mais ne doit pas avoir le goût chaud ou de solvant. Si on ne détecte aucune saveur de houblon, les malts  levures et alcool s'entremêlent pour produire un bouquet complexe, imposant et séduisant qui s’améliore encore avec le vieillissement. Le faible niveau d'amertume peut donner une impression au palais légèrement sucrée, par contre la fin de bouche est généralement sèche, sensation parfois renforcée par un léger goût d'alcool","Des versions claires et sombres existent, les plus claires variant de l'or clair à l'ambré clair et les plus sombres de ambré foncé à brun-rouge foncé. La mousse très épaisse, tumultueuse, persistante varie de blanc-cassé (versions claires) à légèrement brune (versions sombres). La haute teneur en protéines contenue dans le blé provoque un trouble variable dans les bières non filtrées. Les sédiments de levures en suspension contribuent également à donner cet aspect trouble. ",null,"Un corps moyen à élevé, qui présente généralement une texture onctueuse et crémeuse associée à une substantielle chaleur en bouche due à l'alcool, le tout associé à une carbonatation de moyenne à forte. ","Une Weissbier brassée pour atteindre la force d'une Bock ou d'une Doppelbock, la brasserie Schneider produit même une version Eisbock. Des versions blondes et brunes existent, ces dernières étant les plus répandues. Les blondes ont une complexité maltée moins importante mais plus de houblons, sur le modèle des Doppelbock. Des produits légèrement oxydés de la réaction de Maillard peuvent amener des saveurs riches et intenses, plus particulièrement dans les bières exportées et vieillies, les versions plus jeunes ne présentant pas ces saveurs. Suffisamment vieillies et dans de bonnes conditions, elles peuvent même tendre vers une complexité de goût tirant légèrement vers la cerise et le sherry. ","Aventinus, le Doppelbock au blé de fermentation haute et le plus ancien au monde, a été créé en 1907 par la brasserie Schneider Weisse Brauhaus à Munich. ","Un fort pourcentage de malt de blé est utilisé (selon la tradition brassicole allemande de au moins 50 jusqu'à 70 %) le reste étant composé de malt Munich et/ou Vienna pour les versions les plus sombres et plus souvent de malt Pilsen pour les versions les plus claires. Des malts plus foncés peuvent être utilisés avec parcimonie. Un brassage traditionnel par décoction apporte la bonne texture et sans un sucré trop écœurant. Les levures de Weizen apportent les saveurs typiquement fruitées (banane) et épicées (clous de girofle) mais une température de fermentation trop basse ou trop haute risquant de rompre l'équilibre entre les phénols et les esters et pouvant créer des faux-goûts. Le choix des houblons importe peu, mais la plupart du temps ce sont des variétés allemandes qui sont utilisées. ","Plus fortes et plus riches que les Weissbier ou les Dunkel Weissbier, les Weizenbock présentent ce même profil de saveurs développé par les levures. Elles sont plus directement comparables aux Doppelbock ","Sombres : Eisenbahn Weizenbock, Plank Bavarian Dunkler Weizenbock, Penn Weizenbock, Schneider Unser Aventinus. \nClaires : Plank Bavarian Heller Weizenbock, Weihenstephaner Vitus "]
["11A - Ordinary Bitter",1.03,1.0389999999999999,1.0069999999999999,1.0109999999999999,15.76,27.58,25,35,3.2,3.8,8,14,1030,1039,1007,1011,"11A","Ordinary Bitter",1.5,2,{"$f":"VLOOKUP(A35,Feuil2!$A$1:$H$74,2,FALSE)","v":"50-100"},{"$f":"VLOOKUP(A35,Feuil2!$A$1:$H$74,3,FALSE)","v":"0-30"},{"$f":"VLOOKUP(A35,Feuil2!$A$1:$H$74,4,FALSE)","v":"0-80"},{"$f":"VLOOKUP(A35,Feuil2!$A$1:$H$74,5,FALSE)","v":"100-200"},{"$f":"VLOOKUP(A35,Feuil2!$A$1:$H$74,6,FALSE)","v":"50-100"},{"$f":"VLOOKUP(A35,Feuil2!$A$1:$H$74,7,FALSE)","v":"<100"},{"$f":"VLOOKUP(A35,Feuil2!$A$1:$H$74,8,FALSE)","v":"-60-0"},"11-British Bitter","Amber Ale","English Pale Ale","England",1007,"11A - Ordinary Bitter",1011,"Low gravity, low alcohol levels, and low carbonation make this an easy-drinking session beer. The malt profile can vary in flavor and intensity, but should never override the overall bitter impression. Drinkability is a critical component of the style ","Low to moderate malt aroma, often (but not always) with a light caramel quality. Bready, biscuity, or lightly toasty malt complexity is common. Mild to moderate fruitiness. Hop aroma can range from moderate to none, typically with a floral, earthy, resiny, and/or fruity character. Generally no diacetyl, although very low levels are allowed. ","Pale amber to light copper color. Good to brilliant clarity. Low to moderate white to off-white head. May have very little head due to low carbonation.","Medium to moderately high bitterness. Moderately low to moderately high fruity esters. Moderate to low hop flavor, typically with an earthy, resiny, fruity, and/or floral character. Low to medium maltiness with a dry finish. The malt profile is typically bready, biscuity, or lightly toasty. Low to moderate caramel or toffee flavors are optional. Balance is often decidedly bitter, although the bitterness should not completely overpower the malt flavor, esters and hop flavor. Generally no diacetyl, although very low levels are allowed.","Light to medium-light body. Low carbonation, although bottled examples can have moderate carbonation.","The lowest gravity member of the British Bitter family, typically known to consumers simply as “bitter” (although brewers tend to refer to it as Ordinary Bitter to distinguish it from other members of the family). ","See comments in category introduction.","Pale ale, amber, and/or crystal malts. May use a touch of dark malt for color adjustment. May use sugar adjuncts, corn, or wheat. English finishing hops are most traditional, but any hops are fair game; if American hops are used, a light touch is required. Characterful British yeast. ","Some modern variants are brewed exclusively with pale malt and are known as golden ales, summer ales, or golden bitters. Emphasis is on the bittering hop addition as opposed to the aggressive middle and late hopping seen in American ales.","Adnams Southwold Bitter, Brains Bitter, Fuller's Chiswick Bitter, Greene King IPA, Tetley’s Original Bitter, Young's Bitter",null,"Sa faible densité, son faible niveau d'alcool et sa faible carbonatation en font une bière facile à boire. Le profil des malts peut varier en saveurs et intensités mais ne doit pas dominer l'impression d'amertume. Les bières de ce style doivent avant tout rester faciles à boire","Des arômes faibles à modérés liés aux malts avec souvent (mais pas toujours) des notes légères de caramel, par contre les arômes de pain, biscuit ou légèrement toasté sont coutumières du style ainsi qu'un fruité doux à modéré. Les arômes de houblons varient de modérés à nuls mais généralement floraux, terreux, résineux et /ou fruités. Le diacétyle est habituellement absent même si de faibles quantités sont tolérées. ","De couleur blonde ambrée à cuivre clair, avec une bonne limpidité parfois même brillante, sous une mousse faible à modérée blanche à blanc-cassé qui peut être même très faible du fait de sa très faible carbonatation","Son amertume est moyenne à forte, ses esters fruités faibles à modérément élevés et la saveur des houblons est modérée à faible généralement terreux, résineux, fruités et/ou floraux. Les saveurs maltées sont légères à moyennes, généralement tirant sur le pain, le biscuit ou légèrement toasté avec une fin de bouche assez sèche. Les notes de caramel voire toffee sont fréquentes mais pas obligatoires. L'équilibre penche souvent franchement du côté amer, même si celle-ci ne doit pas dominer totalement les saveurs de malts, houblons et esters. On ne décèle habituellement aucun diacétyle mais de faibles quantités restent acceptables. ","Son corps est léger à moyennement léger et sa carbonatation faible, bien que les versions en bouteilles et canettes puissent être jusqu'à moyennement carbonatées. ","La plus légère de la famille des Bitters, aussi connue auprès des consommateurs, cependant les brasseurs tendent à utiliser le terme Ordinary Bitter pour les distinguer du reste de leur gamme). ","Pour l'histoire des Bitters > voir le texte d'introduction de cette catégorie ","Brassé sur base de malt Pale, ambré et/ou crystal avec parfois une touche de malt black pour ajuster la couleur. Il peut être complété de sucres, maïs ou blé. Les houblons anglais sont bien sûr plus traditionnels mais n'importe quel houblon peut faire l'affaire ; par contre si des variétés américaines sont utilisées ce doit être uniquement de manière discrète, mesurée. Les levures utilisées sont britanniques et pleines de caractères. ","Des variantes modernes sont brassées exclusivement avec du malt Pale et connue sous le nom de Golden Ales, Summer Ales ou encore Golden Bitters. L'accent est porté sur les ajouts de houblons amérisants, à l'opposé des houblonnages en milieu et fin d'ébullition des Ales Américaines. ","Adnams Southwold Bitter, Brains Bitter, Fuller's Chiswick Bitter, Greene King IPA, Tetley’s Original Bitter, Young's Bitter"]
["11B - Best Bitter",1.04,1.048,1.008,1.012,15.76,31.52,25,40,3.8,4.5999999999999996,8,16,1040,1048,1008,1012,"11B","Best Bitter",1.5,2,{"$f":"VLOOKUP(A36,Feuil2!$A$1:$H$74,2,FALSE)","v":"50-150"},{"$f":"VLOOKUP(A36,Feuil2!$A$1:$H$74,3,FALSE)","v":"0-30"},{"$f":"VLOOKUP(A36,Feuil2!$A$1:$H$74,4,FALSE)","v":"40-120"},{"$f":"VLOOKUP(A36,Feuil2!$A$1:$H$74,5,FALSE)","v":"100-200"},{"$f":"VLOOKUP(A36,Feuil2!$A$1:$H$74,6,FALSE)","v":"50-100"},{"$f":"VLOOKUP(A36,Feuil2!$A$1:$H$74,7,FALSE)","v":"<100"},{"$f":"VLOOKUP(A36,Feuil2!$A$1:$H$74,8,FALSE)","v":"0-60 "},"11-British Bitter","Amber Ale","English Pale Ale","England",1008,"11B - Best Bitter",1012,"A flavorful, yet refreshing, session beer. Some examples can be more malt balanced, but this should not override the overall bitter impression. Drinkability is a critical component of the style.","Low to moderate malt aroma, often (but not always) with a low to medium-low caramel quality. Bready, biscuit, or lightly toasty malt complexity is common. Mild to moderate fruitiness. Hop aroma can range from moderate to none, typically with a floral, earthy, resiny, and/or fruity character. Generally no diacetyl, although very low levels are allowed.","Pale amber to medium copper color. Good to brilliant clarity. Low to moderate white to off-white head. May have very little head due to low carbonation.","Medium to moderately high bitterness. Moderately low to moderately high fruity esters. Moderate to low hop flavor, typically with an earthy, resiny, fruity, and/or floral character. Low to medium maltiness with a dry finish. The malt profile is typically bready, biscuity, or lightly toasty. Low to moderate caramel or toffee flavors are optional. Balance is often decidedly bitter, although the bitterness should not completely overpower the malt flavor, esters and hop flavor. Generally no diacetyl, although very low levels are allowed.","Medium-light to medium body. Low carbonation, although bottled examples can have moderate carbonation.","More evident malt flavor than in an ordinary bitter, this is a stronger, session-strength ale. ","See comments in category introduction.","Pale ale, amber, and/or crystal malts. May use a touch of dark malt for color adjustment. May use sugar adjuncts, corn or wheat. English finishing hops are most traditional, but any hops are fair game; if American hops are used, a light touch is required. Characterful British yeast.","More alcohol than an ordinary bitter, and often using higher-quality ingredients. Less alcohol than a strong bitter. More caramel or base malt character and color than a British Golden Ale. Emphasis is on the bittering hop addition as opposed to the aggressive middle and late hopping seen in American ales.","Adnams SSB, Coniston Bluebird Bitter, Fuller's London Pride, Harvey’s Sussex Best Bitter, Shepherd Neame Master Brew Kentish Ale, Timothy Taylor Landlord,  Young’s Special",null,"Une bière conviviale, savoureuse et rafraîchissante. Certains exemples peuvent être un peu plus maltés mais sans surpasser l'impression d'amertume générale. La facilité à boire est une composante clef de ce style. ","Des arômes faibles à modérés de malts avec souvent (mais pas toujours) de faibles à moyennement faibles notes de caramel, mais celles de pain, biscuit ou légèrement de malts légèrement grillés sont les plus habituelles avec un côté fruité léger à modéré. Les arômes de houblons peuvent varier de modérés à nuls, avec généralement des notes florales, terreuses, résineuses et/ou fruitées. Le diacétyle est normalement absent même si de faibles quantités sont tolérables. ","De couleur ambre clair à cuivre moyen, d'une limpidité bonne à brillante, elle a une mousse faible à modérée blanche à blanc-cassé parfois plus faible encore du fait de la faible carbonatation. ","L'amertume est moyenne à forte et les esters fruités généralement faibles à modérément élevés. Les saveurs de houblons modérées à faibles sont le plus souvent terreuses, résineuses, fruitées et/ou florales. Les notes maltées sont faibles à moyennes avec une fin de bouche sèche et rappellent habituellement le pain, le biscuit ou le malt légèrement grillé. Elles ont parfois également des notes de caramel et toffee mais qui n'ont rien d'obligatoire. L'équilibre penche souvent clairement du côté amer mais sans pour autant écraser les saveurs de malts, houblons et esters. Le diacétyle est généralement absent mais de très faibles quantités sont tolérables. ","Le corps est moyennement léger à moyen et la carbonatation faible même si elle peut être parfois un peu plus soutenue en bouteilles ou canettes. ","Avec des saveurs maltées plus évidentes que dans une Bitter ordinaire, il s'agit cette fois d'une bière de pub plus soutenue. ","Pour l'histoire des Bitters > voir le texte d'introduction de cette catégorie ","Surtout composé de malt pale, ambré et/ou crystal avec parfois une touche de malt black pour ajuster la couleur, aussi des sucres complémentaires, maïs ou blé. Les houblons anglais sont bien sûr plus traditionnels mais n'importe quel houblon peut faire l'affaire ; par contre si des variétés américaines sont utilisées ce doit être uniquement de manière discrète, mesurée. Les levures utilisées sont britanniques elles aussi et typiques. ","Avec plus d'alcool qu'une Ordinary Bitter et basée sur des ingrédients de meilleure qualité, elle reste moins alcoolisée qu'une Strong Bitter. Elle est aussi plus riche en saveurs de malt de base ou caramel et en couleur qu'une Golden Ale anglaise mais l'accent est porté surtout sur les ajouts de houblons amérisants comparé aux houblonnages massifs en milieu et fin d'ébullition des Ales américaines. ","Adnams SSB, Coniston Bluebird Bitter, Fuller's London Pride, Harvey’s Sussex Best Bitter, Shepherd Neame Master Brew Kentish Ale, Timothy Taylor Landlord, Young’s Special."]
["11C - Strong Bitter",1.048,1.06,1.01,1.016,15.76,35.46,30,50,4.5999999999999996,6.2,8,18,1048,1060,1010,1016,"11C","Strong Bitter",1.5,2,{"$f":"VLOOKUP(A37,Feuil2!$A$1:$H$74,2,FALSE)","v":"50-150"},{"$f":"VLOOKUP(A37,Feuil2!$A$1:$H$74,3,FALSE)","v":"0-30"},{"$f":"VLOOKUP(A37,Feuil2!$A$1:$H$74,4,FALSE)","v":"40-120"},{"$f":"VLOOKUP(A37,Feuil2!$A$1:$H$74,5,FALSE)","v":"100-300"},{"$f":"VLOOKUP(A37,Feuil2!$A$1:$H$74,6,FALSE)","v":"50-100"},{"$f":"VLOOKUP(A37,Feuil2!$A$1:$H$74,7,FALSE)","v":"<100"},{"$f":"VLOOKUP(A37,Feuil2!$A$1:$H$74,8,FALSE)","v":"0-60 "},"11-British Bitter","Amber Ale","English Pale Ale","England",1010,"11C - Strong Bitter",1016,"An average-strength to moderately-strong British bitter ale. The balance may be fairly even between malt and hops to somewhat bitter. Drinkability is a critical component of the style. A rather broad style that allows for considerable interpretation by the brewer.","Hop aroma moderately-high to moderately-low, typically with a floral, earthy, resiny, and/or fruity character. Medium to medium-high malt aroma, optionally with a low to moderate caramel component. Medium-low to medium-high fruity esters. Generally no diacetyl, although very low levels are allowed. ","Light amber to deep copper color. Good to brilliant clarity. Low to moderate white to off-white head. A low head is acceptable when carbonation is also low.","Medium to medium-high bitterness with supporting malt flavors evident. The malt profile is typically bready, biscuity, nutty, or lightly toasty, and optionally has a moderately low to moderate caramel or toffee flavor. Hop flavor moderate to moderately high, typically with a floral, earthy, resiny, and/or fruity character. Hop bitterness and flavor should be noticeable, but should not totally dominate malt flavors. Moderately-low to high fruity esters. Optionally may have low amounts of alcohol. Medium-dry to dry finish. Generally no diacetyl, although very low levels are allowed.","Medium-light to medium-full body. Low to moderate carbonation, although bottled versions will be higher. Stronger versions may have a slight alcohol warmth but this character should not be too high.","In England today, “ESB” is a Fullers trademark, and no one thinks of it as a generic class of beer. It is a unique (but very well-known) beer that has a very strong, complex malt profile not found in other examples, often leading judges to overly penalize traditional English strong bitters. In America, ESB has been co-opted to describe a malty, bitter, reddish, standard-strength (for the US) British-type ale, and is a popular craft beer style. This may cause some judges to think of US brewpub ESBs as representative of this style. ","See comments in category introduction. Strong bitters can be seen as a higher-gravity version of best bitters (although not necessarily “more premium” since best bitters are traditionally the brewer’s finest product). British pale ales are generally considered a premium, export-strength pale, bitter beer that roughly approximates a strong bitter, although reformulated for bottling (including increasing carbonation levels). While modern British pale ale is considered a bottled bitter, historically the styles were different.","Pale ale, amber, and/or crystal malts, may use a touch of black malt for color adjustment. May use sugar adjuncts, corn or wheat. English finishing hops are most traditional, but any hops are fair game; if American hops are used, a light touch is required. Characterful British yeast. Burton versions use medium to high sulfate water, which can increase the perception of dryness and add a minerally or sulfury aroma and flavor.","More evident malt and hop flavors than in a special or best bitter, as well as more alcohol. Stronger versions may overlap somewhat with British strong ales, although strong bitters will tend to be paler and more bitter. More malt flavor (particularly caramel) and esters than an American Pale Ale, with different finishing hop character.","Bass Ale, Highland Orkney Blast, Samuel Smith’s Old Brewery Pale Ale, Shepherd Neame Bishop's Finger, Shepherd Neame Spitfire, West Berkshire Dr. Hexter’s Healer, Whitbread Pale Ale, Young’s Ram Rod",null,"Une bitter anglaise moyennement à modérément forte dont l'équilibre doit être presque parfait entre les malts et houblons ou penchant vers une amertume plus soutenue. La buvabilité est un aspect primordial de ce style finalement assez large pour permettre une libre interprétation par le brasseur. ","Des arômes de houblon modérément élevés à moyennement faibles avec habituellement des notes florales, terreuses, résineuses et/ou fruitées. Les arômes maltés sont de moyen à moyen-haut avec parfois une touche caramel faible à modérée. Les esters fruités sont de moyennement bas à modérément forts mais on ne détecte généralement aucun diacétyle, bien que de très faibles niveaux soient autorisés. ","De couleur ambrée légère à cuivrée profonde, sa limpidité est bonne à brillante. Sa mousse blanche à blanc-cassé faible à moyenne doit être en rapport avec une carbonatation généralement faible elle aussi. ","L'amertume moyenne à moyennement haute est bien soutenue par une bonne présence des malts dont les saveurs portent généralement sur le pain, le biscuit, la noisette ou le malt légèrement toasté avec éventuellement une saveur de caramel ou de toffee modérément faible à modérée. Les saveurs de houblons sont modérées à modérément élevées et classiquement floraux, terreux, résineux et/ou fruités. L'amertume et les saveurs des houblons doivent être perceptibles mais ne doivent pas complètement écraser le malt. Les esters fruités sont modérément-bas à élevés avec éventuellement une faible présence d'alcool. La note finale est sèche à moyennement sèche et on ne détecte généralement pas de présence de diacétyle, bien que de très faibles taux soient acceptables. ","Le corps moyennement faible à moyennement rond et la carbonatation faible à modérée, bien que les versions en bouteille soient plus carbonatées. Les versions plus fortes peuvent avoir une légère chaleur de l'alcool, mais cette sensation ne doit pas être trop forte. ","En Angleterre, aujourd'hui, «ESB» (Extra Strong Bitter) est une marque déposée de la brasserie Fullers et personne ne considère (plus) cela comme un style générique de bière. C'est une bière unique (même si très connue) qui a un profil malté très puissant, complexe et introuvable dans d'autres exemples, conduisant souvent les juges à juger durement les Strong Bitter anglaises traditionnelles. Aux Etats-Unis, \"ESB\" a été largement adopté pour décrire une Ale de type britannique, maltée, amère, cuivrée, de force standard (pour les Etats-Unis) et est devenu un style très populaire auprès des bières artisanales. Cela peut laisser certains juges finalement penser que les ESB des brewpubs américains sont de bons représentants du style (ce qui est bien sûr exagéré). ","Pour l'histoire des Bitters > voir le texte d'introduction de cette catégorie ","Le malt pale ale, ambré et/ou crystal est généralement utilisé avec éventuellement une touche de malt black pour ajuster la couleur, l’ajout d'autres sucres, maïs ou blé est également possible. Les houblons aromatiques anglais sont plus typiques du style même si n'importe quel houblon peut faire l'affaire mais dans le cas de houblons américains la mesure est de rigueur. La levure utilisée est typiquement anglaise, les versions dites \"Burton\" utilisent une eau moyennement à fortement riche en sulfates qui peuvent accentuer la sensation de sécheresse et ajouter une des arômes et saveurs minérales ou soufrées. ","Les saveurs de malts et de houblons sont plus présentes que dans un Special Bitter ou un Best Bitter, ainsi qu'un taux d'alcool plus conséquent. Les versions les plus fortes peuvent rejoindre les Ales fortes anglaises, bien  que les Strong Bitters aient tendance à être plus claires et plus amères. Elles ont également plus de saveurs maltées (en particulier caramel) et d'esters qu'une Pale Ale américaine, avec des notes finales de houblons différentes. ","Bass Ale, Highland Orkney Blast, Samuel Smith’s Old Brewery Pale Ale, Shepherd Neame Bishop's Finger, Shepherd Neame Spitfire, West Berkshire Dr. Hexter’s Healer, Whitbread Pale Ale, Young’s Ram Rod."]
["12A - British Golden Ale",1.038,1.0529999999999999,1.006,1.012,3.94,11.82,20,45,3.8,5,2,6,1038,1053,1006,1012,"12A","British Golden Ale",1.5,2.2999999999999998,{"$f":"VLOOKUP(A38,Feuil2!$A$1:$H$74,2,FALSE)","v":{"$error":"#N/A"}},{"$f":"VLOOKUP(A38,Feuil2!$A$1:$H$74,3,FALSE)","v":{"$error":"#N/A"}},{"$f":"VLOOKUP(A38,Feuil2!$A$1:$H$74,4,FALSE)","v":{"$error":"#N/A"}},{"$f":"VLOOKUP(A38,Feuil2!$A$1:$H$74,5,FALSE)","v":{"$error":"#N/A"}},{"$f":"VLOOKUP(A38,Feuil2!$A$1:$H$74,6,FALSE)","v":{"$error":"#N/A"}},{"$f":"VLOOKUP(A38,Feuil2!$A$1:$H$74,7,FALSE)","v":{"$error":"#N/A"}},{"$f":"VLOOKUP(A38,Feuil2!$A$1:$H$74,8,FALSE)","v":{"$error":"#N/A"}},"12-Pale Commonwealth Beer","Pale Ale","Pale Ales","England",1006,"12A - British Golden Ale",1012,"A hop-forward, average-strength to moderately-strong pale bitter. Drinkability and a refreshing quality are critical components of the style. ","Hop aroma is moderately low to moderately high, and can use any variety of hops – floral, herbal, or earthy English hops and citrusy American hops are most common. Frequently a single hop varietal will be showcased. Little to no malt aroma; no caramel. Medium-low to low fruity aroma from the hops rather than esters. Little to no diacetyl.","Straw to golden in color. Good to brilliant clarity. Low to moderate white head. A low head is acceptable when carbonation is also low.","Medium to medium-high bitterness. Hop flavor is moderate to moderately high of any hop variety, although citrus flavors are increasingly common. Medium-low to low malt character, generally bready with perhaps a little biscuity flavor. Caramel flavors are typically absent. Little to no diacetyl. Hop bitterness and flavor should be pronounced. Moderately-low to low esters. Medium-dry to dry finish. Bitterness increases with alcohol level, but is always balanced.","Light to medium body. Low to moderate carbonation on draught, although bottled commercial versions will be higher. Stronger versions may have a slight alcohol warmth, but this character should not be too high.","Well-hopped, quenching beer with an emphasis on showcasing hops. Served colder than traditional bitters, this style was originally positioned as a refreshing summer beer, but is now often brewed year-round. Although early on the beers were brewed with English hops, increasingly American citrus-flavored hops are used. Golden Ales are also called Golden Bitters, Summer Ales, or British Blonde Ales. Can be found in cask, keg, and bottle.","Modern golden ales were developed in England to take on strongly-marketed lagers. While it is difficult to identify the first, Hop Back's Summer Lightning, first brewed in 1986, is thought by many to have got the style off the ground.","Low-color pale or lager malt acting as a blank canvas for the hop character. May use sugar adjuncts, corn or wheat. English hops frequently used, although citrusy American varietals are becoming more common. Somewhat clean-fermenting British yeast.","More similar to an American Pale Ale than anything else, although it is often lower in alcohol and usually features British ingredients. Has no caramel and fewer esters compared to British bitters and pale ales. Dry as bitters but with less malt character to support the hops, giving a different balance. Often uses (and features) American hops, more so than most other modern British styles.","Crouch Vale Brewers Gold, Fuller's Discovery, Golden Hill Exmoor Gold, Hop Back Summer Lightning, Kelham Island Pale Rider, Morland Old Golden Hen, Oakham JHB",null,"Une bitter blonde, franchement houblonnée et moyennement à modérément forte en alcool, son côté rafraîchissant et facile à boire sont des composantes essentielles de ce style. ","L'arôme de houblon est modérément faible à moyennement important et peuvent provenir de tous types de variétés de houblons - les notes florale, herbeuses ou terreuses des variétés anglaises ou encore citronnées des houblons américains sont les plus courantes, mais le plus souvent une seule variété de houblon sera mise en avant. On détecte peu ou pas d'arômes maltés ni de notes de caramel mais des arômes fruités faibles à moyennement faibles provenant plutôt des houblons que des esters. Par contre, on trouve peu à pas de diacétyle. ","De couleur jaune paille à dorée elle a une bonne à brillante limpidité. Sa mousse est blanche, faible à modérée et si elle est faible cela restera acceptable si la carbonatation l'est aussi. ","D'amertume moyenne à moyennement élevée, les saveurs de houblon sont modérées à modérément importantes et peuvent provenir de tout type de variétés, bien que les saveurs citronnées soient de plus en plus fréquentes. Son côté malté moyennement bas à bas présente en général des notes de pain et parfois un peu de biscuit. Les saveurs de caramel sont la normalement absentes et le diacétyle pas ou très peu perceptible. L'amertume et les saveurs liées au houblon doivent être prononcées mais les niveaux d'esters faibles à modérément faibles. La fin de bouche est sèche à moyennement sèche, l'amertume augmente avec le taux d'alcool mais reste toujours bien équilibrée. ","Le corps est léger à moyen et la carbonatation faible à modérée en version pression, cependant, elle sera plus élevée dans les versions vendues en bouteilles. Les versions les plus fortes peuvent présenter une légère chaleur d'alcool mais celle-ci ne doit pas être trop prononcée. ","Bières de soif bien houblonnées avec un accent particulier porté sur les houblons sélectionnés [sic], elle est servie plus froide que les traditionnelles Bitters. Ce style a été présenté à l'origine comme une bière d'été rafraîchissante mais maintenant elle est la plupart du temps brassée toute l'année. Bien qu'au début ces bières étaient brassées avec des houblons anglais, les houblons américains à saveur d'agrumes sont de plus en plus utilisés. Les Golden Ales sont également appelées Golden Bitters, Summer Ales, ou British Blonde Ales, on peut les trouver en tonneaux, en fûts et en bouteilles. ","Les Golden Ales modernes ont été créées en Angleterre pour prendre des parts de marché aux Lagers occupant largement le marché. Bien qu'il soit difficile d'en identifier précisément la toute première version, la Hop Back's Summer Lightning, brassée pour la première fois en 1986, est considérée par beaucoup comme ayant donné naissance à ce style","Les malts Pale de couleur très claire ou malts Lager agissent comme une toile de fond pour les houblons avec éventuellement des compléments de sucres, maïs ou blé. Les houblons anglais sont fréquemment utilisés, bien que des variétés américaines aux notes d'agrumes soient de plus en plus communes. La levure est de fermentation haute, britannique et assez neutre. ","Plus proche d'une American Pale Ale qu'autre chose, elle est souvent plus légère en alcool et brassée normalement avec des ingrédients anglais. Elle n'a pas le côté caramel et moins d'esters que les Bitters et Pale Ale britanniques mais elle est sèche comme les Bitters avec toutefois un caractère moins malté pour soutenir les houblons ce qui lui donne un équilibre différent. Elle contient (et met en avant) bien plus de houblons américains que la plupart des autres styles britanniques modernes. ","Crouch Vale Brewers Gold, Fuller's Discovery, Golden Hill Exmoor Gold, Hop Back Summer Lightning, Kelham Island Pale Rider, Morland Old Golden Hen, Oakham JHB"]
["12B - Australian Sparkling Ale",1.038,1.05,1.004,1.006,7.88,13.79,20,35,4.5,6,4,7,1038,1050,1004,1006,"12B","Australian Sparkling Ale",1.5,2.2999999999999998,{"$f":"VLOOKUP(A39,Feuil2!$A$1:$H$74,2,FALSE)","v":{"$error":"#N/A"}},{"$f":"VLOOKUP(A39,Feuil2!$A$1:$H$74,3,FALSE)","v":{"$error":"#N/A"}},{"$f":"VLOOKUP(A39,Feuil2!$A$1:$H$74,4,FALSE)","v":{"$error":"#N/A"}},{"$f":"VLOOKUP(A39,Feuil2!$A$1:$H$74,5,FALSE)","v":{"$error":"#N/A"}},{"$f":"VLOOKUP(A39,Feuil2!$A$1:$H$74,6,FALSE)","v":{"$error":"#N/A"}},{"$f":"VLOOKUP(A39,Feuil2!$A$1:$H$74,7,FALSE)","v":{"$error":"#N/A"}},{"$f":"VLOOKUP(A39,Feuil2!$A$1:$H$74,8,FALSE)","v":{"$error":"#N/A"}},"12-Pale Commonwealth Beer","Pale Ale","Pale Ales","Australian",1004,"12B - Australian Sparkling Ale",1006,"Smooth and balanced, all components merge together with similar intensities. Moderate flavors showcasing Australian ingredients. Large flavor dimension. Very drinkable, suited to a hot climate. Relies on yeast character.","Fairly soft, clean aroma with a balanced mix of esters, hops, malt, and yeast – all moderate to low in intensity. The esters are frequently pears and apples, possibly with a very light touch of banana (optional). The hops are earthy, herbaceous, or might show the characteristic iron-like Pride of Ringwood nose. The malt can range from neutral grainy to moderately sweet to lightly bready; no caramel should be evident. Very fresh examples can have a lightly yeasty, sulfury nose.","Deep yellow to light amber in color, often medium gold. Tall, frothy, persistent white head with tiny bubbles. Noticeable effervescence due to high carbonation. Brilliant clarity if decanted, but typically poured with yeast to have a cloudy appearance. Not typically cloudy unless yeast roused during the pour.","Medium to low rounded, grainy to bready malt flavor, initially mild to malty-sweet but a medium to medium-high bitterness rises mid-palate to balance the malt. Caramel flavors typically absent. Highly attenuated, giving a dry finish with lingering bitterness, although the body gives an impression of fullness. Medium to medium-high hop flavor, somewhat earthy and possibly herbal, resinous, peppery, or iron-like but not floral, lasting into aftertaste. Medium-high to medium-low esters, often pears and apples. Banana is optional, but should never dominate. May be lightly minerally or sulfury, especially if yeast is present. Should not be bland.","High to very high carbonation, giving mouth-filling bubbles and a crisp, spritzy carbonic bite. Medium to medium-full body, tending to the higher side if poured with yeast. Smooth but gassy. Stronger versions may have a light alcohol warmth, but lower alcohol versions will not. Very well-attenuated; should not have any residual sweetness.","Coopers has been making their flagship Sparkling Ale since 1862, although the formulation has changed over the years. Presently the beer will have brilliant clarity if decanted, but publicans often pour most of the beer into a glass then swirl the bottle and dump in all the yeast. In some bars, the bottle is rolled along the bar! When served on draught, the brewery instructs publicans to invert the keg to rouse the yeast. A cloudy appearance for the style seems to be a modern consumer preference. Always naturally carbonated, even in the keg. A present-use ale, best enjoyed fresh.","Brewing records show that the majority of Australian beer brewed in the 19th century was draught XXX (Mild) and porter. Ale in bottle was originally developed to compete with imported bottled pale ales from British breweries, such as Bass and Wm Younger’ Monk. By the early 20th century, bottled pale ale went out of fashion and “lighter” lager beers were in vogue. Many Australian Sparkling and Pale Ales were labeled as ales, but were actually bottom-fermented lagers with very similar grists to the ales that they replaced. Coopers of Adelaide, South Australia is the only surviving brewer producing the Sparkling Ale style.","Lightly kilned Australian 2-row pale malt, lager varieties may be used. Small amounts of crystal malt for color adjustment only. Modern examples use no adjuncts, cane sugar for priming only. Historical examples using 45% 2 row, 30% higher protein malt (6 row) would use around 25% sugar to dilute the nitrogen content. Traditionally used Australian hops, Cluster, and Goldings until replaced from mid-1960s by Pride of Ringwood. Highly attenuative Burton-type yeast (Australian-type strain typical). Variable water profile, typically with low carbonate and moderate sulfate.","Superficially similar to English Pale Ales, although much more highly carbonated, with less caramel, less late hops, and showcasing the signature yeast strain and hop variety. More bitter than IBUs might suggest due to high attenuation, low final gravity, and somewhat coarse hops. ","Coopers Original Pale Ale, Coopers Sparkling Ale",null,"Douce et équilibrée, toutes ses composantes s'assemblent dans des intensités équivalentes. Les saveurs modérées sont amenées par les ingrédients australiens. Facile à boire, adaptée aux climats chauds et influencée par les caractéristiques de sa levure. ","Les arômes assez doux et neutres avec un équilibre d'esters, de houblons, de malts et de levure sont tous modérés à faibles. Les esters rappellent souvent la poire et la pomme, parfois une très légère touche de banane. Les houblons sont terreux, herbacés ou présenter le nez un peu ferreux du houblon Pride of Ringwood. Le malt peut varier de neutre à modérément doux jusqu'à rappeler légèrement le pain mais aucun caramel ne doit être perçu. Les plus jeunes peuvent avoir des arômes de levure légèrement soufrés. ","De couleur jaune profond à ambre clair, souvent moyennement dorée, sa mousse est blanche, épaisse, mousseuse et persistante avec de fines bulles. Son effervescence est importante du fait de sa forte carbonatation, sa limpidité brillante si elle est décantée, mais généralement versée avec la levure pour garder un aspect trouble, sinon elle est généralement plus claire.","Les saveurs de malt sont moyennement à faiblement rondes, évoquant les céréales/le pain, d'abord douces à maltées-sucrées, mais une amertume moyenne à moyennement élevée apparaît en milieu de bouche pour équilibrer le malt. Les saveurs caramel sont habituellement absentes. Elle est très atténuée, ayant une finale sèche avec une amertume persistante, bien que le corps donne une impression de plénitude en bouche. Les saveurs de houblon sont moyennes à moyennement élevées, longues en bouche, un peu terreuses et éventuellement herbeuses, résineuses, poivrées ou ferreuses, jamais florales. Les esters moyennement élevés à moyennement faibles rappellent souvent poires et pommes, les saveurs de banane sont acceptables sans devenir dominantes. Elle peut être légèrement minérale ou soufrée, surtout si la levure est présente, c'est une bière qui ne doit pas être fade. ","La carbonatation est importante à très importante avec des bulles remplissant la bouche avec un coté piquant, pétillant, carbo-nique du Spritz. Son corps moyen à moyennement rond, renforcé si la levure est mélangée au service. Elle est douce mais gazeuse ; les versions les plus fortes peuvent avoir une légère chaleur d'alcool. Très bien atténuée; on ne doit déceler aucun sucre résiduel. ","La brasserie Coopers fabrique sa bière phare : la Sparkling Ale depuis 1862 même si la recette a changé au fil des ans. A l'heure actuelle, la bière aura une limpidité éclatante si elle est décantée, mais les serveurs versent le plus souvent la quasi-totalité de la bière dans un verre puis agitent la bouteille pour verser ensuite toute la levure ainsi remise en suspension [ndt: comme la coutume Allemande le fait avec les Weissbier]. Dans certains bars, la bouteille est même roulée sur le bar et quand elles sont servies à la pression, le serveur renverse le fût pour soulever la levure. Un aspect trouble pour ce style semble être avoir la préférence du consommateur moderne. Toujours carbonatée naturellement, même en fût, c'est une bière à consommer jeune et fraîche. ","Des archives de brasseries montrent que la majorité des bières australiennes brassées au 19ème siècle étaient des XXX (Mild) et Porters servis à la pression. Les bières en bouteille ont été initialement créées pour répondre à la concurrence des Pale Ales importées en bouteille des brasseries britanniques, telles que Bass et Wm Younger’ Monk. Au début du 20ème siècle, les Pale Ale en bouteilles sont passées de mode et les lagers plus légères ont commencé à les remplacer. Beaucoup d’Australian'Sparkling et de Pale Ales étaient étiquetées comme Ales mais étaient en fait des Lagers avec une carte de malts très similaire aux Ales qu'elles ont remplacées. La brasserie Coopers en Australie Sud [serait] la dernière brasserie encore en vie à produire le style des Sparkling Ale. ","Composé de malt Pale 2 rangs australien légèrement touraillé, des variétés de type Pilsner peuvent être utilisées. Des quantités faibles de Crystal sont possibles pour ajuster la couleur. Les versions modernes n'utilisent aucun complément : seulement du sucre de canne pour la refermentation en bouteille/fûts. Les exemples historiques utiliseraient 45% de 2 rangs, 30% de malts plus riches en protéines (6 rangs) et 25% des sucres pour diluer la teneur en azote. L'utilisation traditionnelle de houblons australiens inclus Cluster et Golding a été remplacée, à partir du milieu des années 1960, par le Pride of Ringwood. La levure Burton (souche austra-lienne typique) a une forte atténuation. Le profil d'eau est variable, généralement à faible en carbonates et modérée en sulfates. ","Elles sont assez similaires en apparence aux Pale Ales anglaises bien que beaucoup plus carbonatées, avec moins de caramel, moins de houblons aromatiques et une signature caractéristique de la souche de levure et de la variété de houblon. Elle est plus amère que le niveau d'IBUs pourrait le suggérer en raison de sa forte atténuation, sa faible DF et des houblons relativement moins raffinés. ","Coopers Original Pale Ale, Coopers Sparkling Ale"]
["12C - English IPA",1.05,1.075,1.01,1.018,11.82,27.58,40,60,5,7.5,6,14,1050,1075,1010,1018,"12C","English IPA",1.5,2.2999999999999998,{"$f":"VLOOKUP(A40,Feuil2!$A$1:$H$74,2,FALSE)","v":"50-150"},{"$f":"VLOOKUP(A40,Feuil2!$A$1:$H$74,3,FALSE)","v":"0-30"},{"$f":"VLOOKUP(A40,Feuil2!$A$1:$H$74,4,FALSE)","v":"40-120"},{"$f":"VLOOKUP(A40,Feuil2!$A$1:$H$74,5,FALSE)","v":"100-300"},{"$f":"VLOOKUP(A40,Feuil2!$A$1:$H$74,6,FALSE)","v":"50-100"},{"$f":"VLOOKUP(A40,Feuil2!$A$1:$H$74,7,FALSE)","v":"<100"},{"$f":"VLOOKUP(A40,Feuil2!$A$1:$H$74,8,FALSE)","v":"0-60 "},"12-Pale Commonwealth Beer","IPA","English Pale Ale","England",1010,"12C - English IPA",1018,"A hoppy, moderately-strong, very well-attenuated pale British ale with a dry finish and a hoppy aroma and flavor. Classic British ingredients provide the best flavor profile. ","A moderate to moderately-high hop aroma of floral, spicy-peppery or citrus-orange in nature is typical. A slightly grassy dry-hop aroma is acceptable, but not required. A moderately-low caramel-like or toasty malt presence is optional. Low to moderate fruitiness is acceptable. Some versions may have a sulfury note, although this character is not mandatory.","Color ranges from golden to deep amber, but most are fairly pale. Should be clear, although unfiltered dry-hopped versions may be a bit hazy. Moderate-sized, persistent head stand with off-white color.","Hop flavor is medium to high, with a moderate to assertive hop bitterness. The hop flavor should be similar to the aroma (floral, spicy-peppery, citrus-orange, and/or slightly grassy). Malt flavor should be medium-low to medium, and be somewhat bready, optionally with light to medium-light biscuit-like, toasty, toffee-like and/or caramelly aspects. Medium-low to medium fruitiness. Finish is medium-dry to very dry, and the bitterness may linger into the aftertaste but should not be harsh. The balance is toward the hops, but the malt should still be noticeable in support. If high sulfate water is used, a distinctively minerally, dry finish, some sulfur flavor, and a lingering bitterness are usually present. Some clean alcohol flavor can be noted in stronger versions. Oak is inappropriate in this style.","Smooth, medium-light to medium-bodied mouthfeel without hop-derived astringency, although moderate to medium-high carbonation can combine to render an overall dry sensation despite a supportive malt presence. A low, smooth alcohol warming can and should be sensed in stronger (but not all) versions.","The attributes of IPA that were important to its arrival in good condition in India were that it was very well-attenuated, and heavily hopped. Simply because this is how IPA was shipped, doesn’t mean that other beers such as Porter weren’t also sent to India, that IPA was invented to be sent to India, that IPA was more heavily hopped than other keeping beers, or that the alcohol level was unusual for the time. Many modern examples labeled IPA are quite weak in strength. According to CAMRA, “so-called IPAs with strengths of around 3.5% are not true to style.” English beer historian Martyn Cornell has commented that beers like this are “not really distinguishable from an ordinary bitter.” So we choose to agree with these sources for our guidelines rather than what some modern British breweries are calling an IPA; just be aware of these two main types of IPAs in the British market today.","Accounts of its origins vary, but most agree that what became later known as IPA was pale ale prepared for shipment to India in the late 1700s and early 1800s. George Hodgson of the Bow Brewery became well-known as an exporter of IPA during the early 1800s, and is the first name frequently mentioned with its popularity. As with all English beers with a long history, the popularity and formulation of the product changed over time. Burton breweries with their high-sulfate water were able to successfully brew IPA and began their domination of this market by the 1830s, around the time the name India Pale Ale was first used. Strength and popularity declined over time, and the style virtually disappeared in the second half of the 20th century. The name was often used to describe pale ales and bitters, not anything special (a trend that continues in some modern British examples). The style underwent a craft beer rediscovery in the 1980s, and is what is described in these guidelines. Modern examples are inspired by classic versions, but shouldn’t be assumed to have an unbroken lineage with the exact same profile. White Shield is probably the example with the longest lineage, tracing to the strong Burton IPAs of old and first brewed in 1829.","Pale ale malt. English hops are traditional, particularly as finishing hops. Attenuative British ale yeast. Refined sugar may be used in some versions. Some versions may show a sulfate character from Burton-type water, but this is not essential to the style.","Generally will have more finish hops and less fruitiness and/or caramel than British pale ales and bitters. Has less hop intensity and a more pronounced malt flavor than typical American versions.","Freeminer Trafalgar IPA, Fuller's Bengal Lancer IPA, Meantime India Pale Ale, Ridgeway IPA, Summit True Brit IPA, Thornbridge Jaipur, Worthington White Shield",null,"Une bière blonde anglaise houblonnée et modérément forte, très bien atténuée avec des arômes et saveurs portés sur les houblons et une fin de bouche sèche. Les ingrédients classiques britanniques présentent le meilleur profil des possibles saveurs. ","La couleur varie du doré au ambré foncé, mais la plupart sont plutôt claires. Elle doit être limpide, bien que les versions houblonnées à cru et non filtrées puissent être un peu troubles. La mousse est moyenne, persistante et de couleur blanc-cassé. ","La couleur varie du doré au ambré foncé, mais la plupart sont plutôt claires. Elle doit être limpide, bien que les versions houblonnées à cru et non filtrées puissent être un peu troubles. La mousse est moyenne, persistante et de couleur blanc-cassé. ","La couleur varie du doré au ambré foncé, mais la plupart sont plutôt claires. Elle doit être limpide, bien que les versions houblonnées à cru et non filtrées puissent être un peu troubles. La mousse est moyenne, persistante et de couleur blanc-cassé. ","Lisse, son corps est moyennement léger à moyennement corsé et sans l'astringence parfois apportée par les houblons, bien qu'une carbonatation modérée à moyennement élevée puisse se combiner pour apporter une sensation globale plutôt sèche malgré la présence de malts assez soutenue. Une chaleur d'alcool faible et douce peut et doit être ressentie dans les versions plus fortes. ","Les qualités indispensables des IPA pour qu'elles arrivent en bon état en Inde étaient qu'elles soient très atténuées et fortement houblonnées. Le fait que les IPA étaient expédiées ainsi ne signifie pas que d'autres bières telles que les Porters n'ont pas été elles aussi envoyées en Inde, ni que les IPA ont été inventées pour ça, ni que les IPA étaient plus houblonnées que d'autres bières de garde ou que le taux d'alcool était inhabituel pour l'époque. De nombreux exemples modernes marquées IPA sont même assez faibles en alcool. Selon la CAMRA : \"Les soi-disant IPAs avec des degrés d'alcool de l'ordre de 3,5% ne sont absolument pas fidèles au style\". L'historien de la bière anglaise M.Cornell a également fait remarquer que les bières de ce style ne sont en fait \"pas si dif-férentes d'une Ordinary Bitter.\" Nous avons donc choisi de suivre cette approche pour ce guide plutôt que ce que certaines bras-series UK modernes appellent aujourd'hui IPA. Malgré tout, ces deux principaux types d'IPA existent sur le marché UK aujourd'hui. ","Les explications de ses origines varient, mais il est généralement admis que ce qui est devenu plus tard connu comme IPA était en fait une Pale Ale préparée pour l'expédition en Inde à la fin 1700 et début 1800. G.Hodgson de la brasserie Bow Brewery est devenu exportateur reconnu d'IPA au début des années 1800 et est le premier nom régulièrement mentionné. Comme avec toutes les bières anglaises ayant une longue histoire, la popularité et les recettes du produit ont changé au fil du temps. La Brasserie Burton, avec leur eau très sulfatée, ont pu brasser une IPA prestigieuse et ont commencé à dominer le marché dans les années 1830, au  moment où le nom IPA était utilisé pour la première fois. Sa teneur en alcool et sa popularité ont ensuite diminué avec le temps et le style a pratiquement disparu dans la seconde moitié du 20e siècle. Le nom était alors souvent utilisé pour décrire des Pale Ale ou Bitter n'ayant rien de particulier (une tendance qui se poursuit dans certains exemples britanniques modernes). Le style redécouvert par les brasseries artisanales dans les années 1980 est celui décrit dans ce guide. Des exemples modernes sont inspirés des versions classiques mais ne doivent pas être considérés forcément comme étant dans la ligne exacte de ces profils historiques. White Shield est probablement l'exemple avec la plus longue longévité, les premières Burton IPAs fortes sont brassées dès 1829. ","Brassée sur base de malt Pale Ale, de houblons anglais traditionnels, notamment en houblon aromatique et avec une levure de type British Ale bien atténuante, du sucre raffiné peut aussi être utilisé dans certaines versions. Certains exemples peuvent avoir un profil de sulfates typique de l'eau de Burton mais ce n'est pas non plus indispensable pour ce style. ","Généralement plus de houblons aromatiques, moins de fruité et/ou de caramel que les Pale Ales et les Bitter britanniques, elle est également moins intense en houblons tout en gardant une saveur de malt plus prononcée que les versions américaines. ","FreeminerTrafalgar IPA, Fuller's Bengal Lancer IPA, Meantime India Pale Ale, Ridgeway IPA, Summit True Brit IPA, Thornbridge Jaipur, Worthington White Shield"]
["13A - Dark Mild",1.03,1.038,1.008,1.0129999999999999,23.64,49.25,10,25,3,3.8,12,25,1030,1038,1008,1013,"13A","Dark Mild",1.5,2,{"$f":"VLOOKUP(A41,Feuil2!$A$1:$H$74,2,FALSE)","v":"50-150"},{"$f":"VLOOKUP(A41,Feuil2!$A$1:$H$74,3,FALSE)","v":"0-30"},{"$f":"VLOOKUP(A41,Feuil2!$A$1:$H$74,4,FALSE)","v":"40-120"},{"$f":"VLOOKUP(A41,Feuil2!$A$1:$H$74,5,FALSE)","v":"100-200"},{"$f":"VLOOKUP(A41,Feuil2!$A$1:$H$74,6,FALSE)","v":"50-100"},{"$f":"VLOOKUP(A41,Feuil2!$A$1:$H$74,7,FALSE)","v":"<100"},{"$f":"VLOOKUP(A41,Feuil2!$A$1:$H$74,8,FALSE)","v":"0-60 "},"13-Brown British Beer","Brown Ale","English Mild","England",1008,"13A - Dark Mild",1013,"A dark, low-gravity, malt-focused British session ale readily suited to drinking in quantity. Refreshing, yet flavorful, with a wide range of dark malt or dark sugar expression.","Low to moderate malt aroma, and may have some fruitiness. The malt expression can take on a wide range of character, which can include caramel, toffee, grainy, toasted, nutty, chocolate, or lightly roasted. Little to no hop aroma, earthy or floral if present. Very low to no diacetyl.","Copper to dark brown or mahogany color. A few paler examples (medium amber to light brown) exist. Generally clear, although is traditionally unfiltered. Low to moderate off-white to tan head; retention may be poor.","Generally a malty beer, although may have a very wide range of malt- and yeast-based flavors (e.g., malty, sweet, caramel, toffee, toast, nutty, chocolate, coffee, roast, fruit, licorice, plum, raisin). Can finish sweet to dry. Versions with darker malts may have a dry, roasted finish. Low to moderate bitterness, enough to provide some balance but not enough to overpower the malt. Fruity esters moderate to none. Diacetyl and hop flavor low to none.","Light to medium body. Generally low to medium-low carbonation. Roast-based versions may have a light astringency. Sweeter versions may seem to have a rather full mouthfeel for the gravity.","Most are low-gravity session beers around 3.2%, although some versions may be made in the stronger (4%+) range for export, festivals, seasonal and/or special occasions. Generally served on cask; session-strength bottled versions don’t often travel well. A wide range of interpretations are possible. Pale versions exist, but these are even more rare than dark milds; these guidelines only describe the modern dark version.","Historically, ‘mild’ was simply an unaged beer, and could be used as an adjective to distinguish between aged or more highly hopped keeping beers. Modern milds trace their roots to the weaker X-type ales of the 1800s, although dark milds did not appear until the 20th century. In current usage, the term implies a lower-strength beer with less hop bitterness than bitters. The guidelines describe the modern British version. The term ‘mild’ is currently somewhat out of favor with consumers, and many breweries no longer use it. Increasingly rare. There is no historic connection or relationship between Mild and Porter.","Style Comparison: Some versions may seem like lower-gravity modern English porters. Much less sweet than London Brown Ale.","Characteristic Ingredients: Pale British base malts (often fairly dextrinous), crystal malt, dark malts or dark sugar adjuncts, may also include adjuncts such as flaked maize, and may be colored with brewer’s caramel. Characterful British ale yeast. Any type of hops, since their character is muted and rarely is noticeable.","Banks's Mild, Cain's Dark Mild, Highgate Dark Mild, Brain’s Dark, Moorhouse Black Cat, Rudgate Ruby Mild, Theakston Traditional Mild",null,"Une Ale Britannique légère, foncée, tournée vers le malt, particulièrement adaptée aux soirées bien arrosées avec son côté rafraîchissant mais riche en arômes avec des notes variées de sucres ou malts foncés. ","Ses arômes maltés faibles à modérés peuvent présenter des notes fruitées. L'expression des malts peut égrener une large gamme de notes différentes comme le caramel, le toffee, les céréales, le pain grillé, les noix, le chocolat ou les grains légèrement torréfiés. Les arômes de houblon sont faibles à absents, terreux ou floraux et on peut parfois percevoir une très faible présence de diacétyle… ou pas du tout. ","Sa couleur est cuivrée à marron foncé ou acajou mais quelques exemples plus clairs existent, ambrés moyen à marron clair. En général elle est limpide même si elle peut être traditionnellement non filtrée. Sa mousse est faible à modérée, légèrement teintée à blanc cassée et sa persistance peut-être faible. ","Il s'agit généralement d'une bière maltée, cependant elle peut présenter une large palette de saveurs de malt et de fermentation : maltée, sucrée, caramel, toffee, toasté, noix, chocolat, café, torréfié, fruité, réglisse, prune, raisin... Elle est sucrée à sèche en fin de bouche et certaines versions brassées avec des malts plus foncés peuvent avoir une fin de bouche sèche et torréfiée. Son amertume est faible à modérée, assez pour permettre un certain équilibre mais pas au point de dominer le malt. Elle a peu ou pas d'esters fruités et les saveurs de diacétyle et de houblons sont faibles voire absentes. ","De corps léger à moyen, sa carbonatation est généralement faible à moyennement faible. Des versions plus torréfiées peuvent présenter une légère astringence et des versions plus sucrées peuvent sembler avoir beaucoup de corps au regard de leur densité. ","Ce sont en général des bières légères, autour de 3,2% du volume en alcool, cependant des versions plus fortes (4%) peuvent être brassées pour l'export, de manière saisonnière et/ou pour des occasions spéciales, des festivals par exemple. Généralement servie au tonneau (cask), les versions les plus fortes ne voyagent pas toujours bien en bouteille. Une large gamme d'interprétations différentes reste possible : des versions plus claires existent, mais celles-ci sont encore plus rares que les foncées. Cette fiche de style ne décrit que les versions foncées modernes. ","Historiquement, une \"mild\" (légère) était simplement une bière servie jeune et l'adjectif pouvait être utilisé pour les distinguer des bières plus houblonnées ou conservées plus longtemps en garde. Les racines des milds modernes remontent aux ales lambda dans les années 1800, bien que les milds foncées ne soient pas arrivées avant le 20ème siècle. Dans son usage courant, le terme mild est utilisé pour décrire des bières plus légères en alcool, moins amère que les Bitters. Ce guide décrit la version britannique moderne et le terme \"mild\" n'est, d'une certaine façon, plus si apprécié des consommateurs et de nombreuses brasseries ne l'utilisent finalement plus. C'est un style qui est donc de plus en plus rare. Attention : il n'existe aucun lien historique ni de relation entre Mild et Porter. ","Sur une base de malt Pale britannique (souvent relativement riche en dextrines), de malt crystal, de malts ou de sucres foncés, elle peut également inclure des compléments comme des flocons de maïs et peut être teintée avec du caramel. La levure est bien typée britannique et peu importe les variétés de houblon utilisées car leur présence passe le plus souvent inaperçue. ","Certaines versions peuvent passer pour des Porters anglais en version plus légère, elles sont cependant moins sucrées que les London Brown Ales. ","Banks's Mild, Cain's Dark Mild, Highgate Dark Mild, Brain’s Dark, Moorhouse Black Cat, Rudgate Ruby Mild, Theakston Traditional Mild "]
["13B - British Brown Ale",1.04,1.052,1.008,1.0129999999999999,23.64,43.339999999999996,20,30,4.2,5.4,12,22,1040,1052,1008,1013,"13B","British Brown Ale",1.5,2,{"$f":"VLOOKUP(A42,Feuil2!$A$1:$H$74,2,FALSE)","v":"50-75"},{"$f":"VLOOKUP(A42,Feuil2!$A$1:$H$74,3,FALSE)","v":"0-30"},{"$f":"VLOOKUP(A42,Feuil2!$A$1:$H$74,4,FALSE)","v":"80-150"},{"$f":"VLOOKUP(A42,Feuil2!$A$1:$H$74,5,FALSE)","v":"50-150"},{"$f":"VLOOKUP(A42,Feuil2!$A$1:$H$74,6,FALSE)","v":"50-100"},{"$f":"VLOOKUP(A42,Feuil2!$A$1:$H$74,7,FALSE)","v":"<100"},{"$f":"VLOOKUP(A42,Feuil2!$A$1:$H$74,8,FALSE)","v":"30-90"},"13-Brown British Beer","Brown Ale",null,"England",1008,"13B - British Brown Ale",1013,"A malty, brown caramel-centric British ale without the roasted flavors of a Porter. ","Light, sweet malt aroma with toffee, nutty, or light chocolate notes, and a light to heavy caramel quality. A light but appealing floral or earthy hop aroma may also be noticed. A light fruity aroma may be evident, but should not dominate. ","Dark amber to dark reddish-brown color. Clear. Low to moderate off-white to light tan head.","Gentle to moderate malt sweetness, with a light to heavy caramel character and a medium to dry finish. Malt may also have a nutty, toasted, biscuity, toffee, or light chocolate character. Medium to medium-low bitterness. Malt-hop balance ranges from even to malt-focused; hop flavor low to none (floral or earthy qualities). Low to moderate fruity esters can be present.","Medium-light to medium body. Medium to medium-high carbonation.","A wide-ranging category with different interpretations possible, ranging from lighter-colored to hoppy to deeper, darker, and caramel-focused; however, none of the versions have strongly roasted flavors. A stronger Double Brown Ale was more popular in the past, but is very hard to find now. While London Brown Ales are marketed using the name Brown Ale, we list those as a different judging style due to the significant difference in balance (especially sweetness) and alcohol strength; that doesn’t mean that they aren’t in the same family, though.","Brown ale has a long history in Great Britain, although several different types of products used that name at various times. Modern brown ale is a 20th century creation as a bottled product; it is not the same as historical products of the same name. A wide range of gravities were brewed, but modern brown ales are generally of the stronger (by current UK standards) interpretation. This style is based on the modern stronger British brown ales, not historical versions or the sweeter London Brown Ale. Predominately but not exclusively a bottled product currently.","British mild ale or pale ale malt base with caramel malts. May also have small amounts darker malts (e.g., chocolate) to provide color and the nutty character. English hop varieties are most authentic. ","More malty balance than British Bitters, with more malt flavors from darker grains. Stronger than a Dark Mild. Less roast than an English Porter. Stronger and much less sweet than London Brown Ale.","Maxim Double Maxim, Newcastle Brown Ale, Riggwelter Yorkshire Ale, Samuel Smith’s Nut Brown Ale, Wychwood Hobgoblin",null,"Une ale brune Britannique maltée, centrée sur le caramel et sans les arômes torréfiés d'un Porter. ","Les arômes légers et sucrés de malt avec des notes de toffee, de noix ou de chocolat léger se combinent au caramel plus ou moins prononcé. Des arômes intéressants de houblons floraux ou terreux peuvent aussi être présents. De légers arômes fruités peuvent également être perçus mais ne doivent pas prendre le dessus. ","Sa couleur est ambrée foncée à marron-rougeâtre foncé. Elle est limpide et sa mousse de couleur blanc cassé à légèrement teintée est peu à moyennement importante. ","Les saveurs sucrées venant du malt sont faibles à modérées et accompagnées de notes de caramel plus ou moins prononcées avec une fin de bouche moyenne à sèche. Les malts peuvent également présenter des saveurs de noix, de toast, de biscuit, de toffee ou de chocolat léger. L'amertume est moyenne à moyennement basse et la balance entre malt et houblon peut aller d'équilibrée à plutôt maltée. Les saveurs de houblon sont faibles à absentes et issues de variétés florales ou terreuses. Des esters fruités peuvent être présents, de faibles à modérés. ","Le corps est moyen à moyen-léger et la carbonatation moyenne à moyennement élevée. ","Un style relativement large avec de nombreuses interprétations possibles en partant de bières plus claires jusqu'à des versions houblonnées plus foncées, plus intenses et orientées vers des arômes de caramel ; quoiqu'il en soit, aucune de ces bières ne présente de saveurs torréfiées trop marquées. Les \"Double Brown Ale\" plus fortes étaient plus populaires dans le passé, mais sont devenues très difficiles à trouver aujourd'hui. Même si les London Brown Ales affichent le nom Brown Ale, nous avons préféré les présenter sous un autre style du fait de l'importante différence en terme d'équilibre (surtout leur côté sucré) et de degré d'alcool ; cependant, cela ne veut pas dire pour autant qu'elles n'appartiennent pas à la même famille. ","Les Ales Brunes Anglaises (ou Brown Ale) possèdent une longue histoire en Grande Bretagne, cependant ce nom a été utilisé pour décrire des produits différents selon les époques. La Brown Ale moderne en bouteille est une création du vingtième siècle et diffère du produit historique du même nom. Une large gamme de densités différentes étaient brassées dans ce style, mais les versions récentes sont généralement inspirées des plus fortes (selon les standards britanniques actuels). Ce style est basé sur ces versions modernes plus fortes, et non sur les versions historiques ou les Ales Brunes Londoniennes (London Brown Ale) plus douces. Elles sont en grande majorité conditionnées en bouteilles, mais pas uniquement. ","Sur une base de malt britannique Pale Ale ou Mild Ale et de malts caramel, elle peut également contenir de petites quantités de malts plus foncés (chocolat...) pour apporter couleur et arômes de noix. Les houblons anglais donneront un côté plus authentique. ","Elle est plus tournée vers le malt que les Bitters Anglaises, et avec davantage d'arômes issus des grains foncés, plus forte aussi qu'une Dark Mild, mais moins torréfiée qu'un Porter Anglais et plus forte et beaucoup moins sucrée qu'une London Brown Ale. ","Maxim Double Maxim, Newcastle Brown Ale, Riggwelter Yorkshire Ale, Samuel Smith’s Nut Brown Ale, Wychwood Hobgoblin "]
["13C - English Porter",1.04,1.052,1.008,1.014,39.4,59.1,18,35,4,5.4,20,30,1040,1052,1008,1014,"13C","English Porter",1.7,2.2999999999999998,{"$f":"VLOOKUP(A43,Feuil2!$A$1:$H$74,2,FALSE)","v":"50-75"},{"$f":"VLOOKUP(A43,Feuil2!$A$1:$H$74,3,FALSE)","v":"0-30"},{"$f":"VLOOKUP(A43,Feuil2!$A$1:$H$74,4,FALSE)","v":"80-150"},{"$f":"VLOOKUP(A43,Feuil2!$A$1:$H$74,5,FALSE)","v":"50-150"},{"$f":"VLOOKUP(A43,Feuil2!$A$1:$H$74,6,FALSE)","v":"50-100"},{"$f":"VLOOKUP(A43,Feuil2!$A$1:$H$74,7,FALSE)","v":"<100"},{"$f":"VLOOKUP(A43,Feuil2!$A$1:$H$74,8,FALSE)","v":"30-90"},"13-Brown British Beer","Porter","Porter","England",1008,"13C - English Porter",1014,"A moderate-strength brown beer with a restrained roasty character and bitterness. May have a range of roasted flavors, generally without burnt qualities, and often has a chocolate-caramel-malty profile.","Moderate to moderately low bready, biscuity, and toasty malt aroma with mild roastiness, and may have a chocolate quality. May also show some non-roasted malt character in support (caramelly, nutty, toffee-like and/or sweet). May have up to a moderate level of floral or earthy hops. Fruity esters moderate to none. Diacetyl low to none.","Light brown to dark brown in color, often with ruby highlights when held up to light. Good clarity, although may approach being opaque. Moderate off-white to light tan head with good to fair retention.","Moderate bready, biscuity, and toasty malt flavor includes a mild to moderate roastiness (frequently with a chocolate character) and often a significant caramel, nutty, and/or toffee character. May have other secondary flavors such as coffee, licorice, biscuits or toast in support. Should not have a significant burnt or harsh roasted flavor, although small amounts may contribute a bitter chocolate complexity. Earthy or floral hop flavor moderate to none. Medium-low to medium hop bitterness will vary the balance from slightly malty to slightly bitter. Usually fairly well-attenuated, although can be somewhat sweet. Diacetyl moderately-low to none. Moderate to low fruity esters.","Medium-light to medium body. Moderately-low to moderately-high carbonation. Light to moderate creamy texture.","This style description describes the modern version of English porter, not every possible variation over time in every region where it existed. Historical re-creations should be entered in the Historical style category, with an appropriate description describing the profile of the beer. Modern craft examples in the UK are bigger and hoppier.","Originating in London around 300 years ago, porter evolved from earlier sweet, Brown Beer popular at the time. Evolved many times with various technological and ingredient developments and consumer preferences driving these changes. Became a highly-popular, widely-exported style in the 1800s before declining around WWI and disappearing in the 1950s. It was re-introduced in the mid-1970s with the start of the craft beer era. The name is said to have been derived from its popularity with the London working class performing various load-carrying tasks of the day. Parent of various regional interpretations over time, and a predecessor to all stouts (which were originally called “stout porters”). There is no historic connection or relationship between Mild and Porter.","Grists vary, but something producing a dark color is always involved. Chocolate or other dark-roasted malts, caramel malt, brewing sugars, and the like are common. London-type porters often use brown malt as a characteristic flavor. ","Differs from an American Porter in that it usually has softer, sweeter and more caramelly flavors, lower gravities, and usually less alcohol; the American Porter will also typically have more of a hop character. More substance and roast than a British Brown Ale. Higher in gravity than a dark mild.","Burton Bridge Burton Porter, Fuller's London Porter, Nethergate Old Growler Porter, RCH Old Slug Porter, Samuel Smith Taddy Porter","Simply called “Porter” in Britain, the name “English Porter” is used to differentiate it from other porters described in these guidelines. ","Bière brune de force modérée à l'amertume et au caractère torréfié limités, le Porter anglais peut présenter une gamme de saveurs torréfiées, le plus souvent sans le côté brûlé, et possède en général un profil malté de chocolat et caramel. ","Avec des arômes maltés modérés à modérément faibles, sur le toasté, le pain, et le biscuit avec de légères notes grillées et éventuellement des senteurs de chocolat, il peut également présenter des arômes maltés non torréfiés (caramel, noix, toffee et/ou bonbon). Il peut posséder également des niveaux modérés d'arômes floraux ou terreux de houblons, des esters fruités absents ou modérés et pas ou peu de diacétyle. ","De couleur brun clair à brun foncé avec souvent des reflets rubis quand il est orienté à la lumière, il présente une bonne limpidité bien qu'elle puisse parfois être presque opaque. La mousse est modérée, de blanc-cassé à brun clair avec une relativement bonne tenue. ","Les saveurs de malts sont modérées, aux goûts de pain, de biscuit, de toast, avec des notes légères à modérées de grillé (avec généralement une touche de chocolat) et souvent des saveurs bien présentes de caramel, de noisette et/ou de toffee. Il peut présenter aussi d'autres arômes secondaires tels que le café, la réglisse, le biscuit ou le pain toasté mais ne doit pas receler de saveur grillée agressive, bien qu'une petite proportion puisse contribuer à rappeler le chocolat amer. Les houblons sont terreux ou floraux et apporte une saveur modérée ou absente. Leur amertume est moyennement douce à moyenne et peut faire varier l'équilibre de légèrement malté à légèrement amer. Il est habituellement assez bien atténué bien que parfois un peu sucré, la présence de diacétyle est modérément faible ou nulle et les esters fruités modérés à faibles. ","Le corps est moyennement léger à moyen avec une texture crémeuse légère à modérée. Et la carbonatation modérément faible à moyennement haute. ","Le Porter puise ses origines à Londres il y a environ 300 ans et a évolué à partir d'une bière brune douce et populaire à cette époque. Il a subi de nombreuses adaptations avec les progrès technologiques, l'évolution des ingrédients et guidé par les préférences des consommateurs. Devenu un style très populaire, il était largement exporté dans les années 1800 avant de décliner autour de la 1ère Guerre mondiale pour disparaître dans les années 1950. Il a été réintroduit dans le milieu des années 1970 avec le début du renouveau de la bière artisanale. Le nom Porter serait dérivé de sa popularité auprès de la classe ouvrière de Londres qui effectuait des transports de charge. Parent de diverses interprétations régionales au fil du temps, il est aussi le prédécesseur de tous les Stouts, aussi appelés à l'origine \"Stout Porter\". Il n'y a aucune connexion historique ou relation entre les styles Mild et Porter. ","Le Porter puise ses origines à Londres il y a environ 300 ans et a évolué à partir d'une bière brune douce et populaire à cette époque. Il a subi de nombreuses adaptations avec les progrès technologiques, l'évolution des ingrédients et guidé par les préférences des consommateurs. Devenu un style très populaire, il était largement exporté dans les années 1800 avant de décliner autour de la 1ère Guerre mondiale pour disparaître dans les années 1950. Il a été réintroduit dans le milieu des années 1970 avec le début du renouveau de la bière artisanale. Le nom Porter serait dérivé de sa popularité auprès de la classe ouvrière de Londres qui effectuait des transports de charge. Parent de diverses interprétations régionales au fil du temps, il est aussi le prédécesseur de tous les Stouts, aussi appelés à l'origine \"Stout Porter\". Il n'y a aucune connexion historique ou relation entre les styles Mild et Porter. ","Les recettes varient mais il y a toujours la présence d'ingrédients qui vont donner la couleur sombre : malt chocolat ou malt hautement torréfié, malt caramel, sucres et ingrédients similaires sont les plus communs. Les London Porters présentent souvent une saveur caractéristique de malts foncés. ","Il diffère d'un Porter Américain par son coté généralement plus léger, plus doux et avec plus de saveurs caramel, ainsi qu’une densité inférieure et un moindre taux d'alcool, le Porter Américain ayant aussi généralement un caractère plus houblonné. Le Porter anglais contient plus de substance et de torréfié qu'une Ale Brune Anglaise et une densité supérieure à une Dark Mild. ","Burton Bridge Burton Porter, Fuller's London Porter, Nethergate Old Growler Porter, RCH Old Slug Porter, Samuel Smith Taddy Porter"]
["14A - Scottish Light",1.03,1.0349999999999999,1.01,1.0129999999999999,33.49,43.339999999999996,10,20,2.5,3.2,17,22,1030,1035,1010,1013,"14A","Scottish Light",1.5,2.2999999999999998,{"$f":"VLOOKUP(A44,Feuil2!$A$1:$H$74,2,FALSE)","v":"50-150"},{"$f":"VLOOKUP(A44,Feuil2!$A$1:$H$74,3,FALSE)","v":"0-30"},{"$f":"VLOOKUP(A44,Feuil2!$A$1:$H$74,4,FALSE)","v":"40-120"},{"$f":"VLOOKUP(A44,Feuil2!$A$1:$H$74,5,FALSE)","v":"100-200"},{"$f":"VLOOKUP(A44,Feuil2!$A$1:$H$74,6,FALSE)","v":"50-100"},{"$f":"VLOOKUP(A44,Feuil2!$A$1:$H$74,7,FALSE)","v":"<100"},{"$f":"VLOOKUP(A44,Feuil2!$A$1:$H$74,8,FALSE)","v":"0-60 "},"14-Scottish Ale","Amber Ale",null,"Scotland",1010,"14A - Scottish Light",1013,"A malt-focused, generally caramelly beer with perhaps a few esters and occasionally a butterscotch aftertaste. Hops only to balance and support the malt. The malt character can range from dry and grainy to rich, toasty, and caramelly, but is never roasty and especially never has a peat smoke character. Traditionally the darkest of the Scottish ales, sometimes nearly black but lacking any burnt, overtly roasted character.","Low to medium maltiness, often with flavors of toasted breadcrumbs, lady fingers, and English biscuits. Low to medium caramel and low butterscotch is allowable. Light pome fruitiness in best examples. May have low traditional English hop aroma (earthy, floral, orange-citrus, spicy, etc.). Peat smoke is inappropriate.","Pale copper to very dark brown. Clear. Low to moderate, creamy off-white.","Entirely malt-focused, with flavors ranging from pale, bready malt with caramel overtones to rich-toasty malt with roasted accents (but never roasty) or a combination thereof. Fruity esters are not required but add depth yet are never high. Hop bitterness to balance the malt. No to low hop flavor is also allowed and should of traditional English character (earthy, floral, orange-citrus, spicy, etc.). Finish ranges from rich and malty to dry and grainy. A subtle butterscotch character is acceptable; however, burnt sugars are not. The malt-hop balance tilts toward malt. Peat smoke is inappropriate.","Medium-low to medium body. Low to moderate carbonation. Can be relatively rich and creamy to dry and grainy.","Malt-focused ales that gain the vast majority of their character from specialty malts, never the process. Burning malt or wort sugars via ‘kettle caramelization’ is not traditional nor is any blatantly ‘butterscotch’ character. Most frequently a draught product. Smoke character is inappropriate as any found traditionally would have come from the peat in the source water. Scottish ales with smoke character should be entered as a Classic Style Smoked Beer.",null,"Originally used Scottish pale malt, grits or flaked maize, and brewers caramel for color. Later adapted to use additional ingredients, such as amber and brown malts, crystal and wheat malts, and roasted grains or dark sugars for color but not for the ‘roasty’ flavor. Sugar adjuncts are traditional. Clean or slightly fruity yeast. Peat-smoked malt is inauthentic and inappropriate.","Similar character to a Wee Heavy, but much smaller. Similar in color to a Dark Mild, but a little weaker in strength.","McEwan's 60",null,"Une bière maltée, portée généralement sur le caramel, avec peut-être quelques esters et occasionnellement un arrière-goût de bonbon \"butterscotch\" (caramel dur au beurre). Les houblons ne sont utilisés que pour équilibrer et soutenir les malts. Le côté malté peut varier d'un simple goût sec et de céréale à un goût riche, toasté et caramel, mais jamais de torréfié et encore moins de tourbe fumée. Il s'agit traditionnellement de la plus foncée des Ales Écossaises, parfois presque noire sans aller sur le côté brûlé, mais clairement torréfiée. ","Faiblement à moyennement maltée, on retrouve souvent des saveurs de croûtons de pain, de biscuit à la cuiller ou de biscuit anglais. Une saveur faible à moyenne de caramel et de caramel au beurre est autorisée, de légères notes fruitées sont présentes dans les meilleures versions. On peut trouver aussi un arôme léger de houblons anglais traditionnels (terreux, floraux, orange-agrume, épicés...), par contre un arôme de tourbe fumée sera inapproprié.  ","Cuivre pâle à un marron très foncé, elle est claire et avec une mousse blanc cassé faible à modérée.  ","Clairement focalisé sur une base maltée avec des saveurs allant du malt pale, brioché avec des touches de caramel, jusqu'à un malt richement toasté avec quelques accents torréfiés présents mais jamais trop prononcés, ou une combinaison de toutes ces saveurs. Les esters fruités ne sont pas obligatoires mais ajoutent de la profondeur, sans devoir jamais être trop présents. L'amertume des houblons est là pour équilibrer les malts et leurs saveurs peuvent être absentes à faibles, les variétés utilisées doivent être typiquement anglaises : terreuses, florales, agrumes, épicées, etc... La fin de bouche peut varier de riche et maltée, à sèche et au goût de céréale. Une touche subtile de caramel au beurre est acceptable par contre pas celle de sucres brûlés. L'équilibre penche plus du côté du malt que du houblon et une fois encore, les saveurs de tourbe fumée sont inappropriées.  ","Un corps moyennement faible à moyen, une carbonatation faible à modérée, cette Ale peut être relativement riche et crémeuse jusqu'à plutôt sèche. ","Une ale surtout maltée qui fonde l'essentiel de son profil sur les malts spéciaux utilisés, et non pas sur le processus de brassage. Les malts ou sucres brûlés par la caramélisation lors de l'ébullition ne font pas partie du style traditionnel, ni même une présence trop envahissante de saveurs de caramel au beurre (butterscotch). Elle est le plus souvent servie à la pression, toute note fumée sera inappropriée, car par tradition les seules notes fumées ne pourraient venir que de la qualité de l'eau utilisée qui aurait pu traverser une couche souterraine de tourbe. Les Scottish Ale fumées devront être classées comme des bières classiques de style fumé. ","Voir le texte d'introduction de la catégorie. ","À l'origine étaient utilisés des malts Pale écossais, du maïs en gruau ou en flocons et des malts caramels pour la couleur, puis plus tard d'autres ingrédients ont été utilisés tels que les malts ambrés et foncés, crystal, malt de blé, ainsi que du malt grillés ou des sucres foncés mais uniquement pour la couleur et aucunement pour la saveur de ces 2 derniers ingrédients. L'ajout de sucres reste dans la tradition, ainsi qu'une levure neutre ou légèrement fruitée. Les malts fumés ou tourbés ne font pas partie du style authentique et donc inappropriés. ","Son profil est proche d'une Wee Heavy en bien plus léger, elle est également semblable à une Dark Mild mais avec moins de force. ","McEwan's 60, Belhaven 60/-, Maclay 60/- Light "]
["14B - Scottish Heavy",1.0349999999999999,1.04,1.01,1.0149999999999999,25.61,43.339999999999996,10,20,3.2,3.9,13,22,1035,1040,1010,1015,"14B","Scottish Heavy",1.5,2.2999999999999998,{"$f":"VLOOKUP(A45,Feuil2!$A$1:$H$74,2,FALSE)","v":"50-150"},{"$f":"VLOOKUP(A45,Feuil2!$A$1:$H$74,3,FALSE)","v":"0-30"},{"$f":"VLOOKUP(A45,Feuil2!$A$1:$H$74,4,FALSE)","v":"40-120"},{"$f":"VLOOKUP(A45,Feuil2!$A$1:$H$74,5,FALSE)","v":"100-200"},{"$f":"VLOOKUP(A45,Feuil2!$A$1:$H$74,6,FALSE)","v":"50-100"},{"$f":"VLOOKUP(A45,Feuil2!$A$1:$H$74,7,FALSE)","v":"<100"},{"$f":"VLOOKUP(A45,Feuil2!$A$1:$H$74,8,FALSE)","v":"0-60 "},"14-Scottish Ale","Amber Ale",null,"Scotland",1010,"14B - Scottish Heavy",1015,"A malt-focused, generally caramelly beer with perhaps a few esters and occasionally a butterscotch aftertaste. Hops only to balance and support the malt. The malt character can range from dry and grainy to rich, toasty, and caramelly, but is never roasty and especially never has a peat smoke character.","Low to medium maltiness, often with flavors of toasted breadcrumbs, lady fingers, and English biscuits. Low to medium caramel and low butterscotch is allowable. Light pome fruitiness in best examples. May have low traditional English hop aroma (earthy, floral, orange-citrus, spicy, etc.). Peat smoke is inappropriate.","Pale copper to very dark brown. Clear. Low to moderate, creamy off-white.","Entirely malt-focused, with flavors ranging from pale, bready malt with caramel overtones to rich-toasty malt with roasted accents (but never roasty) or a combination thereof. Fruity esters are not required but add depth yet are never high. Hop bitterness to balance the malt. No to low hop flavor is also allowed and should of traditional English character (earthy, floral, orange-citrus, spicy, etc.). Finish ranges from rich and malty to dry and grainy. A subtle butterscotch character is acceptable; however, burnt sugars are not. The malt-hop balance tilts toward malt. Peat smoke is inappropriate.","Medium-low to medium body. Low to moderate carbonation. Can be relatively rich and creamy to dry and grainy. ","Malt-focused ales that gain the vast majority of their character from specialty malts, never the process. Burning malt or wort sugars via ‘kettle caramelization’ is not traditional nor is any blatantly ‘butterscotch’ character. Most frequently a draught product. Smoke character is inappropriate as any found traditionally would have come from the peat in the source water. Scottish ales with smoke character should be entered as a Classic Style Smoked Beer.",null,"Originally used Scottish pale malt, grits or flaked maize, and brewers caramel for color. Later adapted to use additional ingredients, such as amber and brown malts, crystal and wheat malts, and roasted grains or dark sugars for color but not for the ‘roasty’ flavor. Sugar adjuncts are traditional. Clean or slightly fruity yeast. Peat-smoked malt is inauthentic and inappropriate.","Similar character to a Wee Heavy, but much smaller.","Broughton Greenmantle Ale, Caledonia Smooth, McEwan's 70, Orkney Raven Ale, Tennent’s Special Ale",null,"Une bière maltée, généralement avec des caramels, peut-être quelques esters et occasionnellement un arrière-goût de caramel au beurre. Les houblons ne sont utilisés que pour équilibrer et supporter le malt, le profil malté peut varier de goût de céréale simple à un goût riche, toasté et caramel, mais il ne présente jamais un caractère torréfié, et encore moins un caractère de tourbe fumée. ","Les arômes sont faiblement à moyennement maltés, souvent avec des notes de pain toasté et de biscuit anglais ou à la cuiller. Un arôme faible à moyen de caramel et de caramel au beurre est acceptable ; une légère note fruitée est présente dans les meilleurs exemples de Scottish. On peut trouver également un arôme léger de houblons anglais traditionnels (terreux, floral, orange-agrume, épicé...), par contre un arôme de tourbe fumée est inapproprié. ","De cuivre clair à un marron très foncé, elle est normalement claire due à une longue fermentation et un passage au froid. Sa mousse est faible à modérée et blanc cassé. ","Clairement centrée sur les malts avec des saveurs allant du malt pale, brioché, avec des touches de caramel, jusqu'à un malt richement toasté avec quelques accents torréfiés (mais jamais une saveur trop forte de torréfié), ou une combinaison des saveurs citées. Des esters fruités ne sont pas obligatoires mais ajoutent de la profondeur, même s’ils ne doivent jamais être trop présents. L'amertume du houblon vient pour équilibrer la base maltée et les saveurs de houblons plus présentes sont autorisées, particulièrement dans le cas de houblons anglais traditionnels (terreux, floral, agrume, épicé, etc..). La fin de bouche varie de riche et maltée à sèche et rappelant le grain. Une touche subtile de caramel au beurre est acceptable, cependant, celle de sucre brûlé est à éviter. L'équilibre malt-houblon penche du côté du malt et une fois encore, la tourbe fumée est inappropriée. ","Un corps moyennement faible à moyen avec une carbonatation faible à modérée, elle peut être relativement riche et crémeuse jusqu'à sèche et rappeler le grain. ","Une ale surtout maltée qui fonde l'essentiel de son profil sur les malts spéciaux utilisés, et non pas sur le processus de brassage. Les malts ou sucres brûlés par la caramélisation lors de l'ébullition ne font pas partie du style traditionnel, ni même une présence trop envahissante de saveurs de caramel au beurre (butterscotch). Elle est le plus souvent servie à la pression, toute note fumée sera inappropriée, car par tradition les seules notes fumées ne pourraient venir que de la qualité de l'eau utilisée qui aurait pu traverser une couche souterraine de tourbe. Les Scottish Ale fumées devront être classées comme des bières classiques de style fumé. ","Voir le texte d'introduction de la catégorie. ","À l'origine étaient utilisés des malts Pale écossais, du maïs en gruau ou en flocons et des malts caramels pour la couleur, puis plus tard d'autres ingrédients ont été utilisés tels que les malts ambrés et foncés, crystal, malt de blé, ainsi que du malt grillés ou des sucres foncés mais uniquement pour la couleur et aucunement pour la saveur de ces 2 derniers ingrédients. L'ajout de sucres reste dans la tradition, ainsi qu'une levure neutre ou légèrement fruitée. Les malts fumés ou tourbés ne font pas partie du style authentique et donc inappropriés. ","Proche d'une Wee Heavy mais en moins forte. ","Broughton Greenmantle Ale, Caledonia Smooth, McEwan's 70, Orkney Raven Ale, Tennent’s Special Ale"]
["14C - Scottish Export",1.04,1.06,1.01,1.016,25.61,43.339999999999996,15,30,3.9,6,13,22,1040,1060,1010,1016,"14C","Scottish Export",1.5,2.2999999999999998,{"$f":"VLOOKUP(A46,Feuil2!$A$1:$H$74,2,FALSE)","v":"50-150"},{"$f":"VLOOKUP(A46,Feuil2!$A$1:$H$74,3,FALSE)","v":"0-30"},{"$f":"VLOOKUP(A46,Feuil2!$A$1:$H$74,4,FALSE)","v":"40-120"},{"$f":"VLOOKUP(A46,Feuil2!$A$1:$H$74,5,FALSE)","v":"100-200"},{"$f":"VLOOKUP(A46,Feuil2!$A$1:$H$74,6,FALSE)","v":"50-100"},{"$f":"VLOOKUP(A46,Feuil2!$A$1:$H$74,7,FALSE)","v":"<100"},{"$f":"VLOOKUP(A46,Feuil2!$A$1:$H$74,8,FALSE)","v":"0-60 "},"14-Scottish Ale","Amber Ale",null,"Scotland",1010,"14C - Scottish Export",1016,"A malt-focused, generally caramelly beer with perhaps a few esters and occasionally a butterscotch aftertaste. Hops only to balance and support the malt. The malt character can range from dry and grainy to rich, toasty, and caramelly, but is never roasty and especially never has a peat smoke character.","Low to medium maltiness, often with flavors of toasted breadcrumbs, lady fingers, and English biscuits. Low to medium caramel and low butterscotch is allowable. Light pome fruitiness in best examples. May have low traditional English hop aroma (earthy, floral, orange-citrus, spicy, etc.). Peat smoke is inappropriate.","Pale copper to very dark brown. Clear. Low to moderate, creamy off-white.","Entirely malt-focused, with flavors ranging from pale, bready malt with caramel overtones to rich-toasty malt with roasted accents (but never roasty) or a combination thereof. Fruity esters are not required but add depth yet are never high. Hop bitterness to balance the malt. No to low hop flavor is also allowed and should of traditional English character (earthy, floral, orange-citrus, spicy, etc.). Finish ranges from rich and malty to dry and grainy. A subtle butterscotch character is acceptable; however, burnt sugars are not. The malt-hop balance tilts toward malt. Peat smoke is inappropriate.","Medium-low to medium body. Low to moderate carbonation. Can be relatively rich and creamy to dry and grainy. ","Malt-focused ales that gain the vast majority of their character from specialty malts, never the process. Burning malt or wort sugars via ‘kettle caramelization’ is not traditional nor is any blatantly ‘butterscotch’ character. Most frequently a draught product. Smoke character is inappropriate as any found traditionally would have come from the peat in the source water. Scottish ales with smoke character should be entered as a Classic Style Smoked Beer.",null,"Originally used Scottish pale malt, grits or flaked maize, and brewers caramel for color. Later adapted to use additional ingredients, such as amber and brown malts, crystal and wheat malts, and roasted grains or dark sugars for color but not for the ‘roasty’ flavor. Sugar adjuncts are traditional. Clean or slightly fruity yeast. Peat-smoked malt is inauthentic and inappropriate.","Similar character to a Wee Heavy, but much smaller.","Belhaven Scottish Ale, Broughton Exciseman’s Ale, Orkney Dark Island, Pelican MacPelican’s Scottish Style Ale, Weasel Boy Plaid Ferret Scottish Ale",null,"Une bière maltée, généralement avec des notes caramel, peut-être un peu d'esters et occasionnellement un arrière-goût de caramel au beurre. Les houblons ne sont utilisés que pour équilibrer et soutenir un profil malté qui peut varier de goût de céréale simple à un goût riche, toasté et caramel, mais il ne présente jamais un caractère torréfié, et encore moins un caractère de tourbe fumée. ","Faiblement à moyennement maltée, souvent avec des saveurs de pain toasté et de biscuit anglais, une saveur faible à moyenne de caramel et de caramel au beurre est autorisée. Une légère note fruitée est présente dans les meilleurs exemples du style. On peut trouver un arôme léger de houblons anglais traditionnels (terreux, floraux, orange-agrume, épicés...), par contre un arôme de tourbe fumée est inapproprié. ","De couleur cuivre clair à un marron très foncé, elle est limpide et sa mousse blanc cassé est faible à modérée. ","Clairement focalisé sur la base maltée avec des saveurs allant du malt pale, brioché, avec des touches de caramel, jusqu'à un malt richement toasté avec quelques accents torréfiés (mais jamais une saveur trop présente de torréfié), ou une combinaison des saveurs citées. Des esters fruités ne sont pas exigés, mais ajoutent de la profondeur, même s’ils ne doivent jamais être trop présents. L'amertume des houblons est là pour équilibrer la base maltée, et leurs saveurs plus élevées sont autorisées, particulièrement dans le cas de variétés anglaises traditionnelles (terreuses, florales, agrume, épicées...). La fin de bouche varie de riche et maltée, à sèche et au goût d grain. Une touche subtile de caramel au beurre est acceptable cependant, celle de sucre brûlé ne l'est pas. L'équilibre malt-houblon penche du côté du malt et une fois encore, la tourbe fumée est inappropriée. ","Le corps est moyennement faible à moyen, la carbonatation faible à modérée. Elle peut être relativement riche et crémeuse jusqu'à sèche et au goût de grain. ","Une ale surtout maltée qui fonde l'essentiel de son profil sur les malts spéciaux utilisés, et non pas sur le processus de brassage. Les malts ou sucres brûlés par la caramélisation lors de l'ébullition ne font pas partie du style traditionnel, ni même une présence trop envahissante de saveurs de caramel au beurre (butterscotch). Elle est le plus souvent servie à la pression, toute note fumée sera inappropriée, car par tradition les seules notes fumées ne pourraient venir que de la qualité de l'eau utilisée qui aurait pu traverser une couche souterraine de tourbe. Les Scottish Ale fumées devront être classées comme des bières classiques de style fumé. ","Voir le texte d'introduction de la catégorie. ","À l'origine étaient utilisés des malts Pale écossais, du maïs en gruau ou en flocons et des malts caramels pour la couleur, puis plus tard d'autres ingrédients ont été utilisés tels que le malt ambrés et foncés, crystal, malt de blé, ainsi que du malt grillés ou des sucres foncés mais uniquement pour la couleur et aucunement pour la saveur de ces 2 derniers ingrédients. L'ajout de sucres reste dans la tradition, ainsi qu'une levure neutre ou légèrement fruitée. Les malts fumés ou tourbés ne font pas partie du style authentique et donc inappropriés. ","Son profil est proche d'une Wee Heavy en plus léger. ","Belhaven Scottish Ale, Broughton Exciseman’s Ale, Orkney Dark Island, Pelican MacPelican’s Scottish Style Ale, Weasel Boy Plaid Ferret Scottish Ale"]
["15A - Irish Red Ale",1.036,1.046,1.01,1.014,17.73,27.58,18,28,3.8,5,9,14,1036,1046,1010,1014,"15A","Irish Red Ale",1.5,2.2999999999999998,{"$f":"VLOOKUP(A47,Feuil2!$A$1:$H$74,2,FALSE)","v":"50-150"},{"$f":"VLOOKUP(A47,Feuil2!$A$1:$H$74,3,FALSE)","v":"0-30"},{"$f":"VLOOKUP(A47,Feuil2!$A$1:$H$74,4,FALSE)","v":"40-120"},{"$f":"VLOOKUP(A47,Feuil2!$A$1:$H$74,5,FALSE)","v":"100-300"},{"$f":"VLOOKUP(A47,Feuil2!$A$1:$H$74,6,FALSE)","v":"50-100"},{"$f":"VLOOKUP(A47,Feuil2!$A$1:$H$74,7,FALSE)","v":"<100"},{"$f":"VLOOKUP(A47,Feuil2!$A$1:$H$74,8,FALSE)","v":"0-60 "},"15-Irish Beer","Amber Ale","Pale Ales","Ireland",1010,"15A - Irish Red Ale",1014,"An easy-drinking pint, often with subtle flavors. Slightly malty in the balance sometimes with an initial soft toffee/caramel sweetness, a slightly grainy-biscuity palate, and a touch of roasted dryness in the finish. Some versions can emphasize the caramel and sweetness more, while others will favor the grainy palate and roasted dryness.","Low to moderate malt aroma, either neutral-grainy or with a lightly caramelly-toasty-toffee character. May have a very light buttery character (although this is not required). Hop aroma is low earthy or floral to none (usually not present). Quite clean.","Medium amber to medium reddish-copper color. Clear. Low off-white to tan colored head, average persistence.","Moderate to very little caramel malt flavor and sweetness, rarely with a light buttered toast or toffee-like quality. The palate often is fairly neutral and grainy, or can take on a lightly toasty or biscuity note as it finishes with a light taste of roasted grain, which lends a characteristic dryness to the finish. A light earthy or floral hop flavor is optional. Medium to medium-low hop bitterness. Medium-dry to dry finish. Clean and smooth. Little to no esters. The balance tends to be slightly towards the malt, although light use of roasted grains may increase the perception of bitterness slightly.","Medium-light to medium body, although examples containing low levels of diacetyl may have a slightly slick mouthfeel (not required). Moderate carbonation. Smooth. Moderately attenuated.","Several variations exist within the style, which causes the guidelines to be somewhat broad to accommodate them. Traditional Irish examples are relatively low in hops, are grainy with a slight roast dryness in the finish, fairly neutral in general. Modern export Irish examples are more caramelly and sweet, and might have more esters. American craft versions are often more alcoholic versions of the Irish export examples. An emerging Irish craft beer scene is exploring more bitter versions of traditional examples. Finally, there are some commercial examples that sound Irish but are essentially International Amber Lagers, with sweetish palates and little bitterness. These guidelines are written around the traditional Irish examples, with slight extensions for export Irish versions and modern craft Irish versions.","While Ireland has a long ale brewing heritage, the modern Irish Red Ale style is essentially an adaptation or interpretation of the popular English Bitter style with less hopping and a bit of roast to add color and dryness. Rediscovered as a craft beer style in Ireland, today it is an essential part of most brewery lineups, along with a pale ale and a stout.","Generally has a bit of roasted barley or black malt to provide reddish color and dry roasted finish. Pale base malt. Caramel malts were historically imported and more expensive, so not all brewers would use them. ","A less-bitter and hoppy Irish equivalent to an English Bitter, with a dryish finish due to roasted barley. More attenuated with less caramel flavor and body than equivalent-strength Scottish ales.","Caffrey’s Irish Ale, Franciscan Well Rebel Red, Kilkenny Irish Beer, O’Hara’s Irish Red Ale, Porterhouse Red Ale, Samuel Adams Irish Red, Smithwick’s Irish Ale",null,"Une pinte de bière facile à boire avec souvent des saveurs subtiles. Un équilibre légèrement malté avec parfois une douceur initiale de caramel mou ou toffee, un palais légèrement porté sur biscuit et les céréales, avec une touche finale sèche et grillée. Certaines versions peuvent accentuer davantage la douceur et le côté caramel, tandis que d'autres privilégieront un palais aux notes de céréales et une sécheresse portant sur le grillé. ","Des arômes de malt faibles à modérés, avec soit un caractère neutre de céréales soit un arôme légèrement toasté/caramel/toffee. On peut trouver de très légères notes de beurre (même si elles ne sont pas obligatoires). Les arômes de houblons sont absents ou faiblement terreux ou floraux (mais le plus souvent indécelables). Plutôt net. ","De couleur moyennement ambrée à moyennement roux-cuivrée, limpide, avec une mousse légèrement blanc-cassé à un beige clair, moyennement stable. ","Une saveur de malt caramel et une douceur modérée à très faible, avec plus rarement des notes légères de pain grillé beurré ou de caramel mou. Le palais est souvent neutre et rappelle le grain, ou peut prendre une légère note toastée ou biscuit quand le final en bouche révèle un léger goût de grain grillé, ce qui lui confère cette sécheresse en fin de bouche caractéristique. Un léger arôme de houblon terreux ou floral reste optionnel et l'amertume du houblon reste moyenne à faiblement moyenne. La fin de bouche est sèche à moyennement sèche, propre et douce, avec pas ou peu d'esters. L'équilibre a tendance à pencher légèrement du côté du malt, même si une faible utilisation de grains torréfiés peut légèrement augmenter l'impression d'amertume.","Le corps est léger à moyen, bien que certains exemples contenant de faibles niveaux de diacétyle peuvent présenter un aspect légèrement doucereux en bouche (bien que non requis). La carbonatation modérée, c'est une bière douce et modérément atténuée. ","Plusieurs variantes existent au sein de ce même style, engendrant certaines généralités dans les guides de styles pour pouvoir les regrouper. Les exemples traditionnels irlandais sont relativement faibles en houblons, portés sur le grain, avec une légère sécheresse au goût grillé en fin de bouche et assez neutre en général. Les exemples irlandais modernes en version Export sont plus sur le caramel et sucrés, et peuvent présenter plus d'esters. Les versions américaines artisanales sont plus alcoolisées que les versions irlandaises même en version Export. Une scène émergeante de bières irlandaises artisanales explore maintenant des versions plus amères que les exemples traditionnels. Enfin, il existe des exemples commerciaux qui \"sonnent irlandais\" mais qui ne sont essentiellement que des lagers ambrées internationales, au palais douceâtre et de faible amertume. Ces recommandations de style sont écrites sur la base des exemples irlandais traditionnels, avec de légers prolongements pour les versions Export et les versions artisanales irlandaises. ","Quoique l'Irlande possède un long héritage de brassage de bières, le style moderne \"Irish Red Ale\" est essentiellement une adaptation ou une interprétation du style populaire \"English Bitter\" avec moins de houblon et un peu plus de notes torréfiées pour ajouter un peu de couleur et de sécheresse. Redécouverte en Irlande dans sa version artisanale, aujourd'hui ce style est une partie essentielle des gammes proposées par la plupart des brasseries, aux côtés des Pale Ale et des Stouts. ","Généralement une portion d'orge grillée ou de malt noir afin de renforcer la couleur rougeâtre et une fin de bouche torréfiée, du malt pale pour la base. Les malts caramel étaient importés à l'époque donc plus chers, c'est la raison pour laquelle tous les brasseurs n'avaient les moyens de les utiliser.","Une équivalente irlandaise de la Bitter anglaise, moins amère et moins houblonnée, avec une fin de bouche plus sèche due à l'orge grillé. Elle est plus atténuée et avec moins de saveurs de caramel et moins de corps que son équivalente écossaise \"Scottish Ale\" de même force. ","Caffrey’s Irish Ale, Franciscan Well Rebel Red, Kilkenny Irish Beer, O’Hara’s Irish Red Ale, Porterhouse Red Ale, Samuel Adams Irish Red, Smithwick’s Irish Ale"]
["15B - Irish Stout",1.036,1.044,1.0069999999999999,1.0109999999999999,49.25,78.8,25,45,4,4.5,25,40,1036,1044,1007,1011,"15B","Irish Stout",1.5,2.2999999999999998,{"$f":"VLOOKUP(A48,Feuil2!$A$1:$H$74,2,FALSE)","v":"50-75"},{"$f":"VLOOKUP(A48,Feuil2!$A$1:$H$74,3,FALSE)","v":"0-30"},{"$f":"VLOOKUP(A48,Feuil2!$A$1:$H$74,4,FALSE)","v":"80-150"},{"$f":"VLOOKUP(A48,Feuil2!$A$1:$H$74,5,FALSE)","v":"50-150"},{"$f":"VLOOKUP(A48,Feuil2!$A$1:$H$74,6,FALSE)","v":"50-100"},{"$f":"VLOOKUP(A48,Feuil2!$A$1:$H$74,7,FALSE)","v":"<100"},{"$f":"VLOOKUP(A48,Feuil2!$A$1:$H$74,8,FALSE)","v":"30-90"},"15-Irish Beer","Stout","Irish Stout","Ireland",1007,"15B - Irish Stout",1011,"A black beer with a pronounced roasted flavor, often similar to coffee. The balance can range from fairly even to quite bitter, with the more balanced versions having a little malty sweetness and the bitter versions being quite dry. Draught versions typically are creamy from a nitro pour, but bottled versions will not have this dispense-derived character. The roasted flavor can be dry and coffee-like to somewhat chocolaty. ","Moderate coffee-like aroma typically dominates; may have slight dark chocolate, cocoa and/or roasted grain secondary notes. Esters medium-low to none. Hop aroma low to none, may be lightly earthy or floral, but is typically absent.","Jet black to very deep brown with garnet highlights in color. According to Guinness, “Guinness beer may appear black, but it is actually a very dark shade of ruby.” Opaque. A thick, creamy, long-lasting, tan- to brown-colored head is characteristic when served on nitro, but don’t expect the tight, creamy head on a bottled beer. ","Moderate roasted grain or malt flavor with a medium to high hop bitterness. The finish can be dry and coffee-like to moderately balanced with a touch of caramel or malty sweetness. Typically has coffee-like flavors, but also may have a bittersweet or unsweetened chocolate character in the palate, lasting into the finish. Balancing factors may include some creaminess, medium-low to no fruitiness, and medium to no hop flavor (often earthy). The level of bitterness is somewhat variable, as is the roasted character and the dryness of the finish; allow for interpretation by brewers.","Medium-light to medium-full body, with a somewhat creamy character (particularly when served with a nitro pour). Low to moderate carbonation. For the high hop bitterness and significant proportion of dark grains present, this beer is remarkably smooth. May have a light astringency from the roasted grains, although harshness is undesirable.","When a brewery offered a stout and a porter, the stout was always the stronger beer (it was originally called a “Stout Porter”). Modern versions are brewed from a lower OG and no longer necessarily reflect a higher strength than porters. This is typically a draught product today; bottled versions are typically brewed from a higher OG and are usually called Extra Stouts. Regional differences exist in Ireland, similar to variability in English Bitters. Dublin-type stouts use roasted barley, are more bitter, and are drier. Cork-type stouts are sweeter, less bitter, and have flavors from chocolate and specialty malts. Commercial examples of this style are almost always associated with a nitro pour. Do not expect traditional bottle-conditioned beers to have the full, creamy texture or very long-lasting head traditionally associated with nitrogen dispense. ","The style evolved from attempts to capitalize on the success of London porters, but originally reflected a fuller, creamier, more “stout” body and strength. Guinness began brewing only porter in 1799, and a “stouter kind of porter” around 1810. Irish stout diverged from London single stout (or simply porter) in the late 1800s, with an emphasis on darker malts. Guinness was among the first breweries to use black patent malt for porters and stouts in the 1820s. Guinness began using roasted barley after WWII, while London brewers continued to use brown malt. Guinness started using flaked barley in the 1950s, also increasing attenuation greatly. Guinness Draught was launched as a brand in 1959. Draught cans and bottles were developed in the late 1980s and 1990s. ","Guinness is made using roasted barley, flaked barley, and pale malt, but other breweries don’t necessarily use roasted barley; they can use chocolate or other dark and specialty malts. Whatever combination of malts or grains is used, the resulting product should be black. Cork-type stouts are perhaps closer to historical London-type stouts in composition with a varied grist not dominated by roasted barley.","Lower strength than an Irish Extra Stout, but with similar flavors. Darker in color (black) than an English porter (brown).","Beamish Irish Stout, Guinness Draught, Harpoon Boston Irish Stout, Murphy's Irish Stout, O’Hara’s Irish Stout, Porterhouse Wrasslers 4X",null,"Une bière noire avec une saveur prononcée de grillé, souvent similaire au café. L'équilibre peut varier de assez moyenne à franchement amère, avec des versions plus équilibrées ayant une petite douceur maltée et des versions plus amères plutôt sèches. Les versions à la pression sont habituellement crémeuses du fait qu'elles sont poussées à l'azote au contraire des versions en bouteilles qui n'auront pas cette particularité due au tirage. La saveur grillée peut être sèche et rappeler le café voire le chocolat. ","Ce sont les arômes modérés de café qui dominent généralement, parfois avec des touches légères de chocolat noir, cacao et/ou des notes secondaires de grain grillé. On note une présence moyennement basse à nulle d'esters, des arômes de houblon faibles à nuls, peut être légèrement terreux ou floraux, mais le plus souvent absents.","De couleur noire de jais à brun profondément foncé avec des reflets grenat, selon Guinness, \"la bière Guinness peut apparaître noire, mais en fait c'est une très sombre nuance de rubis\". Elle est opaque, son faux-col épais, crémeux, persistant, brun clair à brun, est caractéristique quand la bière est poussée à l'azote, mais bien moindre sur une version bouteille.","Saveur modérée de grain grillé ou de malt avec une amertume de houblon de moyenne à élevée. La fin de bouche peut être sèche et aller du café à plus équilibrée avec une touche de caramel ou de douceur maltée. Généralement cette bière présente des saveurs de café mais elle peut aussi mêler douceur et amertume voire présenter le caractère d'un chocolat amer au palais, persistant jusqu'en fin de bouche. Les secrets de son équilibre peuvent être une certaine onctuosité, un côté fruité moyennement bas à absent ou des saveurs de houblons (souvent terreuses), moyennes à absentes. Le niveau d'amertume est variable, avec comme à l'accoutumée le caractère grillé et une fin de bouche plutôt sèche ; laissant le champ assez libre à diverses interprétations.","Corps moyennement léger à moyennement rond, avec un profil plutôt crémeux (surtout si poussée à l'azote). La carbonatation est basse à modérée. Malgré une amertume marquée et une proportion assez significative de grains foncés, cette bière est remarquablement douce. Elle peut présenter une légère astringence du fait des céréales grillées, mais on évitera le côté âpre. ","Quand une brasserie offrait un stout et une porter, le stout était toujours la bière la plus forte des deux (à l'origine appelé \"Stout Porter\"). Les versions modernes sont brassées avec une DI plus basse et ne présentent plus nécessairement un taux d'alcool supérieur aux porters. C'est généralement aujourd'hui un produit proposé à la pression ; les versions en bouteille étant brassées avec une densité initiale plus élevée et souvent appelées \"Extra Stouts\". Des différences régionales existent tout de même en Irlande, avec une variété similaire à celle des Bitters anglaises. Les stouts de Dublin utilisent de l'orge grillée, sont plus amères et plus sèches. Celles de Cork sont plus douces, moins amères et présentent des saveurs chocolat et de malts spéciaux. Les exemples commerciaux de ce style sont presque toujours associés à une pression poussée à l'azote. Il ne faut donc  pas s'attendre à ce qu'une version traditionnelle en bouteille ait une texture pleine et crémeuse ou une mousse exceptionnellement persistante.","Le style vis le jour suite aux tentatives de capitaliser sur le succès des Porters londoniens, mais à l'origine signifiait une bière plus ronde, crémeuse, avec un corps plus costaud (co-\"stout\") et plus forte en alcool. Guinness débuta en brassant uniquement des Porters en 1799, et un porter plus costaud vers 1810. Les stouts irlandais se sont différenciées des Stouts londoniens (ou plus simplement des Porters) à la fin des années 1800, avec un accent plus franc porté sur les malts plus foncés. Guinness était parmi les premières brasseries à utiliser des malts noirs \"black patent\" pour ses Porters et Stouts dans les années 1820 et commença ensuite à utiliser de l'orge grillée après la 2nde guerre mondiale, tandis que les brasseries de Londres continuaient à utiliser des malts bruns. Guinness commença à utiliser des flocons d'orge dans les années 1950 et augmenta l'atténuation de façon importante. La Guinness Draught fut lancée en 1959, et il fallut attendre les années 1980-90 pour voir développées les canettes et bouteilles.","La Guinness est une bière faite à partir d'orge grillée, de flocons d'orge et de malt pâle, mais d'autres brasseries n'utilisent pas forcement d'orge grillée ; elles peuvent utiliser du malt chocolat ou d'autres malts foncés ou encore spéciaux. Quelle que soit la combinaison de malts ou de grains utilisée, le produit fini doit être noir. Les Stouts de Cork sont peut-être plus proches du stout historique londonien dans leur composition avec un profil malté moins dominé par l'orge grillée. ","Un corps plus léger qu'une Irish Extra Stout, mais avec des saveurs similaires, et plus foncée (noire) qu'une English Porter (brune).","Beamish Irish Stout, Guinness Draught, Harpoon Boston Irish Stout, Murphy's Irish Stout, O’Hara’s Irish Stout, Porterhouse Wrasslers 4X  "]
["15C - Irish Extra Stout",1.052,1.0620000000000001,1.01,1.014,49.25,78.8,35,50,5.5,6.5,25,40,1052,1062,1010,1014,"15C","Irish Extra Stout",1.7,2.2999999999999998,{"$f":"VLOOKUP(A49,Feuil2!$A$1:$H$74,2,FALSE)","v":{"$error":"#N/A"}},{"$f":"VLOOKUP(A49,Feuil2!$A$1:$H$74,3,FALSE)","v":{"$error":"#N/A"}},{"$f":"VLOOKUP(A49,Feuil2!$A$1:$H$74,4,FALSE)","v":{"$error":"#N/A"}},{"$f":"VLOOKUP(A49,Feuil2!$A$1:$H$74,5,FALSE)","v":{"$error":"#N/A"}},{"$f":"VLOOKUP(A49,Feuil2!$A$1:$H$74,6,FALSE)","v":{"$error":"#N/A"}},{"$f":"VLOOKUP(A49,Feuil2!$A$1:$H$74,7,FALSE)","v":{"$error":"#N/A"}},{"$f":"VLOOKUP(A49,Feuil2!$A$1:$H$74,8,FALSE)","v":{"$error":"#N/A"}},"15-Irish Beer","Stout","Irish Stout","Ireland",1010,"15C - Irish Extra Stout",1014,"A fuller-bodied black beer with a pronounced roasted flavor, often similar to coffee and dark chocolate with some malty complexity. The balance can range from moderately bittersweet to bitter, with the more balanced versions having up to moderate malty richness and the bitter versions being quite dry.","Moderate to moderately high coffee-like aroma, often with slight dark chocolate, cocoa, biscuit, vanilla and/or roasted grain secondary notes. Esters medium-low to none. Hop aroma low to none, may be lightly earthy or spicy, but is typically absent. Malt and roast dominate the aroma.","Jet black. Opaque. A thick, creamy, tan head is characteristic. ","Moderate to moderately high dark-roasted grain or malt flavor with a medium to medium-high hop bitterness. The finish can be dry and coffee-like to moderately balanced with up to moderate caramel or malty sweetness. Typically has roasted coffee-like flavors, but also often has a dark chocolate character in the palate, lasting into the finish. Background mocha, biscuit, or vanilla flavors are often present and add complexity. Medium-low to no fruitiness. Medium to no hop flavor (often earthy or spicy). The level of bitterness is somewhat variable, as is the roasted character and the dryness of the finish; allow for interpretation by brewers.","Medium-full to full body, with a somewhat creamy character. Moderate carbonation. Very smooth. May have a light astringency from the roasted grains, although harshness is undesirable. A slightly warming character may be detected.","Traditionally a bottled product. Consumers expect a stout to always have a black color; the flavor intensity from whatever made it black is what consumers expect in their beer. Not all breweries make a dry, roasty version typical of Guinness; a more balanced and chocolaty version is equally acceptable. ","Same roots as Irish stout, but as a stronger product. Guinness Extra Stout (Extra Superior Porter, later Double Stout) was first brewed in 1821, and was primarily a bottled product. Described by Guinness as a “more full-bodied beer with a deeper characteristic roasted bitterness and a rich, mature texture. Of all the types of Guinness available today, this is the closest to the porter originally brewed by Arthur Guinness.” Note that in modern times, Guinness Extra Stout has different strengths in different regions; the European version is around 4.2% and fits in the Irish Stout style.","Similar to Irish Stout.","Midway between an Irish Stout and a Foreign Extra Stout in strength and flavor intensity, although with a similar balance. More body, richness, and often malt complexity than an Irish Stout. Black in color, not brown like a porter.","Guinness Extra Stout (US version), O’Hara’s Leann Folláin, Sheaf Stout",null,"Une bière noire plus ronde avec une saveur torréfiée prononcée, souvent semblable à du café et du chocolat noir ainsi qu'un coté malté complexe. L'équilibre peut varier de modérément doux-amer à amer, avec les versions plus équilibrées ayant des notes maltées jusqu'à moyennement riche, les versions amères étant plutôt sèches. ","Arômes de café modérés à modérément élevés, souvent avec des notes secondaires légères de chocolat noir, de cacao, de biscuit, de vanille et/ou de céréales grillées. Les esters sont moyennement bas à absents. Les arômes de houblon sont faibles ou nuls, peuvent être légèrement terreux ou épicés, mais sont très généralement absents. Les malts et grains torréfiés restent dominants.","Noir de jais et opaque. L'épaisse mousse crémeuse brun claire est caractéristique de ce style.","Saveur modérée à modérément élevée de céréales ou de malts noirs torréfiés avec une amertume du houblon moyenne à moyennement élevée. La fin en bouche peut être soit sèche et rappeler le café soit être plus modérément équilibrée avec des notes de caramel subtiles ou le côté sucré et malté. Présente généralement des saveurs de café torréfiées, mais souvent aussi un palais teinté de chocolat noir, persistant jusqu'aux notes finales. Des arrière-goûts de Moka, de biscuit ou de vanille sont souvent présents et ajoutent encore de la complexité. Pas ou peu de notes fruitées, des saveurs de houblon (terreuses ou épicées) moyennes à nulles. Le niveau d'amertume, de même que les tons torréfiés et la sécheresse finale, sont assez variables pour permettre une large interprétation par les brasseurs. ","Un corps moyennement rond à rond, avec une sensation un peu crémeuse, la carbonatation est modérée, le tout reste très doux. On peut percevoir une légère astringence due aux grains torréfiés, bien que l'âcreté soit à éviter. Un aspect légèrement chauffant dû à l'alcool peut être perçu. ","Traditionnellement servi en bouteille, les consommateurs s'attendent toujours pour un Stout à voir une couleur noire ; ainsi que l'intensité des saveurs apportées par les ingrédients participant de cette couleur foncée. Toutes les brasseries ne font pas une version sèche et torréfiée typique de la Guinness, des versions plus équilibrées et chocolatées sont également acceptables. ","De même origine que le Stout irlandais mais en version plus forte. La Guinness Extra Stout (appelée tout d'abord Extra Superior Porter puis plus tard Double Stout) a été brassée pour la première fois en 1821 et était dès l'origine mise en bouteille. Décrit par Guinness comme une « bière plus ronde avec une amertume caractéristique torréfiée, plus profonde et une texture riche et affinée. De tous les types de Guinness disponibles aujourd'hui, c'est la plus proche du Porter d'origine brassé par Arthur Guinness\". Il est à noter que de nos jours, la Guinness Extra Stout à des degrés d'alcool différents selon les différentes régions ; la version européenne est autour des 4,2% et se rapproche du style Stout Irlandais. ","Semblables à un Stout Irlandais. ","A mi-chemin entre un Stout Irlandais et un Foreign Extra Stout en force et en intensité de saveurs bien que l'équilibre soit similaire. Plus de corps, de richesse et de complexité des malts qu'un Stout Irlandais. De couleur noire et non brune comme un Porter. ","Guinness Extra Stout (US version), O’Hara’s Leann Folláin, Sheaf Stout"]
["16A - Sweet Stout",1.044,1.06,1.012,1.024,59.1,78.8,20,40,4,6,30,40,1044,1060,1012,1024,"16A","Sweet Stout",1.7,2.2999999999999998,{"$f":"VLOOKUP(A50,Feuil2!$A$1:$H$74,2,FALSE)","v":"50-75"},{"$f":"VLOOKUP(A50,Feuil2!$A$1:$H$74,3,FALSE)","v":"0-30"},{"$f":"VLOOKUP(A50,Feuil2!$A$1:$H$74,4,FALSE)","v":"80-160"},{"$f":"VLOOKUP(A50,Feuil2!$A$1:$H$74,5,FALSE)","v":"50-150"},{"$f":"VLOOKUP(A50,Feuil2!$A$1:$H$74,6,FALSE)","v":"50-150"},{"$f":"VLOOKUP(A50,Feuil2!$A$1:$H$74,7,FALSE)","v":"<100"},{"$f":"VLOOKUP(A50,Feuil2!$A$1:$H$74,8,FALSE)","v":"60 - 120"},"16-Dark British Beer","Stout","English Stout","England",1012,"16A - Sweet Stout",1024,"A very dark, sweet, full-bodied, slightly roasty ale that can suggest coffee-and-cream, or sweetened espresso.","Mild roasted grain aroma, sometimes with coffee and/or chocolate notes. An impression of cream-like sweetness often exists. Fruitiness can be low to moderately high. Diacetyl low to none. Hop aroma low to none, with floral or earthy notes.","Very dark brown to black in color. Can be opaque (if not, it should be clear). Creamy tan to brown head.","Dark roasted grain/malt impression with coffee and/or chocolate flavors dominate the palate. Hop bitterness is moderate. Medium to high sweetness provides a counterpoint to the roasted character and hop bitterness, and lasts into the finish. Low to moderate fruity esters. Diacetyl low to none. The balance between dark grains/malts and sweetness can vary, from quite sweet to moderately dry and somewhat roasty.","Medium-full to full-bodied and creamy. Low to moderate carbonation. High residual sweetness from unfermented sugars enhances the full-tasting mouthfeel.","Gravities are low in England, higher in exported and US products. Variations exist, with the level of residual sweetness, the intensity of the roast character, and the balance between the two being the variables most subject to interpretation. Some versions in England are very sweet (low attenuation) and also low in ABV (Tennent’s Sweetheart Stout is 2%), but is an outlier compared to the other examples. These guidelines mostly describe the higher gravity, more balanced, export versions rather than the low alcohol, very sweet versions that many find quite difficult to drink.","An English style of stout developed in the early 1900s. Historically known as “Milk” or “Cream” stouts, legally this designation is no longer permitted in England (but is acceptable elsewhere). The “milk” name is derived from the use of lactose, or milk sugar, as a sweetener. Originally marketed as a tonic for invalids and nursing mothers.","The sweetness in most Sweet Stouts comes from a lower bitterness level than most other stouts and a high percentage of unfermentable dextrins. Lactose, an unfermentable sugar, is frequently added to provide additional residual sweetness. Base of pale malt, and may use roasted barley, black malt, chocolate malt, crystal malt, and adjuncts such as maize or brewing sugars.","Much sweeter and less bitter than other stouts (except the stronger tropical stout). The roast character is mild, not burnt like other stouts. Somewhat similar in balance to oatmeal stouts, albeit with more sweetness.","Bristol Beer Factory Milk Stout, Left Hand Milk Stout, Lancaster Milk Stout, Mackeson's XXX Stout, Marston’s Oyster Stout, Samuel Adams Cream Stout",null,"Une ale très sombre, douce, ronde, légèrement torréfiée qui peut évoquer un café-crème ou un expresso sucré. ","Derrière des arômes de céréales moyennement grillées avec parfois des notes de café et/ou de chocolat, une impression de douceur crémeuse est souvent perceptible. Le coté fruité peut être faible à modérément élevé mais le diacétyle faible ou nul. Les arômes de houblon sont faibles ou nuls, avec des notes florales ou terreuses. ","De couleur brune très foncée à noire, elle peut être opaque (dans le cas contraire elle doit être limpide) sous une mousse crémeuse beige à brune. ","Une sensation de céréales et malts sombres torréfiés avec des saveurs de café et/ou de chocolat domine le palais accompagnée d'une amertume des houblons modérée. Une douceur moyenne à élevée vient équilibrer les notes torréfiées et l'amertume du houblon, et persiste jusque dans les notes finales. Quelques esters fruités sont faibles à modérés, le diacétyle est faible ou nul et l'équilibre entre céréales ou malts foncés et cette douceur particulière peut varier, d'une bière très sucrée à modérément sèche et quelque peu torréfiée. ","Le corps est moyen à rond et crémeux, la carbonatation faible à modérée, une haute teneur en sucres résiduels non fermentés accroît la sensation gustative de rondeur en bouche. ","Les densités sont assez faibles sur les versions anglaises et plus élevées sur les versions américaines ou exportées. Des variantes existent dans les niveaux de sucres résiduels, de l'intensité du caractère torréfié et de l'équilibre entre les deux, faisant de ces variables la base de la multitude d'interprétations personnelles. Certaines versions en Angleterre sont très douces (faible atténuation) et également faibles en alcool (la Tennent’s Sweetheart Stout est à 2%), mais ce sont des exceptions comparées aux autres exemples. Ce guide décrit essentiellement les bières aux densités les plus élevées, pour l'export ou les plus équilibrées plutôt que les versions faibles en alcool, très douces que beaucoup trouvent plus difficiles à boire. ","Il s'agit à l'origine d'un style anglais de stout développé au début des années 1900, historiquement connu sous le nom de \"milk \" (lait) ou \"cream\" (crème) Stouts. Légalement ces désignations ne sont plus autorisées en Angleterre (mais acceptées partout ailleurs). La dénomination de \"Milk\" (lait) vient de l'utilisation de lactose ou sucre de lait comme édulcorant. Elle était à l'origine commercialisée comme un fortifiant pour les invalides et les mères en périodes d'allaitement. ","La douceur présente dans la plupart des Sweet Stouts provient d'un niveau d'amertume inférieur à la plupart des autres Stouts et d'un pourcentage plus élevé de dextrines non fermentescibles. Du lactose, un sucre non fermentescible, est souvent ajouté pour fournir encore une douceur résiduelle supplémentaire. Sur une base de malt pâle, avec utilisation possible d'orge torréfié, de malt black, chocolat, Crystal et elle est parfois complétée d'additifs tels que le maïs ou des sucres de brassage. ","Beaucoup plus doux et moins amer que d'autres Stouts (sauf le Tropical Stout beaucoup plus fort), son caractère torréfié est délicat mais pas grillé comme sur les autres Stouts. Elle est assez semblable en équilibre à un Stout à l'avoine (Oatmeal Stout), mais avec toutefois encore plus de douceur. ","Bristol Beer Factory Milk Stout, Left Hand Milk Stout, Lancaster Milk Stout, Mackeson's XXX Stout, Marston’s Oyster Stout, Samuel Adams Cream Stout "]
["16B - Oatmeal Stout",1.0449999999999999,1.0649999999999999,1.01,1.018,43.339999999999996,78.8,25,40,4.2,5.9,22,40,1045,1065,1010,1018,"16B","Oatmeal Stout",1.7,2.2999999999999998,{"$f":"VLOOKUP(A51,Feuil2!$A$1:$H$74,2,FALSE)","v":"50-75"},{"$f":"VLOOKUP(A51,Feuil2!$A$1:$H$74,3,FALSE)","v":"0-30"},{"$f":"VLOOKUP(A51,Feuil2!$A$1:$H$74,4,FALSE)","v":"80-160"},{"$f":"VLOOKUP(A51,Feuil2!$A$1:$H$74,5,FALSE)","v":"50-150"},{"$f":"VLOOKUP(A51,Feuil2!$A$1:$H$74,6,FALSE)","v":"50-150"},{"$f":"VLOOKUP(A51,Feuil2!$A$1:$H$74,7,FALSE)","v":"<100"},{"$f":"VLOOKUP(A51,Feuil2!$A$1:$H$74,8,FALSE)","v":"60 - 120"},"16-Dark British Beer","Stout","English Stout","England",1010,"16B - Oatmeal Stout",1018,"A very dark, full-bodied, roasty, malty ale with a complementary oatmeal flavor. The sweetness, balance, and oatmeal impression can vary considerably.","Mild roasted grain aromas, generally with a coffee-like character. A light malty sweetness can suggest a coffee-and-cream impression. Fruitiness should be low to medium-high. Diacetyl medium-low to none. Hop aroma medium-low to none, earthy or floral. A light grainy-nutty oatmeal aroma is optional.","Medium brown to black in color. Thick, creamy, persistent tan- to brown-colored head. Can be opaque (if not, it should be clear).","Similar to the aroma, with a mild roasted coffee to coffee-and-cream flavor, and low to moderately-high fruitiness. Oats and dark roasted grains provide some flavor complexity; the oats can add a nutty, grainy or earthy flavor. Dark grains can combine with malt sweetness to give the impression of milk chocolate or coffee with cream. Medium hop bitterness with the balance toward malt. Medium-sweet to medium-dry finish. Diacetyl medium-low to none. Hop flavor medium-low to none, typically earthy or floral.","Medium-full to full body, with a smooth, silky, velvety, sometimes an almost oily slickness from the oatmeal. Creamy. Medium to medium-high carbonation. ","Generally between Sweet and Irish Stouts in sweetness. Variations exist, from fairly sweet to quite dry, as well as English and American versions (American versions tend to be more hoppy, less sweet, and less fruity). The level of bitterness also varies, as does the oatmeal impression. Light use of oatmeal may give a certain silkiness of body and richness of flavor, while heavy use of oatmeal can be fairly intense in flavor with an almost oily mouthfeel, dryish finish, and slight grainy astringency. When judging, allow for differences in interpretation.","A variant of nourishing or invalid stouts of the late 1800s using oatmeal in the grist, similar to the development of sweet stout that used lactose. An original Scottish version used a significant amount of oat malt. Later went through a shady phase where some English brewers would throw a handful of oats into their parti-gyled stouts in order to legally produce a ‘healthy’ Oatmeal Stout for marketing purposes. Most popular in England between the World Wars, was revived in the craft beer era for export, which helped lead to its adoption as a popular modern American craft beer style that uses a noticeable (not symbolic) quantity of oats.","Pale, caramel and dark roasted malts (often chocolate) and grains. Oatmeal or malted oats (5-20% or more) used to enhance fullness of body and complexity of flavor. Hops primarily for bittering. Can use brewing sugars or syrups. English ale yeast.","Most are like a cross between an Irish Extra Stout and a Sweet Stout with oatmeal added. Several variations exist, with the sweeter versions more like a Sweet Stout with oatmeal instead of lactose, and the drier versions more like a more nutty, flavorful Irish Extra Stout. Both tend to emphasize the body and mouthfeel.","Anderson Valley Barney Flats Oatmeal Stout, Broughton Scottish Oatmeal Stout, Figueroa Mountain Stagecoach Stout, St-Ambroise Oatmeal Stout, Samuel Smith Oatmeal Stout, Young's Oatmeal Stout",null,"Une ale douce et charpentée, très sombre, torréfiée et maltée avec une saveur supplémentaire d'avoine, dont la douceur, l'équilibre et les saveurs d'avoine peuvent varier considérablement. ","Après des arômes doux de céréales torréfiées, généralement accompagnées de notes de café, une légère douceur maltée peut rappeler le café-crème. Le côté fruité doit être faible à moyennement élevé, le diacétyle moyennement bas à absent, les arômes de houblons terreux ou floraux moyennement bas à absents. L'arôme de noisette des flocons d'avoine n'est pas indispensable. ","Sa couleur est moyennement brune à noire, sa mousse épaisse, crémeuse et persistante de couleur beige à brune. Elle peut être opaque mais dans le cas contraire, elle doit être limpide. ","A rapprocher des arômes avec une saveur allant du café torréfié léger au café crème avec des notes fruitées faibles à modérées. L'avoine et les grains torréfiés foncés apportent une certaine complexité et l'avoine peut ajouter une saveur de noisette, de céréales ou de terre. Les céréales plus foncées peuvent se combiner avec la douceur du malt pour donner une impression de chocolat au lait ou de café crème. L'amertume du houblon est moyenne avec un équilibre global penchant clairement vers le malt. La fin de bouche est moyennement douce à moyennement sèche, le diacétyle moyennement faible à nul et les saveurs de houblons modérément douces à nulles, généralement terreuses ou florales. ","Le corps est moyennement rond à rond, doux, soyeux et parfois presque gras à cause de l'avoine, souvent crémeux. La carbonatation est moyenne à moyennement élevée. ","Cet Oatmeal Stout se situe en général pour sa douceur entre le Sweet Stout et le Dry Stout. Il existe des variantes moyennement douces à relativement sèches, ainsi que des versions anglaises et américaines (les américaines ayant tendance à être plus houblonnées, moins sucrées et moins fruitées). Le degré d'amertume varie également, ainsi que les saveurs d'avoine. L'utilisation modérée des flocons d'avoine peut apporter ce côté soyeux au corps et une complexité de saveurs, tandis que l'utilisation plus massive de ces flocons peut rendre la saveur assez intense avec une sensation en bouche presque grasse, puis une sécheresse en fin de bouche voire même une légère astringence. Lors de votre évaluation, tenez compte de ces variantes dans l'interprétation du style. ","Variante des stouts pour nourrices et invalides de la fin du 18ème siècle utilisant de l'avoine en plus des grains habituels, similaire au développement des Sweet Stout avec leur utilisation du lactose. Le style a traversé plus tard une phase assez floue où certains brasseurs anglais jetaient une poignée d'avoine dans leurs bières de rinçage (voir parti-gyled) afin de produire légalement un Oatmeal Stout \"sain\" mais dans un but purement commercial. Très populaire en Angleterre entre les deux guerres mondiales, ce style a été relancé pour l'export avec l'arrivée des bières artisanales, ce qui a aidé à populariser ce style de bière version moderne par les brasseries artisanales américaines qui utilisent maintenant une quantité notable (et non plus symbolique) de flocons d'avoine. ","Des malts Pale, caramel et grillé sombre (souvent chocolat) et autres céréales. L'utilisation de flocons d'avoine ou de malt d'avoine (5 à 20% ou plus) renforce la rondeur en bouche et la complexité des saveurs. Les houblons sont principalement utilisés en amérisants. Les levures sont classiques des Ales de type anglaises. Il est possible d'utiliser du sirop ou sucres de brassage. ","La plupart des exemples de ce style sont à la croisée des chemins d'un Extra Stout Irlandais et d'un Sweet Stout avec en plus un ajout de flocons d'avoine. Plusieurs variantes existent, avec des versions douces qui tirent sur un Sweet Stout à l'avoine au lieu du lactose, et des versions plus sèches qui se rapprochent plus des Irish Extra Stout avec des notes de noisettes et des saveurs plus riches. Les deux ayant tendance à mettre l'accent sur la rondeur et la sensation en bouche. ","Anderson Valley Barney Flats Oatmeal Stout, Broughton Scottish Oatmeal Stout, Figueroa Mountain Stagecoach Stout, St-Ambroise Oatmeal Stout, Samuel Smith Oatmeal Stout, Young's Oatmeal Stout "]
["16C - Tropical Stout",1.056,1.075,1.01,1.018,59.1,78.8,30,50,5.5,8,30,40,1056,1075,1010,1018,"16C","Tropical Stout",1.7,2.2999999999999998,{"$f":"VLOOKUP(A52,Feuil2!$A$1:$H$74,2,FALSE)","v":{"$error":"#N/A"}},{"$f":"VLOOKUP(A52,Feuil2!$A$1:$H$74,3,FALSE)","v":{"$error":"#N/A"}},{"$f":"VLOOKUP(A52,Feuil2!$A$1:$H$74,4,FALSE)","v":{"$error":"#N/A"}},{"$f":"VLOOKUP(A52,Feuil2!$A$1:$H$74,5,FALSE)","v":{"$error":"#N/A"}},{"$f":"VLOOKUP(A52,Feuil2!$A$1:$H$74,6,FALSE)","v":{"$error":"#N/A"}},{"$f":"VLOOKUP(A52,Feuil2!$A$1:$H$74,7,FALSE)","v":{"$error":"#N/A"}},{"$f":"VLOOKUP(A52,Feuil2!$A$1:$H$74,8,FALSE)","v":{"$error":"#N/A"}},"16-Dark British Beer","Stout","English Stout","England",1010,"16C - Tropical Stout",1018,"A very dark, sweet, fruity, moderately strong ale with smooth roasty flavors without a burnt harshness.","Sweetness evident, moderate to high intensity. Roasted grain aromas moderate to high, and can have coffee or chocolate notes. Fruitiness medium to high. May have a molasses, licorice, dried fruit, and/or vinous aromatics. Stronger versions can have a subtle clean aroma of alcohol. Hop aroma low to none. Diacetyl low to none.","Very deep brown to black in color. Clarity usually obscured by deep color (if not opaque, should be clear). Large tan to brown head with good retention.","Quite sweet with a smooth dark grain flavors, and restrained bitterness. Roasted grain and malt character can be moderate to high with a smooth coffee or chocolate flavor, although the roast character is moderated in the balance by the sweet finish. Moderate to high fruity esters. Can have a sweet, dark rum-like quality. Little to no hop flavor. Medium-low to no diacetyl.","Medium-full to full body, often with a smooth, creamy character. May give a warming (but never hot) impression from alcohol presence. Moderate to moderately-high carbonation.","Sweetness levels can vary significantly. Surprisingly refreshing in a hot climate.","Originally high-gravity stouts brewed for tropical markets, became popular and imitated by local brewers often using local sugars and ingredients.","Similar to a sweet stout, but with more gravity. Pale and dark roasted malts and grains. Hops mostly for bitterness. May use adjuncts and sugar to boost gravity. Typically made with warm-fermented lager yeast.","Tastes like a scaled-up sweet stout with higher fruitiness. Similar to some Imperial Stouts without the high bitterness, strong/burnt roastiness, and late hops, and with lower alcohol. Much more sweet and less hoppy than American Stouts. Much sweeter and less bitter than the similar-gravity Export Stouts.","ABC Extra Stout, Dragon Stout, Jamaica Stout, Lion Stout, Royal Extra Stout",null,"Une bière très sombre, douce, fruitée, modérément forte avec des saveurs torréfiées douces et non le coté rude du brûlé. ","Une douceur flagrante, d'intensité modérée à élevée, avec des arômes de grains torréfiés modérés à élevés qui peuvent apporter des notes chocolat ou café, des arômes fruités moyen à élevés et parfois des notes de mélasse, de réglisse, de fruits secs et/ou de vin. Les versions les plus fortes peuvent avoir un arôme subtil et neutre d'alcool, par contre les arômes de houblon sont faibles ou nuls, ainsi que le diacétyle. ","Brune très foncée à noire, dont la limpidité est souvent obscurcie par une couleur profonde (si elle n'est pas opaque elle doit être translucide). Sa mousse est abondante, beige à brune, avec une bonne tenue. ","Très douce avec des saveurs harmonieuses de grains foncés et une amertume contenue, les grains torréfiés et le côté malté peuvent être modérés à élevés avec une douce saveur de café ou de chocolat, bien que l'équilibre vers le torréfié soit bien équilibré par la fin de bouche toute en douceur. Les esters fruités sont modérés à élevés, elle peut avoir une saveur douce rappelant le rhum ambré, mais peu ou pas de saveur de houblon, et le diacétyle est nul à moyennement faible. ","De corps moyen à rond, souvent avec un caractère onctueux et crémeux, elle peut laisser une impression de chaleur due à l'alcool (mais jamais brûlante). La carbonatation est modérée à modérément forte. ","Les niveaux de douceur peuvent varier de manière significative, mais elle reste étonnamment rafraîchissante sous un climat chaud. ","A l'origine ce sont des Stouts de hautes densités, brassés pour les marchés tropicaux puis devenus populaires au point d'être imités par les brasseurs locaux qui utilisent souvent des sucres et ingrédients locaux. ","Identiques à ceux d'un Sweet Stout, mais avec une densité plus importante. Des malts Pale et foncés, torréfiés, du houblon surtout en amérisant, certains ingrédients non fermentescibles ou des sucres peuvent être utilisés pour renforcer la densité. Ces Stouts sont généralement fermentés à des températures tièdes avec une levure de Lager. ","Proche en goût d'un Sweet Stout en plus corsé et avec des notes fruitées plus importantes et semblables à certains Imperials Stouts mais avec moins d'amertume et de notes torréfiées ou brûlées, moins de houblons aromatiques et un taux d'alcool inférieur. Beaucoup plus doux et moins houblonné que les Stouts Américains et beaucoup plus doux et moins amer que les Foreign Extra Stouts de densité pourtant équivalente. ","ABC Extra Stout, Dragon Stout, Jamaica Stout, Lion Stout, Royal Extra Stout "]
["16D - Foreign Extra Stout",1.056,1.075,1.01,1.018,59.1,78.8,50,70,6.3,8,30,40,1056,1075,1010,1018,"16D","Foreign Extra Stout",1.7,2.2999999999999998,{"$f":"VLOOKUP(A53,Feuil2!$A$1:$H$74,2,FALSE)","v":"50-75"},{"$f":"VLOOKUP(A53,Feuil2!$A$1:$H$74,3,FALSE)","v":"0-30"},{"$f":"VLOOKUP(A53,Feuil2!$A$1:$H$74,4,FALSE)","v":"80-160"},{"$f":"VLOOKUP(A53,Feuil2!$A$1:$H$74,5,FALSE)","v":"50-150"},{"$f":"VLOOKUP(A53,Feuil2!$A$1:$H$74,6,FALSE)","v":"50-150"},{"$f":"VLOOKUP(A53,Feuil2!$A$1:$H$74,7,FALSE)","v":"<100"},{"$f":"VLOOKUP(A53,Feuil2!$A$1:$H$74,8,FALSE)","v":"60 - 120"},"16-Dark British Beer","Stout","Irish Stout","England",1010,"16D - Foreign Extra Stout",1018,"A very dark, moderately strong, fairly dry, stout with prominent roast flavors.","Moderate to high roasted grain aromas, often with coffee, chocolate and/or lightly burnt notes. Low to medium fruitiness. May have a sweet aroma, or molasses, licorice, dried fruit, and/or vinous aromatics. Stronger versions can have a subtle, clean aroma of alcohol. Hop aroma moderately low to none, can be earthy, herbal or floral. Diacetyl low to none.","Very deep brown to black in color. Clarity usually obscured by deep color (if not opaque, should be clear). Large tan to brown head with good retention.","Moderate to high roasted grain and malt flavor with a coffee, chocolate, or lightly burnt grain character, although without a sharp bite. Moderately dry. Low to medium esters. Medium to high bitterness. Moderate to no hop flavor, can be earthy, herbal, or floral. Diacetyl medium-low to none.","Medium-full to full body, often with a smooth, sometimes creamy character. May give a warming (but never hot) impression from alcohol presence. Moderate to moderately-high carbonation.","Also known as Foreign Stout, Export Stout, Foreign Export Stout. Historic versions (before WWI, at least) had the same OG as domestic Extra Stouts, but had a higher ABV because it had a long secondary with Brettanomyces chewing away at it. The difference between domestic and foreign versions were the hopping and length of maturation. ","Stronger stouts brewed for the export market today, but with a history stretching back to the 18th and 19th centuries when they were more heavily-hopped versions of stronger export stouts. Guinness Foreign Extra Stout (originally, West India Porter, later Foreign Extra Double Stout) was first brewed in 1801 according to Guinness with “extra hops to give it a distinctive taste and a longer shelf life in hot weather, this is brewed [today] in Africa, Asia and the Caribbean. It [currently] makes up 40% of all the Guinness brewed around the world.” ","Pale and dark roasted malts and grains, historically also could have used brown and amber malts. Hops mostly for bitterness, typically English varieties. May use adjuncts and sugar to boost gravity.","Similar in balance to an Irish Extra Stout, but with more alcohol. Not as big or intense as a Russian Imperial Stout. Lacking the strong bitterness and high late hops of American Stouts. Similar gravity as Tropical Stout, but with a drier finish, higher bitterness, and less esters.","Coopers Best Extra Stout, Guinness Foreign Extra Stout, The Kernel Export Stout, Ridgeway Foreign Export Stout, Southwark Old Stout",null,"Stout très noir, modérément fort, assez sec avec une dominante de saveurs torréfiées. ","Les arômes de céréales torréfiées sont modérés à élevés avec souvent des notes de café, de chocolat et/ou légèrement brûlées, et des notes fruitées basses à modérées. Ce stout peut présenter des arômes sucrés, de mélasse, de réglisse, de fruits secs, et/ou de vin. Les versions plus fortes peuvent avoir de nets et subtils arômes d'alcool. Les arômes de houblon modérés à absents peuvent être terreux, herbeux ou floraux et le diacétyle est faible à nul. ","De couleur brune très profonde à noire, sa limpidité est souvent obscurcie par une couleur profonde, mais si pas opaque, elle doit être limpide. La mousse beige à brune est abondante et avec une bonne tenue. ","Avec surtout des saveurs modérées à élevées de céréales et de malts torréfiés avec des notes de café, de chocolat, ou un caractère de céréales légèrement brûlées mais sans agressivité, elle est modérément sèche. Les esters sont faibles à moyens, l'amertume moyenne à élevée et les saveurs de houblon absentes ou modérées, plutôt sur le terreux, herbeux ou floral. Le diacétyle est moyennement élevé à nul. ","Avec un corps moyen plein à plein on ressent souvent un profil onctueux et parfois crémeux. La présence d'alcool est douce mais jamais brûlante, et la carbonatation modérée à modérément élevée. ","Il est parfois aussi appelé Foreign Stout, Export Stout, Foreign Export Stout. Les versions historiques (avant la première guerre mondiale du moins) ont la même densité que les Extra Stouts destinés au marché local mais avec un taux d'alcool plus élevé dû à une plus longue fermentation secondaire pendant laquelle les Brettanomyces peuvent mâchouiller tranquillement les sucres résiduels. Les différences entre les versions locales et internationales étaient alors le houblonnage et une plus longue période de maturation. ","Ces versions fortes des Stouts sont aujourd'hui brassées pour l'export, mais avec une histoire qui remonte aux 18ème et 19ème siècles quand ils étaient déjà alors des versions plus fortement houblonnées et alcoolisées de Stouts destinés à être exportées. La Guinness Foreign Extra Stout (à l'origine \"West India Porter\" puis plus tard \"Foreign Extra Double Stout\") fut tout d'abord, selon Guinness, brassée pour la première fois en 1801 avec un \"houblonnage supplémentaire pour lui donner un goût distinctif et une durée de vie plus longue par temps chaud, Elle est [aujourd'hui] brassée en Afrique, en Asie et dans les Caraïbes et représente [actuellement] 40% des Guinness brassées dans le monde entier\". ","Des malts Pale, foncés voire torréfiés et des céréales crues mais on utilisait peut être aussi historiquement des malts bruns ou ambrés. Les houblons sont surtout là pour l'amertume avec généralement des variétés anglaises. Des ingrédients supplémentaires et du sucre peuvent être parfois ajoutés pour renforcer la densité. ","D'équilibre proche d'un Extra Stout Irlandais mais avec un taux d'alcool plus important, pas aussi riche et intense qu'un Russian Imperial Stout et en dessous de la force de l'amertume et des houblonnages tardifs des Stouts américains. De densité similaire à un Tropical Stout mais avec une fin de bouche plus sèche, une amertume plus élevée, et moins d'esters. ","Coopers Best Extra Stout, Guinness Foreign Extra Stout, The Kernel Export Stout, Ridgeway Foreign Export Stout, Southwark Old Stout "]
["17A - British Strong Ale",1.0549999999999999,1.08,1.0149999999999999,1.022,15.76,43.339999999999996,30,60,5.5,8,8,22,1055,1080,1015,1022,"17A","British Strong Ale",1.5,2.2999999999999998,{"$f":"VLOOKUP(A54,Feuil2!$A$1:$H$74,2,FALSE)","v":{"$error":"#N/A"}},{"$f":"VLOOKUP(A54,Feuil2!$A$1:$H$74,3,FALSE)","v":{"$error":"#N/A"}},{"$f":"VLOOKUP(A54,Feuil2!$A$1:$H$74,4,FALSE)","v":{"$error":"#N/A"}},{"$f":"VLOOKUP(A54,Feuil2!$A$1:$H$74,5,FALSE)","v":{"$error":"#N/A"}},{"$f":"VLOOKUP(A54,Feuil2!$A$1:$H$74,6,FALSE)","v":{"$error":"#N/A"}},{"$f":"VLOOKUP(A54,Feuil2!$A$1:$H$74,7,FALSE)","v":{"$error":"#N/A"}},{"$f":"VLOOKUP(A54,Feuil2!$A$1:$H$74,8,FALSE)","v":{"$error":"#N/A"}},"17-Strong British Ale","Strong Ale","Strong Ale","England",1015,"17A - British Strong Ale",1022,"An ale of respectable alcoholic strength, traditionally bottled-conditioned and cellared. Can have a wide range of interpretations, but most will have varying degrees of malty richness, late hops and bitterness, fruity esters, and alcohol warmth. Judges should allow for a significant range in character, as long as the beer is within the alcohol strength range and has an interesting ‘British’ character, it likely fits the style. The malt and adjunct flavors and intensity can vary widely, but any combination should result in an agreeable palate experience.","Malty-sweet with fruity esters, often with a complex blend of dried-fruit, caramel, nuts, toffee, and/or other specialty malt aromas. Some alcohol notes are acceptable, but shouldn’t be hot or solventy. Hop aromas can vary widely, but typically have earthy, resiny, fruity, and/or floral notes. The balance can vary widely, but most examples will have a blend of malt, fruit, hops, and alcohol in varying intensities.","Deep gold to dark reddish-brown color (many are fairly dark). Generally clear, although darker versions may be almost opaque. Moderate to low cream- to light tan-colored head; average retention.","Medium to high malt character often rich with nutty, toffee, or caramel flavors. Light chocolate notes are sometimes found in darker beers. May have interesting flavor complexity from brewing sugars. Balance is often malty, but may be well hopped, which affects the impression of maltiness. Moderate fruity esters are common, often with a dark fruit or dried fruit character. The finish may vary from medium dry to somewhat sweet. Alcoholic strength should be evident, though not overwhelming. Diacetyl low to none, and is generally not desirable. ","Medium to full, chewy body. Alcohol warmth is often evident and always welcome. Low to moderate carbonation. Smooth texture.","As an entry category more than a style, the strength and character of examples can vary widely. Fits in the style space between normal gravity beers (strong bitters, brown ales, English porters) and barleywines. Can include pale malty-hoppy beers, English winter warmers, strong dark milds, smaller Burton ales, and other unique beers in the general gravity range that don’t fit other categories. Traditionally a bottle-conditioned product suitable for cellaring.","The heritage varies since this category generally reflects a grouping of unrelated minor styles with limited production. Some are historical recreations while others are modern. Some directly descend from older styles such as Burton ales, while others maintain a historical connection with older beers. As a grouping, the notion is relatively modern since beers of this strength category would not have been abnormal in past centuries. Do not use this category grouping to infer historical relationships between examples; this is almost a modern British specialty category where the ‘special’ attribute is alcohol level. ","Grists vary, often based on pale malt with caramel and specialty malts. Some darker examples suggest that dark malts (e.g., chocolate, black malt) may be appropriate, though sparingly so as to avoid an overly roasted character. Sugary adjuncts are common, as are starchy adjuncts (maize, flaked barley, wheat). Finishing hops are traditionally English. ","Significant overlap in gravity with old ales, but not having a stale or aged character. A wide range of interpretations is possible. Should not be as rich or strong as an English Barleywine. Stronger than the stronger everyday beers (strong bitters, brown ales, porters). More specialty malt and/or sugar character than American Strong Ales.","Fuller’s 1845, Harvey’s Elizabethan Ale, J.W. Lees Manchester Star, Samuel Smith’s Winter Welcome, Young's Winter Warmer",null,"Cette bière à teneur en alcool respectable est traditionnellement conditionnée en bouteille et vieillie en cave. Elle peut présenter une très large variété d'interprétations, mais la plupart jouent surtout sur la complexité du malt, les esters fruités, les houblons aromatiques, l'amertume, et la chaleur d'alcool. Les juges devront tolérer une large gamme de variations : tant que la bière est dans une plage de degré d'alcool acceptable et présente un caractère « british » intéressant, elle sera jugée conforme. L'intensité des saveurs du malt et des autres ingrédients peut varier, mais toutes doivent se traduire par une agréable sensation en bouche. ","Plutôt sucrés, maltés, avec des esters fruités et souvent un mélange complexe de fruits secs, caramel, noix, toffee et/ou autres arômes de malts spéciaux. Quelques notes d'alcool sont acceptables, mais ne doivent pas être brûlantes ni rappeler le solvant. Les arômes de houblon peuvent varier considérablement et sont généralement terreux, résineux, fruités  et/ou avec des notes florales. L'équilibre peut varier avec  un mélange de malts, fruits, houblons et alcool dans des intensités variables. ","De couleur dorée à rouge-brun foncée (souvent  assez foncées), elle est généralement limpide bien que les versions plus foncées puissent être presque opaque. La mousse est modérée à faible d'apparence crème à beige claire et sa persistance est moyenne. ","Des saveurs maltées, moyennes à puissantes, souvent riches avec de la noix, du caramel ou du toffee parfois accompagnées de notes de chocolat légères dans les bières les plus foncées. Elle peut avoir une complexité de saveur intéressante grâce aux sucres ajoutés au brassage. L'équilibre est souvent porté sur le malt mais peut aussi être bien houblonné ce qui peut atténuer la première impression maltée. Des esters fruités modérés sont fréquents, souvent avec des notes de fruits noirs ou un caractère de fruits secs. La fin de bouche peut varier de moyennement sèche à un peu sucrée. Le taux d'alcool doit être bien présent, sans écraser le reste. Un diacétyle parfois faible ou nul mais généralement peu souhaitable. ","Le corps est moyen à rond, moelleux. La chaleur de l'alcool souvent flagrante est toujours bienvenue. La carbonatation faible à modéré et la texture douce. ","Plus une sous-catégorie qu'un style, la force et les caractéristiques des Ales Fortes Anglaises peuvent varier considérablement. Elles se situent dans l'intervalle entre les bières de densité classique (Strong Bitters, Brown Ales, Porter Anglais) et les Barleywines. Elle peut inclure des bières blondes houblonnées/maltées, des Dark Mild Anglais foncés et chaleureux, des Burton Ales moins chargées et des bières uniques correspondant à cette fourchette de densité mais qui ne rentrent dans aucune autre catégorie. Traditionnellement un produit en bouteille conditionné et adapté à une garde en cave. ","L'héritage est variable car cette catégorie reflète généralement un regroupement de styles mineurs sans rapport les uns avec les autres, et avec des productions limitées. Certains sont des reproductions historiques tandis que d'autres sont plus modernes. Certains descendent directement des styles plus anciens tels que les Burton Ales, tandis que d'autres sont en rapport avec des bières historiques encore plus anciennes. En tant que regroupement, la notion est relativement moderne car les bières fortes de cette catégorie n'auraient pas été anormales dans les siècles passés. N'utilisez pas le regroupement de cette catégorie cependant pour en déduire des relations historiques entre les différents exemples ; c'est presque une catégorie moderne de bières \"spéciales\" britanniques où l'attribut «spécial» concerne surtout le taux de l'alcool. ","La composition est variable mais souvent basée sur du malt Pale avec des malts caramels et spéciaux. Quelques exemples plus foncés suggèrent que des malts sombres (par exemple du malt chocolat ou noir) peuvent être appropriés mais utilisés avec parcimonie afin d'éviter le côté trop torréfié. Des ajouts de sucres sont classiques, comme le sont les ingrédients supplémentaires en flocons à base d'amidon (maïs, orge, blé). Les houblons aromatiques sont bien sûr traditionnellement anglais. ","Il y a un chevauchement important évident avec les densités des Old Ales (vieilles bières), mais sans présenter le caractère oxydé ou vieilli. Un large éventail d'interprétations est possible mais elle ne doit pas être aussi riche ou forte qu'un Barleywine anglais. Elles sont plus fortes que les versions les plus fortes des bières de tous les jours (Strong Bitters, Brown Ales ou Porters) et plus de notes de malts et/ou sucres spéciaux que Ales fortes américaines. ","Fuller’s 1845, Harvey’s Elizabethan Ale, J.W. Lees Manchester Star, Samuel Smith’s Winter Welcome, Young's Winter Warmer Tags: high-strength, amber-color, top-fermented, british-isles, traditional-style, strong-ale-family, malty "]
["17B - Old Ale",1.0549999999999999,1.0880000000000001,1.0149999999999999,1.022,19.7,43.339999999999996,30,60,5.5,9,10,22,1055,1088,1015,1022,"17B","Old Ale",1.5,2.2999999999999998,{"$f":"VLOOKUP(A55,Feuil2!$A$1:$H$74,2,FALSE)","v":"50-100"},{"$f":"VLOOKUP(A55,Feuil2!$A$1:$H$74,3,FALSE)","v":"0-30"},{"$f":"VLOOKUP(A55,Feuil2!$A$1:$H$74,4,FALSE)","v":"40-120"},{"$f":"VLOOKUP(A55,Feuil2!$A$1:$H$74,5,FALSE)","v":"50-100"},{"$f":"VLOOKUP(A55,Feuil2!$A$1:$H$74,6,FALSE)","v":"50-150"},{"$f":"VLOOKUP(A55,Feuil2!$A$1:$H$74,7,FALSE)","v":"<100"},{"$f":"VLOOKUP(A55,Feuil2!$A$1:$H$74,8,FALSE)","v":"0-60 "},"17-Strong British Ale","Strong Ale","Strong Ale","England",1015,"17B - Old Ale",1022,"An ale of moderate to fairly significant alcoholic strength, bigger than standard beers, though usually not as strong or rich as barleywine. Often tilted towards a maltier balance. “It should be a warming beer of the type that is best drunk in half pints by a warm fire on a cold winter’s night” – Michael Jackson.","Malty-sweet with fruity esters, often with a complex blend of dried-fruit, vinous, caramelly, molasses, nutty, toffee, light treacle, and/or other specialty malt aromas. Some alcohol and oxidative notes are acceptable, akin to those found in Sherry or Port. Hop aromas not usually present due to extended aging.","Light amber to very dark reddish-brown color (most are fairly dark). Age and oxidation may darken the beer further. May be almost opaque (if not, should be clear). Moderate to low cream- to light tan-colored head; may be adversely affected by alcohol and age.","Medium to high malt character with a luscious malt complexity, often with nutty, caramelly and/or molasses-like flavors. Light chocolate or roasted malt flavors are optional, but should never be prominent. Balance is often malty-sweet, but may be well hopped (the impression of bitterness often depends on amount of aging). Moderate to high fruity esters are common, and may take on a dried-fruit or vinous character. The finish may vary from dry to somewhat sweet. Extended aging may contribute oxidative flavors similar to a fine old Sherry, Port or Madeira. Alcoholic strength should be evident, though not overwhelming. Diacetyl low to none. Some wood-aged or blended versions may have a lactic or Brettanomyces character; but this is optional and should not be too strong. Any acidity or tannin from age should be well-integrated and contribute to complexity in the flavor profile, not be a dominant experience.","Medium to full, chewy body, although older examples may be lower in body due to continued attenuation during conditioning. Alcohol warmth is often evident and always welcome. Low to moderate carbonation, depending on age and conditioning. Light acidity may be present, as well as some tannin if wood-aged; both are optional.","Strength and character varies widely. The predominant defining quality for this style is the impression of age, which can manifest itself in different ways (complexity, lactic, Brett, oxidation, leather, vinous qualities, etc.). Even if these qualities are otherwise faults, if the resulting character of the beer is still pleasantly drinkable and complex, then those characteristics are acceptable. In no way should those allowable characteristics be interpreted as making an undrinkably off beer as somehow in style. Old Peculier is a fairly unique type of beer that is quite different than other Old Ales.","Historically, an aged ale used as stock ales for blending or enjoyed at full strength (stale or stock refers to beers that were aged or stored for a significant period of time). There are at least two definite types in Britain today, weaker draught ones that are similar aged milds of around 4.5%, and stronger ones that are often 6-8% or more.","Composition varies, although generally similar to British Strong Ales. The age character is the biggest driver of the final style profile, which is more handling than brewing. May be aged in wood, but should not have a strong wood character.","Roughly overlapping the British Strong Ale and the lower end of the English Barleywine styles, but always having an aged quality. The distinction between an Old Ale and a Barleywine is somewhat arbitrary above 7% ABV, and generally means having a more significant aged quality (particularly from wood). Barleywines tend to develop more of a ‘mature’ quality, while Old Ales can show more of the barrel qualities (lactic, Brett, vinous, etc.).","Burton Bridge Olde Expensive, Gale’s Prize Old Ale, Greene King Strong Suffolk Ale, Marston Owd Roger, Theakston Old Peculier",null,"Une bière au degré d'alcool modéré à assez important, plus forte que les bières standard mais généralement pas aussi forte ou riche qu'un Barleywine. Souvent encline à un équilibre plus malté, \"ce doit être une bière qui réchauffe, ce type de bière qui est plus agréable servi en petit verre autour d'un feu par une froide nuit d'hiver\" - Michael Jackson. ","Doux et malté avec des esters fruités et souvent un mélange complexe de fruits secs, vin, caramel, mélasse, noisette, toffee, sirop léger et/ou d'autres arômes de malts spéciaux. Quelques notes d'alcool et d'oxydation sont acceptables, semblables à celles trouvées dans du Sherry/Porto. Les arômes de houblons sont moins présents voire absents en raison du vieillissement prolongé. ","De couleur ambrée-clair à rouge-brun très foncée (la plupart sont assez sombres), le vieillissement et l'oxydation peuvent la rendre plus sombre encore. Elle peut être presque opaque (et si non, elle doit être limpide). Sa mousse est modérée à faible, de couleur crème à beige claire et peut être affaiblie par l'alcool et le vieillissement. ","Un profil malté moyen à élevé avec une savoureuse complexité des malts et souvent des notes de noisette, caramel et/ou rappelant la mélasse. De légères saveurs de malt chocolat ou de malt torréfié sont facultatives et ne doivent jamais être trop prédominantes. L'équilibre est souvent porté sur le malté-sucré mais peut aussi être bien houblonné (l'impression d'amertume dépend souvent de la durée du vieillissement). Des esters fruités modérés à élevés sont communs et peuvent prendre des goûts de fruits secs ou un caractère vineux. La fin de bouche peut varier de sèche à un peu sucrée. Le vieillissement prolongé peut contribuer à des saveurs d'oxydation semblables à un bon vieux Sherry, du Porto ou du Madère. L'alcool doit être présent mais pas prédominant et le diacétyle faible ou nul. Certaines versions assemblées ou vieillies en barriques peuvent avoir un côté lactique ou Bretté; mais c'est facultatif et ne doit pas être trop présent. Toute acidité ou caractère tanique dû à l'âge doit être bien intégré et contribuer à la complexité du profil de saveurs sans devenir la saveur dominante. ","Le corps moyen à rond en bouche, moelleux, bien que les exemples les plus âgés puissent avoir un corps plus léger en raison de l'atténuation qui s'est poursuivie en bouteille pendant la garde. La chaleur de l'alcool est souvent bien présente et toujours bienvenue. La carbonatation est faible à modérée, selon le vieillissement et le conditionnement. Une légère acidité peut être ressentie, ainsi que certains tanins si elle est vieillie en fûts de bois : les deux étant facultatifs. ","La force et les caractéristiques de ces bières sont très variables. Si une nature prédominante devait être définie pour ce style se serait l'impression de bière vieillie, qui peut se manifester de différentes façons : complexité, lactique, Bretts, oxydation, cuir, sensations vineuses, etc... Même si ces caractéristiques peuvent être dans d'autres cas des défauts, si la bière qui en résulte est toujours agréable à boire et complexe, alors elles deviennent cette fois acceptables. En aucun cas, ces défauts tolérés ne doivent être interprétés comme pouvant faire d'une bière imbuvable quelque chose d'acceptable dans ce style. A noter que la bière Old Peculier de la brasserie Theakston en Angleterre est un exemple assez unique de bière qui est très différent des autres Old Ales. ","Historiquement, il s'agissait d'une bière vieillie utilisée comme bière de réserve pour être assemblée ou alors appréciée à pleine puissance (\"vieille\" ou \"de réserve2 se réfère à des bières qui étaient vieillies ou stockées pendant une assez longue période). Il y a au moins deux types différents définis en Grande-Bretagne aujourd'hui : celle à la pression, légère qui ressemblent à des Milds vieillies, autour de 4,5%, et de plus fortes qui sont souvent autour des 6-8% ou plus. ","La composition varie, bien qu'elle soit généralement proche de celle des British Strong Ales. Le côté vieilli est le plus important fil conducteur du profil final de ce style, et correspond plus à de la manipulation qu'au brassage. Elle peut être vieillie en fût, mais les caractéristiques apportées par le bois ne doivent pas être trop présentes. ","Bien à cheval entre les styles des Ale Fortes Anglaises et la limite inférieure des BW anglais, mais en ayant toujours ce profil vieilli. La distinction entre une Old Ale et un Barleywine est quelque peu arbitraire au-dessus de 7% d'alcool, et signifie généralement que la première a un caractère vieilli plus présent (en particulier à cause du bois). Les BW ont tendance à développer un profil plus « mûr », tandis que les Old Ales peuvent révéler les caractéristiques des bières vieillies en barriques (lactique, Brett, vineux, etc.). ","Burton Bridge Olde Expensive, Gale’s Prize Old Ale, Greene King Strong Suffolk Ale, Marston Owd Roger, Theakston Old Peculier "]
["17C - Wee Heavy",1.07,1.1299999999999999,1.018,1.04,27.58,49.25,17,35,6.5,10,14,25,1070,1130,1018,1040,"17C","Wee Heavy",1.5,2.2999999999999998,{"$f":"VLOOKUP(A56,Feuil2!$A$1:$H$74,2,FALSE)","v":"50-100"},{"$f":"VLOOKUP(A56,Feuil2!$A$1:$H$74,3,FALSE)","v":"0-30"},{"$f":"VLOOKUP(A56,Feuil2!$A$1:$H$74,4,FALSE)","v":"40-120"},{"$f":"VLOOKUP(A56,Feuil2!$A$1:$H$74,5,FALSE)","v":"50-100"},{"$f":"VLOOKUP(A56,Feuil2!$A$1:$H$74,6,FALSE)","v":"50-150"},{"$f":"VLOOKUP(A56,Feuil2!$A$1:$H$74,7,FALSE)","v":"<100"},{"$f":"VLOOKUP(A56,Feuil2!$A$1:$H$74,8,FALSE)","v":"0-60 "},"17-Strong British Ale","Strong Ale",null,"Scotland",1018,"17C - Wee Heavy",1040,"Rich, malty, dextrinous, and usually caramel-sweet, these beers can give an impression that is suggestive of a dessert. Complex secondary malt and alcohol flavors prevent a one-dimensional quality. Strength and maltiness can vary, but should not be cloying or syrupy.","Deeply malty, with a strong caramel component. Lightly smoky secondary aromas may also be present, adding complexity; peat smoke is inappropriate. Diacetyl should be low to none. Low to moderate esters and alcohol are often present in stronger versions. Hops are very low to none, and can be slightly earthy or floral.","Light copper to dark brown color, often with deep ruby highlights. Clear. Usually has a large tan head, which may not persist. Legs may be evident in stronger versions.","Richly malty with significant caramel (particularly in stronger versions). Hints of roasted malt may be present (sometimes perceived as a faint smoke character), as may some nutty character, all of which may last into the finish. Peat smoke is inappropriate. Hop flavors and bitterness are low to medium-low, so the malt presence should dominate the balance. Diacetyl should be low to none. Low to moderate esters and alcohol are usually present. Esters may suggest plums, raisins or dried fruit. The palate is usually full and sweet, but the finish may be sweet to medium-dry, sometimes with a light roasty-grainy note.","Medium-full to full-bodied, with some versions (but not all) having a thick, chewy viscosity. A smooth, alcoholic warmth is usually present and is quite welcome since it balances the malty sweetness. Moderate carbonation.","Also known as “strong Scotch ale.” The term “wee heavy” means “small strong” and traces to the beer that made the term famous, Fowler’s Wee Heavy, a 12 Guinea Ale. Historically, the strongest beer from a Scottish ale parti-gyle.","More related to historical brews than modern lower-strength Scottish ales, these beers have their roots in the strong ales of the 1700s and 1800s, although formulations and methods have changed. A premium product, often produced for export. Modern versions have lower starting and finishing gravities than their historical ancestors.","Well-modified pale malt, with roasted barley for color. May use some crystal malt for color adjustment. Slight smoke character may be present in some versions, but derives from roasted grains or from the boil. Peated malt is absolutely not traditional.","Somewhat similar to an English Barleywine.","Belhaven Wee Heavy, Gordon Highland Scotch Ale, Inveralmond Blackfriar, McEwan's Scotch Ale, Orkney Skull Splitter, Traquair House Ale",null,"Une bière riche, maltée, sucrée et généralement sur le caramel doux au point que ces bières peuvent faire penser à un dessert. Des saveurs secondaires complexes de malt et d'alcool évitent de donner l'impression d'une bière trop linéaire. Le taux d'alcool et le coté malté peuvent varier, mais ne doivent jamais être écœurants ou sirupeux. ","Profondément malté avec une forte composante caramel, des arômes secondaires légèrement fumés peuvent également être présents, ajoutant de la complexité, mais le fumé de la tourbe n'est cohérent avec ce style. Le diacétyle doit être faible ou nul, les esters et l'alcool faibles à modérés sont souvent présents dans les versions les plus fortes. Le houblon est très faible ou nul et peut être légèrement terreux ou floral. ","De couleur cuivrée claire à brun foncé, avec souvent des reflets rubis profond, il est limpide sous une mousse le plus souvent beige, abondante mais qui peut ne pas persister. Les jambes d'alcool (ou larmes) le long du verre peuvent être plus évidentes dans les versions les plus fortes. ","Richement maltée avec des notes de caramel bien présentes (en particulier dans les versions plus fortes), des nuances de malt torréfié peuvent être présentes (parfois perçues comme un caractère fumé faible), ainsi que de noisette, qui peuvent durer jusqu'en fin de bouche. Le coté fumé de type tourbé est inapproprié pour ce style. Les saveurs de houblons et l'amertume sont faibles à moyennement basses si bien que la présence de malt doit dominer l'équilibre. Le diacétyle doit être faible ou nul, mais des esters et alcool faibles à modérés sont habituellement présents. Si présents, les esters peuvent suggérer le pruneau, le raisin ou les fruits secs. La sensation en bouche est généralement ronde et douce, mais la fin de bouche peut être douce à moyennement sèche, avec parfois une note légère de céréales torréfiées. ","Un corps moyennement rond à rond, avec dans certaines versions une viscosité dense et moelleuse. Une onctueuse chaleur d'alcool est souvent présente et est la bienvenue puisqu'elle contrebalance la douceur maltée. La carbonatation est, elle, modérée. ","Aussi connues sous le nom de \"Strong Scotch Ale\", le terme \"Wee Heavy\" signifie \"petit[Notes 1] costaud\" et provient de la bière qui a rendu cette appellation célèbre : la \"Fowlers Wee Heavy\", une Ale à 12 Guinea[Notes 2]. Historiquement, il est la bière la plus forte issue des 1er jus d'un brassin de Scottish Ales. ","Plus liées aux bières historiques qu'aux bières écossaises modernes moins fortes, ces bières plongent leurs origines dans les ales fortes du 18 ème et 19 ème siècle, bien que les recettes et les méthodes aient changé.  Les versions modernes ont des densités initiales et finales plus faibles que leurs ancêtres historiques et il s'agit aujourd'hui d'un produit haut de gamme, souvent élaboré pour l'exportation. ","Des malts Pale bien modifiés avec de l'orge torréfié pour la couleur mais une utilisation de malt crystal est possible pour ajuster la couleur. Un profil de fumé léger peut être présent dans certaines versions, mais provenant uniquement de grains torréfiés ou de l'ébullition. Le Malt tourbé n'est absolument pas traditionnel. ","Assez semblable à un Barleywine Anglais. ","Belhaven Wee Heavy, Gordon Highland Scotch Ale, Inveralmond Blackfriar, McEwan's Scotch Ale, Orkney Skull Splitter, Traquair House Ale "]
["17D - English Barleywine",1.08,1.1200000000000001,1.018,1.03,15.76,43.339999999999996,35,70,8,12,8,22,1080,1120,1018,1030,"17D","English Barleywine",1.5,2.2999999999999998,{"$f":"VLOOKUP(A57,Feuil2!$A$1:$H$74,2,FALSE)","v":"50-100"},{"$f":"VLOOKUP(A57,Feuil2!$A$1:$H$74,3,FALSE)","v":"0-30"},{"$f":"VLOOKUP(A57,Feuil2!$A$1:$H$74,4,FALSE)","v":"40-120"},{"$f":"VLOOKUP(A57,Feuil2!$A$1:$H$74,5,FALSE)","v":"50-100"},{"$f":"VLOOKUP(A57,Feuil2!$A$1:$H$74,6,FALSE)","v":"50-150"},{"$f":"VLOOKUP(A57,Feuil2!$A$1:$H$74,7,FALSE)","v":"<100"},{"$f":"VLOOKUP(A57,Feuil2!$A$1:$H$74,8,FALSE)","v":"0-60 "},"17-Strong British Ale","Strong Ale","Barleywine","England",1018,"17D - English Barleywine",1030,"A showcase of malty richness and complex, intense flavors. Chewy and rich in body, with warming alcohol and a pleasant fruity or hoppy interest. When aged, it can take on port-like flavors. A wintertime sipper.","Very rich and strongly malty, often with a caramel-like aroma in darker versions or a light toffee character in paler versions. May have moderate to strong fruitiness, often with a dark- or dried-fruit character, particularly in dark versions. The hop aroma may range from mild to assertive, and is typically floral, earthy, or marmalade-like. Alcohol aromatics may be low to moderate, but are soft and rounded. The intensity of these aromatics often subsides with age. The aroma may have a rich character including bready, toasty, toffee, and/or molasses notes. Aged versions may have a sherry-like quality, possibly vinous or port-like aromatics, and generally more muted malt aromas.","Color may range from rich gold to very dark amber or even dark brown (often has ruby highlights, but should not be opaque). Low to moderate off-white head; may have low head retention. May be cloudy with chill haze at cooler temperatures, but generally clears to good to brilliant clarity as it warms. The color may appear to have great depth, as if viewed through a thick glass lens. High alcohol and viscosity may be visible in “legs” when beer is swirled in a glass.","Strong, intense, complex, multi-layered malt flavors ranging from bready, toffee, and biscuity in paler versions through nutty, deep toast, dark caramel, and/or molasses in darker versions. Moderate to high malty sweetness on the palate, although the finish may be moderately sweet to moderately dry (depending on aging). Some oxidative or vinous flavors may be present, and often complex alcohol flavors should be evident. Moderate to fairly high fruitiness, often with a dark- or dried-fruit character. Hop bitterness may range from just enough for balance to a firm presence; balance therefore ranges from malty to somewhat bitter. Pale versions are often more bitter, better attenuated, and might show more hop character than darker versions; however, all versions are malty in the balance. Low to moderately high hop flavor, often floral, earthy, or marmalade-like English varieties.","Full-bodied and chewy, with a velvety, luscious texture (although the body may decline with long conditioning). A smooth warmth from aged alcohol should be present. Carbonation may be low to moderate, depending on age and conditioning.","The richest and strongest of modern English Ales. The character of these ales can change significantly over time; both young and old versions should be appreciated for what they are. The malt profile can vary widely; not all examples will have all possible flavors or aromas. Paler varieties won’t have the caramel and richer malt flavors, nor will they typically have the darker dried fruits – don’t expect flavors and aromatics that are impossible from a beer of that color. Typically written as “Barley Wine” in the UK, and “Barleywine” in the US.","Strong ales of various formulations have long been brewed in England, and were known by several names. The modern barleywine traces back to Bass No. 1, which was first called a barleywine in 1872. Barleywines were darker beers until Tennant (now Whitbread) first produced Gold Label, a gold-colored barleywine in 1951. Usually the strongest ale offered by a brewery, and in recent years many commercial examples are now vintage-dated and offered as a limited-release winter seasonal specialty. The original barleywine style that inspired derivative variations in Belgium, the United States, and elsewhere in the world.","High-quality, well-modified pale malt should form the backbone of the grist, with judicious amounts of caramel malts. Dark malts should be used with great restraint, if at all, as most of the color arises from a lengthy boil. English hops such as Northdown, Target, East Kent Goldings and Fuggles are typical. Characterful British yeast.","Although often a hoppy beer, the English Barleywine places less emphasis on hop character than the American Barleywine and features English hops. English versions can be darker, maltier, fruitier, and feature richer specialty malt flavors than American Barleywines. Has some overlap British Old Ale on the lower end, but generally does not have the vinous qualities of age; rather, it tends to display the mature, elegant signs of age. ","Adnams Tally-Ho, Burton Bridge Thomas Sykes Old Ale, Coniston No. 9 Barley Wine, Fuller’s Golden Pride, J.W. Lee’s Vintage Harvest Ale, Robinson’s Old Tom",null,"Une belle représentation de richesse des malts et de saveurs intenses et complexes. Son corps est riche et moelleux, avec des notes chaudes d'alcool et un agréable coté fruité ou houblonné. Lorsqu'il est vieilli, il peut prendre des saveurs de Porto.","Très riche et fortement malté, avec souvent un arôme qui rappelle le caramel dans les versions foncées ou un caractère léger de toffee dans les versions claires. Il peut avoir un arôme fruité modéré à fort, souvent avec un côté fruits secs ou noirs (mûre, cassis), surtout les versions foncées. L'arôme de houblon peut varier de léger à bien affirmé et est floral, terreux ou s'approcher de la marmelade. Les notes d'alcool sont faibles à modérées, douces et rondes. L'intensité des composés aromatiques disparaît souvent avec le vieillissement. L'arôme peut avoir un caractère riche de pain, toasté,  caramel et/ou des notes de mélasse. Les versions vieillies peuvent évoquer le Sherry, ou des notes vineux, de porto, etc., et des arômes de malt généralement plus atténués. ","La couleur peut varier du doré profond à ambré ou même brun foncé (souvent des reflets rubis mais jamais opaque). La mousse est blanc-cassé, faible à modérée et peut avoir une faible persistance. Pouvant être légèrement trouble à basse température, elle s'éclaircit pour être limpide à brillante à mesure qu'elle se réchauffe. La couleur peut avoir des reflets profonds comme si on regardait à travers un objectif. Le fort taux d’alcool et la viscosité peuvent laisser des \"jambes\" ou \"larmes\" d'alcool sur le verre. ","Les saveurs de malts sont puissantes, intenses, complexes, sur plusieurs couches allant du pain au caramel et biscuit en passant la noisette dans les versions claires, jusqu'au torréfié intense, caramel foncé et/ou la mélasse dans les versions les plus foncées. La douceur maltée en bouche modérée à élevée, bien que la fin de bouche puisse être modérément douce à modérément sèche (selon le vieillissement). Certaines saveurs d'oxydation ou vineuses peuvent être présentes mais souvent aussi des saveurs d'alcool complexe. Le côté fruité est modéré à assez élevé avec souvent des caractères de fruits secs ou noirs. L'amertume du houblon peut aller de juste assez pour l'équilibre à une présence plus soutenue ; l'équilibre se situe donc entre malté et quelque peu amer. Les versions claires sont souvent plus amères, mieux atténuées et peuvent présenter une saveur de houblons plus prononcée que les versions plus foncées ; cependant, toutes les variantes ont un équilibre de saveurs portant plutôt sur les malts. Ces saveurs de houblons faibles à modérément élevées sont de variétés anglaises, souvent florales, terreuses, ou rappellent la marmelade. ","Un corps rond et moelleux avec un velouté et une texture savoureuse (bien que le corps puisse diminuer avec le vieillissement). Une chaleur douce d'alcool vieilli devrait être présente et la carbonatation faible à modérée selon l'âge et le conditionnement. ","La plus riche et la plus puissante des bières anglaises modernes avec un caractère qui peut changer de manière significative avec le temps. Les versions jeunes et vieillies doivent cependant être appréciées pour ce qu'elles sont. La structure maltée peut aussi largement varier : tous les exemples n'auront pas toutes les saveurs ou les arômes possibles. Les variantes plus claires n'auront pas le côté caramel ni les riches saveurs de malt, ni généralement de notes de fruits foncés secs - ne vous attendez pas à des saveurs et des arômes qui sont impossibles dans une bière de cette couleur. Plutôt orthographié \"Barley Wine\" UK, et \"Barleywine\" US. ","Diverses formulations de bières fortes ont longtemps été brassées en Angleterre et connu sous plusieurs appellations. Le BW moderne remonte à la Bass n°1, qui fut la première bière appelée BW en 1872. Les BW étaient des bières foncées jusqu'à ce que Tennant (maintenant Whitbread) produise le 1er Gold Label : un BW de couleur dorée en 1951. Habituellement, il s'agissait de la bière la plus forte d'une brasserie et au cours des dernières années, de nombreuses versions sont millésimées et proposées comme spécialité de saison limitées aux périodes hivernales. C'est le style BW d'origine qui a inspiré les variantes US, belges etc.","Les malts Pale bien modifiés et de qualité supérieure doivent former les fondations de la carte des malts, avec des quantités judicieusement dosées de malts caramel. Les malts foncés doivent être utilisés avec beaucoup de retenue, voire pas du tout, la majorité de la couleur résultant d'une longue voire très longue ébullition. Les houblons anglais comme Northdown, Target, East Kent Goldings et Fuggles sont typiques du style ainsi qu'une levure anglaise pleine de caractère. ","Bien que souvent il s'agisse d'une bière houblonnée, le BW Anglais met moins l'accent sur les houblons que le BW US et utilise bien sûr des houblons anglais. Les versions anglaises peuvent être plus sombres, maltées, fruitées et disposent de plus de riches saveurs des malts spéciaux que les versions US. Le style chevauche légèrement les Old Ale britanniques pour les versions au taux d'alcool faibles mais n'a en général pas les notes vineuses dues au vieillissement mais a affichent plutôt des signes plus élégants de maturité. ","Adnams Tally-Ho, Burton Bridge Thomas Sykes Old Ale, Coniston No. 9 Barley Wine, Fuller’s Golden Pride, J.W. Lee’s Vintage Harvest Ale, Robinson’s Old Tom"]
["18A - Blonde Ale",1.038,1.054,1.008,1.0129999999999999,5.91,11.82,15,28,3.8,5.5,3,6,1038,1054,1008,1013,"18A","Blonde Ale",2.2999999999999998,2.8,{"$f":"VLOOKUP(A58,Feuil2!$A$1:$H$74,2,FALSE)","v":"50-60"},{"$f":"VLOOKUP(A58,Feuil2!$A$1:$H$74,3,FALSE)","v":"0-30"},{"$f":"VLOOKUP(A58,Feuil2!$A$1:$H$74,4,FALSE)","v":"0-40"},{"$f":"VLOOKUP(A58,Feuil2!$A$1:$H$74,5,FALSE)","v":"0-50"},{"$f":"VLOOKUP(A58,Feuil2!$A$1:$H$74,6,FALSE)","v":"50-100"},{"$f":"VLOOKUP(A58,Feuil2!$A$1:$H$74,7,FALSE)","v":"<100"},{"$f":"VLOOKUP(A58,Feuil2!$A$1:$H$74,8,FALSE)","v":"-60-0"},"18-Pale American Ale","Pale Ale","Indigenous American Beer","United States",1008,"18A - Blonde Ale",1013,"Easy-drinking, approachable, malt-oriented American craft beer, often with interesting fruit, hop, or character malt notes. Well-balanced and clean, is a refreshing pint without aggressive flavors.","Light to moderate sweet malty aroma, possibly with a light bready or caramelly note. Low to moderate fruitiness is optional, but acceptable. May have a low to medium hop aroma, and can reflect almost any hop variety although citrusy, floral, fruity, and spicy notes are common.","Light yellow to deep gold in color. Clear to brilliant. Low to medium white head with fair to good retention.","Initial soft malty sweetness, but optionally some light character malt flavor (e.g., bread, toast, biscuit, wheat) can also be present. Caramel flavors typically absent; if present, they are typically low-color caramel notes. Low to medium fruity esters optional, but are welcome. Light to moderate hop flavor (any variety), but shouldn’t be overly aggressive. Medium-low to medium bitterness, but the balance is normally towards the malt or even between malt and hops. Finishes medium-dry to slightly malty-sweet; impression of sweetness is often an expression of lower bitterness than actual residual sweetness.","Medium-light to medium body. Medium to high carbonation. Smooth without being heavy.","Brewpub alternative to standard American lagers, typically offered as an entry-level craft beer.","An American craft beer style produced by many microbreweries and brewpubs, particularly those who cannot produce lagers. Regional variations exist (many US West Coast brewpub examples are more assertive, like pale ales) but in most areas this beer is designed as the least challenging beer in their lineup.","Generally all malt, but can include up to 25% wheat malt and some sugar adjuncts. Any hop variety can be used. Clean American, lightly fruity English, or Kölsch yeast. May also be made with lager yeast, or cold-conditioned. Some versions may have honey, spices and/or fruit added, although if any of these ingredients are stronger than a background flavor they should be entered in those specialty categories instead. ","Typically has more flavor than American Lagers and Cream Ales. Less bitterness than an American Pale Ale.","Kona Big Wave Golden Ale, Pelican Kiwanda Cream Ale, Russian River Aud Blonde, Victory Summer Love, Widmer Citra Summer Blonde Brew",null,"Une bière artisanale américaine facile à boire, facile d'accès et portant sur le malt, avec souvent des notes intéressantes de fruit, de houblon ou de caractéristiques de certains malts. Bien équilibrée et neutre, c'est une pinte rafraîchissante, sans saveurs trop agressives. ","Des arômes légèrement à modérément maltés et sucrés, avec de possibles notes légères de caramel ou de pain. Des notes fruitées, faibles à modérées sont optionnelles mais acceptables. On peut également percevoir un arôme de houblon léger à moyen qui peut refléter quasiment n'importe quelle variété de houblon, même si des notes agrumes, florales, fruitées et épicées sont courantes. ","De couleur légèrement jaune à profondément dorée, elle est limpide à lumineuse. La mousse blanche est faible à moyenne avec une tenue assez bonne à bonne. ","La saveur principale est douce et maltée avec aussi, éventuellement, la présence de légères notes plus caractéristiques de malts (par exemple pain, pain grillé, biscuits, blé). Les saveurs de caramel sont généralement absentes, mais le cas échéant, ce sont généralement des notes de caramel faiblement coloré. Les esters fruités sont faibles à moyens, facultatifs mais bienvenus. Les saveurs du houblon (toutes variétés) sont légères à modérées, et ne doit pas être trop agressives. L'amertume est moyennement douce à moyenne, avec un équilibre qui est normalement porté sur le malt ou parfois juste entre le malt et le houblon. La fin de bouche est moyennement sèche à légèrement douce et maltée ; l'impression de douceur est souvent le résultat d'une amertume faible plutôt que la présence de sucres résiduels. ","Le corps est moyennement faible à moyennement rond, la carbonatation moyenne à élevée, elle est douce sans être lourde. ","Il s'agit souvent de bières proposées par les Brewpubs comme une bière artisanale facile d'accès en alternative aux Lagers Américaines Standards. ","Un style de bière artisanale américaine produite par de nombreuses micro-brasseries et brewpubs, en particulier ceux qui ne peuvent pas produire de lagers. Des variantes régionales existent (de nombreux exemples de Brewpubs de la Côte Ouest américaine sont plus affirmés, plus comme des Pale Ales) mais dans la plupart des régions, cette bière est conçue comme la bière la moins provocante de leur gamme. ","En général tous les types de malt conviennent mais elle peut contenir jusqu'à 25% de malt de froment et certains ajouts de sucre. Toutes les variétés de houblons peuvent également être utilisées. La levure est habituellement américaine, neutre, ou anglaise légèrement fruitée ou encore de type Kölsch. Elle peut également être fermentée avec une levure de type Lager ou mise en garde à froid. Certaines versions peuvent utiliser du miel, des ajouts d'épices et/ou de fruits, bien que si l'un de ces ingrédients dépasse le simple niveau de l'arrière-gout, elles doivent être inscrites plutôt dans ces catégories \"spéciales\". ","Elle possède généralement plus de saveurs que les Lagers et les Cream Ales américaines, mais moins d'amertume qu'une American Pale Ale. ","Kona Big Wave Golden Ale, Pelican Kiwanda Cream Ale, Russian River Aud Blonde, Victory Summer Love, Widmer Citra Summer Blonde Brew "]
["18B - American Pale Ale",1.0449999999999999,1.06,1.01,1.0149999999999999,9.85,19.7,30,50,4.5,6.2,5,10,1045,1060,1010,1015,"18B","American Pale Ale",2.2999999999999998,2.8,{"$f":"VLOOKUP(A59,Feuil2!$A$1:$H$74,2,FALSE)","v":"50-150"},{"$f":"VLOOKUP(A59,Feuil2!$A$1:$H$74,3,FALSE)","v":"0-30"},{"$f":"VLOOKUP(A59,Feuil2!$A$1:$H$74,4,FALSE)","v":"40-120"},{"$f":"VLOOKUP(A59,Feuil2!$A$1:$H$74,5,FALSE)","v":"100-400"},{"$f":"VLOOKUP(A59,Feuil2!$A$1:$H$74,6,FALSE)","v":"0-100"},{"$f":"VLOOKUP(A59,Feuil2!$A$1:$H$74,7,FALSE)","v":"<100"},{"$f":"VLOOKUP(A59,Feuil2!$A$1:$H$74,8,FALSE)","v":"-30-30"},"18-Pale American Ale","Pale Ale","American Pale Beer","United States",1010,"18B - American Pale Ale",1015,"A pale, refreshing and hoppy ale, yet with sufficient supporting malt to make the beer balanced and drinkable. The clean hop presence can reflect classic or modern American or New World hop varieties with a wide range of characteristics. An average-strength hop-forward pale American craft beer, generally balanced to be more accessible than modern American IPAs.","Moderate to strong hop aroma from American or New World hop varieties with a wide range of possible characteristics, including citrus, floral, pine, resinous, spicy, tropical fruit, stone fruit, berry, or melon. None of these specific characteristics are required, but hops should be apparent. Low to moderate maltiness supports the hop presentation, and may optionally show small amounts of specialty malt character (bready, toasty, biscuit, caramelly). Fruity esters vary from moderate to none. Dry hopping (if used) may add grassy notes, although this character should not be excessive.","Pale golden to light amber. Moderately large white to off-white head with good retention. Generally quite clear, although dry-hopped versions may be slightly hazy.","Moderate to high hop flavor, typically showing an American or New World hop character (citrus, floral, pine, resinous, spicy, tropical fruit, stone fruit, berry, melon, etc.). Low to moderate clean grainy-malt character supports the hop presentation, and may optionally show small amounts of specialty malt character (bready, toasty, biscuity). The balance is typically towards the late hops and bitterness, but the malt presence should be supportive, not distracting. Caramel flavors are often absent or fairly restrained (but are acceptable as long as they don’t clash with the hops). Fruity yeast esters can be moderate to none, although many hop varieties are quite fruity. Moderate to high hop bitterness with a medium to dry finish. Hop flavor and bitterness often lingers into the finish, but the aftertaste should generally be clean and not harsh. Dry hopping (if used) may add grassy notes, although this character should not be excessive.","Medium-light to medium body. Moderate to high carbonation. Overall smooth finish without astringency and harshness.","New hop varieties and usage methods continue to be developed. Judges should allow for characteristics of modern hops in this style, as well as classic varieties. Becoming more of an international craft style, with local adaptations appearing in many countries with an emerging craft beer market. Hopping styles can vary from the classic large bitterness addition, to more modern late hop-bursted examples; all variations are allowable.","A modern American craft beer era adaptation of English pale ale, reflecting indigenous ingredients (hops, malt, yeast, and water). Prior to the explosion in popularity of IPAs, was traditionally the most well-known and popular of American craft beers.","Pale ale malt, typically North American two-row. American or New World hops, with a wide range of allowable characteristics. American or English ale yeast (neutral to lightly fruity). Specialty grains may add character and complexity, but generally make up a relatively small portion of the grist. Grains that add malt flavor and richness, light sweetness, and toasty or bready notes are often used (along with late hops) to differentiate brands.","Typically lighter in color, cleaner in fermentation by-products, and having less caramel flavors than English counterparts. There can be some overlap in color between American pale ale and American amber ale. The American pale ale will generally be cleaner, have a less caramelly malt profile, less body, and often more finishing hops. Less bitterness in the balance and alcohol strength than an American IPA. More balanced and drinkable, and less intensely hop-focused and bitter than session-strength American IPAs (aka Session IPAs).","Ballast Point Grunion Pale Ale, Firestone Walker Pale 31, Great Lakes Burning River, Sierra Nevada Pale Ale, Stone Pale Ale, Tröegs Pale Ale",null,"Une bière blonde rafraîchissante et houblonnée mais avec un renfort de malt suffisant pour en faire une bière équilibrée et agréable. La présence bien nette de houblons peut mettre en avant des variétés classiques ou modernes des États-Unis ou du Nouveau Monde avec un large éventail de caractéristiques. C'est une bière blonde artisanale américaine de force moyenne, portée sur le houblon et généralement équilibrée pour être plus accessible que les IPA américaines modernes ","Des arômes de houblon sont modérés à forts, provenant de variétés américaines ou du Nouveau Monde avec un large éventail de notes aromatiques possibles d'agrumes, florales, de pin, résineux, épicées, de fruits tropicaux, de fruits à noyau, de baies ou melon. Aucune de ces caractéristiques particulières ne sont obligatoires mais le houblon doit être bien mis en avant. Les arômes maltés sont faibles à modérés en soutien du houblon et peut éventuellement présenter des notes de malts spéciaux en petites quantités (brioché, grillé, biscuit, caramel). Les esters fruités sont variables de modérés à nul. Le houblonnage à froid (si utilisé) peut ajouter des notes herbacées bien que cet aspect ne doit pas être excessif. ","Dorée claire à ambrée lumineuse, sa mousse est blanche à blanc-cassé, modérément importante et avec une bonne tenue. Elle est généralement assez limpide bien que les versions houblonnées à froid puissent présenter un léger voile. ","Les saveurs de houblon modérées à hautes présentant généralement des caractéristiques de houblons US ou du Nouveau Monde (agrume, floral, résineux, épicé, fruits tropicaux, fruits à noyau, baies, melon, etc.). Des saveurs neutres de céréales maltées faibles à modérées en soutien de la présence des houblons peuvent présenter des caractéristiques de malts spéciaux en petites quantités (briochée, toastée, biscuit). L'équilibre est plus porté sur les houblons aromatiques et l'amertume, mais la présence de malt doit venir accompagner plus que distraire. Les saveurs de caramel sont le plus souvent absentes ou raisonnables (mais acceptables tant qu'elles ne rentrent pas en conflit avec le houblon). Les esters fruités de la levure peuvent être modérés à nuls alors que de nombreuses variétés de houblons sont déjà très fruitées. L'amertume des houblons est modérée à élevée avec une fin de bouche moyenne à sèche. Les saveurs et l'amertume du houblon persistent souvent dans les notes finales mais l'arrière-goût doit être net et surtout pas astringent. Le DH éventuel peut ajouter des notes herbacées, bien que celles-ci ne doivent pas être trop présentes. ","Moyennement léger à moyen, la carbonatation modérée à élevée, la fin de bouche globalement douce, sans astringence ni âcreté. ","De nouvelles variétés de houblons et de nouvelles méthodes d'utilisation continuent de se développer. Les juges doivent autoriser les caractéristiques des houblons modernes autant que les variétés plus classiques. Cela devient plus un style de bières artisanales à la portée internationale, avec des adaptations locales apparaissant dans de nombreux pays grâce à un marché émergent en plein essor. Les méthodes de houblonnage peuvent varier du plus classique ajout en masse de houblons amérisants à des exemples de houblonnages tardifs bien appuyés et plus modernes ; toutes les variations sont bien sûr permises entre ces deux extrêmes. ","Il s'agit d'une adaptation de la Pale Ale Anglaise par les brasseries artisanales américaines modernes, reflétant l'utilisation des ingrédients locaux. Avant l'explosion populaire des IPA, c'était le plus connu et le plus populaire des styles de craft américains. ","Du malt Pale essentiellement nord-américain à deux rangs, des houblons US ou du Nouveau-Monde, avec un large éventail de caractéristiques possibles, une levure de bière US ou anglaise (neutre à légèrement fruitée), des grains spéciaux peuvent ajouter du caractère et de la complexité, mais en général, constituent une part relativement faible de la mouture. Des céréales apportant saveurs et richesse du malt, une légère douceur et des notes toastées ou briochées sont souvent utilisées pour équilibrer le houblonnage tardif et différencier les marques. ","Généralement de couleur plus claire, à la fermentation plus neutre en sous-produits et ayant des saveurs moins caramélisées que leurs homologues anglaises. On peut voir un certain chevauchement en termes de couleur avec les American Amber Ale (19A). L'APA sera cependant généralement plus neutre, moins tournée vers le malt caramel, moins de corps et souvent du houblon plus aromatique. Un équilibre moins poussé vers l'amertume et moins d'alcool qu'une IPA américaine (21 A), elle est plus équilibrée, plus buvable et moins intensément tournée vers le houblon et l'amertume qu'une Session AIPA (version plus légère, d'une A-IPA). ","Ballast Point Grunion Pale Ale, Firestone Walker Pale 31, Great Lakes Burning River, Sierra Nevada Pale Ale, Stone Pale Ale, Tröegs Pale Ale "]
["19A - American Amber Ale",1.0449999999999999,1.06,1.01,1.0149999999999999,19.7,33.49,25,40,4.5,6.2,10,17,1045,1060,1010,1015,"19A","American Amber Ale",1.5,2.5,{"$f":"VLOOKUP(A60,Feuil2!$A$1:$H$74,2,FALSE)","v":"50-150"},{"$f":"VLOOKUP(A60,Feuil2!$A$1:$H$74,3,FALSE)","v":"0-30"},{"$f":"VLOOKUP(A60,Feuil2!$A$1:$H$74,4,FALSE)","v":"40-120"},{"$f":"VLOOKUP(A60,Feuil2!$A$1:$H$74,5,FALSE)","v":"100-300"},{"$f":"VLOOKUP(A60,Feuil2!$A$1:$H$74,6,FALSE)","v":"50-100"},{"$f":"VLOOKUP(A60,Feuil2!$A$1:$H$74,7,FALSE)","v":"<100"},{"$f":"VLOOKUP(A60,Feuil2!$A$1:$H$74,8,FALSE)","v":"0 -60"},"19-Amber and Brown American Beer","Amber Ale","American Pale Beer","United States",1010,"19A - American Amber Ale",1015,"An amber, hoppy, moderate-strength American craft beer with a caramel malty flavor. The balance can vary quite a bit, with some versions being fairly malty and others being aggressively hoppy. Hoppy and bitter versions should not have clashing flavors with the caramel malt profile.","Low to moderate hop aroma with characteristics typical of American or New World hop varieties (citrus, floral, pine, resinous, spicy, tropical fruit, stone fruit, berry, or melon). A citrusy hop character is common, but not required. Moderately-low to moderately-high maltiness (usually with a moderate caramel character), which can either support, balance, or sometimes mask the hop presentation. Esters vary from moderate to none.","Amber to coppery-brown in color. Moderately large off-white head with good retention. Generally quite clear, although dry-hopped versions may be slightly hazy.","Moderate to high hop flavor with characteristics typical of American or New World hop varieties (citrus, floral, pine, resinous, spicy, tropical fruit, stone fruit, berry, or melon). A citrusy hop character is common, but not required. Malt flavors are moderate to strong, and usually show an initial malty sweetness followed by a moderate caramel flavor (and sometimes other character malts in lesser amounts). Malt and hop bitterness are usually balanced and mutually supportive, but can vary either way. Fruity esters can be moderate to none. Caramel sweetness and hop flavor/bitterness can linger somewhat into the medium to full finish.","Medium to medium-full body. Medium to high carbonation. Overall smooth finish without astringency. Stronger versions may have a slight alcohol warmth.","Can overlap in color with darker American pale ales, but with a different malt flavor and balance. Regional variations exist with some being fairly mainstream and others being quite aggressive in hopping. Stronger and more bitter versions are now split into the Red IPA style.","A modern American craft beer style developed as a variation from American Pale Ales. Known simply as Red Ales in some regions, these beers were popularized in the hop-loving Northern California and the Pacific Northwest areas before spreading nationwide.","Pale ale malt, typically North American two-row. Medium to dark crystal malts. May also contain specialty grains which add additional character and uniqueness. American or New World hops, often with citrusy flavors, are common but others may also be used.","Darker, more caramelly, more body, and generally less bitter in the balance than American Pale Ales. Less alcohol, bitterness, and hop character than Red IPAs. Less strength, malt, and hop character than American Strong Ales. Should not have a strong chocolate or roast character that might suggest an American brown ale (although small amounts are OK).","Deschutes Cinder Cone Red, Full Sail Amber, Kona Lavaman Red Ale, North Coast Ruedrich's Red Seal Ale, Rogue American Amber Ale, Tröegs HopBack Amber Ale",null,"Une bière artisanale américaine, ambrée, houblonnée, modérément forte avec une saveur maltée aux accents de caramel. L'équilibre peut varier légèrement, certaines versions étant relativement maltées et d'autres plus agressivement houblonnées. Les saveurs des versions houblonnées et amères doivent cependant éviter de télescoper le profil des malts caramel. Arôme L'arôme des houblons est faible à modéré avec des caractéristiques typiques des variétés de houblons américains ou du Nouveau Monde (agrume, floral, pin, résineux, épicé, fruits tropicaux, fruits à noyau, baie ou melon). Le côté agrume est commun mais pas obligatoire, les arômes maltés modérément faibles à moyennement hauts (généralement avec des notes de caramel modérées) peuvent être soit en soutien de l'équilibre global ou soit masquer ou atténuer la présence du houblon. Les esters varient de faibles à nuls. ",null,"La couleur est ambrée à brun-cuivré, la mousse blanc-cassé modérément épaisse avec une bonne tenue. C'est une bière généralement assez limpide, bien que les versions houblonnées à cru puissent avoir un léger trouble. ","Les saveurs de houblon modérées à élevées ont des caractéristiques typiques des variétés américaines ou du nouveau-monde (agrume, floral, pin, résineux, épicé, fruits tropicaux, fruits à noyau, baie, ou melon). Les saveurs d'agrumes sont classiques mais pas obligatoires et les saveurs de malt sont modérées à fortes, mettant généralement en valeur une douceur maltée initiale suivie par un goût de caramel modéré (et parfois d'autres malts de caractères dans des quantités moindres). Les malts et amertume du houblon sont généralement équilibrés et se renforcent mutuellement, mais peuvent varier de façons diverses. Les esters fruités peuvent être modérés à nul. La douceur du caramel et la saveur voire amertume du houblon peuvent persister légèrement dans une fin de bouche moyenne à ronde. ","Le corps est moyen à moyennement rond, la carbonatation moyenne à élevée, la fin de bouche globalement douce et sans astringence. Les versions les plus fortes peuvent avoir une légère chaleur d'alcool. ","Elle peut empiéter par sa couleur sur les Bières Blondes Américaines (APA - 18B) les plus foncées, mais avec une saveur et un équilibre de malt différent. Les variantes régionales existent avec certaines étant assez grand public et d'autres étant assez agressives en houblon. Les versions plus fortes et plus amères ont maintenant été déplacées vers le style Red IPA (21B). ","Un style de bière artisanale américaine moderne développé comme une variante des American Pale Ales. Connues simplement comme Red Ales dans certaines régions, ces bières ont été popularisées par les fans de houblons des zones de Californie du Nord et du  Pacifique du Nord-Ouest avant de se propager à l'échelle nationale. ","Du malt Pale Ale, typiquement du 2 rangs Nord-Américains, du malt Crystal moyen à sombre, mais peut également contenir des malts spéciaux afin de donner un caractère supplémentaire et unique. Les houblons américains ou du nouveau monde aux notes d'agrumes sont fréquents mais d'autres variétés peuvent également être utilisées. ","Plus foncées, plus caramel, plus de corps, et généralement un équilibre moins tourné vers l'amertume que les American Pale Ales. Moins d'alcool, d'amertume et de houblon que les Red IPA. Moins d'alcool, de caractère malté et houblonné que les American Strong Ales. Ne doit pas avoir un fort caractère de chocolat ou grillé qui pourrait suggérer une American Brown Ale (Bière Brune Américaine) (même si de petites quantités sont OK). ","Deschutes Cinder Cone Red, Full Sail Amber, Kona Lavaman Red Ale, North Coast Ruedrich's Red Seal Ale, Rogue American Amber Ale, Tröegs HopBack Amber Ale "]
["19B - California Common ",1.048,1.054,1.0109999999999999,1.014,19.7,27.58,30,45,4.5,5.5,10,14,1048,1054,1011,1014,"19B","California Common ",1.5,2.5,{"$f":"VLOOKUP(A61,Feuil2!$A$1:$H$74,2,FALSE)","v":"50-150"},{"$f":"VLOOKUP(A61,Feuil2!$A$1:$H$74,3,FALSE)","v":"0-30"},{"$f":"VLOOKUP(A61,Feuil2!$A$1:$H$74,4,FALSE)","v":"40-120"},{"$f":"VLOOKUP(A61,Feuil2!$A$1:$H$74,5,FALSE)","v":"100-300"},{"$f":"VLOOKUP(A61,Feuil2!$A$1:$H$74,6,FALSE)","v":"50-100"},{"$f":"VLOOKUP(A61,Feuil2!$A$1:$H$74,7,FALSE)","v":"<100"},{"$f":"VLOOKUP(A61,Feuil2!$A$1:$H$74,8,FALSE)","v":"0-60 "},"19-Amber and Brown American Beer","Amber Lager","Indigenous American Beer","United States",1011,"19B - California Common ",1014,"A lightly fruity beer with firm, grainy maltiness, interesting toasty and caramel flavors, and showcasing rustic, traditional American hop characteristics.","Typically showcases rustic, traditional American hops (often with woody, rustic or minty qualities) in moderate to high strength. Light fruitiness acceptable. Low to moderate caramel and/or toasty malt aromatics support the hops.","Medium amber to light copper color. Generally clear. Moderate off-white head with good retention.","Moderately malty with a pronounced hop bitterness. The malt character is usually toasty (not roasted) and caramelly. Low to moderately high hop flavor, usually showing rustic, traditional American hop qualities (often woody, rustic, minty). Finish fairly dry and crisp, with a lingering hop bitterness and a firm, grainy malt flavor. Light fruity esters are acceptable, but otherwise clean.","Medium-bodied. Medium to medium-high carbonation.","This style is narrowly defined around the prototypical Anchor Steam example, although allowing other typical ingredients of the era. Northern Brewer hops are not a strict requirement for the style; modern American and New World-type hops (especially citrusy ones) are inappropriate, however.","American West Coast original, brewed originally as Steam Beer in the Gold Rush era. Large shallow open fermenters (coolships) were traditionally used to compensate for the absence of refrigeration and to take advantage of the cool ambient temperatures in the San Francisco Bay area. Fermented with a lager yeast, but one that was selected to ferment relatively clean beer at warmer temperatures. Modern versions are based on Anchor Brewing re-launching the style in the 1970s.","Pale ale malt, non-citrusy hops (often Northern Brewer), small amounts of toasted malt and/or crystal malts. Lager yeast; however, some strains (often with the mention of “California” in the name) work better than others at the warmer fermentation temperatures (55 to 60 °F) typically used. Note that some German yeast strains produce inappropriate sulfury character. ","Superficially similar to an American Amber Ale, but with specific choices for malt and hopping – the hop flavor/aroma is traditional (not modern) American hops, malt flavors are more toasty, the hopping is always assertive, and a warm-fermented lager yeast is used. Less attenuated, less carbonated and less fruity than Australian Sparkling ale.","Anchor Steam, Flying Dog Old Scratch Amber Lager, Schlafly Pi Common, Steamworks Steam Engine Lager",null,"Une bière légèrement fruitée avec de franches notes maltées de céréales, d'autres toutes aussi intéressantes sur le toasté et le caramel, avec une bonne mise en valeur des caractéristiques des houblons américains rustiques et traditionnels. ","Généralement une belle démonstration des houblons américains rustiques et traditionnels (souvent avec des notes boisées, rustiques ou mentholées) dans des puissances moyenne à forte. Des arômes fruités légers sont acceptables ainsi que des notes aromatiques faibles à modérées de caramel et/ou de malts toastés en soutien du houblon. ","De couleur ambrée moyenne à légèrement cuivrée, elle est généralement limpide. La mousse est modérée, blanc-cassé avec une bonne tenue. ","Avec une amertume des houblons prononcée, les saveurs de malts sont modérées, habituellement toastées (non torréfiées) et caramel. Les saveurs de houblon sont faibles à modérément hautes révélant les qualités rustiques des houblons américains traditionnels (souvent boisés, rustiques, mentholés). La fin de bouche est assez sèche et pétillante avec une amertume du houblon persistante et une saveur de malt franche et sur le côté céréale. Des esters fruités légers sont acceptables mais sinon, le profil lié à la fermentation doit être neutre. ","Le corps est moyen, la carbonatation moyenne également à forte. ","Ce style est étroitement lié à l'exemple éponyme d’Anchor Steam bien que d'autres ingrédients typiques de cette époque soient autorisés. Le Houblon Northern Brewer n'est pas une exigence absolue pour ce style, mais les houblons modernes américains ou du nouveau monde (en particulier tirant sur l'agrume) seront cependant à éviter pour ce style. ","Ce style est originaire de la côte Ouest américaine et brassée à l'origine comme la Steam Beer (bière à vapeur) de la ruée vers l'or. De grands fermenteurs ouverts peu profonds (coolships) étaient traditionnellement utilisés pour compenser l'absence de réfrigération et profiter des températures ambiantes plutôt fraîches dans la région de la baie de San Francisco. Elle est fermentée avec une levure de type lager spécialement sélectionnée pour produire des bières relativement neutres à des températures plus chaudes. Les versions modernes sont basées sur la relance de ce style dans les années 1970 par la brasserie Anchor Brewing. ","Malt Pale Ale, houblon non-agrumes (souvent Northern Brewer), de petites quantités de malt toasté et/ou de malt crystal. Levure lager; cependant, on retrouve souvent certaines souches (avec souvent la mention \"California\" dans le nom) qui fonctionnent mieux que d'autres aux hautes températures de fermentation (13 à 15°C). A noter que certaines souches de levures allemandes produisent un caractère soufré inapproprié, donc à éviter. ","Semblable en apparence à une Ambrée Américaine, mais avec des choix spécifiques pour le malt et le houblon : les saveurs et arômes du houblon sont classiques  des houblons américains non modernes et les saveurs de malt sont plus toastés. Le houblon est toujours aussi affirmé et une levure de Lager est utilisée en fermentation haute. Elle est aussi moins atténuée, moins carbonatée et moins fruitée que la Sparkling Ale Australienne. ","Anchor Steam, Flying Dog Old Scratch Amber Lager, Schlafly Pi Common, Steamworks Steam Engine Lager"]
["19C - American Brown Ale",1.0449999999999999,1.06,1.01,1.016,35.46,68.95,20,30,4.3,6.2,18,35,1045,1060,1010,1016,"19C","American Brown Ale",1.5,2.5,{"$f":"VLOOKUP(A62,Feuil2!$A$1:$H$74,2,FALSE)","v":"50-75"},{"$f":"VLOOKUP(A62,Feuil2!$A$1:$H$74,3,FALSE)","v":"0-30"},{"$f":"VLOOKUP(A62,Feuil2!$A$1:$H$74,4,FALSE)","v":"80-160"},{"$f":"VLOOKUP(A62,Feuil2!$A$1:$H$74,5,FALSE)","v":"50-150"},{"$f":"VLOOKUP(A62,Feuil2!$A$1:$H$74,6,FALSE)","v":"50-150"},{"$f":"VLOOKUP(A62,Feuil2!$A$1:$H$74,7,FALSE)","v":"<100"},{"$f":"VLOOKUP(A62,Feuil2!$A$1:$H$74,8,FALSE)","v":"60 -120"},"19-Amber and Brown American Beer","Brown Ale","Dark American Beer","United States",1010,"19C - American Brown Ale",1016,"A malty but hoppy beer frequently with chocolate and caramel flavors. The hop flavor and aroma complements and enhances the malt rather than clashing with it.","Moderate malty-sweet to malty-rich aroma with chocolate, caramel, nutty, and/or toasty qualities. Hop aroma is typically low to moderate, of almost any variety that complements the malt. Some interpretations of the style may feature a stronger hop aroma, an American or New World hop character (citrusy, fruity, tropical, etc.), and/or a fresh dry-hopped aroma (all are optional). Fruity esters are moderate to very low. The dark malt character is more robust than other brown ales, yet stops short of being overly porter-like. The malt and hops are generally balanced.","Light to very dark brown color. Clear. Low to moderate off-white to light tan head.","Medium to moderately-high malty-sweet or malty-rich flavor with chocolate, caramel, nutty, and/or toasty malt complexity, with medium to medium-high bitterness. The medium to medium-dry finish provides an aftertaste having both malt and hops. Hop flavor can be light to moderate, and may optionally have a citrusy, fruity, or tropical character, although any hop flavor that complements the malt is acceptable. Very low to moderate fruity esters. ","Medium to medium-full body. More bitter versions may have a dry, resiny impression. Moderate to moderately-high carbonation.","Most commercial American Browns are not as aggressive as the original homebrewed versions, and some modern craft-brewed examples. This style reflects the current commercial offerings typically marketed as American Brown Ales rather than the hoppier, stronger homebrew versions from the early days of homebrewing. These IPA-strength brown ales should be entered in the Specialty IPA as Brown IPAs.","An American style from the modern craft beer era. Derived from English Brown Ales, but with more hops. Pete’s Wicked Ale was one of the first and best known examples, and inspired many imitations. Popular with homebrewers, where very hoppy versions were sometimes called Texas Brown Ales (this is now more appropriately a Brown IPA).","Well-modified pale malt, plus crystal and darker malts (typically chocolate). American hops are typical, but continental or New World hops can also be used. ","More chocolate and caramel type flavors than American Pale or Amber Ales, typically with less prominent bitterness in the balance. Less bitterness, alcohol, and hop character than Brown IPAs. More bitter and generally hoppier than English Brown Ales, with a richer malt presence, usually higher alcohol, and American/New World hop character.","Anchor Brekle’s Brown, Big Sky Moose Drool Brown Ale, Brooklyn Brown Ale, Bell’s Best Brown, Cigar City Maduro Brown Ale, Smuttynose Old Brown Dog Ale, Telluride Face Down Brown",null,"Une bière maltée mais aussi houblonnée avec souvent des notes de chocolat et de caramel. Les saveurs et arômes des houblons complètent et renforcent le côté malté au lieu d'entrer en confrontation directe et déséquilibrer l'ensemble. ","Les arômes sont maltés, modérément doux à riches avec des notes chocolat, caramel, noix et/ou toastées. Les arômes de houblons sont généralement faibles à modérés, de presque n'importe quelle variété pourvu qu'elles se combinent bien avec le malt. Certaines interprétations du style peuvent présenter un arôme fort de houblon, plutôt américains ou du Nouveau Monde (agrumes, fruité, tropical, etc.) et/ou un arôme frais de houblonnage à cru (toutes ces caractéristiques étant optionnelles). Les esters fruités sont modérés à très faibles. Les arômes caractéristiques des malts foncés sont plus prononcés que dans les autres bières brunes mais s'arrêtent juste avant de trop tirer sur le Porter. Les malts et houblons sont généralement bien équilibrés. ","Légèrement brune à très brune, c'est une bière limpide. La mousse est faible à modérée variant du blanc-cassé au brun clair. ","Les saveurs de malt sucrées ou riches sont moyennes à modérément élevées, avec des touches complexes de chocolat, de caramel et/ou de malt toasté avec une amertume moyenne à moyennement haute. La fin de bouche moyenne à moyennement sèche conserve à la fois les notes de malt et de houblon. La saveur du houblon peut être légère à modérée et peut éventuellement avoir rappelé les agrumes, le fruité ou tropical bien que tout ce qui complète agréablement le malt soit acceptable. Les esters fruités sont très bas à modérés. ","Le corps est moyen à moyennement rond. Les versions les plus amères peuvent laisser une impression sèche et résineuse. La carbonatation est modérée à modérément élevée. ","La plupart des Bières Brunes Américaines commerciales ne sont pas aussi agressives que les versions originales des brasseurs amateurs ou certains exemples des brasseries artisanales modernes. Ce style reflète plutôt les versions commerciales proposées actuellement et vendues comme des Bières Brunes Américaines fortes plutôt que les versions fortes et houblonnées proposées par les premiers brasseurs amateurs. Ces dernières, comparables, à des IPA brunes, doivent être inscrites dans la catégorie des IPA spéciales comme des Brown IPA. ","Un style américain de l'époque moderne de la bière artisanale. Dérivé des Bières'Brunes Anglaises, mais avec plus de houblon. Pete’s Wicked Ale fut l'un des premiers exemples les plus connus et a inspiré de nombreuses imitations. Populaire auprès des brasseurs amateurs où les versions très houblonnées sont parfois appelées Texas Brown Ales (Le terme de Brown IPA étant maintenant plus approprié). ","Des malts Pale bien modifiés, malt Crystal ou plus foncés (typiquement du Malt Chocolat). Des houblons américains typiques, mais les houblons continentaux ou du nouveau monde peuvent être également utilisés. ","Plus de saveurs de chocolat et de caramel que les American Pale Ales ou les American Amber Ales, mais généralement avec un équilibre vers l'amertume moins important. Moins d'amertume, d'alcool, et de houblons qu'une Brown IPA (IPA Brune). Plus amère et généralement beaucoup plus houblonnée que les bières brunes anglaises avec une présence plus riche de malt, un taux d'alcool généralement plus élevé et des houblons typiques d’Amérique ou du nouveau monde. ","Anchor Brekle’s Brown, Big Sky Moose Drool Brown Ale, Brooklyn Brown Ale, Bell’s Best Brown, Cigar City Maduro Brown Ale, Smuttynose Old Brown Dog Ale, Telluride Face Down Brown"]
["20A - American Porter",1.05,1.07,1.012,1.018,43.339999999999996,78.8,25,50,4.8,6.5,22,40,1050,1070,1012,1018,"20A","American Porter",1.7,2.2999999999999998,{"$f":"VLOOKUP(A63,Feuil2!$A$1:$H$74,2,FALSE)","v":"50-75"},{"$f":"VLOOKUP(A63,Feuil2!$A$1:$H$74,3,FALSE)","v":"0-30"},{"$f":"VLOOKUP(A63,Feuil2!$A$1:$H$74,4,FALSE)","v":"80-160"},{"$f":"VLOOKUP(A63,Feuil2!$A$1:$H$74,5,FALSE)","v":"50-150"},{"$f":"VLOOKUP(A63,Feuil2!$A$1:$H$74,6,FALSE)","v":"50-150"},{"$f":"VLOOKUP(A63,Feuil2!$A$1:$H$74,7,FALSE)","v":"<100"},{"$f":"VLOOKUP(A63,Feuil2!$A$1:$H$74,8,FALSE)","v":"60 -120"},"20-American Porter and Stout","Porter","Dark American Beer","United States",1012,"20A - American Porter",1018,"A substantial, malty dark beer with a complex and flavorful dark malt character.","Medium-light to medium-strong dark malt aroma, often with a lightly burnt character. Optionally may also show some additional malt character in support (grainy, bready, toffee-like, caramelly, chocolate, coffee, rich, and/or sweet). Hop aroma low to high, often with a resiny, earthy, or floral character. May be dry-hopped. Fruity esters are moderate to none.","Medium brown to very dark brown, often with ruby- or garnet-like highlights. Can approach black in color. Clarity may be difficult to discern in such a dark beer, but when not opaque will be clear (particularly when held up to the light). Full, tan-colored head with moderately good head retention. ","Moderately strong malt flavor usually features a lightly burnt malt character (and sometimes chocolate and/or coffee flavors) with a bit of grainy, dark malt dryness in the finish. Overall flavor may finish from dry to medium-sweet. May have a sharp character from dark roasted grains, but should not be overly acrid, burnt or harsh. Medium to high bitterness, which can be accentuated by the dark malt. Hop flavor can vary from low to high with a resiny, earthy, or floral character, and balances the dark malt flavors. The dark malt and hops should not clash. Dry-hopped versions may have a resiny flavor. Fruity esters moderate to none.","Medium to medium-full body. Moderately low to moderately high carbonation. Stronger versions may have a slight alcohol warmth. May have a slight astringency from dark malts, although this character should not be strong. ","Although a rather broad style open to brewer interpretation. Dark malt intensity and flavor can vary significantly. May or may not have a strong hop character, and may or may not have significant fermentation by-products; thus may seem to have an “American” or “British” character.","A stronger, more aggressive version of pre-prohibition porters and/or English porters developed in the modern craft beer era. Historical versions existed, particularly on the US East Coast, some of which are still being produced (see the Historical Beer, Pre-Prohibition Porter). This style describes the modern craft version.","May contain several malts, prominently dark malts, which often include black malt (chocolate malt is also often used). American hops typically used for bittering, but US or UK finishing hops can be used; a clashing citrus quality is generally undesirable. Ale yeast can either be clean US versions or characterful English varieties.","More bitter and often stronger with more dark malt qualities and dryness than English Porters or Pre-Prohibition Porters. Less strong and assertive than American Stouts.","Anchor Porter, Boulevard Bully! Porter, Deschutes Black Butte Porter, Founders Porter, Great Lakes Edmund Fitzgerald Porter, Smuttynose Robust Porter, Sierra Nevada Porter",null,"Une bière brune maltée consistante avec un caractère de malt foncé complexe et plein de saveurs. ","Arôme moyennement léger à moyennement fort de malts foncés, avec souvent des notes légèrement brûlées. Peut aussi éventuellement avoir un profil soutenu un peu plus malté (céréales, pain, caramel, toffee, chocolat, café, des arômes riche et/ou doux). Arômes de houblon faibles à élevés, souvent avec un côté résineux, terreux, ou floral. Elle peut être houblonnée à cru et les esters fruités sont modérés à nuls. ","Brune moyenne à brune très foncée, avec souvent des reflets rubis ou grenat, elle peut même approcher le noir. La limpidité peut être difficile à discerner dans une bière de couleur aussi foncée, mais lorsqu'elle n'est pas opaque ce Robust Porter est limpide (en particulier lorsqu'il est observé à la lumière). La mousse est dense et brune claire avec une tenue moyennement bonne. ","Les saveurs maltées moyennement fortes présentent généralement des notes légèrement brûlées de malt noir (et parfois des saveurs de chocolat et/ou de café) avec une fin de bouche sur des notes sèches de torréfié. La saveur générale peut finir de sèche à moyennement sucrée selon la composition de la mouture, du niveau d'amertume des houblons et de l'atténuation. Elle peut présenter un côté âpre provenant des grains torréfiés, bien que ce ne doit pas être trop ni trop âcre, ni trop brûlé ou âpre. L'amertume est moyenne à élevée, et peut être accentuée par le malt torréfié. Les saveurs de houblon (généralement des variétés américaines ou anglaises) peuvent varier de faibles à moyennement fortes et contrebalancent les saveurs de malt torréfié. Le diacétyle est faible à absent et les esters fruités sont faibles à absents. ","Le corps est moyen à moyennement rond et la carbonatation faible à moyennement élevée. Les versions les plus fortes peuvent présenter une légère sensation d'alcool. Elle peut avoir également une légère astringence due aux malts torréfiés bien que ce caractère ne doit pas être trop prononcé. ","Bien que ce style soit relativement large et ouvert aux interprétations des brasseurs, il peut se distinguer des Stouts par l'absence d'un fort caractère d'orge torréfié. Il diffère de la Brown Porter par le fait que les caractéristiques des malts \"black patent\" ou torréfiés sont généralement présentes et qu'il peut être plus alcoolisé. L'intensité des notes torréfiées et les saveurs maltées peuvent varier de manière notable. Il peut avoir ou non un fort côté houblonné et peut ou non présenter des sous-produits de la fermentation ; et ainsi tirer sur un profil soit \"américain\" soit \"anglais\". ","Il s'agit d'une version plus forte, plus agressive des Porter Anglais ou Américains d'avant la prohibition, réinterprétée par les brasseurs artisans modernes. Des versions historiques existent, particulièrement sur la côte est des Etats-Unis, certains étant toujours produits (se référer à la section Bières Historiques et les Porters Pré-Prohibition). Ce style décrit uniquement les versions artisanales modernes. ","Il peut contenir plusieurs types de malts, majoritairement des malts et grains foncés et torréfiés, souvent du malt \"black patent\" (du malt chocolat et/ou de l'orge torréfié peuvent aussi être utilisés dans certaines versions). Les houblons sont utilisés en amérisants et/ou en aromatiques, et sont principalement de variétés américaines ou britanniques. L'eau est généralement moyennement dure à très dure. La levure de type Ale, peut être soit une levure américaine neutre, soit une levure anglaise typique et plein de caractère. ","Version plus amère, souvent plus forte, avec plus de présences des malts foncés et de sécheresse que les Porters Anglais ou d'avant la Prohibition mais moins forte et affirmée que les Stouts Américains. ","Great Lakes Edmund Fitzgerald Porter, Meantime London Porter, Anchor Porter, Smuttynose Robust Porter, Sierra Nevada Porter, Deschutes Black Butte Porter, Boulevard Bully! Porter, Rogue Mocha Porter, Avery New World Porter, Bell’s Porter, Great Divide Saint Bridget’s Porter"]
["20B - American Stout",1.05,1.075,1.01,1.022,59.1,78.8,35,75,5,7,30,40,1050,1075,1010,1022,"20B","American Stout",1.7,2.2999999999999998,{"$f":"VLOOKUP(A64,Feuil2!$A$1:$H$74,2,FALSE)","v":"50-75"},{"$f":"VLOOKUP(A64,Feuil2!$A$1:$H$74,3,FALSE)","v":"0-30"},{"$f":"VLOOKUP(A64,Feuil2!$A$1:$H$74,4,FALSE)","v":"80-160"},{"$f":"VLOOKUP(A64,Feuil2!$A$1:$H$74,5,FALSE)","v":"50-150"},{"$f":"VLOOKUP(A64,Feuil2!$A$1:$H$74,6,FALSE)","v":"50-150"},{"$f":"VLOOKUP(A64,Feuil2!$A$1:$H$74,7,FALSE)","v":"<100"},{"$f":"VLOOKUP(A64,Feuil2!$A$1:$H$74,8,FALSE)","v":"60 - 120"},"20-American Porter and Stout","Stout","Dark American Beer","United States",1010,"20B - American Stout",1022,"A fairly strong, highly roasted, bitter, hoppy dark stout. Has the body and dark flavors typical of stouts with a more aggressive American hop character and bitterness.","Moderate to strong aroma of roasted malts, often having a roasted coffee or dark chocolate quality. Burnt or charcoal aromas are acceptable at low levels. Medium to very low hop aroma, often with a citrusy or resiny character. Medium to no esters. Light alcohol-derived aromatics are also optional.","Generally a jet black color, although some may appear very dark brown. Large, persistent head of light tan to light brown in color. Usually opaque.","Moderate to very high roasted malt flavors, often tasting of coffee, roasted coffee beans, dark or bittersweet chocolate. May have the flavor of slightly burnt coffee grounds, but this character should not be prominent. Low to medium malt sweetness, often with rich chocolate or caramel flavors. Medium to high bitterness. Low to high hop flavor, generally citrusy or resiny. Low to no esters. Medium to dry finish, occasionally with a lightly burnt quality. Alcohol flavors can be present up to medium levels, but smooth.","Medium to full body. Can be somewhat creamy, particularly if a small amount of oats have been used to enhance mouthfeel. Can have a bit of roast-derived astringency, but this character should not be excessive. Medium-high to high carbonation. Light to moderately strong alcohol warmth, but smooth and not excessively hot.","Breweries express individuality through varying the roasted malt profile, malt sweetness and flavor, and the amount of finishing hops used. Generally has bolder roasted malt flavors and hopping than other traditional stouts (except Imperial Stouts).","A modern craft beer and homebrew style that applied an aggressive American hoping regime to a strong traditional English or Irish stout. The homebrew version was previously known as West Coast Stout, which is a common naming scheme for a more highly-hopped beer.","Common American base malts and yeast. Varied use of dark and roasted malts, as well as caramel-type malts. Adjuncts such as oatmeal may be present in low quantities. American hop varieties.","Like a hoppy, bitter, strongly roasted Extra or Export Stout. Much more roast and body than a Black IPA. Bigger, stronger versions belong in the Russian Imperial Stout style. Stronger and more assertive, particularly in the dark malt/grain additions and hop character, than American Porter.","Avery Out of Bounds Stout, Deschutes Obsidian Stout, North Coast Old No. 38, Rogue Shakespeare Stout, Sierra Nevada Stout",null,"Un stout très torréfié, amer, foncé, houblonné et assez fort, avec le corps et les saveurs foncées typiques des Stouts mais le caractère ainsi que l'amertume plus agressifs des houblons américains. ","Arôme modéré à fort de malts torréfiés avec souvent des notes de café torréfié ou de chocolat noir. Les arômes brûlés ou carbonisés sont acceptables à des niveaux faibles. L'arôme des houblons est moyen à très faible avec souvent des aspects agrumes ou résineux. Les esters sont moyens à nuls et des notes aromatiques légères des dérivés d'alcool facultatives. ","La couleur est généralement noire de jais, même si certains peuvent apparaître comme brun très foncé. La mousse est persistante et de couleur ocre pâle à brune claire. C'est une bière habituellement opaque. \nLes saveurs modérées à très élevées de malts torréfiés avec souvent des goûts de café, de grains de café torréfiés, de chocolat noir ou doux-amer, peuvent être accompagnées de saveurs de marc de café légèrement brûlé, mais ce caractère ne doit pas être dominant. \nLe sucré du malt est faible à moyen, avec souvent de riches saveurs de chocolat ou de caramel. \nL'amertume est moyenne à élevée avec de faibles à importantes saveurs de houblons généralement agrumes ou résineux. Les esters sont faibles à nuls et la fin de bouche moyenne à sèche, avec parfois des notes légèrement brûlées. L'alcool peut être présent jusqu'à des niveaux moyens mais doit rester discret au goût. ",null,"Le corps est moyen à soutenu et peut être un peu crémeux, en particulier si une petite quantité d'avoine a été utilisée pour améliorer la sensation en bouche. Il peut aussi présenter un peu d'astringence issue du torréfié, mais ce ne doit pas être excessif. La carbonatation est moyennement élevée à élevée. On décèlera une légère à modérément forte présence d'alcool, mais qui restera ronde et pas trop brûlante. ","Chaque brasserie exprime sa particularité en ajustant le coté torréfié, la douceur et les saveurs des malts utilisés ainsi que les quantités de houblons utilisés en aromatique. Ils sont généralement plus franche en saveurs de malts torréfiés et de houblons que les autres Stouts traditionnels si l'on met à part  les Imperial Stouts. ","Voilà un style de prédilection des brasseries artisanales modernes et des brasseurs amateurs qui appliquent un houblonnage américain agressif à un Stout Anglais ou Irlandais déjà fort. La version amateur était précédemment connue sous le nom de \"West Coast\" Stout, qui est une règle de nommage classique pour les bières très fortement houblonnées. ","Avant tout des malts de base et levure caractéristiques américains avec une I utilisation variée de malts foncés et torréfiés ainsi que des malts de type caramel. Des ajouts tels que flocons d'avoine peuvent être présents en faibles quantités. On privilégiera les variétés de houblon américaines. ","Il ressemble surtout à une version houblonnée, amère et fortement torréfiée d'un Extra ou d'un Export Stout, avec beaucoup plus de torréfié et de corps qu'une Black IPA. Les versions plus fortes seront à classer dans le style des Russian Imperial Stout. Il est tout de même plus fort et plus affirmé, en particulier dans les ajouts de malts ou de céréales foncées et le caractère houblonné que les Porter Américains. ","Avery Out of Bounds Stout, Deschutes Obsidian Stout, North Coast Old No. 38, Rogue Shakespeare Stout, Sierra Nevada Stout."]
["20C - Imperial Stout",1.075,1.115,1.018,1.03,59.1,78.8,50,90,8,12,30,40,1075,1115,1018,1030,"20C","Imperial Stout",1.7,2.2999999999999998,{"$f":"VLOOKUP(A65,Feuil2!$A$1:$H$74,2,FALSE)","v":"50-75"},{"$f":"VLOOKUP(A65,Feuil2!$A$1:$H$74,3,FALSE)","v":"0-30"},{"$f":"VLOOKUP(A65,Feuil2!$A$1:$H$74,4,FALSE)","v":"120-200"},{"$f":"VLOOKUP(A65,Feuil2!$A$1:$H$74,5,FALSE)","v":"50-150"},{"$f":"VLOOKUP(A65,Feuil2!$A$1:$H$74,6,FALSE)","v":"50-150"},{"$f":"VLOOKUP(A65,Feuil2!$A$1:$H$74,7,FALSE)","v":"<100"},{"$f":"VLOOKUP(A65,Feuil2!$A$1:$H$74,8,FALSE)","v":"120 - 200"},"20-American Porter and Stout","Stout","English Stout","England",1018,"20C - Imperial Stout",1030,"An intensely-flavored, big, dark ale with a wide range of flavor balances and regional interpretations. Roasty-burnt malt with deep dark or dried fruit flavors, and a warming, bittersweet finish. Despite the intense flavors, the components need to meld together to create a complex, harmonious beer, not a hot mess.","Rich and complex, with variable amounts of roasted grains, maltiness, fruity esters, hops, and alcohol. The roasted malt character can take on coffee, dark chocolate, or slightly burnt tones and can be light to moderately strong. The malt aroma can be subtle to rich and barleywine-like. May optionally show a slight specialty malt character (e.g., caramel), but this should only add complexity and not dominate. Fruity esters may be low to moderately strong, and may take on a complex, dark fruit (e.g., plums, prunes, raisins) character. Hop aroma can be very low to quite aggressive, and may contain any hop variety. An alcohol character may be present, but shouldn’t be sharp, hot, or solventy. Aged versions may have a slight vinous or port-like quality, but shouldn’t be sour. The balance can vary with any of the aroma elements taking center stage. Not all possible aromas described need be present; many interpretations are possible. Aging affects the intensity, balance and smoothness of aromatics.","Color may range from very dark reddish-brown to jet black. Opaque. Deep tan to dark brown head. Generally has a well-formed head, although head retention may be low to moderate. High alcohol and viscosity may be visible in “legs” when beer is swirled in a glass.","Rich, deep, complex and frequently quite intense, with variable amounts of roasted malt/grains, maltiness, fruity esters, hop bitterness and flavor, and alcohol. Medium to aggressively high bitterness. Medium-low to high hop flavor (any variety). Moderate to aggressively high roasted malt/grain flavors can suggest bittersweet or unsweetened chocolate, cocoa, and/or strong coffee. A slightly burnt grain, burnt currant or tarry character may be evident. Fruity esters may be low to intense, and can take on a dark fruit character (raisins, plums, or prunes). Malt backbone can be balanced and supportive to rich and barleywine-like, and may optionally show some supporting caramel, bready or toasty flavors. The palate and finish can vary from relatively dry to moderately sweet, usually with some lingering roastiness, hop bitterness and warming character. The balance and intensity of flavors can be affected by aging, with some flavors becoming more subdued over time and some aged, vinous or port-like qualities developing.","Full to very full-bodied and chewy, with a velvety, luscious texture (although the body may decline with long conditioning). Gentle smooth warmth from alcohol should be present and noticeable, but not a primary characteristic; in well-conditioned versions, the alcohol can be deceptive. Should not be syrupy or under-attenuated. Carbonation may be low to moderate, depending on age and conditioning.","Traditionally an English style, but it is currently much more popular and widely available in America where it is a craft beer favorite, not a curiosity. Variations exist, with English and American interpretations (predictably, the American versions have more bitterness, roasted character, and finishing hops, while the English varieties reflect a more complex specialty malt character and a more forward ester profile). Not all Imperial Stouts have a clearly ‘English’ or ‘American’ character; anything in between the two variants are allowable as well, which is why it is counter-productive to designate a sub-type when entering a competition. The wide range of allowable characteristics allow for maximum brewer creativity. Judges must be aware of the broad range of the style, and not try to judge all examples as clones of a specific commercial beer.","A style with a long, although not necessarily continuous, heritage. Traces roots to strong English porters brewed for export in the 1700s, and said to have been popular with the Russian Imperial Court. After the Napoleonic wars interrupted trade, these beers were increasingly sold in England. The style eventually all but died out, until being popularly embraced in the modern craft beer era, both in England as a revival and in the United States as a reinterpretation or re-imagination by extending the style with American characteristics. ","Well-modified pale malt, with generous quantities of roasted malts and/or grain. May have a complex grain bill using virtually any variety of malt. Any type of hops may be used. American or English ale yeast.","Like a black barleywine with every dimension of flavor coming into play. More complex, with a broader range of possible flavors than lower-gravity stouts. ","American –Bell’s Expedition Stout, Cigar City Marshal Zhukov’s Imperial Stout, Great Divide Yeti Imperial Stout, North Coast Old Rasputin Imperial Stout, Sierra Nevada Narwhal Imperial Stout; English – Courage Imperial Russian Stout, Le Coq Imperial Extra Double Stout, Samuel Smith Imperial Stout",null,"Une bière noire aux saveurs intenses et généreuses avec une large gamme d’interprétations régionales et d’équilibres dans les saveurs. Elle met surtout en avant les malts torréfiés-brulés avec de profondes saveurs de fruits noirs ou de fruits secs et des notes finales douces-amères réchauffant le palais. Malgré l'intensité des saveurs, les différentes composantes doivent se fondre pour obtenir une bière complexe et harmonieuse plutôt qu'une cacophonie alcoolisée. ","Riches et complexes, avec des intensités variables torréfiée, maltée, d'esters fruités, de houblon et d'alcool, les senteurs de malt torréfié peuvent être légères à modérément fortes et tendres, sur le café, le chocolat noir ou tirant légèrement sur le brûlé. Le malté peut être subtil à riche comme dans un BW mais aussi un profil léger plus original (par ex caramel), mais qui ne doit pas ajouter trop de complexité ni dominer les autres arômes. Les esters fruités peuvent être faibles à modérément forts et peuvent tirer sur les fruits noirs et complexes (par ex. prune, pruneau, raisins secs). L'arôme des houblons peut être très faible à très agressif et peut provenir de toute variété. Une présence d'alcool peut être perceptible mais ne devra pas être vive, brûlante ou rappeler le solvant mais plutôt vineuse ou porto, sans le côté acide. Pour le reste cela peut varier largement autour des arômes principaux ; de nombreuses interprétations restant possibles. Attention au vieillissement qui affectera l'intensité, l'équilibre et la finesse des arômes. ","La couleur peut varier de brun-rouge très foncé à noir de jais mais toujours opaque. La mousse est beige profond à brun foncé, plutôt bien formée, bien que sa tenue puisse être faible à modérée. Le fort abv et la viscosité peuvent laisser des larmes sur le verre.","C'est une bière riche, profonde, complexe et souvent assez intense, avec des quantités variables de malts ou céréales torréfiés, de notes maltées, d'esters fruités, d'amertume et saveurs de houblons et d'alcool. L'amertume est moyenne à violemment forte, la saveur de houblon moyennement basse à haute et de n'importe quelle variété. Les saveurs de malts et céréales grillés sont modérées à très élevées et peuvent rappeler le chocolat amer sucré ou non sucré, le cacao et/ou le café fort. Des céréales légèrement brûlées, du cassis brûlé ou un caractère goudronneux peuvent être perceptibles. Les esters fruités peuvent être faibles à intenses et peuvent dériver vers les fruits noirs (raisins, prunes, pruneaux). La charpente maltée peut être bien équilibrée et en soutien de saveurs riches, rappelant le BW, et peut éventuellement avoir en renfort des notes de caramel, de pain ou des saveurs grillées. Au palais et en fin de bouche, elle peut varier de relativement sèche à modérément sucrée, habituellement avec une persistance de torréfié, d'amertume et de chaleur d'alcool. L'équilibre et l'intensité des saveurs peuvent être affectés par le vieillissement, avec des saveurs pouvant devenir plus discrètes avec le temps et développer des notes vineuses ou porto.","Le corps est puissant et moelleux, de texture veloutée, fondante, bien qu’il puisse diminuer après une longue garde. La douce chaleur d’alcool doit être présente et perceptible, sans devenir prégnante. Dans des versions bien conservées, l'alcool peut être trompeur. Elle ne doit pas être sirupeuse ni sous-atténuée et la carbonatation va de faible à modérée, selon l'âge et la conservation. ","Un style traditionnellement anglais mais actuellement beaucoup plus populaire et largement disponible aux US où il est une des bières artisanales les plus appréciées et non simplement une curiosité. Il en existe de multiples variantes, avec des interprétations UK et US. Les versions US étant sans surprise plus amères, plus torréfiées et plus riches en houblons aromatiques, tandis que les variétés UK recèlent des saveurs plus complexes de malts spéciaux et des notes d'esters beaucoup plus mises en avant. Les Imperial Stouts n'ont pas tous aussi clairement un style \"anglais\" ou \"américain\" ; n'importe quelles nuances entre les deux sont aussi acceptables, ce qui signifie aussi qu'il est contre-productif de spécifier un sous-style lors de l'inscription à un concours. Le large éventail de caractéristiques admises permet un maximum de créativité de la part des brasseurs. Les juges doivent être conscients de l'étendue de ce style sans essayer de juger les exemplaires présentés comme les clones d'une bière commerciale spécifique. ","Il s'agit d'un style avec une longue histoire, pas forcément continue d'ailleurs. Ses racines se retrouvent dans les puissants Porters Anglais brassés pour l'export dans les années 1700 et réputés pour avoir été très appréciés par la cour impériale de Russie. Après une interruption des échanges pendant les guerres napoléoniennes, ces bières ont été de plus en plus vendues en Angleterre. Le style a finalement presque disparu, avant de redevenir largement plébiscité dans cette nouvelle ère des brasseries artisanales modernes, à la fois en Angleterre comme un renouveau et aux États-Unis comme une réinterprétation ou réinvention, en élargissant le style de caractéristiques typiquement américaines. ","Du malt pâle bien modifié avec de bonnes quantités de malts et/ou céréales torréfiés, avec parfois un mélange très variés de grains utilisant presque toutes les variétés de malts. Tous types de houblons peuvent être utilisés et des levures type ale US ou UK. ","Semblable à un Barley Wine noir avec toutes les dimensions de saveurs entrant en jeu, mais plus complexe et avec un plus large éventail de saveurs que les Stouts plus légers. ","American –Bell’s Expedition Stout, Cigar City Marshal Zhukov’s Imperial Stout, Great Divide Yeti Imperial Stout, North Coast Old Rasputin Imperial Stout, Sierra Nevada Narwhal Imperial Stout; English – Courage Imperial Russian Stout, Le Coq Imperial Extra Double Stout, Samuel Smith Imperial Stout"]
["21A - American IPA",{"$f":"N66/1000","v":1.056},{"$f":"O66/1000","v":1.07},{"$f":"P66/1000","v":1.008},{"$f":"Q66/1000","v":1.014},11.82,27.58,40,70,5.5,7.5,6,14,1056,1070,1008,1014,"21A","American IPA",2.2999999999999998,2.8,{"$f":"VLOOKUP(A66,Feuil2!$A$1:$H$74,2,FALSE)","v":"50-150"},{"$f":"VLOOKUP(A66,Feuil2!$A$1:$H$74,3,FALSE)","v":"0-30"},{"$f":"VLOOKUP(A66,Feuil2!$A$1:$H$74,4,FALSE)","v":"40-120"},{"$f":"VLOOKUP(A66,Feuil2!$A$1:$H$74,5,FALSE)","v":"100-400"},{"$f":"VLOOKUP(A66,Feuil2!$A$1:$H$74,6,FALSE)","v":"0-100"},{"$f":"VLOOKUP(A66,Feuil2!$A$1:$H$74,7,FALSE)","v":"<100"},{"$f":"VLOOKUP(A66,Feuil2!$A$1:$H$74,8,FALSE)","v":"-30-30"},"21-IPA","IPA","American Pale Beer","United States",1008,{"$f":"R66&\" - \"&S66","v":"21A - American IPA"},1014,"A decidedly hoppy and bitter, moderately strong American pale ale, showcasing modern American or New World hop varieties. The balance is hop-forward, with a clean fermentation profile, dryish finish, and clean, supporting malt allowing a creative range of hop character to shine through.","A prominent to intense hop aroma featuring one or more characteristics of American or New World hops, such as citrus, floral, pine, resinous, spicy, tropical fruit, stone fruit, berry, melon, etc. Many versions are dry hopped and can have an additional fresh hop aroma; this is desirable but not required. Grassiness should be minimal, if present. A low to medium-low clean, grainy-malty aroma may be found in the background. Fruitiness from yeast may also be detected in some versions, although a neutral fermentation character is also acceptable. A restrained alcohol note may be present, but this character should be minimal at best. Any American or New World hop character is acceptable; new hop varieties continue to be released and should not constrain this style.","Color ranges from medium gold to light reddish-amber. Should be clear, although unfiltered dry-hopped versions may be a bit hazy. Medium-sized, white to off-white head with good persistence.","Hop flavor is medium to very high, and should reflect an American or New World hop character, such as citrus, floral, pine, resinous, spicy, tropical fruit, stone fruit, berry, melon, etc. Medium-high to very high hop bitterness. Malt flavor should be low to medium-low, and is generally clean and grainy-malty although some light caramel or toasty flavors are acceptable. Low yeast-derived fruitiness is acceptable but not required. Dry to medium-dry finish; residual sweetness should be low to none. The bitterness and hop flavor may linger into the aftertaste but should not be harsh. A very light, clean alcohol flavor may be noted in stronger versions. May be slightly sulfury, but most examples do not exhibit this character.","Medium-light to medium body, with a smooth texture. Medium to medium-high carbonation. No harsh hop-derived astringency. Very light, smooth alcohol warming not a fault if it does not intrude into overall balance.","A modern American craft beer interpretation of the historical English style, brewed using American ingredients and attitude. The basis for many modern variations, including the stronger Double IPA as well as IPAs with various other ingredients. Those other IPAs should generally be entered in the Specialty IPA style. Oak is inappropriate in this style; if noticeably oaked, enter in wood-aged category.","The first modern American craft beer example is generally believed to be Anchor Liberty Ale, first brewed in 1975 and using whole Cascade hops; the style has pushed beyond that original beer, which now tastes more like an American Pale Ale in comparison. American-made IPAs from earlier eras were not unknown (particularly the well-regarded Ballantine’s IPA, an oak-aged beer using an old English recipe). This style is based on the modern craft beer examples.","Pale ale or 2-row brewers malt as the base, American or New World hops, American or English yeast with a clean or slightly fruity profile. Generally all-malt, but mashed at lower temperatures for high attenuation. Sugar additions to aid attenuation are acceptable. Restrained use of crystal malts, if any, as high amounts can lead to a sweet finish and clash with the hop character.","Stronger and more highly hopped than an American Pale Ale. Compared to an English IPA, has less of the “English” character from malt, hops, and yeast (less caramel, bread, and toast; more American/New World hops than English; less yeast-derived esters), less body, and often has a more hoppy balance and is slightly stronger than most examples. Less alcohol than a Double IPA, but with a similar balance.","Alpine Duet, Bell’s Two-Hearted Ale, Fat Heads Head Hunter IPA, Firestone Walker Union Jack, Lagunitas IPA, Russian River Blind Pig IPA, Stone IPA",null,"Une pale ale américaine résolument houblonnée et amère, modérément forte, mettant en avant les variétés de houblon modernes américaines et du Nouveau Monde. L’équilibre penche du côté du houblon avec un profil de fermentation propre, une finale sèche et nette qui souligne le côté malté, permettant à une large palette créative de profils houblonnés de briller. ","Un arôme proéminent à intense de houblon comportant une ou plusieurs caractéristiques des houblons américains ou du Nouveau Monde, tel qu’un côté agrume, floral, pin, résineux, épicé, fruits tropicaux, drupes, baies, melon, etc. \nBeaucoup de versions sont houblonnées à cru et peuvent avoir un arôme supplémentaire de houblon frais ; c'est une caractéristique attendue, mais pas obligatoire. Le côté herbeux devrait être minime, s'il est présent. Un faible à léger arôme de malt et de grains peut être retrouvé en arrière-plan. Un côté fruité des levures peut aussi être détecté dans certains exemples, cependant un caractère neutre de fermentation est aussi acceptable. Une note limitée d’alcool peut être présente mais devrait être minime, au mieux. N’importe quel caractère de houblon américain ou du Nouveau Monde est acceptable ; de nouvelles variétés continuent apparaissant sans cesse, ce style ne doit pas être restreint aux variétés plus anciennes. ","La couleur varie du doré moyen à l’ambré clair rougeâtre. Elle doit être limpide, bien que les versions non filtrées et houblonnées à cru puissent être un peu troubles. La mousse est de taille moyenne, blanche à blanc cassé avec une bonne tenue. ","La saveur de houblon est de moyenne à très forte et devrait refléter les profils des houblons américains ou du Nouveau Monde, tel que agrumes, floral, pin, résineux, épicé, fruits exotiques, drupes, baies, melon, etc. L’amertume doit être moyennement forte à très forte. Le goût de malt devrait être faible à limité, doit généralement être net et porté sur le malté ou les grains bien que des goûts légers de caramel ou de toasté soient acceptables. Un peu de fruité venant des levures est acceptable mais non requis. La finale est sèche à moyennement sèche ; les sucres résiduels devraient être faibles à absents. L’amertume et le goût de houblon peuvent être persistants en fin de bouche mais ne doivent pas être âpres. Un très léger goût d’alcool propre peut être perçu dans les exemples  plus forts. Elle peut être légèrement soufrée, mais la plupart des exemples ne présentent pas ce profil. ","Le corps est léger à moyen, avec une texture douce, la carbonatation moyenne à forte, aucune astringence dérivée du houblon. Une chaleur très légère et douce d’alcool n’est pas rédhibitoire si elle n’interfère pas avec l’équilibre général. ","Une interprétation de bière artisanale et américaine moderne d’un style anglais historique, brassée avec des ingrédients et un esprit américain. Elle sert de base pour beaucoup de variations modernes, incluant la plus forte Double IPA ou les IPAs avec d’autres ingrédients variés. Ces autres IPAs devraient en général être enregistrées dans le style IPA spéciales. Le chêne n’est pas approprié pour ce style ; si le chêne ressort de façon notable, la bière est à présenter dans la catégorie vieillie en fût. ","Il est généralement considéré que le premier exemple moderne de bière artisanale américaine était la Anchor Liberty Ale, brassée pour la première fois en 1975 et utilisant du houblon Cascade sous forme de cônes ; le style s'est alors développé au-delà de cette bière d’origine, qui ressemble désormais plus maintenant à une pale ale américaine. Les IPAs américaines des périodes plus anciennes ne sont pas inconnues (en particulier la recherchée Ballantine’s IPA, une bière vieillie en chêne utilisant une ancienne recette anglaise). Le style décrit ici est basé donc sur les exemples de bières artisanales modernes. ","Du malt pale ou deux rangs comme base, des houblons américains ou du Nouveau Monde, de la levure américaine ou anglaise avec un profil neutre ou légèrement fruité. Généralement uniquement composée de malts, mais empâté à une température faible pour obtenir une forte atténuation. Des ajouts de sucre pour aider à l’atténuation sont acceptables. Un usage limité de malts crystals s'ils sont utilisés, car de grandes quantités peuvent amener une finale sucrée risquant de se heurter au profil houblonné. ","Plus forte et plus fortement houblonnée qu'une American Pale Ale. Comparée avec une IPA anglaise, elle a moins le côté \"anglais\" des malts, houblons et levure (moins de caramel, pain et toasté ; plus de houblons américains/Nouveau Monde que la version anglaise, moins d'esters des levures), moins de corps, souvent un équilibre plus prononcé sur le houblon et légèrement plus forte dans la plupart des versions. Moins d'alcool qu'une Double IPA mais un équilibre identique. ","Alpine Duet, Bell’s Two-Hearted Ale, Fat Heads Head Hunter IPA, Firestone Walker Union Jack, Lagunitas IPA, Russian River Blind Pig IPA, Stone Brewing IPA"]
["21B - Specialty IPA - Belgian IPA",1.0580000000000001,1.08,1.008,1.016,9.85,29.55,50,100,6.2,9.5,5,15,1058,1080,1008,1016,{"$f":"LEFT(A67,3)","v":"21B"},"Specialty IPA - Belgian IPA",2.2999999999999998,2.8,{"$f":"VLOOKUP(A67,Feuil2!$A$1:$H$74,2,FALSE)","v":{"$error":"#N/A"}},{"$f":"VLOOKUP(A67,Feuil2!$A$1:$H$74,3,FALSE)","v":{"$error":"#N/A"}},{"$f":"VLOOKUP(A67,Feuil2!$A$1:$H$74,4,FALSE)","v":{"$error":"#N/A"}},{"$f":"VLOOKUP(A67,Feuil2!$A$1:$H$74,5,FALSE)","v":{"$error":"#N/A"}},{"$f":"VLOOKUP(A67,Feuil2!$A$1:$H$74,6,FALSE)","v":{"$error":"#N/A"}},{"$f":"VLOOKUP(A67,Feuil2!$A$1:$H$74,7,FALSE)","v":{"$error":"#N/A"}},{"$f":"VLOOKUP(A67,Feuil2!$A$1:$H$74,8,FALSE)","v":{"$error":"#N/A"}},"21-IPA","IPA","American Bitter Beer","United States",1008,"21B - Specialty IPA - Belgian IPA",1016,"An IPA with the fruitiness and spiciness derived from the use of Belgian yeast. The examples from Belgium tend to be lighter in color and more attenuated, similar to a tripel that has been brewed with more hops. This beer has a more complex flavor profile and may be higher in alcohol than a typical IPA.","Moderate to high hop aroma, often tropical, stone fruit, citrus or pine-like typical of American or New World hop varieties. Floral and spicy aromas are also found indicating European hops. Grassy aroma due to dry hopping may be present. Gentle, grainy-sweet malt aroma, with little to no caramel. Fruity esters are moderate to high and may include aromas of bananas, pears and apples. Light clove-like phenols may be noticeable. Belgian candi sugar-like aromas are sometimes present.","Light golden to amber in color. Off-white head is moderate to large in size and has good retention. Clarity is fair to quite hazy in dry hopped examples.","Initial flavor is moderately spicy and estery associated with Belgian yeast strains. Clove-like and peppery flavors are common. Banana, pear and apple flavors are also typical. Hop flavors are moderate to high in intensity and may reflect tropical, stone fruit, melon, citrusy, or piney American/New World varieties or floral and spicy Saazer-type hop flavors. Malt flavor is light and grainy-sweet, sometimes with low toasted or caramel malt flavor but not required. Bitterness is high and may be accentuated by spicy yeast-derived flavors. The finish is dry to medium-dry although some examples have a slight sweetness mixed with the lingering bitterness.","The body is medium to light and varies due to carbonation level and adjunct use. Carbonation level is medium to high. Some higher alcohol versions may be warming although this may not be readily apparent.","The choice of yeast strain and hop varieties is critical since many choices will horribly clash.","A relatively new style, started showing up in the mid 2000s. Homebrewers and microbreweries simply substituted Belgian yeast in their American IPA recipes. Belgian breweries added more hops to their tripel and pale ale recipes.","Belgian yeast strains used in making tripels and golden strong ales. American examples tend to use American or New World hops while Belgian versions tend to use European hops and only pale malt.","A cross between an American IPA/Imperial IPA with a Belgian Golden Strong Ale or Tripel. This style is may be spicier, stronger, drier and more fruity than an American IPA.","Brewery Vivant Triomphe, Houblon Chouffe, Epic Brainless IPA, Green Flash Le Freak, Stone Cali-Belgique, Urthel Hop It","Specialty IPA isn’t a distinct style, but is more appropriately thought of as a competition entry category. Beers entered as this style are not experimental beers; they are a collection of currently produced types of beer that may or may not have any market longevity. This category also allows for expansion, so potential future IPA variants (St. Patrick’s Day Green IPA, Romulan Blue IPA, Zima Clear IPA, etc.) have a place to be entered without redoing the style guidelines. The only common element is that they have the balance and overall impression of an IPA (typically, an American IPA) but with some minor tweak.\nThe term ‘IPA’ is used as a singular descriptor of a type of hoppy, bitter beer. It is not meant to be spelled out as ‘India Pale Ale’ when used in the context of a Specialty IPA. None of these beers ever historically went to India, and many aren’t pale. But the craft beer market knows what to expect in balance when a beer is described as an ‘IPA’ – so the modifiers used to differentiate them are based on that concept alone.","Une IPA avec le côté fruité et épicé issu de l'utilisation de levure belge. Les exemples venant de Belgique tendent à être plus léger en couleur et plus atténués, comme une triple qui aurait été brassée avec plus de houblon. Cette bière a un profil aromatique plus complexe et peut-être plus forte en alcool qu'une IPA classique. ","Arôme de houblon modéré à élevé, souvent tropical, de fruits à noyau, agrumes ou de résineux, classique des variétés américaines ou du Nouveau Monde. Des arômes floraux et épicés peuvent aussi être trouvés, indiquant la présence de houblons européens. Un arôme herbeux dû à houblonnage à cru peut être présent, d'agréables arômes de malt doux, de céréale, avec peu ou pas de notes de caramel. Les esters sont fruités, moyens à haut et peuvent offrir des arômes de banane, de poire ou de pomme. De légers phénols aux arômes de clou de girofle peuvent être présents. Des arômes de sucre candi belge sont parfois présents. ","La couleur est légèrement dorée à ambrée, la mousse est moyenne à épaisse avec une bonne tenue. C'est une bière limpide à assez trouble pour les exemples houblonnés à cru. ","La saveur initiale est moyennement épicée avec les esters associés à des souches de levure belges. Des saveurs poivrées ou de clou de girofle sont classiques. Des saveurs de banane, de poire et de pomme sont également habituelles. Les saveurs de houblons sont modérées à puissantes et peuvent souligner les variétés de houblons américains tropicaux, fruités, citronnés, résineux voire melon ou des saveurs de houblons type Saaz : floraux et épicés. La saveur des malts est légère, de céréale douce, avec parfois une légère note toastée ou caramel mais qui n'est pas obligatoire. L'amertume est élevée et peut être accentuée par des saveurs épicées issues des levures. Le final est sec à moyennement sec bien que quelques exemples ont une légère douceur sucrée associée à une amertume persistante. ","Le corps est moyen à léger et varie en raison du niveau de carbonatation et de l'utilisation d'additifs. Le niveau de carbonatation est moyen à élevé. Des versions plus alcoolisées peuvent présenter une certaine chaleur mais qui ne doit pas être trop forte. ","Le choix de la levure et des variétés de houblons est important car beaucoup de combinaisons peuvent s'avérer désastreuses. ","C'est un style relativement nouveau, apparu dans le milieu des années 2000. Les brasseurs amateurs et les micro-brasseurs ont simplement utilisés des levures belges dans leurs recettes d'IPA américaine. Les brasseries belges quant à elles ont ajouté plus de houblons dans leurs recettes de triple et de pale ale. ","Les souches de levure utilisées sont de type Triple et Blondes Fortes. Les exemples américains ont tendance à utiliser des houblons américains tandis que les versions belges tendent à utiliser des houblons européens et seulement du pale malt. ","A mi-chemin entre une IPA américaine ou IPA impériale et une Belge Blonde Forte ou Triple, ce style est généralement plus épicé, plus fort, plus set et plus fruité qu'une IPA américaine. ","Brewery Vivant Triomphe, Houblon Chouffe, Epic Brainless IPA, Green Flash Le Freak, Stone Cali-Belgique, Urthel Hop It"]
["21B - Specialty IPA - Black IPA",1.05,1.085,1.01,1.018,49.25,78.8,50,90,5.5,9,25,40,1050,1085,1010,1018,"21B","Specialty IPA - Black IPA",2.2999999999999998,2.8,{"$f":"VLOOKUP(A68,Feuil2!$A$1:$H$74,2,FALSE)","v":{"$error":"#N/A"}},{"$f":"VLOOKUP(A68,Feuil2!$A$1:$H$74,3,FALSE)","v":{"$error":"#N/A"}},{"$f":"VLOOKUP(A68,Feuil2!$A$1:$H$74,4,FALSE)","v":{"$error":"#N/A"}},{"$f":"VLOOKUP(A68,Feuil2!$A$1:$H$74,5,FALSE)","v":{"$error":"#N/A"}},{"$f":"VLOOKUP(A68,Feuil2!$A$1:$H$74,6,FALSE)","v":{"$error":"#N/A"}},{"$f":"VLOOKUP(A68,Feuil2!$A$1:$H$74,7,FALSE)","v":{"$error":"#N/A"}},{"$f":"VLOOKUP(A68,Feuil2!$A$1:$H$74,8,FALSE)","v":{"$error":"#N/A"}},"21-IPA","IPA","American Bitter Beer","United States",1010,"21B - Specialty IPA - Black IPA",1018,"A beer with the dryness, hop-forward balance, and flavor characteristics of an American IPA, only darker in color – but without strongly roasted or burnt flavors. The flavor of darker malts is gentle and supportive, not a major flavor component. Drinkability is a key characteristic.","A moderate to high hop aroma, often with a stone fruit, tropical, citrusy, resinous, piney, berry, or melon character. If dry hopped, can have an additional floral, herbal, or grassy aroma, although this is not required. Very low to moderate dark malt aroma, which can optionally include light chocolate, coffee, or toast notes. Some clean or lightly caramelly malty sweetness may be found in the background. Fruitiness, either from esters or from hops, may also be detected in some versions, although a neutral fermentation character is also acceptable.","Color ranges from dark brown to black. Should be clear, although unfiltered dry-hopped versions may be a bit hazy; if opaque, should not be murky. Good head stand with light tan to tan color should persist. ","Medium-low to high hop flavor with tropical, stone fruit, melon, citrusy, berry, piney or resinous aspects. Medium-high to very high hop bitterness, although dark malts may contribute to the perceived bitterness. The base malt flavor is generally clean and of low to medium intensity, and can optionally have low caramel or toffee flavors. Dark malt flavors are low to medium-low; restrained chocolate or coffee flavors may be present, but the roasted notes should not be intense, ashy, or burnt, and should not clash with the hops. Low to moderate fruitiness (from yeast or hops) is acceptable but not required. Dry to slightly off-dry finish. The finish may include a light roast character that contributes to perceived dryness, although this is not required. The bitterness may linger into the aftertaste but should not be harsh. Some clean alcohol flavor can be noted in stronger versions. ","Smooth, medium-light to medium-bodied mouthfeel without significant hop- or (especially) roasted malt-derived astringency. Dry-hopped versions may be a bit resiny. Medium carbonation. A bit of creaminess may be present but is not required. Some smooth alcohol warming can and should be sensed in stronger (but not all) versions. ","Most examples are standard strength. Strong examples can sometimes seem like big, hoppy porters if made too extreme, which hurts their drinkability. The hops and malt can combine to produce interesting interactions.","A variation of the American IPA style first commercially produced by Greg Noonan as Blackwatch IPA around 1990. Popularized in the Pacific Northwest and Southern California of the US starting in the early-mid 2000s. This style is sometimes known as Cascadian Dark Ale (CDA), mainly in the Pacific Northwest. ","Debittered roast malts for color and some flavor without harshness and burnt qualities; American or New World hop varieties that don’t clash with roasted malts. Hop characteristics cited are typical of these type of hops; others characteristics are possible, particularly if derived from newer varietals.","Balance and overall impression of an American or Double IPA with restrained roast similar to the type found in Schwarzbiers. Not as roasty-burnt as American stouts and porters, and with less body and increased smoothness and drinkability. ","21st Amendment Back in Black (standard), Deschutes Hop in the Dark CDA (standard), Rogue Dad’s Little Helper (standard), Southern Tier Iniquity (double), Widmer Pitch Black IPA (standard)","Specialty IPA isn’t a distinct style, but is more appropriately thought of as a competition entry category. Beers entered as this style are not experimental beers; they are a collection of currently produced types of beer that may or may not have any market longevity. This category also allows for expansion, so potential future IPA variants (St. Patrick’s Day Green IPA, Romulan Blue IPA, Zima Clear IPA, etc.) have a place to be entered without redoing the style guidelines. The only common element is that they have the balance and overall impression of an IPA (typically, an American IPA) but with some minor tweak.\nThe term ‘IPA’ is used as a singular descriptor of a type of hoppy, bitter beer. It is not meant to be spelled out as ‘India Pale Ale’ when used in the context of a Specialty IPA. None of these beers ever historically went to India, and many aren’t pale. But the craft beer market knows what to expect in balance when a beer is described as an ‘IPA’ – so the modifiers used to differentiate them are based on that concept alone.","C'est une bière avec la sécheresse, l'équilibre porté sur le houblon et les caractéristiques d'une IPA américaine, uniquement plus foncée au niveau de la couleur - mais sans les saveurs fortement torréfiées ou brûlées. Le goût des malts foncés est doux et complémentaire mais ce n'est pas un composant majeur. La buvabilité est une caractéristique clé. ","Un arôme modéré à fort de houblon, avec souvent un caractère marqué de drupe, tropical, résineux, de baies ou de melon. En cas de houblonnage à cru, il peut y avoir un arôme supplémentaire floral ou herbeux bien que ceci ne soit pas obligatoire. On retrouve très peu à modérément d'arômes de malt foncé, qui peuvent éventuellement inclure des notes de chocolat léger, de café ou de grillé. Une certaine douceur franche ou légère de caramel peut être décelée en arrière-plan. Le côté fruité, venant soit des esters, soit du houblon, peut aussi être détecté dans certaines déclinaisons, bien qu'un caractère neutre de la fermentation soit aussi acceptable. ","La couleur varie du brun foncé au noir. Elle devrait être limpide, bien que les versions non filtrées et houblonnées à cru puissent être un peu troubles ; si opaque, elle ne devrait en tous cas pas être \"boueuse\". Une bonne tenue de mousse avec une coloration beige clair à foncé devrait être présente. ","Un goût de houblon moyen à fort, tropicaux, drupe, melon, agrumes, baies, pin ou résineux. L'amertume du houblon est moyenne à franche, bien que les malts foncés puissent contribuer également à cette sensation amère. Le goût de malt de base est généralement net, de moyenne à faible intensité et peut éventuellement porter des notes de caramel ou caramel au beurre. Les goûts de malts foncés sont faibles à moyens ; des goûts légers de chocolat ou de café peuvent être présents, mais les notes de grillé ne doivent pas être intenses, cendrées ou brûlées ni ne doivent trancher avec les houblons. Un faible fruité (de la levure ou du houblon) est acceptable, mais pas requis. La fin de bouche devrait être assez sèche, elle peut inclure un léger caractère grillé qui contribue à la sécheresse perçue, bien que ce ne soit pas nécessaire. L'amertume peut persister dans l'arrière-goût mais ne doit pas être âpre. Une sensation nette d'alcool peut être perçue dans les versions plus fortes. ","Doux, avec un corps moyen-léger à moyen sans l'astringence venant du houblon - ni (en particulier) des malts grillés. Les versions houblonnées à cru peuvent être un peu résineuses. La carbonatation est moyenne. Une certaine onctuosité peut être présente mais n'est pas nécessaire. Un peu de chaleur d'alcool peut et devrait être ressentie dans les versions plus fortes (mais pas toutes). ","La plupart des exemples sont de force moyenne. Les exemples plus forts peuvent parfois ressembler à des porters fortement houblonnés si poussés trop à l'extrême, ce qui risque d'altérer leur buvabilité. Les houblons et malts peuvent se combiner pour produire des interactions intéressantes. ","Une variante du style IPA Américaine a d'abord été produite par Greg Noonan en tant que \"Blackwatch IPA\" autour des années 1990. Elle a été popularisée dans le pacifique nord-ouest et le sud de la Californie au début des années 2000. Ce style est parfois connu comme Cascadian Dark Ale (CDA[Notes 1]), majoritairement dans le pacifique Nord-Ouest. ","Des malts grillés désamérisés pour la couleur et un peu de saveur sans âcreté ni côté brûlé. Des variétés de houblon américaines ou du Nouveau Monde qui n'entrent pas en conflit avec les malts grillés. Les caractéristiques du houblon sont typiques de ces types de houblons américains ; d'autres caractéristiques sont possibles, particulièrement si elles proviennent de variétés plus récentes. ","L’équilibre et l’impression générale sont ceux d'une IPA ou d'une double IPA américaine avec un grillé restreint similaire à ceux trouvés dans les Schwarzbiers. Pas aussi grillé que les Stouts américains et Porters, avec moins de corps et une plus grande \"buvabilité\". ","21st Amendement Back in Black (standard), Deschutes Hop in the Dark CDA (standard), Rogue Dad’s Little Helper (standard), Southern Tier Iniquity (double), Widmer Pitch Black IPA (standard). "]
["21B - Specialty IPA - Brown IPA",1.056,1.07,1.008,1.016,21.669999999999998,37.43,40,70,5.5,7.5,11,19,1056,1070,1008,1016,"21B","Specialty IPA - Brown IPA",2.2999999999999998,2.8,{"$f":"VLOOKUP(A69,Feuil2!$A$1:$H$74,2,FALSE)","v":{"$error":"#N/A"}},{"$f":"VLOOKUP(A69,Feuil2!$A$1:$H$74,3,FALSE)","v":{"$error":"#N/A"}},{"$f":"VLOOKUP(A69,Feuil2!$A$1:$H$74,4,FALSE)","v":{"$error":"#N/A"}},{"$f":"VLOOKUP(A69,Feuil2!$A$1:$H$74,5,FALSE)","v":{"$error":"#N/A"}},{"$f":"VLOOKUP(A69,Feuil2!$A$1:$H$74,6,FALSE)","v":{"$error":"#N/A"}},{"$f":"VLOOKUP(A69,Feuil2!$A$1:$H$74,7,FALSE)","v":{"$error":"#N/A"}},{"$f":"VLOOKUP(A69,Feuil2!$A$1:$H$74,8,FALSE)","v":{"$error":"#N/A"}},"21-IPA","IPA","American Bitter Beer","United States",1008,"21B - Specialty IPA - Brown IPA",1016,"Hoppy, bitter, and moderately strong like an American IPA, but with some caramel, chocolate, toffee, and/or dark fruit malt character as in an American Brown Ale. Retaining the dryish finish and lean body that makes IPAs so drinkable, a Brown IPA is a little more flavorful and malty than an American IPA without being sweet or heavy.","A moderate to moderately-strong fresh hop aroma featuring one or more characteristics of American or New World hops, such as tropical fruit, stone fruit, citrus, floral, spicy, berry, melon, pine, resinous, etc. Many versions are dry hopped and can have an additional fresh hop aroma; this is desirable but not required. Grassiness should be minimal, if present. A medium-low to medium malty-sweet aroma mixes in well with the hop selection, and often features chocolate, nuts, dark caramel, toffee, toasted bread, and/or dark fruit character. Fruitiness from yeast may also be detected in some versions, although a neutral fermentation character is also acceptable. A restrained alcohol note may be present, but this character should be minimal at best. Any American or New World hop character is acceptable; new hop varieties continue to be released and should not constrain this style.","Color ranges from reddish-brown to dark brown but not black. Frequently opaque, but should be clear if visible. Unfiltered dry-hopped versions may be a bit hazy. Medium-sized, cream-colored to tan head with good persistence.","Hop flavor is medium to high, and should reflect an American or New World hop character, such as citrus, floral, pine, resinous, spicy, tropical fruit, stone fruit, berry, melon, etc. Medium-high to high hop bitterness. Malt flavor should be medium-low to medium, and is generally clean but malty-sweet up front with milk chocolate, cocoa, toffee, nutty, biscuity, dark caramel, toasted bread and/or dark fruit malt flavors. The character malt choices and the hop selections should complement and enhance each other, not clash. The level of malt flavor should nearly balance the hop bitterness and flavor presentation. Low yeast-derived fruitiness is acceptable but not required. Dry to medium finish; residual sweetness should be medium-low to none. The bitterness and hop flavor may linger into the aftertaste but should not be harsh. A very light, clean alcohol flavor may be noted in stronger versions. No roasted, burnt, or harsh-bitter malt character.","Medium-light to medium body, with a smooth texture. Medium to medium-high carbonation. No harsh hop-derived astringency. Very light, smooth alcohol warming not a fault if it does not intrude into overall balance.","Previously might have been a sub-genre of American Brown Ales, hoppier and stronger than the normal products, but still maintaining the essential drinkability by avoiding sweet flavors or a heavy body or finish. The hops and malt can combine to produce interesting interactions.","A more modern craft beer name for a style that has long been popular with US homebrewers, when it was known as a hoppier American Brown Ale or sometimes Texas Brown Ale (despite origins in California).","Similar to an American IPA, but with medium or dark crystal malts, lightly roasted chocolate-type malts, or other intermediate color character malts. May use sugar adjuncts, including brown sugar. American or New World finishing hops with tropical, fruity, citrusy, piney, berry, or melon aspects; the choice of hops and character malts is synergistic – they very much have to complement each other and not clash.","A stronger and more bitter version of an American Brown Ale, with the balance of an American IPA.","Dogfish Head Indian Brown Ale, Grand Teton Bitch Creek, Harpoon Brown IPA, Russian River Janet’s Brown Ale","Specialty IPA isn’t a distinct style, but is more appropriately thought of as a competition entry category. Beers entered as this style are not experimental beers; they are a collection of currently produced types of beer that may or may not have any market longevity. This category also allows for expansion, so potential future IPA variants (St. Patrick’s Day Green IPA, Romulan Blue IPA, Zima Clear IPA, etc.) have a place to be entered without redoing the style guidelines. The only common element is that they have the balance and overall impression of an IPA (typically, an American IPA) but with some minor tweak.\nThe term ‘IPA’ is used as a singular descriptor of a type of hoppy, bitter beer. It is not meant to be spelled out as ‘India Pale Ale’ when used in the context of a Specialty IPA. None of these beers ever historically went to India, and many aren’t pale. But the craft beer market knows what to expect in balance when a beer is described as an ‘IPA’ – so the modifiers used to differentiate them are based on that concept alone.","Houblonnée, amère, modérément forte comme une IPA américaine, mais avec un profil malté caramel, chocolat, toffee et/ou fruit noir, comme dans une American Brown Ale. Gardant une fin de bouche sèche et peu de corps qui font des IPAs une bière facile à boire, cette IPA Brune a plus de saveur qu'une IPA américaine et une note maltée sans pour autant être douce ou forte. ","Les arômes de houblon sont frais, modérés à moyen-fort, présentant une ou plusieurs caractéristiques des houblons américains comme le fruit tropical, à noyau, l'arôme d'agrume, floral, épicé, de baie, de melon, de pin, résineux etc. De nombreuses versions sont houblonnées à cru et peuvent avoir un arôme fraîchement houblonné supplémentaire ; cette qualité est souhaitable mais sans pour autant obligatoire. Le goût herbeux, s'il est présent, doit être minimal. L'arôme malté-doux moyen-faible à moyen se marie bien avec les houblons choisis, et présente souvent des notes chocolatées, de noix, de caramel noir, de toffee, de pain grillé et/ou de fruits noirs. Une touche fruitée venant de la levure peut aussi être détectée dans certaines versions, bien qu'un profil neutre soit aussi acceptable. Une faible note d'alcool peut être présente, mais doit être au mieux minimale. N'importe quel houblon américain est acceptable ; les nouvelles variétés de houblons continuant d'apparaitre ne doivent pas limiter l'évolution de ce style. ","La couleur s'étend du rouge-brun au marron foncé, mais jamais noire. Elle est souvent opaque mais doit être limpide si elle est translucide. Les versions houblonnées à cru et non filtrées peuvent être légèrement trouble. La mousse est moyennement épaisse, crème à brune avec une bonne persistance. ","Les saveurs houblonnées sont moyennes à fortes, et doivent refléter le profil des houblons américains, c'est-à-dire un caractère citronné, floraux, pineux, résineux, épicés, de fruit tropical, de fruit à noyau, de baie, de melon etc. L'amertume est moyennement haute à élevée. Les saveurs maltées doivent être moyennement basses à moyennes, et généralement nettes mais sucrées, maltées, avec une mise en avant du chocolat, cacao, noix, biscuit, caramel, pain grillé et/ou fruits noirs. Le côté malté et les houblons choisis doivent être complémentaires et se renforcer mutuellement sans détonner. Le côté malté doit presque équilibrer l'amertume du houblon. Un léger caractère fruité venant de la levure est acceptable mais n'est pas obligatoire. La fin de bouche est sèche à moyenne ; le sucré résiduel doit être moyennement bas à nul.  L'amertume et les saveurs de houblon peuvent persister en arrière-goût mais ne doivent pas être trop astringent. Une très légère et nette saveur d'alcool peut être perceptible sur les versions les plus fortes. Pas de notes grillées, brûlées, ou amères voire astringentes. ","Le corps est moyen-léger à moyen, avec une texture onctueuse. La carbonatation est moyenne à moyennement haute. On évitera une forte astringence venant du houblon. Une note d'alcool très légère et douce est possible si cela ne déséquilibre pas l'équilibre global. ","Ce style aurait pu être par le passé un sous-genre des American Brown Ales, plus houblonné et plus fort, mais il garde l'essentiel de sa buvabilité en évitant les saveurs sucrées, un corps ou une fin de bouche trop lourds. Les houblons et le malt peuvent aussi se combiner pour donner des interactions intéressantes. ","Un nom de bière artisanale plus moderne pour un style qui est depuis longtemps populaire chez les brasseurs amateurs aux États-Unis, où il était connu comme une version simplement plus houblonnée des American Brown Ales ou parfois sous le nom de Texas Brown Ale (malgré ses origines californiennes). ","Les ingrédients sont similaires à ceux d'une American IPA mais avec des malts crystal moyens à foncés, des malts légèrement grillés de type chocolat ou d'autres malts de couleur intermédiaire. Il est possible d'ajouter du sucre, y compris du sucre brun. On choisira des houblons aromatiques américains avec un profil tropical, fruité, citronné, pineux, de baie ou de melon ; le choix du houblon et le caractère du malt doit entrer en synergie : il est très important qu'ils soient complémentaires et qu'ils ne rentrent pas en opposition. ","Il s'agit d'une version plus forte et plus amère de l'American Brown Ale, avec l'équilibre d'une American IPA. ","Dogfish Head Indian Brown Ale, Grand Teton Bitch Creek, Harpoon Brown IPA, Russian River Janet’s Brown Ale"]
["21B - Specialty IPA - Red IPA",1.056,1.07,1.008,1.016,21.669999999999998,37.43,40,70,5.5,7.5,11,19,1056,1070,1008,1016,"21B","Specialty IPA - Red IPA",2.2999999999999998,2.8,{"$f":"VLOOKUP(A70,Feuil2!$A$1:$H$74,2,FALSE)","v":{"$error":"#N/A"}},{"$f":"VLOOKUP(A70,Feuil2!$A$1:$H$74,3,FALSE)","v":{"$error":"#N/A"}},{"$f":"VLOOKUP(A70,Feuil2!$A$1:$H$74,4,FALSE)","v":{"$error":"#N/A"}},{"$f":"VLOOKUP(A70,Feuil2!$A$1:$H$74,5,FALSE)","v":{"$error":"#N/A"}},{"$f":"VLOOKUP(A70,Feuil2!$A$1:$H$74,6,FALSE)","v":{"$error":"#N/A"}},{"$f":"VLOOKUP(A70,Feuil2!$A$1:$H$74,7,FALSE)","v":{"$error":"#N/A"}},{"$f":"VLOOKUP(A70,Feuil2!$A$1:$H$74,8,FALSE)","v":{"$error":"#N/A"}},"21-IPA","IPA","American Bitter Beer","United States",1008,"21B - Specialty IPA - Red IPA",1016,"Hoppy, bitter, and moderately strong like an American IPA, but with some caramel, toffee, and/or dark fruit malt character. Retaining the dryish finish and lean body that makes IPAs so drinkable, a Red IPA is a little more flavorful and malty than an American IPA without being sweet or heavy.","A moderate to strong fresh hop aroma featuring one or more characteristics of American or New World hops, such as tropical fruit, stone fruit, citrus, floral, spicy, berry, melon, pine, resinous, etc. Many versions are dry hopped and can have an additional fresh hop aroma; this is desirable but not required. Grassiness should be minimal, if present. A medium-low to medium malty-sweet aroma mixes in well with the hop selection, and often features caramel, toffee, toasty, and/or dark fruit character. Fruitiness from yeast may also be detected in some versions, although a neutral fermentation character is also acceptable. A restrained alcohol note may be present, but this character should be minimal at best. Any American or New World hop character is acceptable; new hop varieties continue to be released and should not constrain this style.","Color ranges from light reddish-amber to dark reddish-copper. Should be clear, although unfiltered dry-hopped versions may be a bit hazy. Medium-sized, off-white to cream-colored head with good persistence.","Hop flavor is medium to very high, and should reflect an American or New World hop character, such as citrus, floral, pine, resinous, spicy, tropical fruit, stone fruit, berry, melon, etc. Medium-high to very high hop bitterness. Malt flavor should be medium-low to medium, and is generally clean but malty-sweet up front with medium-dark caramel, toffee, toasty and/or dark fruit malt flavors. The character malt choices and the hop selections should complement and enhance each other, not clash. The level of malt flavor should not adversely constrain the hop bitterness and flavor presentation. Low yeast-derived fruitiness is acceptable but not required. Dry to medium-dry finish; residual sweetness should be medium-low to none. The bitterness and hop flavor may linger into the aftertaste but should not be harsh. A very light, clean alcohol flavor may be noted in stronger versions. ","Medium-light to medium body, with a smooth texture. Medium to medium-high carbonation. No harsh hop-derived astringency. Very light, smooth alcohol warming not a fault if it does not intrude into overall balance.","Previously might have been a sub-genre of American Amber Ales or Double Red Ales, hoppier and stronger than the normal products, but still maintaining the essential drinkability by avoiding sweet flavors or a heavy body or finish.","A modern American craft beer style, based on American IPA but with the malt flavors of an American Amber Ale.","Similar to an American IPA, but with medium or dark crystal malts, possibly some character malts with a light toasty aspect. May use sugar adjuncts. American or New World finishing hops with tropical, fruity, citrusy, piney, berry, or melon aspects; the choice of hops and character malts is synergistic – they very much have to complement each other and not clash.","Similar to the difference between an American Amber Ale and an American Pale Ale, a Red IPA will differ from an American IPA with the addition of some darker crystal malts giving a slightly sweeter, more caramelly and dark fruit-based balance. A Red IPA differs from an American Strong Ale in that the malt profile is less intense and there is less body; a Red IPA still has an IPA balance and doesn’t trend towards a barleywine-like malt character. A Red IPA is like a stronger, hoppier American Amber Ale, with the characteristic dry finish, medium-light body, and strong late hop character.","Green Flash Hop Head Red Double Red IPA (double), Midnight Sun Sockeye Red, Sierra Nevada Flipside Red IPA, Summit Horizon Red IPA, Odell Runoff Red IPA","Specialty IPA isn’t a distinct style, but is more appropriately thought of as a competition entry category. Beers entered as this style are not experimental beers; they are a collection of currently produced types of beer that may or may not have any market longevity. This category also allows for expansion, so potential future IPA variants (St. Patrick’s Day Green IPA, Romulan Blue IPA, Zima Clear IPA, etc.) have a place to be entered without redoing the style guidelines. The only common element is that they have the balance and overall impression of an IPA (typically, an American IPA) but with some minor tweak.\nThe term ‘IPA’ is used as a singular descriptor of a type of hoppy, bitter beer. It is not meant to be spelled out as ‘India Pale Ale’ when used in the context of a Specialty IPA. None of these beers ever historically went to India, and many aren’t pale. But the craft beer market knows what to expect in balance when a beer is described as an ‘IPA’ – so the modifiers used to differentiate them are based on that concept alone.","Houblonnée, amère et moyennement forte comme une IPA Américaine, mais avec un profil malté caramel, toffee et/ou fruit noir. Gardant les caractéristiques qui font d'une IPA une bière facilement buvable (fin de bouche sèche, corps léger), la Red IPA est légèrement plus savoureuse et maltée que l'IPA Américaine, sans pour autant être sucrée ou lourde. ","L'arôme des houblons est frais, modéré à fort, présentant une ou plusieurs caractéristiques des houblons américains comme le fruit tropical, à noyau, agrumes, floral, épicé, de baie, de melon, de pin, résineux etc. De nombreuses versions sont houblonnées à cru et peuvent avoir un arôme de houblon frais supplémentaire ; ce caractère est souhaitable mais pas pour autant obligatoire. Le goût herbeux, s'il est présent, doit être minimal. L'arôme malté-sucré moyen-bas à moyen se combine bien avec les houblons choisis et présente souvent un côté chocolaté, de noix, de caramel noir, de toffee, de pain grillé, et/ou de fruits noirs. Une touche fruitée venant de la levure peut aussi être détectée dans certaines versions, bien qu'un profil neutre soit aussi acceptable. Une note d'alcool légère peut être présente, mais elle doit être au mieux minimale. N'importe quel houblon américain est acceptable ; de nouvelles variétés de houblons continuent d'apparaître et permettent de ne pas trop figer ce style. ","La couleur va de l'ambré-rouge léger à rouge cuivré sombre. Doit être claire, bien que les versions dry-hoppée et non filtrée puissent être légèrement trouble. Mousse moyenne, blanche à crémeuse avec une bonne tenue. ","Les saveurs houblonnées sont moyennes à très fortes, doivent refléter les caractéristiques des houblons américains : agrume, floral, résineux, épicé, fruit tropical, fruit à noyau, baie, melon, etc. L'amertume est moyennement forte à très forte. La saveur maltée doit être moyennement basse à moyenne et est généralement nette mais aussi sucrée-maltée avec mise en avant de saveurs de caramel, toffee, grillé et/ou fruit noir. Le côté malté et les houblons choisis doivent être complémentaires et se renforcer mutuellement sans détonner. La saveur maltée ne doit pas entrer en conflit avec l'amertume et les saveurs du houblon. Une légère touche fruitée apportée par les levures est acceptable mais n'est pas obligatoire. La fin de bouche est sèche à moyennement sèche ; la douceur résiduelle doit être moyennement basse à nulle. L'amertume et la saveur du houblon doivent persister en arrière-goût mais sans être agressifs. Une très légère et nette saveur d'alcool peut être présente dans les versions plus fortes. ","Le corps est moyennement léger à moyen, avec une texture onctueuse. La carbonatation est moyenne à moyennement élevée. On ne note pas d'astringence agressive des houblons. Une très faible et légère sensation d'alcool n'est pas rédhibitoire tant qu'elle ne compromet pas l'équilibre global. ","Aurait pu être auparavant un sous-genre de l'American Amber Ale et Double Red Ales, en plus houblonné et plus fort que la normale, mais il garde une certaine buvabilité en évitant les saveurs sucrées et une fin de bouche ou un corps trop lourd. ","Un style de bière amateur moderne, basé sur l'IPA Américaine mais avec des saveurs maltées de l'American Amber Ale. ","Les ingrédients sont similaires à ceux de l'American IPA, mais avec des malts crystal moyens ou foncés, avec éventuellement des notes maltées présentant un léger ton grillé. Il est possible d'ajouter du sucre. Les houblons aromatiques sont typiquement américains avec un profil tropical, fruité, citronné, pineux, de baie ou de melon ; le choix du houblon et le caractère du malt doivent être harmonieux - ils doivent vraiment se compléter sans se heurter. ","Comparable à la différence qui existe entre une American Amber Ale et une American Pale Ale, la Red IPA va différer de l'American IPA par l'ajout de malts crystal foncés qui donne un équilibre légèrement plus sucré, plus caramélisé et plus basé sur les fruits noirs. Une Red IPA va se démarquer de l'American Strong Ale par le fait que le profil malté est moins intense et qu'il y a moins de corps ; la Red IPA a encore l'équilibre d'une IPA et ne doit pas tendre vers le côté Barley Wine. La Red IPA est comme une American Amber Ale plus forte et plus houblonnée avec une fin de bouche sèche, un corps moyennement léger et une forte finale houblonnée caractéristique. ","Green Flash Hop Head Red Double Red IPA (double), Midnight Sun Sockeye Red, Sierra Nevada Flipside Red IPA, Summit Horizon Red IPA, Odell Runoff Red IPA"]
["21B - Specialty IPA - Rye IPA",1.056,1.075,1.008,1.014,11.82,27.58,50,75,5.5,8,6,14,1056,1075,1008,1014,"21B","Specialty IPA - Rye IPA",2.2999999999999998,2.8,{"$f":"VLOOKUP(A71,Feuil2!$A$1:$H$74,2,FALSE)","v":{"$error":"#N/A"}},{"$f":"VLOOKUP(A71,Feuil2!$A$1:$H$74,3,FALSE)","v":{"$error":"#N/A"}},{"$f":"VLOOKUP(A71,Feuil2!$A$1:$H$74,4,FALSE)","v":{"$error":"#N/A"}},{"$f":"VLOOKUP(A71,Feuil2!$A$1:$H$74,5,FALSE)","v":{"$error":"#N/A"}},{"$f":"VLOOKUP(A71,Feuil2!$A$1:$H$74,6,FALSE)","v":{"$error":"#N/A"}},{"$f":"VLOOKUP(A71,Feuil2!$A$1:$H$74,7,FALSE)","v":{"$error":"#N/A"}},{"$f":"VLOOKUP(A71,Feuil2!$A$1:$H$74,8,FALSE)","v":{"$error":"#N/A"}},"21-IPA","IPA","American Bitter Beer","United States",1008,"21B - Specialty IPA - Rye IPA",1014,"A decidedly hoppy and bitter, moderately strong American pale ale, showcasing modern American and New World hop varieties and rye malt. The balance is hop-forward, with a clean fermentation profile, dry finish, and clean, supporting malt allowing a creative range of hop character to shine through.","A prominent to intense hop aroma featuring one or more characteristics of American or New World hops, such as citrus, floral, pine, resinous, spicy, tropical fruit, stone fruit, berry, melon, etc. Many versions are dry hopped and can have an additional fresh hop aroma; this is desirable but not required. Grassiness should be minimal, if present. It may have low peppery rye malt aroma. A low to medium-low clean grainy-malty aroma may be found in the background. Fruitiness from yeast may also be detected in some versions, although a neutral fermentation character is also acceptable. A restrained alcohol note may be present, but this character should be minimal at best. Any American or New World hop character is acceptable; new hop varieties continue to be released and should not constrain this style.","Color ranges from medium gold to light reddish-amber. Should be clear, although unfiltered dry-hopped versions may be a bit hazy. Medium-sized, white to off-white head with good persistence.","Hop flavor is medium to very high, and should reflect an American or New World hop character, such as citrus, floral, pine, resinous, spicy, tropical fruit, stone fruit, berry, melon, etc. Medium-high to very high hop bitterness. Malt flavor should be low to medium-low, and is generally clean and grainy-malty although some light caramel or toasty flavors are acceptable. A light grainy spiciness from rye malt should be present. Low yeast-derived fruitiness is acceptable but not required. Rye malt contributes to a dry finish; residual sweetness should be low to none. The bitterness, hop flavor and dryness may linger into the aftertaste but should not be harsh. A very light, clean alcohol flavor may be noted in stronger versions. ","Medium-light to medium body, with a smooth texture. Medium to medium-high carbonation. No harsh hop-derived astringency. Very light, smooth alcohol warming not a fault if it does not intrude into overall balance.","A modern American craft beer variation of American IPA. Rye malt character should be noticeable, otherwise enter in American IPA. Oak is inappropriate in this style; if noticeably oaked, enter in wood-aged category.","Looking to add complexity and variety to their IPAs, craft brewers and homebrewers substituted rye malt for a portion of their base malt. Rye IPAs, RyePAs or RIPAs have found a place in many craft breweries seasonal rotations.","Pale ale or 2-row brewers malt as the base, 15-20% Rye malt, American or New World hops, American or English yeast with a clean or slightly fruity profile. Generally all-malt, but mashed at lower temperatures for high attenuation. Sugar additions to aid attenuation are acceptable. Water character varies from soft to moderately sulfate. Restrained use of crystal malts, if any, as high amounts can lead to a sweet finish and clash with the hop character.","Drier and slightly spicier than an American IPA. Bitterness and spiciness from rye lingers longer than an American IPA. Does not have the intense rye malt character of a Roggenbier. Some examples are stronger like a Double IPA.","Arcadia Sky High Rye, Bear Republic Hop Rod Rye, Founders Reds Rye, Great Lakes Rye of the Tiger, Sierra Nevada Ruthless Rye","Specialty IPA isn’t a distinct style, but is more appropriately thought of as a competition entry category. Beers entered as this style are not experimental beers; they are a collection of currently produced types of beer that may or may not have any market longevity. This category also allows for expansion, so potential future IPA variants (St. Patrick’s Day Green IPA, Romulan Blue IPA, Zima Clear IPA, etc.) have a place to be entered without redoing the style guidelines. The only common element is that they have the balance and overall impression of an IPA (typically, an American IPA) but with some minor tweak.\nThe term ‘IPA’ is used as a singular descriptor of a type of hoppy, bitter beer. It is not meant to be spelled out as ‘India Pale Ale’ when used in the context of a Specialty IPA. None of these beers ever historically went to India, and many aren’t pale. But the craft beer market knows what to expect in balance when a beer is described as an ‘IPA’ – so the modifiers used to differentiate them are based on that concept alone.","Incontestablement houblonnée et amère, elle se rapproche d'une American Pale Ale modérément forte, mettant en avant les variétés modernes de houblons américains et du malt de seigle. L'équilibre penche toutefois vers le houblon, avec un profil de fermentation net, une fin de bouche sèche et nette, les malts de base permettant à une large palette de houblons de s'exprimer de manière créative. ","L'arôme de houblon est proéminent à intense, présentant une ou plusieurs caractéristiques des houblons américains, comme le côté agrume, floral, pineux, résineux, épicé, de fruit tropical, de fruit à noyau, de melon ou de baie, etc. Beaucoup de versions ont subi un houblonnage à cru et peuvent alors avoir un arôme supplémentaire de houblon frais ; ce houblonnage à cru est souhaitable mais pas obligatoire. Le côté herbeux doit être minimal s’il est présent. On peut retrouver un léger arôme poivré dû au malt de seigle. Un léger à moyennement léger arôme clair de malt/grain peut être présent en arrière-plan. Un côté fruité apporté par la fermentation peut être noté dans certaines versions bien qu'un profil de fermentation plus neutre puisse être acceptable. Une note persistante d'alcool doit être au mieux minimum si elle est présente. N'importe quel houblon américain est acceptable ; de nouvelles variétés de houblons apparaissant régulièrement elles ne doivent pas empêcher ce style d'évoluer. ","La couleur va d'un doré moyen à rouge ambré léger. Elle doit être claire, bien que des versions avec houblonnage à cru et non filtrées puissent être légèrement troubles. La mousse est moyenne, blanche à blanc-cassé avec une bonne tenue. ","Les saveurs de houblon sont moyennes à très élevées, et doivent refléter les caractéristiques des houblons américains : fruit tropical, à noyau, l'arôme d'agrume, floral, épicé, de baie, de melon, de pin, résineux etc. L'amertume est moyennement élevée à très élevée. Les saveurs de malt doivent être légères à moyennement légères, sont généralement nettes et maltées bien que des arômes légers de caramel ou de grillé sont acceptables. Une légère saveur de grain épicé provenant du malt de seigle doit être présente. Une légère saveur fruitée venant de la levure est acceptable mais non obligatoire. Le malt de seigle donne une fin de bouche sèche ; la douceur résiduelle de légère à nulle. L'amertume, les saveurs de houblon et la fin de bouche sèche peuvent persister en arrière-goût mais ne doivent pas être trop dures. Une très légère et nette saveur d'alcool peut être notée dans les versions les plus fortes. ","Le corps est moyennement léger à moyen, avec une texture onctueuse. La carbonatation est moyenne à moyennement élevée. On ne doit pas noter d'astringence agressive. La très légère et douce sensation de chaleur due à l'alcool n'est pas un problème si elle n'interfère pas avec l'équilibre global. ","Bière artisanale américaine variante de l'IPA américaine, son caractère de malt de seigle doit être reconnaissable, sinon on reste dans la catégorie IPA Américaine. Le chêne est inapproprié dans ce style ; si les notes de vieilli en fût de chêne sont décelables, on inscrira la bière dans la catégorie \"vieillie en fût\". ","Cherchant à complexifier et à varier leurs IPAs, les brasseurs artisanaux et les brasseurs amateurs ont remplacé par du malt de seigle une partie du malt de base. \"Rye IPA\", \"RyePA\" ou encore \"RIPA\" ont trouvé leur place dans de nombreuses productions saisonnières de brasseries artisanales. ","Du malt Pale ou 2 rangs comme base, de 15 à 20% de malt de seigle, des houblons américains, une levure américaine ou anglaise avec un léger ou net profil fruité. Généralement tout grain, mais empâté à basse température pour obtenir une forte atténuation. L'ajout de sucre pour aider à l'atténuation est toléré. Les caractéristiques de l'eau varient, de légèrement à modérément sulfatée. Il faut limiter l'utilisation de malt crystal qui pourrait en grande quantité mener à une fin de bouche trop sucrée et entrer en conflit avec le côté houblonné. ","Plus sèche et légèrement plus épicée qu'une IPA Américaine. L'amertume et le côté épicé provenant du seigle durent plus longtemps que dans une IPA Américaine. On ne retrouve cependant pas l'intensité du malt de seigle qu'on trouve dans une Roggenbier. Quelques exemples peuvent être plus forts en alcool, au niveau d'une Double IPA. ","Arcadia Sky High Rye, Bear Republic Hop Rod Rye, Founders Reds Rye, Great Lakes Rye of the Tiger, Sierra Nevada Ruthless Rye"]
["21B - Specialty IPA - White IPA",1.056,1.0649999999999999,1.01,1.016,9.85,15.76,40,70,5.5,7,5,8,1056,1065,1010,1016,"21B","Specialty IPA - White IPA",2.2999999999999998,2.8,{"$f":"VLOOKUP(A72,Feuil2!$A$1:$H$74,2,FALSE)","v":{"$error":"#N/A"}},{"$f":"VLOOKUP(A72,Feuil2!$A$1:$H$74,3,FALSE)","v":{"$error":"#N/A"}},{"$f":"VLOOKUP(A72,Feuil2!$A$1:$H$74,4,FALSE)","v":{"$error":"#N/A"}},{"$f":"VLOOKUP(A72,Feuil2!$A$1:$H$74,5,FALSE)","v":{"$error":"#N/A"}},{"$f":"VLOOKUP(A72,Feuil2!$A$1:$H$74,6,FALSE)","v":{"$error":"#N/A"}},{"$f":"VLOOKUP(A72,Feuil2!$A$1:$H$74,7,FALSE)","v":{"$error":"#N/A"}},{"$f":"VLOOKUP(A72,Feuil2!$A$1:$H$74,8,FALSE)","v":{"$error":"#N/A"}},"21-IPA","IPA","American Bitter Beer","United States",1010,"21B - Specialty IPA - White IPA",1016,"A fruity, spicy, refreshing version of an American IPA, but with a lighter color, less body, and featuring either the distinctive yeast and/or spice additions typical of a Belgian witbier.","Moderate fruity esters – banana, citrus, perhaps apricot. May have light to moderate spice aroma such as coriander or pepper from actual spice additions and/or Belgian yeast. Hop aroma is moderately-low to medium, usually American or New World type with stone fruit, citrus and tropical aromas. Esters and spices may reduce hop aroma perception. Light clove-like phenolics may be present.","Pale to deep golden color, typically hazy. Moderate to large, dense white head that persists.","Light malt flavor, perhaps a bit bready. Fruity esters are moderate to high, with citrus flavors similar to grapefruit and orange, or stone fruit like apricot. Sometimes banana-like flavors are present. Hop flavor is medium-low to medium-high with citrusy or fruity aspects. Some spicy clove-like flavors from Belgian yeast may be present. Coriander and orange peel flavors may be found as well. Bitterness is high which leads to a moderately dry, refreshing finish.","Medium-light body with medium to medium-high carbonation. Typically no astringency, although highly spiced examples may exhibit a light astringency which is not distracting. ","A craft beer interpretation of American IPA crossed with a witbier.","American craft brewers developed the style as a late winter/spring seasonal beer to appeal to Wit and IPA drinkers alike.","Pale and wheat malts, Belgian yeast, citrusy American type hops.","Similar to a Belgian Wit style except highly hopped to the level of an American IPA. Bitter and hoppy like the IPA but fruity, spicy and light like the Wit. Typically the hop aroma and flavor are not as prominent as in an American IPA.","Blue Point White IPA, Deschutes Chainbreaker IPA, Harpoon The Long Thaw, New Belgium Accumulation","Specialty IPA isn’t a distinct style, but is more appropriately thought of as a competition entry category. Beers entered as this style are not experimental beers; they are a collection of currently produced types of beer that may or may not have any market longevity. This category also allows for expansion, so potential future IPA variants (St. Patrick’s Day Green IPA, Romulan Blue IPA, Zima Clear IPA, etc.) have a place to be entered without redoing the style guidelines. The only common element is that they have the balance and overall impression of an IPA (typically, an American IPA) but with some minor tweak.\nThe term ‘IPA’ is used as a singular descriptor of a type of hoppy, bitter beer. It is not meant to be spelled out as ‘India Pale Ale’ when used in the context of a Specialty IPA. None of these beers ever historically went to India, and many aren’t pale. But the craft beer market knows what to expect in balance when a beer is described as an ‘IPA’ – so the modifiers used to differentiate them are based on that concept alone.","Une version fruitée, épicée et rafraîchissante d'une IPA Américaine, mais avec une couleur plus claire, moins de corps et présentant également la note de levure et/ou épicée typique d'une blanche belge (Witbier). Arôme Des esters fruités modérés - banane, citronné, voire abricot. Elle peut avoir un arôme épicé léger à moyen de coriandre ou de poivre issu de l'ajout d'épices et/ou de l'utilisation de levure de blanche belge. L'arôme de houblon est moyennement bas à moyen, généralement de type américain avec des arômes de fruits à noyaux, d'agrumes et de fruits tropicaux.  Les esters et les épices peuvent atténuer la perception du houblon. Des phénols type clou de girofle peuvent être présents. ",null,"Blonde à dorée, généralement trouble. Une mousse moyenne à haute, dense et bien persistante. ","De légères saveurs maltées, peut-être une petite note de pain. Des esters fruités modérés à élevés, avec des saveurs fruitées rappelant le raisin, l'orange ou les fruits à noyau comme l'abricot, parfois des saveurs de bananes peuvent être perçues. La saveur du houblon est moyennement basse à moyennement haute avec des aspects fruités ou agrumes. Des saveurs d'épices type clou de girofle issus de la levure belge peuvent être présentes. La saveur de coriandre ou de zeste d'orange peut également être trouvée. L'amertume est élevée ce qui conduit à une fin modérément sèche et rafraîchissante. ","Le corps est moyennement clair avec une carbonatation moyenne à moyennement haute. Généralement pas d'astringence, bien que des exemples très épicés puissent en présenter une légère, sans être pour autant gênant. ","Interprétation artisanale d'une IPA Américaine croisée avec une Witbier. ","Malt pale et malt de blé, levure belge, houblons américains tirant plutôt sur l'agrume. ","Malt pale et malt de blé, levure belge, houblons américains tirant plutôt sur l'agrume. ","Très similaire à une Witbier (blanche belge) excepté le fort houblonnage qui est du niveau d'une IPA Américaine. Amère et houblonnée comme l'IPA mais fruitée, épicée et claire comme la blanche. Généralement l'arôme et la saveur de houblon ne sont pas aussi prononcés que dans une IPA Américaine. ","Blue Point White IPA, Deschutes Chainbreaker IPA, Harpoon The Long Thaw, New Belgium Accumulation"]
["22A - Double IPA",1.0649999999999999,1.085,1.008,1.018,11.82,27.58,60,120,7.5,10,6,14,1065,1085,1008,1018,"22A","Double IPA",2.2999999999999998,2.8,{"$f":"VLOOKUP(A73,Feuil2!$A$1:$H$74,2,FALSE)","v":"50-150"},{"$f":"VLOOKUP(A73,Feuil2!$A$1:$H$74,3,FALSE)","v":"0-30"},{"$f":"VLOOKUP(A73,Feuil2!$A$1:$H$74,4,FALSE)","v":"40-120"},{"$f":"VLOOKUP(A73,Feuil2!$A$1:$H$74,5,FALSE)","v":"100-400"},{"$f":"VLOOKUP(A73,Feuil2!$A$1:$H$74,6,FALSE)","v":"0-100"},{"$f":"VLOOKUP(A73,Feuil2!$A$1:$H$74,7,FALSE)","v":"<100"},{"$f":"VLOOKUP(A73,Feuil2!$A$1:$H$74,8,FALSE)","v":"30 - 30"},"22-Strong American Ale","IPA","American Bitter Beer","United States",1008,"22A - Double IPA",1018,"An intensely hoppy, fairly strong pale ale without the big, rich, complex maltiness and residual sweetness and body of an American barleywine. Strongly hopped, but clean, dry, and lacking harshness. Drinkability is an important characteristic; this should not be a heavy, sipping beer.","A prominent to intense hop aroma that typically showcases American or New World hop characteristics (citrus, floral, pine, resinous, spicy, tropical fruit, stone fruit, berry, melon, etc.). Most versions are dry hopped and can have an additional resinous or grassy aroma, although this is not absolutely required. Some clean malty sweetness may be found in the background. Fruitiness, either from esters or hops, may also be detected in some versions, although a neutral fermentation character is typical. Some alcohol can usually be noted, but it should not have a “hot” character.","Color ranges from golden to light orange-copper; most modern versions are fairly pale. Good clarity, although unfiltered dry-hopped versions may be a bit hazy. Moderate-sized, persistent, white to off-white head.","Hop flavor is strong and complex, and can reflect the characteristics of modern American or New World hop varieties (citrus, floral, pine, resinous, spicy, tropical fruit, stone fruit, berry, melon, etc.). High to absurdly high hop bitterness. Low to medium malt flavor, generally clean and grainy-malty although low levels of caramel or toasty flavors are acceptable. Low to medium fruitiness is acceptable but not required. A long, lingering bitterness is usually present in the aftertaste but should not be harsh. Dry to medium-dry finish; should not finish sweet or heavy. A light, clean, smooth alcohol flavor is not a fault. Oak is inappropriate in this style. May be slightly sulfury, but most examples do not exhibit this character. ","Medium-light to medium body, with a smooth texture. Medium to medium-high carbonation. No harsh hop-derived astringency. Restrained, smooth alcohol warming acceptable.","A showcase for hops, yet remaining quite drinkable. The adjective “double\" is arbitrary and simply implies a stronger version of an IPA; “imperial,” “extra,” “extreme,” or any other variety of adjectives would be equally valid, although the modern American market seems to have now coalesced around the “double” term.","An American craft beer innovation first developed in the mid-late 1990s reflecting the trend of American craft brewers “pushing the envelope” to satisfy the need of hop aficionados for increasingly intense products. Became more mainstream and popular throughout the 2000s, and inspired additional IPA creativity.","Clean 2-row malt is typical as a base grain; an excessively complex grist can be distracting. Crystal-type malts often muddy the hop flavors, and are generally considered undesirable in significant quantities. Sugar or other highly fermentable adjuncts are often used to increase attenuation, as are lower-temperature mash rests. Can use a complex variety of hops, typically American or New World, often with cutting-edge profiles providing distinctive differences. Modern hops with unusual characteristics are not out of style. American yeast that can give a clean or slightly fruity profile.","Bigger than either an English or American IPA in both alcohol strength and overall hop level (bittering and finish). Less malty, lower body, less rich and a greater overall hop intensity than an American Barleywine. Typically not as high in gravity/alcohol as a barleywine, since high alcohol and malt tend to limit drinkability.","Avery Maharaja, Fat Heads Hop Juju, Firestone Walker Double Jack, Port Brewing Hop 15, Russian River Pliny the Elder, Stone Ruination IPA, Three Floyds Dreadnaught",null,"Une pale ale intensément houblonnée, clairement forte mais sans retrouver pour autant les caractéristiques et le profil malté fort, riche, complexe, avec sucre résiduel et le corps d'un Barleywine Américain. Fortement houblonnée, mais nette, sèche et sans âpreté. La buvabilité est une caractéristique importante ; elle ne doit jamais devenir lourde ou sirupeuse. ","Un arôme de houblon proéminent voire intense qui présente généralement les caractéristiques des houblons américains (agrumes, floral, pineux, résineux, épicé, fruit tropical, fruits à noyaux, baie, melon, etc.). La plupart des versions sont houblonnées à cru et peuvent alors avoir un arôme additionnel herbeux ou résineux, mais ce n'est absolument pas obligatoire. Une douceur maltée nette peut être présente en arrière-plan. Un arôme de fruit provenant des esters ou des houblons peut être perceptible dans certaines versions, mais un caractère de fermentation neutre est plus fréquent. Une touche d'alcool peut être notée mais qui ne doit pas aller jusqu'à apporter de \"chaleur\". ","La couleur varie d'un doré à un cuivré-orangé clair ; la majorité des versions modernes sont clairement plutôt pâles. Une bonne transparence est généralement observée bien que les versions houblonnées à cru et non filtrée peuvent être un peu trouble. La mousse est de taille moyenne, persistante, blanche à blanc-cassé. ","Saveur du houblon forte et complexe, qui peut refléter les caractéristiques des houblons modernes américains (côté agrumeux, floral, pineux, résineux épicé, fruit tropical et à noyau, baie, melon, etc.). L'amertume est haute à ridiculement élevée. Saveur maltée légère à moyenne, généralement nette et malté-grain bien que de légères saveurs de caramel ou de grillé sont aussi possible. Côté fruité léger à moyen acceptable mais non obligatoire. Une longue et persistante amertume est généralement présente en arrière-goût mais ne doit pas être agressive. Final sec à moyennement sec ; le final ne doit pas être doux ou lourd. Une légère, nette et douce note alcoolisée n'est pas pénalisable. Le chêne n'est pas approprié. On peut trouver un côté légèrement sulfureux, mais la plupart des exemples ne présentent pas ce caractère. ","Le corps est moyen-léger à moyen, avec une texture onctueuse. La carbonatation est moyenne à moyennement élevée. On ne doit pas noter d'astringence agressive provenant du houblon. Une douce chaleur alcoolisée mais raisonnable est acceptable. ","Une mise en avant de houblons mais qui reste relativement buvable. L'adjectif \"double\" est arbitraire et évoque simplement une version plus forte d'une IPA ; Les termes \"Imperial\", \"Extra\", \"Extrême\", ou n'importe quel autre adjectif de ce genre sont acceptables, bien que le marché américain semble s'être décidé autour du terme \"double\". ","Une bière artisanale américaine développée initialement dans la deuxième moitié des années 90, bien représentative de la tendance des brasseurs artisanaux à \"repousser les limites\" pour satisfaire le besoin des accros du houblon d'avoir des bières toujours plus intenses. Devenu plus populaire et plus répandue dans les années 2000, elle a inspiré une nouvelle créativité dans la production d'IPAs. ","Généralement du malt 2 rangs en grain de base; une diversité excessive dans le choix des malts peut être perturbante. Les malts de type crystal étouffent souvent les saveurs des houblons et sont généralement considérés comme indésirables si utilisés en quantité importante. Le sucre et d'autres ajouts de ce type sont souvent utilisés pour augmenter l'atténuation, tout comme l'empâtage à basse température. On peut utiliser une grande diversité de houblons, typiquement américains ou du nouveau monde, généralement avec un profil net et tranchant qui permet de bien les distinguer. Les houblons modernes avec des caractéristiques inhabituelles peuvent être aussi utilisés. La levure américaine peut donner un profil neutre ou légèrement fruité. ","Plus élevée que l'English IPA ou que l'IPA Américaine en terme d'alcool et de houblonnage (amérisant et aromatique), moins maltée, moins de corps, moins riche mais plus intense en houblon que les Barleywine Américains. Elle est typiquement moins haute en densité et en alcool qu'un Barleywine, trop d'alcool ou de malt nuisant à sa buvabilité. ","Avery Maharaja, Fat Heads Hop Juju, Firestone Walker Double Jack, Port Brewing Hop 15, Russian River Pliny the Elder, Stone Ruination IPA, Three Floyds Dreadnaught"]
["22B - American Strong Ale",1.0620000000000001,1.0900000000000001,1.014,1.024,13.79,37.43,50,100,6.3,10,7,19,1062,1090,1014,1024,"22B","American Strong Ale",2.2999999999999998,2.8,{"$f":"VLOOKUP(A74,Feuil2!$A$1:$H$74,2,FALSE)","v":{"$error":"#N/A"}},{"$f":"VLOOKUP(A74,Feuil2!$A$1:$H$74,3,FALSE)","v":{"$error":"#N/A"}},{"$f":"VLOOKUP(A74,Feuil2!$A$1:$H$74,4,FALSE)","v":{"$error":"#N/A"}},{"$f":"VLOOKUP(A74,Feuil2!$A$1:$H$74,5,FALSE)","v":{"$error":"#N/A"}},{"$f":"VLOOKUP(A74,Feuil2!$A$1:$H$74,6,FALSE)","v":{"$error":"#N/A"}},{"$f":"VLOOKUP(A74,Feuil2!$A$1:$H$74,7,FALSE)","v":{"$error":"#N/A"}},{"$f":"VLOOKUP(A74,Feuil2!$A$1:$H$74,8,FALSE)","v":{"$error":"#N/A"}},"22-Strong American Ale","Strong Ale","Strong Ale","United States",1014,"22B - American Strong Ale",1024,"A strong, full-flavored American ale that challenges and rewards the palate with full malty and hoppy flavors and substantial bitterness. The flavors are bold but complementary, and are stronger and richer than average-strength pale and amber American ales.","Medium to high hop aroma, most often presenting citrusy or resiny notes although characteristics associated with other American or New World varieties may be found (tropical, stone fruit, melon, etc.). Moderate to bold maltiness supports hop profile, with medium to dark caramel a common presence, bready or toasty possible and background notes of light roast and/or chocolate noticeable in some examples. Generally exhibits clean to moderately fruity ester profile. Moderate alcohol aromatics may be noticeable, but should not be hot, harsh, or solventy.","Medium amber to deep copper or light brown. Moderate-low to medium-sized off-white to light tan head; may have low head retention. Good clarity. Alcohol level and viscosity may present “legs” when glass is swirled.","Medium to high dextrinous malt with a full range of caramel, toffee, dark fruit flavors. Low to medium toasty, bready, or Maillard-rich malty flavors are optional, and can add complexity. Medium-high to high hop bitterness. The malt gives a medium to high sweet impression on the palate, although the finish may be slightly sweet to somewhat dry. Moderate to high hop flavor. Low to moderate fruity esters. The hop flavors are similar to the aroma (citrusy, resiny, tropical, stone fruit, melon, etc.). Alcohol presence may be noticeable, but sharp or solventy alcohol flavors are undesirable. Roasted malt flavors are allowable but should be a background note; burnt malt flavors are inappropriate. While strongly malty on the palate, the finish should seem bitter to bittersweet. Should not be syrupy and under-attenuated. The aftertaste typically has malt, hops, and alcohol noticeable. ","Medium to full body. An alcohol warmth may be present, but not be excessively hot. Any astringency present should be attributable to bold hop bitterness and should not be objectionable on the palate. Medium-low to medium carbonation. ","A fairly broad style that can describe beers labeled in various ways, including modern Double/Imperial Red/Amber Ales and other strong, malty-but-hoppy beers that aren’t quite in the Barleywine class. Diverse enough to include what may be viewed as a strong American Amber Ale with room for more interpretations of other “Imperial” versions of lower gravity American Ale styles. Many “East Coast” type IPAs might fit better in this category if they have considerable crystal malt or otherwise more of a malty-sweet finish.","While modern craft versions were developed as “imperial” strength versions of American amber or red ales, the style has much in common with historic American stock ales. Strong, malty beers were highly hopped to keep as provision beers prior to prohibition. There is no continuous legacy of brewing stock ales in this manner, but the resemblance is considerable. Stone Arrogant Bastard was born out of a batch of pale ale that was mistakenly made with excess ingredients, thus creating what may have been the prototype for the imperial amber/red ale. Great Lakes first brewed Nosferatu in the early 1990s and called it a stock ale, although they now call it an imperial red ale. So whether by direct historical inspiration or by accident, the style developed independently in the craft beer era and has subsequently become quite popular.","Well-modified pale malt as a base; some character malts would be appropriate, medium to dark crystal malts are typical. Citrusy or piney American hops are common, although any American or New World varieties can be used in quantity, provided they do not clash with the malt character. Generally uses an attenuative American yeast.","Generally not as strong and as rich as an American Barleywine. More malt balanced than an American or Double IPA with more American hop intensity than an English Strong Ale style would tolerate. ","Bear Republic Red Rocket Ale, Great Lakes Nosferatu, Terrapin Big Hoppy Monster, Port Brewing Shark Attack Double Red, Stone Arrogant Bastard,",null,"Une American ale plein de goût qui défie et récompense le palais de saveurs bien maltées et houblonnées avec une solide amertume. Les saveurs sont puissantes mais complémentaires, plus fortes et riches que les American pale et amber ales moyennes. ","Arômes houblonnés de moyens à élevés, présentant généralement des notes d'agrumes ou résineux même si on peut trouver d'autres caractéristiques des houblons américains (fruit exotique, à noyau, melon, etc.). Un côté malté modéré à franc soutient les houblons, avec une présence fréquente d'arôme de caramel moyen à foncé. Un côté pain ou pain grillé est possible et des notes en arrière-plan de torréfié léger et/ou de chocolat peuvent être perceptibles dans quelques exemples. Présente généralement un profil d'esters fruités nets à modérés. Des arômes d'alcools peuvent être présents s'ils sont modérés, mais ne doivent pas être chauds, agressifs ou avec tirer sur le solvant. ","Ambré moyen à bronze profond ou légèrement brune. La mousse est moyennement basse à moyenne de couleur blanc-cassé à légèrement brune ; la tenue de mousse peut être assez faible. Bonne clarté. Le niveau d'alcool et la viscosité peuvent faire apparaître des \"jambes\" lorsqu'on fait tourner la bière dans le verre. ","Saveurs de malt à dextrines moyennes à hautes avec une large gamme de notes de caramel, de toffee, de fruits noirs. Les saveurs légèrement à moyennement grillées, de pain, ou spécifiques à la réaction de Maillard sont possibles et peuvent ajouter de la complexité. Amertume moyennement élevée à élevée. Le malt donne une impression de sucré moyenne à élevée sur le palais, même si la fin de bouche peut être légèrement douce à plus ou moins sèche. Les saveurs de houblons sont moyennes à élevées et les esters de fruits bas à moyens. La saveur du houblon est en adéquation avec les arômes (agrumeux, résineux, tropical, fruit à noyaux, melon, etc.). La présence d'alcool peut être détectable mais des saveurs agressives ou de solvants ne sont pas souhaitable. Des saveurs de malt grillé sont possibles mais doivent rester en arrière-plan ; les saveurs de malts torréfiés sont inappropriées. Bien que fortement maltée au palais la fin de bouche doit être amère à douce-amère. Elle ne doit pas être ni sirupeux ni trop atténuée. L'arrière-goût est généralement composé de malt, houblon et alcool. ","Corps moyen à rond. Une chaleur alcoolisée peut être présente mais ne doit pas être trop \"chaude\". Si une astringence est présente elle doit être à rapprocher de l'amertume franche du houblon et ne doit pas être trop insupportable au palais. La carbonatation est moyennement basse à moyenne. ","Un style assez large qui peut décrire différentes bières portant divers noms, comme les modernes Double/Imperial/Red/Amber Ales et autres bières fortes, \"maltées mais houblonnées\" qui ne rentrent pas dans la catégorie des Barleywines. Le style est assez diversifié pour inclure ce qui pourrait être vu comme une American Amber Ale forte avec de la place pour des interprétations d'autres versions \"Impériales\" des styles American Ales. Beaucoup d'IPAs type \"East Coast\" pourraient entrer mieux dans cette catégorie si elles ont une bonne quantité de malt crystal ou quoi que ce soit qui apporte une fin de bouche maltée-sucrée. ","Tandis que les versions artisanales modernes se sont développées comme des versions \"impériales\" des American amber ales ou red ales, le style à plus en commun avec les historiques \"American Stock Ales\" : des bières fortes, maltées et très houblonnées pour être mises en réserve avant la prohibition. Il n'y a pas vraiment d'héritage direct dans une sorte de continuité du brassage de Stock Ales mais la ressemblance est considérable. La Stone Arrogant Bastard est née d'un brassin de pale ale accidentellement brassé avec trop d'ingrédients, créant ce qui a pu devenir un prototype d'Imperial Amber/Red Ale. Great Lakes a brassé la Nosferatu au début des années 1990 et l'a nommée Stock Ale, bien qu'elle soit désormais reconnue comme une Imperial Red Ale. Donc soit inspiré par l'histoire soit par accident, le style s'est développé dans le milieu de la bière artisanale et est devenu plutôt populaire. ","Malt Pale bien modifié comme malt de base ; des malts de caractère peuvent être appropriés, généralement du crystal malt moyen à foncé. Les houblons américains aux arômes de pins ou agrumes sont habituels, bien que n'importe quelle variété américaine puisse être utilisée en grande quantité, tant qu'elle ne rentre pas en conflit avec les malts. On utilise généralement une levure américaine avec une bonne atténuation. ","Généralement pas aussi forte et riche qu'un American Barleywine. Côté malté plus prononcé qu'une American ou Double IPA avec une intensité de houblons américains plus marquée que ce qu'on pourrait accepter dans le style English Strong Ale. ","Bear Republic Red Rocket Ale, Great Lakes Nosferatu, Terrapin Big Hoppy Monster, Port Brewing Shark Attack Double Red, Stone Arrogant Bastard."]
["22C - American Barleywine",1.08,1.1200000000000001,1.016,1.03,19.7,37.43,50,100,8,12,10,19,1080,1120,1016,1030,"22C","American Barleywine",1.5,2.2999999999999998,{"$f":"VLOOKUP(A75,Feuil2!$A$1:$H$74,2,FALSE)","v":"50-100"},{"$f":"VLOOKUP(A75,Feuil2!$A$1:$H$74,3,FALSE)","v":"0-30"},{"$f":"VLOOKUP(A75,Feuil2!$A$1:$H$74,4,FALSE)","v":"40-120"},{"$f":"VLOOKUP(A75,Feuil2!$A$1:$H$74,5,FALSE)","v":"50-100"},{"$f":"VLOOKUP(A75,Feuil2!$A$1:$H$74,6,FALSE)","v":"50-150"},{"$f":"VLOOKUP(A75,Feuil2!$A$1:$H$74,7,FALSE)","v":"<100"},{"$f":"VLOOKUP(A75,Feuil2!$A$1:$H$74,8,FALSE)","v":"0-60"},"22-Strong American Ale","Strong Ale","Barleywine","United States",1016,"22C - American Barleywine",1030,"A well-hopped American interpretation of the richest and strongest of the English ales. The hop character should be evident throughout, but does not have to be unbalanced. The alcohol strength and hop bitterness often combine to leave a very long finish.","Hop character moderate to assertive and often showcases citrusy, fruity, or resiny New World varieties (although other varieties, such as floral, earthy or spicy English varieties or a blend of varieties, may be used). Rich maltiness, with a character that may be sweet, caramelly, bready, or fairly neutral. Low to moderately-strong fruity esters and alcohol aromatics. However, the intensity of aromatics often subsides with age. Hops tend to be nearly equal to malt in the aroma, with alcohol and esters far behind.","Color may range from light amber to medium copper; may rarely be as dark as light brown. Often has ruby highlights. Moderately-low to large off-white to light tan head; may have low head retention. May be cloudy with chill haze at cooler temperatures, but generally clears to good to brilliant clarity as it warms. The color may appear to have great depth, as if viewed through a thick glass lens. High alcohol and viscosity may be visible in “legs” when beer is swirled in a glass.","Strong, rich malt flavor with a noticeable hop flavor and bitterness in the balance. Moderately-low to moderately-high malty sweetness on the palate, although the finish may be somewhat sweet to quite dry (depending on aging). Hop bitterness may range from moderately strong to aggressive. While strongly malty, the balance should always seem bitter. Moderate to high hop flavor (any variety, but often showing a range of New World hop characteristics). Low to moderate fruity esters. Noticeable alcohol presence, but well-integrated. Flavors will smooth out and decline over time, but any oxidized character should be muted (and generally be masked by the hop character). May have some bready or caramelly malt flavors, but these should not be high; roasted or burnt malt flavors are inappropriate. ","Full-bodied and chewy, with a velvety, luscious texture (although the body may decline with long conditioning). Alcohol warmth should be noticeable but smooth. Should not be syrupy and under-attenuated. Carbonation may be low to moderate, depending on age and conditioning.","Sometimes known as “Barley Wine” or “Barleywine style ale” (the latter due to legal requirements, not brewery preference).","Usually the strongest ale offered by a brewery, often associated with the winter or holiday season and vintage-dated. As with many American craft beer styles, derived from English examples but using American ingredients and featuring a much more forward hop profile. One of the first American craft beer versions was Anchor Old Foghorn, first brewed in 1975. Sierra Nevada Bigfoot, first brewed in 1983, set the standard for the hop-forward style of today. The story goes that when Sierra Nevada first sent Bigfoot out for lab analysis, the lab called and said, “your barleywine is too bitter” – to which Sierra Nevada replied, “thank you.”","Well-modified pale malt should form the backbone of the grist. Some specialty or character malts may be used. Dark malts should be used with great restraint, if at all, as most of the color arises from a lengthy boil. New World hops are common, although any varieties can be used in quantity. Generally uses an attenuative American ale yeast.","The American version of the Barleywine tends to have a greater emphasis on hop bitterness, flavor and aroma than the English Barleywine, and often features American hop varieties. Typically paler than the darker English Barleywines (and lacking in the deeper malt flavors) but darker than the golden English Barleywines. Differs from a Double IPA in that the hops are not extreme, the malt is more forward, and the body is fuller and often richer. An American Barleywine typically has more residual sweetness than a Double IPA, which affects the overall drinkability (sipping vs. drinking).","Avery Hog Heaven Barleywine, Anchor Old Foghorn, Great Divide Old Ruffian, Rogue Old Crustacean, Sierra Nevada Bigfoot, Victory Old Horizontal",null,"Une interprétation américaine bien houblonnée des Ales anglaises les plus complexes et les plus fortes. Le profil houblonné doit être bien présent tout le long de la dégustation, mais sans déséquilibrer l'ensemble. La force de l'alcool et de l'amertume du houblon se combinent souvent pour laisser une très longue fin de bouche. ","Profil houblonné modéré à affirmé et mettant en avant les notes d'agrumes, de fruits ou résineux du Nouveau Monde (bien que des variétés plutôt anglaises : florales, terreuses, épicées ou encore un mélange de variétés puisse être utilisées). Richement malté, avec un profil qui peut être sucré, caramel, pain, ou plutôt neutre. Des esters de fruits et arômes d'alcools bas à moyennement forts. Par contre, l'intensité des arômes diminue souvent avec le temps. Les houblons tendent à s'équilibrer avec le malt au niveau arôme, avec l'alcool et les esters loin derrière. ","La couleur va de l'ambré clair au cuivre moyen ; peut rarement être foncé jusqu'au brun clair. On observe souvent avec des reflets rubis. La mousse est moyennement faible à importante, blanc-cassé à légèrement brune ; elle peut avoir une faible tenue. Elle peut être trouble à basses températures, mais généralement une bonne à très bonne clarté quand elle se réchauffe. La couleur peut sembler avoir une belle profondeur, comme si vue à travers une épaisse lentille de verre. Le haut taux d'alcool et la viscosité peuvent être visibles dans les \"jambes\" lorsque la bière est tournée dans le verre. ","Fortement et richement maltée avec une saveur et une amertume du houblon prononcées en contrepoids. Le sucré du malt sur le palais est moyennement bas à moyennement haut, bien que la fin de bouche puisse être douce à plutôt sèche (variable avec le temps de garde). L'amertume du houblon peut être de moyennement forte à agressive. Bien que fortement maltée, l'équilibre doit toujours tendre vers l'amertume. Les saveurs de houblon sont moyennes à élevées : n'importe quelle variété, mais des caractéristiques de houblons du Nouveau-Monde sont souvent présentes). Les esters fruités sont bas à moyens. La présence de l'alcool est détectable mais est bien intégrée dans l'ensemble. Les saveurs vont s'adoucir et décliner au cours du temps, mais toute note liée à l'oxydation doit rester indétectable (et est généralement masquée par les houblons). Elle peut présenter des saveurs de malt caramel ou de pain, qui ne doivent pas être trop élevées ; mais des saveurs de malts grillés ou brûlés seront inappropriées. ","Un corps bien rond et onctueux avec une texture veloutée, savoureuse (bien que le corps puisse s'amenuiser avec l'âge). La chaleur de l'alcool doit être détectable mais rester douce. Ne doit être ni sirupeux ni trop peu atténuée. La carbonatation peut être basse à modérée, dépendant de l'âge et du conditionnement. ","Parfois connu comme \"Barley Wine\" ou \"Barleywine style Ale\" (plutôt dû à des exigences légales qu'aux préférences des brasseurs). ","Il s'agit généralement de l'Ale la plus forte proposée par une brasserie, souvent associée avec l'hiver ou la saison des vacances, et millésimée. Comme de nombreux styles de bières artisanales américaines, ce style s'inspire d'exemples anglais mais en utilisant des ingrédients américains et présentant un profil houblonné beaucoup plus mis en avant. L'une des premières versions artisanales américaines était l'Anchor Old Foghorn, brassée pour la première fois en 1975. La Sierra Nevada Bigfoot, brassée en 1983, a posé le standard du style actuel mettant bien en avant les houblons. ","Le malt Pale bien modifié doit être la colonne vertébrale de la mouture. Des malts spéciaux ou de caractère peuvent être utilisés. Les malts foncés doivent être utilisés avec une grande parcimonie sinon pas du tout, car la majorité de la couleur proviendra d'une longue ébullition. Les houblons du Nouveau-Monde sont habituels, bien que n'importe quelle variété puisse être utilisée en bonne quantité. On utilise en général une levure pour American ale avec une bonne atténuation. ","La version américaine du BW tend à avoir une plus grande accentuation de l'amertume, de saveurs et arômes des houblons que le BW anglais, et met en avant le plus souvent des variétés de houblons américains. Généralement moins foncé que les plus sombres BW anglais (et sans les saveurs plus profondes des malts) mais plus sombre qu'un BW anglais doré. Se différencie de la Double IPA par les houblons qui ne sont pas aussi extrêmes, le malt est mieux mis en avant, et le corps plus rond est souvent aussi plus riche. Le BW US a plus de sucres résiduels que la DIPA, ce qui affecte sa buvabilité générale (une bière à siroter plutôt qu'à ingurgiter). ","Avery Hog Heaven Barleywine, Anchor Old Foghorn, Great Divide Old Ruffian, Rogue Old Crustacean, Sierra Nevada Bigfoot, Victory Old Horizontal"]
["22D - Wheatwine",1.08,1.1200000000000001,1.016,1.03,15.76,29.55,30,60,8,12,8,15,1080,1120,1016,1030,"22D","Wheatwine",1.5,2.2999999999999998,{"$f":"VLOOKUP(A76,Feuil2!$A$1:$H$74,2,FALSE)","v":{"$error":"#N/A"}},{"$f":"VLOOKUP(A76,Feuil2!$A$1:$H$74,3,FALSE)","v":{"$error":"#N/A"}},{"$f":"VLOOKUP(A76,Feuil2!$A$1:$H$74,4,FALSE)","v":{"$error":"#N/A"}},{"$f":"VLOOKUP(A76,Feuil2!$A$1:$H$74,5,FALSE)","v":{"$error":"#N/A"}},{"$f":"VLOOKUP(A76,Feuil2!$A$1:$H$74,6,FALSE)","v":{"$error":"#N/A"}},{"$f":"VLOOKUP(A76,Feuil2!$A$1:$H$74,7,FALSE)","v":{"$error":"#N/A"}},{"$f":"VLOOKUP(A76,Feuil2!$A$1:$H$74,8,FALSE)","v":{"$error":"#N/A"}},"22-Strong American Ale","Strong Ale","Barleywine","United States",1016,"22D - Wheatwine",1030,"A richly textured, high alcohol sipping beer with a significant grainy, bready flavor and sleek body. The emphasis is first on the bready, wheaty flavors with interesting complexity from malt, hops, fruity yeast character and alcohol complexity.","Hop aroma is mild and can represent just about any late hop aromatic. Moderate to moderately-strong bready, wheaty malt character, often with additional malt complexity such as honey and caramel. A light, clean, alcohol aroma may noted. Low to medium fruity notes may be apparent. Very low levels of diacetyl are acceptable but not required. Weizen yeast character (banana/clove) is inappropriate.","Color ranges from gold to deep amber, often with garnet or ruby highlights. Low to medium off-white head. The head may have creamy texture, and good retention. Chill haze is allowable, but usually clears up as the beer gets warmer. High alcohol and viscosity may be visible in “legs” when beer is swirled in a glass.","Moderate to moderately-high wheaty malt flavor, dominant in the flavor balance over any hop character. Low to moderate bready, toasty, caramel, or honey malt notes are a welcome complexity note, although not required. Hop flavor is low to medium, and can reflect any variety. Moderate to moderately-high fruitiness, often with a dried-fruit character. Hop bitterness may range from low to moderate; balance therefore ranges from malty to evenly balanced. Should not be syrupy and under-attenuated. Some oxidative or vinous flavors may be present, as are light alcohol notes that are clean and smooth but complex. A complementary, supportive oak character is welcome, but not required.","Medium-full to full bodied and chewy, often with a luscious, velvety texture. Low to moderate carbonation. Light to moderate smooth alcohol warming may also be present.","Dark malts should be used with restraint. Much of the color arises from a lengthy boil. Some commercial examples may be larger than the Vital Statistics, and some may not be brewed every year.","A relatively recent American craft beer style that was first brewed at the Rubicon Brewing Company in 1988. Often a winter seasonal, vintage, or one-off release. Breweries frequently experiment with this style, leading to a range of interpretations.","Typically brewed with a combination of American two-row and American wheat. Style commonly uses 50% or more wheat malt. Any variety of hops may be used. May be oak-aged.","More than simply a wheat-based barleywine, many versions have very expressive fruity and hoppy notes, while others develop complexity through oak aging. Less emphasis on the hops than American Barleywine. Has roots in American Wheat Beer rather than any German wheat styles, so should not have any German weizen yeast character.","Rubicon Winter Wheat Wine, Two Brothers Bare Trees Weiss Wine, Smuttynose Wheat Wine, Portsmouth Wheat Wine",null,"Une bière avec une texture riche, forte en alcool, sirupeuse, avec des saveurs de grains et de pain, un corps lisse. L'accentuation est avant tout sur les notes de pain, les saveurs de blé avec une intéressante complexité des malts, des houblons, de la levure aux notes fruité de la complexité supplémentaire apportée par l'alcool. ","L'arôme de houblon est léger et peut inclure à peu près n'importe quel houblon aromatique. Des notes de blé, de pain moyen à moyennement fort, avec souvent une complexité supplémentaire du malt avec des notes de miel ou caramel. Un arôme d'alcool léger et net peut être noté. Des notes fruitées basses à moyennes peuvent être présentes. Des niveaux très bas de diacétyle sont acceptables mais ne sont pas obligatoires. Le profil des levures de Weizen (banane ou clou de girofle) est par contre inapproprié. ","La couleur va du doré à l'ambré profond, souvent avec des reflets grenats ou rubis. La mousse est blanche, faible à moyenne, peut avoir une texture crémeuse et une bonne tenue. Un trouble au froid est acceptable mais généralement il disparaît lorsque la bière se réchauffe. Le haut taux d'alcool et la viscosité peuvent être visibles dans les \"jambes\" lorsqu'on fait tourner la bière dans un verre. ","Des saveurs de malt de blé modérées à modérément hautes, qui dominent dans l'équilibre comparé aux houblons. Des notes basses à modérées de pain, de grillé, de caramel, de miel apportent une complexité bienvenue, bien que non obligatoire. Les saveurs de houblons sont basses à moyennes, et peuvent être de n'importe quelle variété. Les notes fruitées sont moyennes à moyennement élevées, souvent avec un côté fruits secs. L'amertume du houblon peut aller de basse à modérée ; l'équilibre tend plutôt sur le malté mais peut être égal. Le tout ne doit être ni sirupeux ni sous-atténué. Des saveurs oxydées ou de vins peuvent être présentes, comme de légères notes d'alcool nettes et douces mais complexes. Un soutien complémentaire apporté par le chêne est bienvenu mais n'est pas obligatoire. ","Le corps est moyennement rond à rond et onctueux, souvent avec une texture veloutée, savoureuse. La carbonatation est basse à moyenne. Une chaleur d'alcool légère à modérée peut également être présente. ","Les malts noirs doivent être utilisés avec modération. L'essentiel de la couleur provient surtout de la longue ébullition. Des exemples commerciaux peuvent dépasser les valeurs habituelles, et certains ne sont pas forcément brassés tous les ans. ","Un style de bière artisanale américain relativement récent qui a été brassé la première fois par la Rubicon Brewing Company en 1988. Souvent avec produite en version hivernale, millésimée ou unique. Les brasseries expérimentent régulièrement sur ce style, ce qui apporte une toujours plus large palette d'interprétations. ","Brassé typiquement avec une combinaison d'orge américain deux-rangs et de blé américain. Le style utilise généralement 50% ou plus de malt de blé. N'importe quelle variété de houblon peut être utilisée. Peut-être vieilli en fût de chêne. ","Plus qu'un Barleywine avec du blé, de nombreuses versions ont des notes très expressives  de fruits et houblons, tandis que d'autres développent leur complexité par le vieillissement en fût de chêne. L'accent est toutefois moins mis sur le houblon que dans le Barleywine américain. Il trouve ses racines dans la bière de blé américaine plutôt que dans les styles de bières allemandes au blé : il ne doit donc pas avoir le profil typique des levures de Weizen allemande. ","Rubicon Winter Wheat Wine, Two Brothers Bare Trees Weiss Wine, Smuttynose Wheat Wine, Portsmouth Wheat Wine"]
["23A - Berliner Weisse",1.028,1.032,1.0029999999999999,1.006,3.94,5.91,3,8,2.8,3.8,2,3,1028,1032,1003,1006,"23A","Berliner Weisse",2.5,4,{"$f":"VLOOKUP(A77,Feuil2!$A$1:$H$74,2,FALSE)","v":"50-100"},{"$f":"VLOOKUP(A77,Feuil2!$A$1:$H$74,3,FALSE)","v":"0-30"},{"$f":"VLOOKUP(A77,Feuil2!$A$1:$H$74,4,FALSE)","v":"0-80"},{"$f":"VLOOKUP(A77,Feuil2!$A$1:$H$74,5,FALSE)","v":"0-50"},{"$f":"VLOOKUP(A77,Feuil2!$A$1:$H$74,6,FALSE)","v":"0-100"},{"$f":"VLOOKUP(A77,Feuil2!$A$1:$H$74,7,FALSE)","v":"<100"},{"$f":"VLOOKUP(A77,Feuil2!$A$1:$H$74,8,FALSE)","v":"-100--30"},"23-European Sour Ale","Wheat Beer","German Sour Ale","Germany",1003,"23A - Berliner Weisse",1006,"A very pale, refreshing, low-alcohol German wheat beer with a clean lactic sourness and a very high carbonation level. A light bread dough malt flavor supports the sourness, which shouldn’t seem artificial. Any Brettanomyces funk is restrained.","A sharply sour character is dominant (moderate to moderately-high). Can have up to a moderately fruity character (often lemony or tart apple). The fruitiness may increase with age and a light flowery character may develop. No hop aroma. The wheat may present as uncooked bread dough in fresher versions; combined with the acidity, may suggest sourdough bread. May optionally have a restrained funky Brettanomyces character.","Very pale straw in color. Clarity ranges from clear to somewhat hazy. Large, dense, white head with poor retention. Always effervescent.","Clean lactic sourness dominates and can be quite strong. Some complementary doughy, bready or grainy wheat flavor is generally noticeable. Hop bitterness is undetectable; sourness provides the balance rather than hops. Never vinegary. A restrained citrusy-lemony or tart apple fruitiness may be detected. Very dry finish. Balance dominated by sourness, but some malt flavor should be present. No hop flavor. May optionally have a restrained funky Brettanomyces character. ","Light body. Very high carbonation. No sensation of alcohol. Crisp, juicy acidity.","In Germany, it is classified as a Schankbier denoting a small beer of starting gravity in the range 7-8 °P. Often served with the addition of a shot of sugar syrups (mit schuss) flavored with raspberry (himbeer), woodruff (waldmeister), or Caraway schnapps (Kümmel) to counter the substantial sourness. Has been described by some as the most purely refreshing beer in the world.","A regional specialty of Berlin; referred to by Napoleon's troops in 1809 as “the Champagne of the North” due to its lively and elegant character. At one point, it was smoked and there used to be Märzen-strength (14 °P) version. Increasingly rare in German, but some American craft breweries now regularly produce the style.","Wheat malt content is typically 50% of the grist (as is tradition with all German wheat beers) with the remainder typically being Pilsner malt. A symbiotic fermentation with top-fermenting yeast and Lactobacillus (various strains) provides the sharp sourness, which may be enhanced by blending of beers of different ages during fermentation and by extended cool aging. Hop bitterness is non-existent. Decoction mashing with mash hopping is traditional. German brewing scientists believe that Brettanomyces is essential to get the correct flavor profile, but this character is never strong.","Compared to a lambic, is generally not as acidic and has a clean lactic sourness with restrained to below sensory threshold funk. Also lower in alcohol content.","Bayerischer Bahnhof Berliner Style Weisse, Berliner Kindl Weisse, Nodding Head Berliner Weisse, The Bruery Hottenroth",null,"Les Berliner Weisse sont des bières de blé allemandes très claires, rafraichissantes, peu alcoolisées présentant clairement une acidité lactique et une forte carbonatation.  Elles possèdent des arômes maltés de pâte à pain qui viennent soutenir l’acidité qui ne doit pas paraître artificielle.  Dans ce style, les saveurs surprenantes et originales apportées par les Brettanomyces doivent rester modérées. ","Ces bières présentent une dominante évidente d'acidité lactique modérée à modérément forte. Elles peuvent avoir aussi un arôme fruité modéré (citron ou tarte aux pommes). Ce côté fruité peux s’accentuer avec le vieillissement de la bière qui peut alors s’accompagner d’une légère touche florale. Elles ne présentent pas d’arômes de houblon. Le blé peut donner des arômes de pâte à pain crue pour les versions les plus fraîches qui combinés avec l’acidité peut évoquer le pain au levain. Elles développent des saveurs surprenantes et originales provenant des Brettanomyces sans pour autant que ces dernières ne dominent. ","Couleur jaune paille très claire. La limpidité variant d'un léger trouble à légérement brumeuse. La mousse est importante, dense et blanche avec une faible tenue. Une bière toujours effervescente. ","Claire prédominance d’une acidité lactique qui peut être assez forte. Cette acidité est généralement accompagnée de saveurs de blé évoquant le pain, la pâte à pain ou de grains. Aucune présence d’amertume venant des houblons ne doit être décelable ; l’équilibre de ces bières est apporté par l’acidité plutôt que par les houblons. Elles ne doivent cependant pas présenter de saveur de vinaigre. Des saveurs fruitées-citronnées ou de tarte aux pommes peuvent être présentes. La fin de bouche est sèche. L’équilibre général est dominé par l’acidité, pour autant, des arômes maltés peuvent être présents alors que ceux des houblons sont absents. Des saveurs contenues de Brettanomyces peuvent être présentes de façon optionnelle. ","Corps léger. Carbonatation très importante. Absence de sensation d’alcool. Pétillante avec une acidité fruitée. ","En Allemagne, elles appartiennent à la famille des Schankbier, définies par une faible densité initiale (de l’ordre de 1.028 à 1.032). Elles sont souvent servies avec du sirop de framboise (himbeer), d’aspérule odorante (waldmeister) ou d’alcool de carvi (kümmel) pour adoucir l’importante acidité. Les Berliner Weisse sont souvent décrites comme l’une des bières les plus rafraichissantes au monde. ","Spécialité de la région de Berlin, déjà référencée par les troupes napoléoniennes en 1809 comme le \"Champagne du Nord\" dû à son côté pétillant et élégant. Elle fut par le passé parfois fumée ou plus proche d'une Märzen en alcool (1.057). De plus en plus rare en Allemagne, certaines brasseries artisanales américaines produisent à présent régulièrement des bières de ce type. ","Les Berliner Weisse sont brassées avec au moins 50% de malt de blé (dans la tradition de toutes les bières allemandes au blé) avec le plus souvent en complément du malt Pilsner. La fermentation est une fermentation symbiotique avec des levures de fermentation haute et de différentes souches de Lactobacillus qui apportent l’acidité caractéristique de ce style. Cette acidité peut être renforcée par l'assemblage de bières de différents vieillissements et un allongement de la durée de la garde à froid. L’amertume provenant des houblons doit rester inexistante. Ces bières sont traditionnellement brassées par décoction. Les spécialistes en brasserie allemands pensent que les levures Brettanomyces sont indispensables pour obtenir le profil de saveur correct, sans pour autant que celui-ci ne devienne trop puissant. ","Les Berliner Weisse sont généralement des bières moins acides et moins fortes que les autres Lambic et l’acidité lactique bien définie permet d’équilibrer le côté original et surprenant apporté par Brettanomyces. Le taux d'alcool est également plus faible. ","Bayerischer Bahnhof Berliner Style Weisse, Berliner Kindl Weisse, Nodding Head Berliner Weisse, The Bruery Hottenroth. "]
["23B - Flanders Red Ale",1.048,1.0569999999999999,1.002,1.012,19.7,31.52,10,25,4.5999999999999996,6.5,10,16,1048,1057,1002,1012,"23B","Flanders Red Ale",1.5,2.5,{"$f":"VLOOKUP(A78,Feuil2!$A$1:$H$74,2,FALSE)","v":"50-100"},{"$f":"VLOOKUP(A78,Feuil2!$A$1:$H$74,3,FALSE)","v":"0-30"},{"$f":"VLOOKUP(A78,Feuil2!$A$1:$H$74,4,FALSE)","v":"0-120"},{"$f":"VLOOKUP(A78,Feuil2!$A$1:$H$74,5,FALSE)","v":"0-50"},{"$f":"VLOOKUP(A78,Feuil2!$A$1:$H$74,6,FALSE)","v":"0-100"},{"$f":"VLOOKUP(A78,Feuil2!$A$1:$H$74,7,FALSE)","v":"<100"},{"$f":"VLOOKUP(A78,Feuil2!$A$1:$H$74,8,FALSE)","v":"0-60 "},"23-European Sour Ale","Sour Ale","Belgian Sour Ale","Belgium",1002,"23B - Flanders Red Ale",1012,"A sour, fruity, red wine-like Belgian-style ale with interesting supportive malt flavors and fruit complexity. The dry finish and tannin completes the mental image of a fine red wine.","Complex fruity-sour profile with supporting malt that often gives a wine-like impression. Fruitiness is high, and reminiscent of black cherries, oranges, plums or red currants. There are often low to medium-low vanilla and/or chocolate notes. Spicy phenols can be present in low amounts for complexity. The sour aroma ranges from balanced to intense. Prominent vinegary acetic character is inappropriate. No hop aroma. Diacetyl is perceived only in very minor quantities, if at all, as a complementary aroma.","Deep red, burgundy to reddish-brown in color. Good clarity. White to very pale tan head. Average to good head retention.","Intense fruitiness commonly includes plum, orange, black cherry or red currant flavors. A mild vanilla and/or chocolate character is often present. Spicy phenols can be present in low amounts for complexity. Sour flavor ranges from complementary to intense, and can have an acidic bite. Malty flavors range from complementary to prominent, and often have a soft toasty-rich quality. Generally as the sour character increases, the malt character blends to more of a background flavor (and vice versa). No hop flavor. Restrained hop bitterness. An acidic, tannic bitterness is often present in low to moderate amounts, and adds an aged red wine-like character and finish. Prominent vinegary acetic character is inappropriate. Diacetyl is perceived only in very minor quantities, if at all, as a complementary flavor. Balanced to the malt side, but dominated by the fruity, sour, wine-like impression.","Medium bodied. Low to medium carbonation. Low to medium astringency, like a well-aged red wine, often with a prickly acidity. Deceivingly light and crisp on the palate although a somewhat sweet finish is not uncommon.","Long aging and blending of young and well-aged beer often occurs, adding to the smoothness and complexity, though the aged product is sometimes released as a connoisseur’s beer. Known as the Burgundy of Belgium, it is more wine-like than any other beer style. The reddish color is a product of the malt although an extended, less-than-rolling portion of the boil may help add an attractive Burgundy hue. Aging will also darken the beer. The Flanders red is more acetic (but never vinegar-like) and the fruity flavors more reminiscent of a red wine than an Oud Bruin. Can have an apparent attenuation of up to 98%.","An indigenous beer of West Flanders, typified by the products of the Rodenbach brewery, established in 1820 in West Flanders but reflective of earlier brewing traditions. The beer is aged for up to two years, often in huge oaken barrels which contain the resident bacteria necessary to sour the beer. It was once common in Belgium and England to blend old beer with young to balance the sourness and acidity found in aged beer. While blending of batches for consistency is now common among larger breweries, this type of blending is a fading art.","A base of Vienna and/or Munich malts, light to medium cara-malts, and a small amount of Special B are used with up to 20% maize. Low alpha acid continental hops are commonly used (avoid high alpha or distinctive American hops). Saccharomyces, Lactobacillus and Brettanomyces (and acetobacter) contribute to the fermentation and eventual flavor.","Less malty-rich than an Oud Bruin, often with more of a fruity-tart profile.","Cuvée des Jacobins Rouge, Duchesse de Bourgogne, Rodenbach Grand Cru, Rodenbach Klassiek, Vichtenaar Flemish Ale",null,"Une bière aigre de style Belge, fruitée, ressemblant à du vin rouge, avec d'intéressantes saveurs de malts en fondation d'une belle complexité fruitée. La fin de bouche sèche et le tanin lui confèrent l'idée que l'on peut se faire d'un bon vin rouge. ","Un profil complexe de fruits aigres avec le malt en soutien qui donne souvent une impression vineuse. Le côté fruité est bien présent rappelle les cerises noires, les oranges, les prunes et la groseille. Il y a souvent des notes plus ou moins ténues de vanille et/ou de chocolat. Des phénols épicés peuvent être présents en faibles quantités pour un peu plus de complexité. L'arôme aigre va d'équilibré à intense. Les notes de vinaigre acétique trop présentes seront inappropriées. Aucun arôme de houblon. Le diacétyle est perçu uniquement dans des quantités infimes, et le cas échéant, comme un arôme complémentaire. ","Couleur rouge profond, bordeaux à brun rougeâtre. Bonne limpidité. Une mousse blanche à légèrement blonde avec une tenue moyenne à bonne. ","Le fruité intense comprend habituellement des saveurs de prune, orange, cerise noire ou des arômes de groseille. Des saveurs douces de vanille et/ou de chocolat sont souvent présentes. Des phénols épicés peuvent être perçus en faible quantité pour la complexité. Les saveurs aigres varient de complémentaires à intenses et peuvent présenter un piquant acide. Les saveurs maltées peuvent être également de complémentaires à proéminentes et ont souvent des saveurs douces avec des notes richement toastées. Généralement quand le caractère aigre s'intensifie, le malté se dissipe et devient plus une saveur d'arrière-plan (et vice versa). Aucune saveur de houblon et leur amertume reste limitée. Une amertume acide et tanique est souvent présente dans des quantités faibles à modérées et ajoute un caractère et un final similaire à du vin rouge vieilli quelques années. Un goût de vinaigre acide important est inapproprié. Le diacétyle est perçu uniquement dans des quantités très minimes, le cas échéant, comme une flaveur complémentaire. Des saveurs penchant sur le côté du malt mais dominées par le fruité, l'acide, et une impression vineuse. ","Le corps est moyen et la carbonatation faible à moyenne. L'astringence est faible à moyenne, comme un vin rouge bien vieilli, souvent avec une acidité piquante. Trompeusement légère et pétillante en bouche bien qu'une fin de bouche quelque peu sucrée ne soit pas rare. ","Un vieillissement prolongé et l'assemblage de bières jeunes et d'autres bien vieillies a souvent lieu, ajoutant finesse et complexité, même si le produit vieilli est parfois aussi vendu comme une bière de connaisseurs. Connu sous le nom de \"Bourgogne de Belgique\", c'est plus que n'importe quel autre style de bière celui qui se rapproche le plus du vin. La couleur rougeâtre est un apport du malt bien qu'une ébullition prolongée, entre frémissement et bouillonnement, puisse aider à ajouter une teinte agréable pourpre, \"burgundy\". Le vieillissement pourra également assombrir la bière. La Rouge des Flandre est plus acétique (mais jamais vinaigrée) et les saveurs fruitées rappellent plus un vin rouge qu'une Oud Bruin. Elle peut avoir une atténuation apparente jusqu'à 98%. ","Une bière originaire de Flandre occidentale, typiquement représentée par les produits de la brasserie Rodenbach établie en 1820 en Flandre occidentale, mais qui reflète des traditions brassicoles antérieures. La bière est vieillie jusqu'à deux ans, souvent dans d'énormes fûts de chêne qui contiennent les bactéries résidentes nécessaires pour acidifier la bière. Il était commun, par la passé, en Belgique et en Angleterre d'assembler de vieilles bières avec des jeunes pour équilibrer l'acidité et l'aigreur qui se trouvent dans la bière vieillie. Le mélange de brassins pour l'homogénéisation est maintenant courant dans les grandes brasseries mais ce type d'assemblage est un art en voie de disparition. ","Une base de Malt Vienna et/ou Munich, avec des proportions légères à moyennes de Malt Cara ainsi qu'une petite quantité de spécial B et jusqu'à 20% de maïs. Des houblons aux acides alphas faibles de type continental sont couramment utilisés (éviter les houblons haut en acide alpha ou typés américains). Les Saccharomyces, Lactobacilles et Brettanomyces (et bactéries acétiques) contribuent à la fermentation et bien sûr aux saveurs. ","Moins richement malté qu'une Oud Bruin, souvent avec un profil plus fruité et acidulé. ","Cuvée des Jacobins Rouge, Duchesse de Bourgogne, Rodenbach Grand Cru, Rodenbach Klassiek, Vichtenaar Flemish Ale"]
["23C - Oud Bruin",1.04,1.0740000000000001,1.008,1.012,29.55,43.339999999999996,20,25,4,8,15,22,1040,1074,1008,1012,"23C","Oud Bruin",3,4.5,{"$f":"VLOOKUP(A79,Feuil2!$A$1:$H$74,2,FALSE)","v":"50-100"},{"$f":"VLOOKUP(A79,Feuil2!$A$1:$H$74,3,FALSE)","v":"0-30"},{"$f":"VLOOKUP(A79,Feuil2!$A$1:$H$74,4,FALSE)","v":"0-100"},{"$f":"VLOOKUP(A79,Feuil2!$A$1:$H$74,5,FALSE)","v":"0-50"},{"$f":"VLOOKUP(A79,Feuil2!$A$1:$H$74,6,FALSE)","v":"0-100"},{"$f":"VLOOKUP(A79,Feuil2!$A$1:$H$74,7,FALSE)","v":"<100"},{"$f":"VLOOKUP(A79,Feuil2!$A$1:$H$74,8,FALSE)","v":"0-60 "},"23-European Sour Ale","Sour Ale","Belgian Sour Ale","Belgium",1008,"23C - Oud Bruin",1012,"A malty, fruity, aged, somewhat sour Belgian-style brown ale.","Complex combination of fruity esters and rich malt character. Medium to medium-high esters commonly reminiscent of raisins, plums, figs, dates, black cherries or prunes. Medium low to medium high malt character of caramel, toffee, orange, treacle or chocolate. Spicy phenols can be present in low amounts for complexity. A sherry-like character may be present and generally denotes an aged example. A low sour aroma may be present, and can modestly increase with age but should not grow to a noticeable acetic/vinegary character. Hop aroma absent. Diacetyl is perceived only in very minor quantities, if at all, as a complementary aroma.","Dark reddish-brown to brown in color. Good clarity. Average to good head retention. Ivory to light tan head color.","Malty with fruity complexity and typically some caramel character. Medium to medium-high fruitiness commonly includes dark or dried fruit such as raisins, plums, figs, dates, black cherries or prunes. Medium low to medium high malt character of caramel, toffee, orange, treacle or chocolate. Spicy phenols can be present in low amounts for complexity. A slight sourness often becomes more pronounced in well-aged examples, along with some sherry-like character, producing a “sweet-and-sour” profile. The sourness should not grow to a notable acetic/vinegary character. Hop flavor absent. Restrained hop bitterness. Low oxidation is appropriate as a point of complexity. Diacetyl is perceived only in very minor quantities, if at all, as a complementary flavor. Balance is malty, but with fruitiness and sourness present. Sweet and tart finish","Medium to medium-full body. Low to moderate carbonation. No astringency.","Long aging and blending of young and aged beer may occur, adding smoothness and complexity and balancing any harsh, sour character. This style was designed to lay down so examples with a moderate aged character are considered superior to younger examples. As in fruit lambics, Oud Bruin can be used as a base for fruit-flavored beers such as kriek (cherries) or frambozen (raspberries), though these should be entered in the Classic-Style Fruit Beer category. ","An “old ale” tradition, indigenous to East Flanders, typified by the products of the Liefman brewery (now owned by Riva), which has roots back to the 1600s. Historically brewed as a “provision beer” that would develop some sourness as it aged. These beers were typically more sour than current commercial examples. While Flanders red beers are aged in oak, the brown beers are warm aged in stainless steel.","A base of Pils malt with judicious amounts of dark cara malts and a tiny bit of black or roast malt. Often includes maize. Low alpha acid continental hops are typical (avoid high alpha or distinctive American hops). Saccharomyces and Lactobacillus (and acetobacter) contribute to the fermentation and eventual flavor. Lactobacillus reacts poorly to elevated levels of alcohol. Water high in carbonates is typical of its home region and will buffer the acidity of darker malts and the lactic sourness. Magnesium in the water accentuates the sourness.","A deeper malt character distinguishes these beers from Flanders red ales. The Oud Bruin is less acetic and maltier than a Flanders Red, and the fruity flavors are more malt-oriented.","Ichtegem Oud Bruin, Liefmans Goudenband, Liefmans Liefmans Oud Bruin, Petrus Oud Bruin, Riva Vondel, Vanderghinste Bellegems Bruin",null,"Une bière brune maltée de style belge fruitée, vieillie et un peu aigre. ","Combinaison complexe d'esters fruités et d'arômes riches du malt. Esters moyen à moyennement haut rappelant couramment : raisins, prunes, figues, dattes, cerises noires ou pruneaux. Arômes de malt faible à moyennement haut de type caramel, toffee, orange, mélasse ou chocolat. Des phénols épicés peuvent être présents en faibles quantités pour la complexité. Des notes de type Xérès peuvent être présentes et représentent généralement l’âge du produit. Une faible odeur aigre peut être présente et peut légèrement augmenter avec l'âge, mais ne doit pas devenir une senteur vinaigrée / acétique perceptible. Arôme de houblon absent. Diacétyle perçu en proportions très mineures uniquement, le cas échéant, comme un arôme complémentaire. ","Brun-rouge foncée à brune. Bonne limpidité. Tenue de la mousse moyenne à bonne. Tête ivoire à légèrement beige. ","Malté avec une complexité fruitée et généralement un certain caractère de caramel. Fruité moyen à moyen-élevé comprenant généralement des fruits noirs ou séchés comme raisins, prunes, figues, dattes, cerises noires ou des pruneaux. Saveurs maltées moyennement faibles à moyennement hautes de type caramel, toffee, orange, mélasse ou chocolat. Phénols épicés peuvent être présents en faibles quantités pour la complexité. Une légère acidité devient souvent plus prononcée dans les exemples bien vieillis, avec un certain caractère de type Sherry apportant un profil \"sucré-amer\". L'acidité ne doit pas devenir trop notablement vinaigré/acétique. Saveur de houblon absente. Amertume du houblon contenue. Faible oxydation est acceptable comme un plus de la complexité. Le diacétyle est perçu uniquement dans des quantités très mineures, le cas échéant, comme un arôme complémentaire. L'équilibre est malté, mais avec un fruité et une acidité bien présente. Finale sucrée et acidulée. ","Corps moyen à moyennement plein. Carbonatation faible à modérée. Pas d'astringence. ","Un long mûrissement et le mélange de bières jeunes et vieillies peut être utilisé, ajoutant de la douceur, de la complexité et un équilibre au caractère aigre tranchant. Ce style a été conçu pour mettre à plat de manière à ce que les exemples avec un caractère de vieillissement modéré soient considérés comme supérieurs à des exemples plus jeunes. Comme pour les lambics aux fruits, la Oud Bruin peut être utilisée comme une base pour les bières aromatisées aux fruits tels que les kriek (cerises) ou Frambozen (framboises), mais dans ce cas ceux-ci doivent être inscrits dans la catégorie de Style Bière aux Fruits Classique. ","Une \"vieille bière\" traditionnelle, originaire de Flandre Orientale, dont les produits de la brasserie Liefman (maintenant détenue par Riva) sont caractéristiques et dont les origines remontent aux années 1600. Historiquement brassée comme une «Bière de réserve\" qui développe une certaine aigreur en vieillissant. Ces bières étaient généralement plus acides que les exemples commerciaux actuels. Alors que les bières rouges des Flandre sont élevées en fûts de chêne, les bières brunes sont vieillies à chaud en cuves inox. ","Une base de Malt Pils avec des quantités judicieuses de malts Cara sombres et un petit peu de malts noirs ou torréfiés. Contient souvent du maïs. Des houblons continentaux aux taux d'acides alphas faibles sont typiques (les houblons américains ou au taux d'alpha élevé distinctif sont à éviter). Saccharomyces et Lactobacillus (et Acétobacter) contribuent à la fermentation et la saveur éventuelle. Le Lactobacillus réagit mal à des taux élevés d'alcool. De l'eau riche en carbonate est typique de la région d'origine et tamponne l'acidité des malts foncés et l'acidité lactique. Le magnesium de l'eau accentue l'acidité. ","Un caractère de malt plus intense distingue ces bières des Bières Rouges des Flandres. Le Oud Bruin est moins acétique et malté qu'une Rouge des Flandres et les saveurs fruitées sont plus axées sur le malt. ","Ichtegem Oud Bruin, Liefmans Goudenband, Liefmans Liefmans Oud Bruin, Petrus Oud Bruin, Riva Vondel, Vanderghinste Bellegems Bruin "]
["23D - Lambic",1.04,1.054,1.0009999999999999,1.01,5.91,13.79,0,10,5,6.5,3,7,1040,1054,1001,1010,"23D","Lambic",0,1,{"$f":"VLOOKUP(A80,Feuil2!$A$1:$H$74,2,FALSE)","v":"50-100"},{"$f":"VLOOKUP(A80,Feuil2!$A$1:$H$74,3,FALSE)","v":"0-30"},{"$f":"VLOOKUP(A80,Feuil2!$A$1:$H$74,4,FALSE)","v":"0-80"},{"$f":"VLOOKUP(A80,Feuil2!$A$1:$H$74,5,FALSE)","v":"0-50"},{"$f":"VLOOKUP(A80,Feuil2!$A$1:$H$74,6,FALSE)","v":"0-100"},{"$f":"VLOOKUP(A80,Feuil2!$A$1:$H$74,7,FALSE)","v":"<100"},{"$f":"VLOOKUP(A80,Feuil2!$A$1:$H$74,8,FALSE)","v":"-100--30"},"23-European Sour Ale","Wheat Beer","Belgian Sour Ale","Belgium",1001,"23D - Lambic",1010,"A fairly sour, often moderately funky wild Belgian wheat beer with sourness taking the place of hop bitterness in the balance. Traditionally spontaneously fermented in the Brussels area and served uncarbonated, the refreshing acidity makes for a very pleasant café drink. ","A decidedly sour aroma is often dominant in young examples, but may become more subdued with age as it blends with aromas described as barnyard, earthy, goaty, hay, horsey, and horse blanket. A mild citrus-fruity aroma is considered favorable. An enteric, smoky, cigar-like, or cheesy aroma is unfavorable. Older versions are commonly fruity with aromas of apples or even honey. No hop aroma. ","Pale yellow to deep golden in color; age tends to darken the beer. Clarity is hazy to good. Younger versions are often cloudy, while older ones are generally clear. White colored head generally has poor retention.","Young examples are often noticeably lactic-sour, but aging can bring this character more in balance with the malt, wheat and barnyard characteristics. Fruity flavors are simpler in young lambics and more complex in the older examples, where they are reminiscent of apples or other light fruits, rhubarb, or honey. Some citrus flavor (often grapefruit) is occasionally noticeable, and is desirable. The malt and wheat character are typically low with some bready-grainy notes. An enteric, smoky or cigar-like character is undesirable. Hop bitterness is low to none, and generally undetectable; sourness provides the balance. Typically has a dry finish. No hop flavor.","Light to medium-light body. In spite of the low finishing gravity, the many mouth-filling flavors prevent the beer from feeling like water. As a rule of thumb, lambic dries with age, which makes dryness a reasonable indicator of age. Has a medium to high tart, puckering quality without being sharply astringent. Traditional versions are virtually to completely uncarbonated, but bottled examples can pick up moderate carbonation with age.","Straight lambics are single-batch, unblended beers. Since they are unblended, the straight lambic is often a true product of the “house character” of a brewery and will be more variable than a gueuze. They are generally served young (6 months) and on tap as cheap, easy-drinking beers without any filling carbonation. Younger versions tend to be one-dimensionally sour since a complex Brett character often takes upwards of a year to develop. An enteric character is often indicative of a lambic that is too young. A noticeable vinegary or cidery character is considered a fault by Belgian brewers. Since the wild yeast and bacteria will ferment ALL sugars, they are typically bottled only when they have completely fermented. ","Spontaneously fermented wild ales from the area in and around Brussels (the Senne Valley) stem from a farmhouse brewing tradition several centuries old. The number of producers is constantly dwindling.","Unmalted wheat (30-40%), Pilsner malt and aged hops (3 years) are used. The aged hops are used more for preservative effects than bitterness, and makes actual bitterness levels difficult to estimate. Traditionally these beers are spontaneously fermented with naturally occurring yeast and bacteria in predominately oaken barrels. The barrels used are neutral with little oak character, so don’t expect a fresh or forward oak character – more neutral is typical. Home-brewed and craft-brewed versions are more typically made with pure cultures of yeast commonly including Saccharomyces, Brettanomyces, Pediococcus and Lactobacillus in an attempt to recreate the effects of the dominant microbiota of Brussels and the surrounding countryside of the Senne River valley. Cultures taken from bottles are sometimes used but there is no simple way of knowing what organisms are still viable.","Generally has a more simple sourness and complexity than a gueuze. Traditionally served uncarbonated from pitchers, while gueuze is bottled and very highly carbonated. ","The only bottled version readily available is Cantillon Grand Cru Bruocsella of whatever single batch vintage the brewer deems worthy to bottle. De Cam sometimes bottles their very old (5 years) lambic. In and around Brussels there are specialty cafes that often have draught lambics from traditional brewers or blenders such as Boon, De Cam, Cantillon, Drie Fonteinen, Lindemans, Timmermans and Girardin.",null,"Une bière belge au blé relativement acide, modérément funky avec une aigreur prenant la place de l'amertume du houblon dans l'équilibre. Traditionnellement de fermentation spontanée dans la région de Bruxelles et servie non gazeuse, l'acidité rafraîchissante la rend très agréable pour une boisson de café. ","Un arôme résolument aigre est souvent dominant dans les exemples jeunes, mais peut devenir plus modéré avec l'âge, il se mêle aux arômes décrits comme de basse-cour, terreux, caprin, de foin, chevalin et de couverture de cheval. Un arôme doux d'agrumes fruités est considéré comme intéressant. Des arômes gastriques, fumés, de cigare ou un arôme de fromage sont défavorables. Les versions plus anciennes sont généralement fruitées avec des arômes de pommes ou même du miel. Aucun arôme de houblon. ","Couleur jaune claire à dorée profond; l'âge tend à assombrir la bière. La limpidité est trouble à bonne. Les versions plus jeunes sont souvent brumeuses, tandis que les plus âgées sont généralement transparentes. Tête de couleur blanche avec généralement une mauvaise tenue de la mousse. ","Les exemples jeunes ont souvent une acidité lactique notable, mais le vieillissement peut apporter à ce caractère plus d'équilibre avec le malt, le blé et les aspects de basse-cour. Les saveurs fruitées sont plus simples chez les jeunes lambics et plus complexes dans les exemples plus anciens, où ils rappellent les pommes ou d'autres fruits doux, la rhubarbe ou le miel. Certaines saveurs d'agrumes (souvent le pamplemousse) sont parfois perceptibles et souhaitables. Le malt et les notes de blé sont généralement faibles avec quelques notes de céréales panifiées. Un caractère fumé, gastrique ou de cigare sont indésirables. L'amertume du houblon est faible ou nulle, et généralement indétectable; l'acidité apporte l'équilibre. A typiquement une finale sèche. Aucune saveur de houblon. ","Corps léger à moyennement léger. Malgré la faible densité finale, les nombreuses saveurs en bouche empêchent la bière d'être ressentie comme de l'eau. En règle générale, Le lambic sèche avec l'âge, ce qui fait de la sécheresse un indicateur fiable du vieillissement. Aigreur et piquant moyens à élevés, sans être trop fortement astringente. Les versions traditionnelles sont presque à complètement non gazeuse, mais les exemples en bouteille peuvent retrouver une carbonatation modérée avec l'âge. ","Les lambics francs proviennent d'un seul brassin de bières non mélangés. Comme ils ne sont pas assemblés, les lambics francs sont souvent de véritables produits représentant \"l'esprit maison\" d'une brasserie et sera plus variable qu'une gueuze. Ils sont généralement servis jeunes (6 mois) à la pression comme des bières bon marché et facile à boire sans carbonatation des fûts. Les versions plus jeunes ont tendance à être uniformément aigre jusqu'à ce qu'un caractère plus complexe de Brett prenne souvent le pas après plus d'un an à se développer. Un caractère gastrique est souvent révélateur d'un lambic trop jeune. Un caractère de vinaigre ou de cidre notable est considéré comme un défaut par les brasseurs belges. Etant donné que la levure sauvages et les bactéries vont fermenter TOUS les sucres, ils sont généralement embouteillés seulement quand ils ont complètement fermenté. ","Bières sauvages fermentées spontanément de la région de Bruxelles et de ses alentours  (la vallée de la Senne) résultant d'une tradition de brassage à la ferme vieille de plusieurs siècles. Le nombre de producteurs est en constante diminution.","Blé non malté (30-40%), malt Pilsner et houblon surranné (âgés de 3 ans) sont utilisés. Le houblon surranné est plus utilisé pour ses vertues de conservation que d'amertume et apporte un niveau d'amertume réel difficile à estimer. Traditionnellement, ces bières sont fermentées spontanément avec des levures et des bactéries présentes naturellement et préférentiellement en fûts de chêne. Les barriques utilisées sont neutres avec peu de caractère de chêne, donc ne vous attendez pas un caractère de chêne frais ou mis en avant, le coté neutre est plus typique. Les versions brassées maison et artisanales sont plus généralement fabriquées avec des cultures de souches pures de levure comprenant des Saccharomyces, Brettanomyces, Pediococcus et Lactobacillus dans le but de recréer les effets de la microbiologie de Bruxelles et de la campagne de la vallée de la Senne. Des cultures à partir de prélévement en bouteilles sont parfois utilisées, mais il n'y a aucun moyen simple de savoir si les micro-organismes sont encore en vie. ","A généralement une acidité et une complexité plus primaire qu'une Gueuze. Traditionnellement servi sans bulle en pichet alors que la Gueuze est mise en bouteille et très fortement carbonatée. ","La seule version en bouteille facilement disponibles est Cantillon Grand Cru Bruocsella et tout un lot de bouteilles uniques et millésimées que le brasseur juge digne d'embouteiller. De Cam met parfois en bouteilles leur très ancien lambic (5 ans). Il y a dans et autour de Bruxelles des cafés spécialisés qui ont souvent des lambics à la pression de brasseurs traditionnels ou des assembleurs tels que Boon, De Cam, Cantillon, Trois Fontaines, Lindemans, Timmermans et Girardin. "]
["23E - Gueuze ",1.04,1.06,1,1.006,5.91,13.79,0,10,5,8,3,7,1040,1060,1000,1006,"23E","Gueuze ",3,4.5,{"$f":"VLOOKUP(A81,Feuil2!$A$1:$H$74,2,FALSE)","v":"50-100"},{"$f":"VLOOKUP(A81,Feuil2!$A$1:$H$74,3,FALSE)","v":"0-30"},{"$f":"VLOOKUP(A81,Feuil2!$A$1:$H$74,4,FALSE)","v":"0-80"},{"$f":"VLOOKUP(A81,Feuil2!$A$1:$H$74,5,FALSE)","v":"0-50"},{"$f":"VLOOKUP(A81,Feuil2!$A$1:$H$74,6,FALSE)","v":"0-100"},{"$f":"VLOOKUP(A81,Feuil2!$A$1:$H$74,7,FALSE)","v":"<100"},{"$f":"VLOOKUP(A81,Feuil2!$A$1:$H$74,8,FALSE)","v":"-100--30"},"23-European Sour Ale","Wheat Beer","Belgian Sour Ale","Belgium",1000,"23E - Gueuze ",1006,"A complex, pleasantly sour but balanced wild Belgian wheat beer that is highly carbonated and very refreshing. The spontaneous fermentation character can provide a very interesting complexity, with a wide range of wild barnyard, horse blanket, or leather characteristics intermingling with citrusy-fruity flavors and acidity.","A moderately sour aroma blends with aromas described as barnyard, leather, earthy, goaty, hay, horsey, and horse blanket. While some may be more dominantly sour, balance is the key and denotes a better gueuze. Commonly fruity with aromas of citrus fruits (often grapefruit), apples or other light fruits, rhubarb, or honey. A very mild oak aroma is considered favorable. An enteric, smoky, cigar-like, or cheesy aroma is unfavorable. No hop aroma.","Golden color, with excellent clarity and a thick, rocky, mousse-like, white head that seems to last forever. Always effervescent.","A moderately sour character is classically in balance with the malt, wheat and barnyard characteristics. A low, complementary sweetness may be present but higher levels are not traditional. While some may be more dominantly sour, balance is the key and denotes a better gueuze. A varied fruit flavor is common, and can have a honey-like character. A mild vanilla and/or oak flavor is occasionally noticeable. The malt is generally low and bready-grainy. An enteric, smoky or cigar-like character is undesirable. Hop bitterness is generally absent but a very low hop bitterness may occasionally be perceived; sourness provides most of the balance. Crisp, dry, and tart finish. No hop flavor.","Light to medium-light body. In spite of the low finishing gravity, the many mouth-filling flavors prevent the beer from feeling like water. Has a low to high tart, puckering quality without being sharply astringent. Some versions have a light warming character. Highly carbonated.","Gueuze is traditionally produced by mixing one, two, and three-year old lambic. “Young” lambic contains fermentable sugars while old lambic has the characteristic “wild” taste of the Senne River valley. A noticeable vinegary or cidery character is considered a fault by Belgian brewers. A good gueuze is not the most pungent, but possesses a full and tantalizing bouquet, a sharp aroma, and a soft, velvety flavor. Lambic is served uncarbonated, while gueuze is served effervescent. Products marked oude or ville are considered most traditional.","Spontaneously fermented wild ales from the area in and around Brussels (the Senne Valley) stem from a farmhouse brewing and blending tradition several centuries old. The number of producers is constantly dwindling and some producers are untraditionally sweetening their products (post-fermentation) to make them more palatable to a wider audience. These guidelines describe the traditional dry product.","Unmalted wheat (30-40%), Pilsner malt and aged hops (3 years) are used. The aged hops are used more for preservative effects than bitterness, and makes actual bitterness levels difficult to estimate. Traditionally these beers are spontaneously fermented with naturally occurring yeast and bacteria in predominately oaken barrels. The barrels used are old and have little oak character, so don’t expect a fresh or forward oak character – more neutral is typical. Home-brewed and craft-brewed versions are more typically made with pure cultures of yeast commonly including Saccharomyces, Brettanomyces, Pediococcus and Lactobacillus in an attempt to recreate the effects of the dominant microbiota of Brussels and the surrounding countryside of the Senne River valley. Cultures taken from bottles are sometimes used but there is no simple way of knowing what organisms are still viable.","More complex and carbonated than a lambic. The sourness isn’t necessarily higher, but it tends to have more of a well-developed wild character.","Boon Oude Gueuze, Boon Oude Gueuze Mariage Parfait, Cantillon Gueuze, De Cam Gueuze, De Cam/Drei Fonteinen Millennium Gueuze, Drie Fonteinen Oud Gueuze, Girardin Gueuze (Black Label), Hanssens Oude Gueuze, Lindemans Gueuze Cuvée René, Mort Subite (Unfiltered) Gueuze, Oud Beersel Oude Gueuze",null,"Une bière de blé belge, sauvage, complexe, agréablement acide mais équilibrée, hautement gazeuses et très rafraîchissante. Le caractère spontané de la fermentation peut apporter une complexité très intéressante et un large éventail allant de la basse-cour sauvage, à la couverture de cheval ou des caractéristiques de cuir entremêlées avec des saveurs d'agrumes fruitées et de l'acidité. ","Un arôme modérément acide mêlé aux arômes décrits comme de basse-cour, de cuir, de terre, caprin, de foin, chevalin, ou de couverture de cheval. Alors que certaines peuvent être plus à dominante acide, l'équilibre est la clé et démarque les meilleures Gueuzes. Couramment fruitée avec des arômes d'agrumes (souvent de pamplemousse), de pommes ou d'autres fruits légers comme la rhubarbe ou le miel. Un arôme de chêne très doux est considéré comme favorable. Des arômes aigres, fumé, de cigare ou de fromage sont défavorable. Aucun arôme de houblon. ","De couleur dorée, avec une excellente limpidité et une mousse blanche, épaisse, massive, comme de l'écume qui semble durer éternellement. Toujours effervescente. ","Un caractère modérément acide est classique bien équilibré avec les saveurs du malt, du blé et de basse-cour. Une faible douceur complémentaire peut être présente mais des niveaux plus élevés ne sont pas traditionnelle. Alors que certaines peuvent être plus dominante acide, l'équilibre est la clé et démarque les meilleures Gueuzes. Une saveur de fruits variés est commune et peut avoir un caractère rappelant le miel. Une saveur douce de vanille et/ou de chêne est parfois perceptible. Le malt est généralement faible et sur le pain et les céréales. L'aigreur, un caractère fumé ou de cigare sont indésirables. L'amertume du houblon est généralement absente mais une très faible amertume peut parfois être perçue; l'acidité apporte l'équilibre principal. Piquante, sèche et acidulée dans les notes finales. Aucune saveur de houblon. ","Légèrement à très moyennement corsée. En dépit d'une faible densité finale, les nombreuses saveurs en bouche empêchent la bière d'être ressentie comme de l'eau. A une faible à élevé nature acidulé et aigre sans être trop fortement astringente. Certaines versions ont un caractère réchauffant léger. Hautement gazéifiée. ","La Gueuze est traditionnellement produite en mélangeant des Lambics d'un, deux, et trois ans. Le \"jeune\" Lambic contient des sucres fermentescibles tandis que le vieux lambic a le goût \"sauvage\" caractéristique de la vallée de la rivière Senne. Un caractère de vinaigre ou de cidre décelable est considéré comme un défaut par les brasseurs belges. Une bonne Gueuze n'est pas très piquante mais possède plus un bouquet complet et alléchant, un arôme marqué et une saveur douce et veloutée. Le Lambic est servi non gazeux, tandis que la gueuze est servie effervescente. Les produits marqués Oude ou Ville sont considérés comme les plus traditionnels. ","Bières sauvages spontanément fermentées dans la région de Bruxelles et ses alentours (la vallée de la Senne) tirant leurs origines dans les fermes brassicoles et une tradition d'assemblage vieille de plusieurs siècles. Le nombre de producteurs diminue constamment et certains producteurs ne sont plus traditionnels et ajoutent des édulcorants à leurs produits (post-fermentation) pour les rendre plus politiquement corrects pour un plus large public. Ce guide ne décrit que le produit sec traditionnel. ","Blé non malté (30-40%), malt Pilsner et houblon suranné  (âgés de 3 ans) sont utilisés. Les houblons surannés sont plus utilisés pour des effets de conservation que d'amertume et rendent les niveaux réels d'amertume difficile à estimer. Traditionnellement, ces bières sont fermentées spontanément avec des levures naturelles et des bactéries prédominantes dans les fûts de chêne. Les fûts utilisés sont vieux et ont peu le caractère du chêne donc ne vous attendez pas un caractère de chêne frais ou mis en avant mais à quelque chose de plus neutre qui est typique. Les versions brassée maison et artisanales sont plus généralement fermentées avec des cultures de souches de levures comprenant couramment des Saccharomyces, Brettanomyces, Pediococcus et Lactobacillus dans des tentatives de recréer les effets de la flore microbiologique dominante de Bruxelles et de ses alentours avec la vallée de la Senner. Des cultures effectuées à partir de récupération de bouteilles sont parfois utilisées mais il n'y a aucun moyen simple de savoir quels organismes sont encore vivants. ","Plus complexe et gazeuse qu'un lambic. L'acidité n'est pas nécessairement plus élevée mais elles ont tendance à avoir plus un caractère sauvage mieux développé. ","Boon Oude Gueuze, Boon Oude Gueuze Mariage Parfait, Cantillon Gueuze, De Cam Gueuze, De Cam/Drei Fonteinen Millennium Gueuze, Drie Fonteinen Oud Gueuze, Girardin Gueuze (Black Label), Hanssens Oude Gueuze, Lindemans Gueuze Cuvée René, Mort Subite (Unfiltered) Gueuze, Oud Beersel Oude Gueuze "]
["23F - Fruit Lambic",1.04,1.06,1,1.01,5.91,13.79,0,10,5,7,3,7,1040,1060,1000,1010,"23F","Fruit Lambic",3,4.5,{"$f":"VLOOKUP(A82,Feuil2!$A$1:$H$74,2,FALSE)","v":"50-100"},{"$f":"VLOOKUP(A82,Feuil2!$A$1:$H$74,3,FALSE)","v":"0-30"},{"$f":"VLOOKUP(A82,Feuil2!$A$1:$H$74,4,FALSE)","v":"0-80"},{"$f":"VLOOKUP(A82,Feuil2!$A$1:$H$74,5,FALSE)","v":"0-50"},{"$f":"VLOOKUP(A82,Feuil2!$A$1:$H$74,6,FALSE)","v":"0-100"},{"$f":"VLOOKUP(A82,Feuil2!$A$1:$H$74,7,FALSE)","v":"<100"},{"$f":"VLOOKUP(A82,Feuil2!$A$1:$H$74,8,FALSE)","v":"-100--30"},"23-European Sour Ale","Wheat Beer","Belgian Sour Ale","Belgium",1000,"23F - Fruit Lambic",1010,"A complex, fruity, pleasantly sour, wild wheat ale fermented by a variety of Belgian microbiota, and showcasing the fruit contributions blended with the wild character. The type of fruit can sometimes be hard to identify as fermented and aged fruit characteristics can seem different from the more recognizable fresh fruit aromas and flavors.","The specified fruit should be the dominant aroma. A low to moderately sour character blends with aromas described as barnyard, earthy, goaty, hay, horsey, and horse blanket (and thus should be recognizable as a lambic). The fruit aroma commonly blends well with the other aromas. An enteric, smoky, cigar-like, or cheesy aroma is unfavorable. No hop aroma.","The variety of fruit generally determines the color, although lighter-colored fruit may have little effect on the color. The color intensity may fade with age. Clarity is often good, although some fruit will not drop bright. A thick rocky, mousse-like head, sometimes a shade of fruit, is generally long-lasting (carbonation-dependent). Carbonation is typically high, but must be specified.","The specified fruit should be evident. Low to moderately sour flavor, often with an acidic bite in the finish. The classic barnyard characteristics may be low to high. When young, the beer will present its full fruity taste. As it ages, the lambic taste will become dominant at the expense of the fruit character—thus fruit lambics are not intended for long aging. The finish is commonly dry and tart, but a low, complementary sweetness may be present; higher sweetness levels are not traditional but can be included for personal preference (sweetness level must be specified). A mild vanilla and/or oak flavor is occasionally noticeable. An enteric, smoky or cigar-like character is undesirable. Hop bitterness is generally absent; acidity provides the balance. No hop flavor. ","Light to medium-light body. In spite of the low finishing gravity, the many mouth-filling flavors prevent the beer from tasting like water. Has a low to high tart, puckering quality without being sharply astringent. Some versions have a light warming character. Carbonation can vary from sparkling to nearly still (must be specified).","Fruit-based lambics are often produced like gueuze by mixing one, two, and three-year old lambic. “Young” lambic contains fermentable sugars while old lambic has the characteristic “wild” taste of the Senne River valley. Fruit is commonly added halfway through aging and the yeast and bacteria will ferment all sugars from the fruit. Fruit may also be added to unblended lambic. The most traditional styles of fruit lambics include kriek (cherries), framboise (raspberries) and druivenlambik (muscat grapes). IBUs are approximate since aged hops are used; Belgians use hops for anti-bacterial properties more than bittering in lambics.","Spontaneously fermented wild ales from the area in and around Brussels (the Senne Valley) stem from a farmhouse brewing and blending tradition several centuries old. The number of producers is constantly dwindling and some are untraditionally sweetening their products (post-fermentation) with sugar or sweet fruit to make them more palatable to a wider audience. Fruit was traditionally added to lambic or gueuze, either by the blender or publican, to increase the variety of beers available in local cafes.","Unmalted wheat (30-40%), Pilsner malt and aged hops (3 years) are used. The aged hops are used more for preservative effects than bitterness, and makes actual bitterness levels difficult to estimate. Traditional products use 10-30% fruit (25%, if cherry). Fruits traditionally used include tart cherries (with pits), raspberries or Muscat grapes. More recent examples include peaches, apricots or merlot grapes. Tart or acidic fruit is traditionally used as its purpose is not to sweeten the beer but to add a new dimension. Traditionally these beers are spontaneously fermented with naturally occurring yeast and bacteria in predominately oaken barrels. The barrels used are old and have little oak character, so don’t expect a fresh or forward oak character – more neutral is typical. Home-brewed and craft-brewed versions are more typically made with pure cultures of yeast commonly including Saccharomyces, Brettanomyces, Pediococcus and Lactobacillus in an attempt to recreate the effects of the dominant microbiota of Brussels and the surrounding countryside of the Senne River valley. Cultures taken from bottles are sometimes used but there is no simple way of knowing what organisms are still viable.","A lambic with fruit, not just a fruit beer; the wild lambic character must be evident.","Boon Framboise Marriage Parfait, Boon Kriek Mariage Parfait, Boon Oude Kriek, Cantillon Fou’ Foune, Cantillon Kriek, Cantillon Lou Pepe Kriek, Cantillon Lou Pepe Framboise, Cantillon Rose de Gambrinus, Cantillon St. Lamvinus, Cantillon Vigneronne, De Cam Oude Kriek, Drie Fonteinen Kriek, Girardin Kriek, Hanssens Oude Kriek, Oud Beersel Kriek, Mort Subite Kriek",null,"Une bière de blé sauvage de type ale, fruitée, agréablement fraîche, fermentée par une variété de bactérie belge et présentant un bon équilibre entre l'apport des fruits mélangés à un caractère sauvage. Le type de fruit peut parfois être difficile à identifier car les caractéristiques de fruits fermentés et vieillis peuvent sembler très différents des arômes et les saveurs des fruits frais. ","Le fruit doit apporter l'arôme dominant. Un caractère acide faible à modérée se mêle aux arômes de basse-cour, terreux, caprin, de foin, chevalin et de couverture de cheval (doit donc être reconnaissable comme Lambic). L'arôme de fruit se marie généralement bien avec les autres arômes. Un arôme aigre, fumé, de cigare ou de fromage est défavorable. Aucun arôme de houblon. ","Les variétés des fruits déterminent généralement la couleur, bien que des fruits clairs puissent avoir peu d'effet sur la couleur. L'intensité de la couleur peut disparaître avec l'âge. La limpidité est souvent bonne, bien que certains fruits ne permettront pas une certaine clarté. La mousse épaisse, chancelante, avec parfois une nuance de fruits, a généralement une tenue durable (en fonction de la carbonatation). La carbonatation est généralement élevée, mais doit être spécifiée. ","La spécificité du fruit doit être évidente. L’acidité est faible à modérée avec souvent une finale « mordante ». Les caractéristiques de la basse-cour classique peuvent être faibles à élevées. Jeune, la bière présentera toute sa saveur fruitée. En vieillissant, le goût de lambic deviendra dominant aux dépens du caractère de fruit - ainsi, les lambics ne sont pas destinés à un long vieillissement. La finale est généralement sèche et acidulée, mais une douceur complémentaire peut être présente ; les niveaux de douceur plus élevés ne sont pas traditionnels mais peuvent être une volonté du brasseur (le niveau de douceur doit être spécifié). Une légère saveur de vanille et/ou de chêne est parfois perceptible. Une saveur aigre, fumée ou ressemblant à un cigare est indésirable. L'amertume du houblon est généralement absente; l'acidité fournit l'équilibre. Aucune saveur de houblon.","Corps léger à moyennement léger. En dépit de la faible densité finale, les nombreuses saveurs en bouche empêchent la bière d'être ressentie comme de l'eau. Possède une âpreté et une aigreur faibles à élevées sans être fortement astringente. Certaines versions ont un caractère de réchauffement léger. La carbonatation peut varier de mousseuse à presque plate (doit être spécifié). ","Les Lambics aux fruits sont souvent produits comme la Gueuze en mélangeant des Lambics âgés d'un, deux et trois ans. Les Lambics \"jeunes\" contiennent des sucres fermentescibles tandis que le vieux Lambic a le goût \"sauvage\" caractéristique de la vallée de la Senne. Les fruits sont généralement ajoutés au cours du vieillissement et la levure ainsi que les bactéries vont fermenter tous les sucres des fruits. Les fruits peuvent aussi être ajoutés à un lambic non assemblé. Les styles les plus traditionnels comprennent la Kriek (cerise), framboise et Druiven Lambic (raisins muscat). Les IBU sont souvent approximatifs car des houblons surannés sont utilisés ; Les Belges utilisent ici le houblon pour ses propriétés antibactériennes plus que pour l'amertume. ","Bières sauvages de fermentation spontanée originaire de la région de Bruxelles et de ses alentours (la vallée de la Senne) provenant d'une tradition de brassage et d'assemblage à la ferme vieille de plusieurs siècles. Le nombre de producteurs diminue constamment et certains utilisent une méthode non traditionnelle de sucrage de leurs produits (post-fermentation) avec du sucre ou des fruits doux pour les rendre plus appréciable par un public plus large. Les fruits étaient traditionnellement ajoutés à un lambic ou une gueuze, soit par le brasseur ou le bistrotier, pour augmenter la gamme de bières disponibles dans les cafés locaux. ","Blé non malté (30-40%), malt pilsner et houblon suranné (âgés de 3 ans) utilisé plus pour des effets de conservation que d'amertume, et rend les niveaux d'amertume réels difficile à estimer. Les produits traditionnels utilisent 10-30% de fruits (25% pour la kriek). Les fruits traditionnellement utilisés comprennent des cerises acidulées (avec noyaux), framboises ou du raisin muscat. Des exemples plus récents incluent pêches, abricots ou raisin Merlot. Des fruits âpres ou acides étaient traditionnellement utilisés dans le but de ne pas trop adoucir la bière, en ajoutant une nouvelle dimension. A l'origine, ces bières sont de fermentation spontanée avec les levures et bactéries naturellement présentes principalement dans les fûts de chêne. Ceux-ci sont âgés et ont peu de caractère de chêne, donc ne pas s’attendre à un caractère avancé de chêne frais/vert, le neutre est typique. Les versions brassées maison ou artisanales sont plus généralement brassées avec des cultures pures de levure principalement des Saccharomyces, Brettanomyces, Pediococcus et Lactobacillus, dans une volonté de recréer les effets microbiologiques de Bruxelles et de la vallée de la Senne. Des cultures à partir de bouteilles sont parfois utilisées, mais il n’est difficile de savoir si ces organismes sont encore viables. ","Le type de fruit doit être précisé ainsi que le niveau de carbonatation (faible, moyen, élevé) et de douceur (faible / nul, moyen, élevé). ","Boon Framboise Mariage Parfait, Boon Kriek Mariage Parfait, Boon Oude Kriek, Cantillon Fou’ Foune, Cantillon Kriek, Cantillon Lou Pepe Kriek, Cantillon Lou Pepe Framboise, Cantillon Rose de Gambrinus, Cantillon St. Lamvinus, Cantillon Vigneronne, De Cam Oude Kriek, Drie Fonteinen Kriek, Girardin Kriek, Hanssens Oude Kriek, Oud Beersel Kriek, Mort Subite Kriek "]
["24A - Witbier",1.044,1.052,1.008,1.012,3.94,7.88,8,20,4.5,5.5,2,4,1044,1052,1008,1012,"24A","Witbier",2.1,2.6,{"$f":"VLOOKUP(A83,Feuil2!$A$1:$H$74,2,FALSE)","v":"50-100"},{"$f":"VLOOKUP(A83,Feuil2!$A$1:$H$74,3,FALSE)","v":"0-30"},{"$f":"VLOOKUP(A83,Feuil2!$A$1:$H$74,4,FALSE)","v":"0-80"},{"$f":"VLOOKUP(A83,Feuil2!$A$1:$H$74,5,FALSE)","v":"0-50"},{"$f":"VLOOKUP(A83,Feuil2!$A$1:$H$74,6,FALSE)","v":"0-100"},{"$f":"VLOOKUP(A83,Feuil2!$A$1:$H$74,7,FALSE)","v":"<100"},{"$f":"VLOOKUP(A83,Feuil2!$A$1:$H$74,8,FALSE)","v":"-60-0"},"24-Belgian Ale","Wheat Beer","Wheat Beer","Belgium",1008,"24A - Witbier",1012,"A refreshing, elegant, tasty, moderate-strength wheat-based ale.","Moderate malty sweetness (often with light notes of honey and/or vanilla) with light, grainy, spicy wheat aromatics, often with a bit of tartness. Moderate perfumy coriander, often with a complex herbal, spicy, or peppery note in the background. Moderate zesty, citrusy-orangey fruitiness. A low spicy-herbal hop aroma is optional, but should never overpower the other characteristics. Vegetal, celery-like, or ham-like aromas are inappropriate. Spices should blend in with fruity, floral and sweet aromas and should not be overly strong.","Very pale straw to very light gold in color. The beer will be very cloudy from starch haze and/or yeast, which gives it a milky, whitish-yellow appearance. Dense, white, moussy head. Head retention should be quite good.","Pleasant malty-sweet grain flavor (often with a honey and/or vanilla character) and a zesty, orange-citrusy fruitiness. Refreshingly crisp with a dry, often tart, finish. Can have a low bready wheat flavor. Optionally has a very light lactic-tasting sourness. Herbal-spicy flavors, which may include coriander and other spices, are common should be subtle and balanced, not overpowering. A spicy-earthy hop flavor is low to none, and if noticeable, never gets in the way of the spices. Hop bitterness is low to medium-low, and doesn’t interfere with refreshing flavors of fruit and spice, nor does it persist into the finish. Bitterness from orange pith should not be present. Vegetal, celery-like, ham-like, or soapy flavors are inappropriate. ","Medium-light to medium body, often having a smoothness and light creaminess from unmalted wheat and the occasional oats. Despite body and creaminess, finishes dry and often a bit tart. Effervescent character from high carbonation. Refreshing, from carbonation, light acidity, and lack of bitterness in finish. No harshness or astringency from orange pith. Should not be overly dry and thin, nor should it be thick and heavy.","The presence, character and degree of spicing and lactic sourness varies. Overly spiced and/or sour beers are not good examples of the style. Coriander of certain origins might give an inappropriate ham or celery character. The beer tends to be fragile and does not age well, so younger, fresher, properly handled examples are most desirable. Most examples seem to be approximately 5% ABV.","A 400-year-old Belgian beer style that died out in the 1950s; it was later revived by Pierre Celis at Hoegaarden, and has grown steadily in popularity over time, both with modern craft brewers and mass-market producers who see it as a somewhat fruity summer seasonal beer. ","About 50% unmalted wheat and 50% pale barley malt (usually Pils malt) constitute the grist. In some versions, up to 5-10% raw oats may be used. Spices of freshly-ground coriander and Curaçao or sometimes sweet orange peel complement the sweet aroma and are quite characteristic. Other spices (e.g., chamomile, cumin, cinnamon, Grains of Paradise) may be used for complexity but are much less prominent. Ale yeast prone to the production of mild, spicy flavors is very characteristic. In some instances a very limited lactic fermentation, or the actual addition of lactic acid, is done.","Low bitterness level with a balance similar to a Weissbier, but with spice and citrus character coming from additions rather than the yeast.","Allagash White, Blanche de Bruxelles, Celis White, Hoegaarden Wit, Ommegang Witte, St. Bernardus Witbier, Wittekerke",null,"Une bière à base de blé savoureuse et douce, élégante et rafraîchissante. ","Douceur maltée modérée (souvent avec de légères notes de miel et/ou de vanille) avec des arômes légers, épicés de céréales de blé avec souvent un peu d'acidité. Léger parfum de coriandre, avec souvent des notes complexes herbacées, épicées, et même poivrées en arrière-plan. Arôme fruité modéré de zestes d'oranges ou d'agrumes. Un faible arôme de houblon optionnel, herbeux ou épicé, mais qui ne doit jamais dominer les autres caractéristiques. Des arômes végétaux ou similaire à du céleri ou du jambon sont inappropriés. Les épices doivent se combiner aux arômes fruités, floraux et sucré et ne doivent pas être trop forte. ","Couleur paille très clair à dorée léger. La bière est très trouble, à cause de l'amidon et/ou de la levure qui lui procure une couleur laiteuse blanc-jaune. Tête dense, blanche, et mousseuse. La rétention de la tête doit être relativement bonne. ","Agréable saveur douce et maltée de céréales (avec, souvent, une note de miel et/ou de vanille) et des saveurs fruitées d'orange ou d'agrumes. Un fruité d'orange-agrumes acidulé. Rafraîchissante et pétillante avec une finition sèche, souvent acidulée/acide. Peut avoir une saveur de blé brioché faible. A éventuellement une acidité lactique très légère. Les saveurs à base de plantes-épicées, qui peuvent inclure la coriandre et autres épices, sont communes et doivent être subtiles et équilibrées, pas trop puissantes. Une saveur de houblon épicé-terreuse est faible à nulle, et si présente, jamais dans la même mesure que les épices. L'amertume houblonnée est faible à moyenne, et n'interfère pas avec des saveurs rafraîchissantes de fruits et d'épices, ni ne persiste dans la finition. L'amertume des zestes d'orange ne doit pas être présente. Végétal, les saveurs de céleri, jambon, ou savon sont inappropriées. ","Corps moyen à léger, ayant souvent une douceur et une légère onctuosité due à la présence de blé non malté et éventuellement d'avoine. Malgré le corps et l'onctuosité, la fin est sèche et souvent avec un peu d'aigreur. Caractère effervescent dû à une haute carbonatation. Rafraîchissant grâce à la carbonatation, la légère acidité et le manque d'amertume en fin de bouche. Pas d'astringence ou de tranchant due aux zestes d'oranges. Ne doit pas être trop sèche ni légère, ni trop épaisse ni lourde. ","La présence, le caractère et la proportion d'épices et d'acidité lactique est variable. Des bières trop épicées et/ou acides ne sont pas de bons exemples du style. Certaines espèces de coriandre peuvent donner un goût inapproprié de jambon ou de céleri. La bière a tendance à être fragile et ne vieillit pas bien si bien que les exemples jeunes, frais et correctement manipulés sont plus désirables. Dans la plupart des cas, le taux d'alcool est d'environ 5%. ","Un style de bière Belge vieux de 400 ans, qui a disparu dans les années 1950.  Il a ensuite été ressuscité par Pierre Celis à Hoegaarden, et n'a cessé de croître en popularité avec le temps autant grâce aux petites brasseries artisanales qu'aux productions plus industrielle qui ont vu une bière saisonnière d'été fruité et désaltérante. ","Environ 50% de blé non malté et 50% malt d'orge pâle (habituellement du Malt Pils) constituent la mouture. Dans certaines versions, jusqu'à 5-10% d'avoine peut être utilisé. Des épices de coriandre fraîchement moulue et de curaçao ou parfois d'écorce d'orange douce complètent l'arôme doux et sont tout à fait caractéristique. Des autres épices (par exemple camomille, cumin, cannelle, graines de paradis) peuvent être utilisés pour la complexité, mais sont beaucoup moins prédominantes. La levure de bière produisant de douces saveurs épicées est très caractéristique. Dans certains cas, on a une fermentation lactique très limitée, ou même parfois un ajout d'acide lactique. ","Faible amertume et équilibre assez proche d'une de styles AFIBRA/10A. Weizen-Weissbier Weissbier allemande avec cependant un caractère épicé et d'agrume provenant d'ajout plutôt que de la levure. ","Blanche de Hoegaarden, St. Bernardus Blanche, Celis White, Vuuve 5, Brugs Tarwebier (Blanche de Bruges), Blanche de Namur, Wittekerke, Allagash White, Blanche de Bruxelles, Ommegang Witte, Avery White Rascal, Unibroue Blanche de Chambly, Sterkens White Ale, Bell’s Winter White Ale, Victory Whirlwind Witbier, Hitachino Nest White Ale. "]
["24B - Belgian Pale Ale",1.048,1.054,1.01,1.014,15.76,27.58,20,30,4.8,5.5,8,14,1048,1054,1010,1014,"24B","Belgian Pale Ale",1.9,2.4,{"$f":"VLOOKUP(A84,Feuil2!$A$1:$H$74,2,FALSE)","v":"50-150"},{"$f":"VLOOKUP(A84,Feuil2!$A$1:$H$74,3,FALSE)","v":"0-30"},{"$f":"VLOOKUP(A84,Feuil2!$A$1:$H$74,4,FALSE)","v":"40-120"},{"$f":"VLOOKUP(A84,Feuil2!$A$1:$H$74,5,FALSE)","v":"100-300"},{"$f":"VLOOKUP(A84,Feuil2!$A$1:$H$74,6,FALSE)","v":"50-100"},{"$f":"VLOOKUP(A84,Feuil2!$A$1:$H$74,7,FALSE)","v":"<100"},{"$f":"VLOOKUP(A84,Feuil2!$A$1:$H$74,8,FALSE)","v":"0-60 "},"24-Belgian Ale","Pale Ale","Pale Ales","Belgium",1010,"24B - Belgian Pale Ale",1014,"A moderately malty, somewhat fruity, easy-drinking, copper-colored Belgian ale that is somewhat less aggressive in flavor profile than many other Belgian beers. The malt character tends to be a bit biscuity with light toasty, honey-like, or caramelly components; the fruit character is noticeable and complementary to the malt. The bitterness level is generally moderate, but may not seem as high due to the flavorful malt profile.","Moderate malt aroma, which can be a combination of toasty, biscuity, or nutty, possibly with a touch of light caramel or honey. Moderate to moderately high fruitiness with an orange- or pear-like character. Low to moderate strength hop character (spicy, herbal, or floral) optionally blended with background level peppery, spicy phenols. The hop character is lower in balance than the malt and fruitiness. ","Amber to copper in color. Clarity is very good. Creamy, rocky, white head often fades more quickly than other Belgian beers.","Has an initial soft, smooth, moderately malty flavor with a variable profile of toasty, biscuity, nutty, light caramel and/or honey notes. Moderate to moderately high fruitiness, sometimes orange- or pear-like. Relatively light (medium-low to low) spicy, herbal, or floral hop character. The hop bitterness is medium-high to medium-low, and is optionally enhanced by low to very low amounts of peppery phenols. There is a dry to balanced finish, with hops becoming more pronounced in the aftertaste of those with a drier finish. Fairly well balanced overall, with no single component being high in intensity; malt and fruitiness are more forward initially with a supportive bitterness and drying character coming on late.","Medium to medium-light body. Smooth palate. Alcohol level is restrained, and any warming character should be low if present. Medium to medium-high carbonation.","Most commonly found in the Flemish provinces of Antwerp and Brabant. Considered “everyday” beers (Category I). Compared to their higher alcohol Category S cousins, they are Belgian “session beers” for ease of drinking. Nothing should be too pronounced or dominant; balance is the key. Yeast character generally more subtle than many Belgian beers, with some of the fruitiness being hop-driven.","Produced by breweries with roots as far back as the mid-1700s, the most well-known examples were perfected after the Second World War with some influence from Britain, including hops and yeast strains. ","Pilsner or pale ale malt contributes the bulk of the grist with (cara) Vienna and Munich malts adding color, body and complexity. Sugar is not commonly used as high gravity is not desired. Saazer-type hops, Styrian Goldings, East Kent Goldings or Fuggles are commonly used. Yeasts prone to moderate production of phenols are often used but fermentation temperatures should be kept moderate to limit this character.","Fairly similar to pale ales from England (Strong Bitter category), typically with a slightly different yeast character and a more varied malt profile. Less yeast character than many other Belgian beers, though.","De Koninck, De Ryck Special, Palm Dobble, Palm Speciale",null,"Une bière Belge de type ale, un peu fruité, facile à boire, modérément maltée, de couleur cuivre qui a un profil un peu moins agressif en terme de saveur que beaucoup d'autres bières belges. Le caractère du malt tend à être un peu biscuité, légèrement toasté, avec comme du miel ou des composantes de caramel. Le caractère de fruits est perceptible et complémentaire au malt. Le niveau d'amertume est généralement modéré, mais peut ne pas sembler aussi élevé en raison du profil de malt savoureux. ","Arômes de malt modéré qui peuvent être une combinaison de senteurs grillées, de biscuit ou de noisette avec éventuellement une touche légère de caramel ou de miel. Modérée à modérément forte avec un caractère fruité d'orange ou de poire. Arôme de houblon faible à modérément fort (épicé, herbeux ou floral) éventuellement mélangé avec des phénols poivrées ou épicés à des niveaux d'arrière-plan. Le caractère de houblon est plus faible dans l'équilibre que le malt et le fruité. ","Couleur ambrée à cuivrée. La limpidité est très bonne. Tête blanche, crémeuse, instable qui disparaît souvent plus rapidement que les autres bières belges. ","Possède une saveur initiale modérément maltée douce et onctueuse avec un ensemble de notes variables allant de toasté, à biscuit, noisette, caramel doux et/ou de miel. Fruité modéré à modérément fort, parfois sur l'orange ou la poire. Caractère houblonné relativement léger (moyen-doux à bas) épicé, herbeux ou floral. L'amertume du houblon est moyennement élevée à moyennement douce et est éventuellement renforcée par de faibles à très faibles quantités de phénols poivrées. Finale sèche à équilibrée, avec un houblon de plus en plus prononcé dans l'arrière-goût dans les versions avec une fin en bouche sèche. Assez bien équilibrée dans l'ensemble, avec aucune composante particulière ayant une intensité supérieure; le malt et le coté fruité sont d'abord plus au premier plan avec une amertume et un caractère sec en soutien sur les notes finales. ","Corps moyen à moyen-léger. Bouche ronde. Le degré d'alcool est contenu et tout réchauffement doit être faible s’il est présent. Carbonatation moyenne à moyennement élevé. ","Le plus souvent présentent dans les provinces flamandes d'Anvers et du Brabant. Bière considérée comme «de tous les jours» (Catégorie I). Comparativement à leurs cousines de Catégorie S plus forte en alcool, ce sont des \"sessions\" belges pour leur facilité à les boire. Rien ne doit être trop prononcé ou dominant; l'équilibre est la clé. Caractère de levure généralement plus subtil que de nombreuses bières belges, avec un peu de fruité provenant du houblon. ","Produit par des brasseries dont les origines remontent aussi loin que le milieu des années 1700, les exemples les plus connus ont été perfectionnés après la Seconde Guerre mondiale avec une certaine influence de la Grande-Bretagne, y compris de par les houblons et les souches de levure. ","Malt Pilsner ou Pale Ale constituent la majeure partie de la mouture avec des malts (cara) Vienne et Munich ajoutant de la couleur, du corps et de la complexité. Le sucre n'est pas habituellement utilisé car de hautes densités ne sont pas souhaitées. Les houblons de type Saaz, Styrian Goldings, East Kent Goldings ou Fuggles sont couramment utilisés. Des levures sujettes à la production modérée de phénols sont souvent utilisées, mais les températures de fermentation doivent rester modérées pour limiter ce caractère. ","Assez semblables aux Pales Ales d'Angleterre (catégorie Strong Bitter) avec généralement un caractère de levure légèrement différente et un profil de malt plus varié. Moins de caractère de la levure que beaucoup d'autres bières belges, cependant. ","De Koninck, De Ryck Special, Palm Dobble, Palm Speciale "]
["24C - Bière de Garde",1.06,1.08,1.008,1.016,11.82,37.43,18,28,6,8.5,6,19,1060,1080,1008,1016,"24C","Bière de Garde",1.5,2.2999999999999998,{"$f":"VLOOKUP(A85,Feuil2!$A$1:$H$74,2,FALSE)","v":"50-100"},{"$f":"VLOOKUP(A85,Feuil2!$A$1:$H$74,3,FALSE)","v":"0-30"},{"$f":"VLOOKUP(A85,Feuil2!$A$1:$H$74,4,FALSE)","v":"40-120"},{"$f":"VLOOKUP(A85,Feuil2!$A$1:$H$74,5,FALSE)","v":"50-100"},{"$f":"VLOOKUP(A85,Feuil2!$A$1:$H$74,6,FALSE)","v":"50-150"},{"$f":"VLOOKUP(A85,Feuil2!$A$1:$H$74,7,FALSE)","v":"<100"},{"$f":"VLOOKUP(A85,Feuil2!$A$1:$H$74,8,FALSE)","v":"0-60 "},"24-Belgian Ale","Amber Ale","European Farmhouse Beer","France",1008,"24C - Bière de Garde",1016,"A fairly strong, malt-accentuated, lagered artisanal beer with a range of malt flavors appropriate for the color. All are malty yet dry, with clean flavors and a smooth character.","Prominent malty sweetness, often with a complex, light to moderate intensity toasty-bready-rich malt character. Low to moderate esters. Little to no hop aroma (may be a bit spicy, peppery, or herbal). Paler versions will still be malty but will lack richer, deeper aromatics and may have a bit more hops. Generally quite clean, although stronger versions may have a light, spicy alcohol note as it warms.","Three main variations exist (blond, amber and brown), so color can range from golden-blonde to reddish-bronze to chestnut brown. Clarity is brilliant to fair, although haze is not unexpected in this type of often unfiltered beer. Well-formed head, generally white to off-white (varies by beer color), average persistence. ","Medium to high malt flavor often with a toasty-rich, biscuity, toffee-like or light caramel-sweet character. Malt flavors and complexity tend to increase with beer color. Low to moderate esters and alcohol flavors. Medium-low hop bitterness provides some support, but the balance is always tilted toward the malt. Darker versions will have more of an initial malty-sweet impression than paler versions, but all should be malty in the palate and finish. The malt flavor lasts into the finish, which is medium-dry to dry, never cloying. Low to no hop flavor (spicy, peppery, or herbal), although paler versions can have slightly higher levels of herbal or spicy hop flavor (which can also come from the yeast). Smooth, well-lagered character, even if made with ale yeast. Aftertaste of malt (character appropriate for the color) with some dryness and light alcohol.","Medium to medium-light (lean) body, often with a smooth, creamy-silky character. Moderate to high carbonation. Moderate alcohol warming, but should be very smooth and never hot.","Three main variations are included in the style: the brown (brune), the blond (blonde), and the amber (ambrée). The darker versions will have more malt character, while the paler versions can have more hops (but still are malt-focused beers). A related style is Bière de Mars, which is brewed in March (Mars) for present use and will not age as well. Attenuation rates are in the 80-85% range. Some fuller-bodied examples exist, but these are somewhat rare. Age and oxidation in imports often increases fruitiness, caramel flavors, and adds corked and musty notes; these are all signs of mishandling, not characteristic elements of the style.","Name literally means “beer which has been kept or lagered.” A traditional artisanal ale from Northern France brewed in early spring and kept in cold cellars for consumption in warmer weather. It is now brewed year-round. ","The “cellar” character commonly described in literature is more of a feature of mishandled commercial exports than fresh, authentic products. The somewhat moldy character comes from the corks and/or oxidation in commercial versions, and is incorrectly identified as “musty” or “cellar-like.” Base malts vary by beer color, but usually include pale, Vienna and Munich types. Darker versions will have richer malt complexity and sweetness from crystal-type malts. Sugar may be used to add flavor and aid in the dry finish. Lager or ale yeast fermented at cool ale temperatures, followed by long cold conditioning. Floral, herbal or spicy continental hops.","Related to the Belgian Saison style, the main difference is that the Bière de Garde is rounder, richer, malt-focused, and lacks the spicy, bitter character of a Saison.","Ch’Ti (brown and blond), Jenlain (amber and blond), La Choulette (all 3 versions), St. Amand (brown), Saint Sylvestre 3 Monts (blond), Russian River Perdition",null,"Une bière artisanale de fermentation basse assez forte et axée sur le malt avec une gamme de saveurs de malt en accord avec la couleur. Toutes sont maltées mais sèches avec des saveurs nettes et un caractère harmonieux. ","Douceur maltée dominante, souvent avec un caractère de malt complexe à l'intensité légère à modérée et aux arômes riches de pain toasté. Esters faibles à modérés. Peu ou pas d'arôme de houblon (peut-être un peu épicé, poivré ou herbeux). Les versions plus blondes seront toujours maltées, mais manqueront de richesse et de profondeur aromatique et pourront présenter un nez plus de houblonné. Généralement assez neutre, bien que les versions plus fortes puissent avoir une légère et épicé note d'alcool en se réchauffant. ","Trois principales variantes de couleurs existent (blonde, ambrée et brune) de sorte que la teinte peut varier de blonde dorée à marron châtaigne en passant par bronze rouge. La limpidité est lumineuse à convenable bien que le trouble n'est pas inattendu dans ce type de bière souvent non filtrée. Tête bien formée, généralement de couleur blanche à blanche cassé (varie selon la couleur de la bière), persistance moyenne.   ","Saveur de malt moyenne à élevée avec souvent des notes riches de torréfié, du biscuit, de caramel léger ou de toffee. Les saveurs de malt et la complexité ont tendance à augmenter avec la couleur de la bière. Flaveurs d'esters et d'alcool faibles à modérées. L'amertume du houblon moyennement faible apporte un certain soutien, mais la balance est toujours inclinée vers le malt. Les versions plus sombres donneront plus une impression initiale de malt sucré que les versions plus claires, mais toutes doivent être maltées en bouche et en finale. La saveur de malt dure dans les notes finales qui sont demi sèche à sèche mais jamais écœurante. Faible à aucune saveur du houblon (épicé, poivré, ou herbeux) bien que les versions plus claires puissent avoir des niveaux légèrement plus élevés de saveurs du houblon de plantes ou épicés (qui peuvent aussi venir de la levure). Levure neutre de type lager bien fermentée même si produite avec de la levure de type Ale. Arrière-goût de malt (caractère en accord avec la couleur) avec une certaine sécheresse et un alcool léger. ","Corps moyen à moyennement léger (maigre), avec souvent un caractère lisse, crémeux et soyeux. Carbonatation modérée à élevée. Réchauffement modérée d'alcool, mais doit être très doux et jamais brulant. ","Trois variantes principales sont incluses dans ce style: la brune, la blonde et l'ambrée. Les versions plus foncées auront un caractère plus malté, tandis que les versions plus claires peuvent être plus houblonnées (mais ce sont toujours des bières axées sur le malt). Un style connexe est la Bière de Mars, qui est brassée en Mars pour utilisation immédiate et non pour être gardée. Le taux d'atténuation est de l'ordre de 80-85%. Quelques exemples plus corsés existent, mais ceux-ci sont assez rares. L’âge et l'oxydation dans les exemplaires importés augmentent souvent le coté fruité, les arômes de caramel et ajoute des notes bouchonnées ou de moisi; ce sont des signes de mauvais stockage et non pas des éléments caractéristiques du style. ","Le nom signifie littéralement \"la bière qui a été gardée\". Une bière artisanale traditionnelle du Nord de la France brassée au début du printemps et conservée dans des caves froides pour la consommation par temps chaud. Désormais brassée toute l'année. ","Le caractère de «cave» communément décrit dans la littérature est plus une caractéristique des produits commerciaux d'exportations qui ont été malmenés, que celui des produits frais et authentiques. Le caractère quelque peu moisi provient des bouchons et / ou de l'oxydation dans les versions commerciales et est à tort identifié comme étant «moisi» ou «de cave\". Les malts de base varient selon la couleur de la bière, mais comprennent généralement les types Vienne et Munich clairs. Les versions plus sombres auront une complexité de malt plus riche et la douceur de malts de type cristal. Du sucre peut être utilisé pour ajouter de la saveur et une aide pour une finition sèche. Levure de type Lager ou Ale fermentée à des températures froide suivie par une longue garde au frais. Houblons continentaux floraux, herbeux ou épicés. ","En lien avec le style Belge Saison, la principale différence étant que la Bière de Garde est plus ronde, plus riche, tournée vers le malt et n'a pas le caractère amer et épicé d'une Saison. ","Ch’Ti (brune et blonde), Jenlain (ambrée et blonde), La Choulette (3 versions), St. Amand (brune), Saint Sylvestre 3 Monts (blonde), Russian River Perdition "]
["25A - Belgian Blond Ale",1.0620000000000001,1.075,1.008,1.018,7.88,13.79,15,30,6,7.5,4,7,1062,1075,1008,1018,"25A","Belgian Blond Ale",1.9,2.4,{"$f":"VLOOKUP(A86,Feuil2!$A$1:$H$74,2,FALSE)","v":"50-100"},{"$f":"VLOOKUP(A86,Feuil2!$A$1:$H$74,3,FALSE)","v":"0-30"},{"$f":"VLOOKUP(A86,Feuil2!$A$1:$H$74,4,FALSE)","v":"0-80"},{"$f":"VLOOKUP(A86,Feuil2!$A$1:$H$74,5,FALSE)","v":"0-50"},{"$f":"VLOOKUP(A86,Feuil2!$A$1:$H$74,6,FALSE)","v":"0-100"},{"$f":"VLOOKUP(A86,Feuil2!$A$1:$H$74,7,FALSE)","v":"<100"},{"$f":"VLOOKUP(A86,Feuil2!$A$1:$H$74,8,FALSE)","v":"-30-30"},"25-Strong Belgian Ale","Pale Ale","Belgian Ale","Belgium",1008,"25A - Belgian Blond Ale",1018,"A moderate-strength golden ale that has a subtle fruity-spicy Belgian yeast complexity, slightly malty-sweet flavor, and dry finish.","Light earthy or spicy hop nose, along with a lightly grainy-sweet malt character. Shows a subtle yeast character that may include spicy phenolics, perfumy or honey-like alcohol, or yeasty, fruity esters (commonly orange-like or lemony). Light sweetness that may have a slightly sugar-like character. Subtle yet complex.","Light to deep gold color. Generally very clear. Large, dense, and creamy white to off-white head. Good head retention with Belgian lace.","Smooth, light to moderate grainy-sweet malt flavor initially, but finishes medium-dry to dry with some smooth alcohol becoming evident in the aftertaste. Medium hop and alcohol bitterness to balance. Light hop flavor, can be spicy or earthy. Very soft yeast character (esters and alcohols, which are sometimes perfumy or orange/lemon-like). Light spicy phenolics optional. Some lightly caramelized sugar or honey-like sweetness on palate.","Medium-high to high carbonation, can give mouth-filling bubbly sensation. Medium body. Light to moderate alcohol warmth, but smooth. Can be somewhat creamy.","Often has an almost lager-like character, which gives it a cleaner profile in comparison to many other Belgian styles. Belgians use the term Blond, while the French spell it Blonde. Most commercial examples are in the 6.5 – 7% ABV range. Many Trappist or artisanal Belgian beers are called Blond but those are not representative of this style.","Relatively recent development to further appeal to European Pils drinkers, becoming more popular as it is heavily marketed and widely distributed.","Belgian Pils malt, aromatic malts, sugar, Belgian yeast strains that produce complex alcohol, phenolics and perfumy esters, Saazer-type, Styrian Goldings, or East Kent Goldings hops. Spices are not traditionally used, although the ingredients and fermentation by-products may give an impression of spicing (often reminiscent of oranges or lemons). If spices are present, should be a background character only.","Similar strength as a Dubbel, similar character as a Belgian Strong Golden Ale or Tripel, although a bit sweeter and not as bitter.","Affligem Blond, Grimbergen Blond, La Trappe Blond, Leffe Blond, Val-Dieu Blond",null,"Une bière dorée modérément forte avec une complexité subtilement fruitée-épicée de levure belge, une saveur légèrement maltée-sucrée et une finale sèche. ","Un arôme légèrement terreux ou épicé, accompagné d’un caractère malté légèrement sucré. Possède un caractère subtil de levure pouvant inclure des phénols épicés, de l’alcool parfumé ou s’apparentant à du miel, ou bien encore des esters fruités (généralement orangés ou citronnés). Une douceur légère pouvant avoir un caractère sucrée. Subtile mais complexe. ","Pale à profondément dorée. Généralement d’une très bonne limpidité. Mousse généreuse et dense allant de blanc à blanc cassé. Bonne persistance laissant son empreinte sur le verre. ","Harmonieuse, débute avec une saveur de malt sucré légère à modérée, mais termine modérément sèche à sèche avec une note d’alcool discrète devenant manifeste en arrière-goût. Equilibrée par le houblon et l’alcool donnant une amertume moyenne. Saveur de houblon légère, pouvant être épicée ou terreuse. Caractère de levure très doux (esters et alcools, qui sont parfois parfumés ou s’apparentent à de l’orange/du citron).De légers phénols épicés sont optionnels. Du sucre légèrement caramélisé ou s’apparentant à du miel apporte de la douceur au palais. ","Carbonatation de modérément haute à haut, pouvant donner une sensation de pétillant en bouche. Corps moyen. Chaleur dû à l’alcool légère à modérée mais douce. Peut être quelque peu crémeuse. ","Possède souvent un caractère de lager, ce qui lui confère un profil plus « propre » en comparaison à d’autres styles Belges. Les Belges utilisent le terme Blond, alors que les Français l’écrivent Blonde. La plupart des exemples commerciaux oscillent entre 6.5 – 7 % alc. Beaucoup de Trappistes ou de bières Belges artisanales sont appelées Blond mais celles-ci ne pas représentatives de ce style. ","Un développement relativement récent afin de séduire d’avantage les consommateurs de Pils européens, elle devient plus populaire grâce au marketing massif et à sa grande distribution. ","Malt Pils Belge, malts aromatiques, sucre, souches de levures Belges produisant un alcool complexe, phénols et esters parfumés, houblons de type Saaz, Styrian Goldings ou East Kent Goldings. Les épices ne sont pas utilisées traditionnellement, bien que les ingrédients et les sous-produits de la fermentation peuvent donner une impression épicée (rappelant souvent l’orange/le citron). Si des épices sont présentes, ce ne devrait être qu’en arrière-plan. ","Force similaire à une Dubbel, caractère similaire à une Belgian Golden Strong Ale ou une Tripel, bien qu’un peu plus sucrée et pas aussi amère. ","Affligem Blond, Grimbergen Blond, La Trappe Blond, Leffe Blond, Val-Dieu Blond. "]
["25B - Saison",1.048,1.0649999999999999,1.002,1.008,9.85,43.339999999999996,20,35,3.5,9.5,5,22,1048,1065,1002,1008,"25B","Saison",1.9,2.4,{"$f":"VLOOKUP(A87,Feuil2!$A$1:$H$74,2,FALSE)","v":"50-150"},{"$f":"VLOOKUP(A87,Feuil2!$A$1:$H$74,3,FALSE)","v":"0-30"},{"$f":"VLOOKUP(A87,Feuil2!$A$1:$H$74,4,FALSE)","v":"40-120"},{"$f":"VLOOKUP(A87,Feuil2!$A$1:$H$74,5,FALSE)","v":"100-400"},{"$f":"VLOOKUP(A87,Feuil2!$A$1:$H$74,6,FALSE)","v":"0-100"},{"$f":"VLOOKUP(A87,Feuil2!$A$1:$H$74,7,FALSE)","v":"<100"},{"$f":"VLOOKUP(A87,Feuil2!$A$1:$H$74,8,FALSE)","v":"-60-0"},"25-Strong Belgian Ale","Pale Ale","European Farmhouse Beer","Belgium",1002,"25B - Saison",1008,"Most commonly, a pale, refreshing, highly-attenuated, moderately-bitter, moderate-strength Belgian ale with a very dry finish. Typically highly carbonated, and using non-barley cereal grains and optional spices for complexity, as complements the expressive yeast character that is fruity, spicy, and not overly phenolic. Less common variations include both lower-alcohol and higher-alcohol products, as well as darker versions with additional malt character.","Quite aromatic, with fruity, spicy, and hoppy characteristics evident. The esters can be fairly high (moderate to high), and are often reminiscent of citrus fruits such as oranges or lemons. The hops are low to moderate and are often spicy, floral, earthy, or fruity. Stronger versions can have a soft, spicy alcohol note (low intensity). Spicy notes are typically peppery rather than clove-like, and can be up to moderately-strong (typically yeast-derived). Subtle, complementary herb or spice additions are allowable, but should not dominate. The malt character is typically slightly grainy in character and low in intensity. Darker and stronger versions will have more noticeable malt, with darker versions taking characteristics associated with grains of that color (toasty, biscuity, caramelly, chocolate, etc.). In versions where sourness is present instead of bitterness, some of the sour character can be detected (low to moderate).","Pale versions are often a distinctive pale orange but may be pale golden to amber in color (gold to amber-gold is most common). Darker versions may run from copper to dark brown. Long-lasting, dense, rocky white to ivory head resulting in characteristic Belgian lace on the glass as it fades. Clarity is poor to good, though haze is not unexpected in this type of unfiltered beer. Effervescent.","Medium-low to medium-high fruity and spicy flavors, supported by a low to medium soft malt character, often with some grainy flavors. Bitterness is typically moderate to high, although sourness can be present in place of bitterness (both should not be strong flavors at the same time). Attenuation is extremely high, which gives a characteristic dry finish essential to the style; a Saison should never finish sweet. The fruity character is frequently citrusy (orange or lemon), and the spices are typically peppery. Allow for a range of balance in the fruity-spicy characteristics; this is often driven by the yeast selection. Hop flavor is low to moderate, and generally spicy or earthy in character. The balance is towards the fruity, spicy, hoppy character, with any bitterness or sourness not overwhelming these flavors. Darker versions will have more malt character, with a range of flavors derived from darker malts (toasty, bready, biscuity, chocolate, etc.) that support the fruity-spicy character of the beer (roasted flavors are not typical). Stronger versions will have more malt flavor in general, as well as a light alcohol impression. Herbs and spices are completely optional, but if present should be used in moderation and not detract from the yeast character. The finish is very dry and the aftertaste is typically bitter and spicy. The hop bitterness can be restrained, although it can seem accentuated due to the high attenuation levels.","Light to medium body. Alcohol sensation varies with strength, from none in table version to light in standard versions, to moderate in super versions. However, any warming character should be fairly low. Very high carbonation with an effervescent quality. There is enough prickly acidity on the tongue to balance the very dry finish. In versions with sourness, a low to moderate tart character can add a refreshing bite, but not be puckering (optional). ","Variations exist in strength and color, but they all have similar characteristics and balance, in particularly the refreshing, highly-attenuated, dry character with high carbonation. There is no correlation between strength and color. The balance can change somewhat with strength and color variations, but the family resemblance to the original artisanal ale should be evident. Pale versions are likely to be more bitter and have more hop character, while darker versions tend to have more malt character and sweetness, yielding a more balanced presentations. Stronger versions often will have more malt flavor, richness, and body simply due to their higher gravity. Although they tend to be very well-attenuated, they may not be perceived to be as dry as standard-strength saisons due to their strength. The Saison yeast character is a must, although maltier and richer versions will tend to mask this character more. Often called Farmhouse ales in the US, but this term is not common in Europe where they are simply part of a larger grouping of artisanal ales. ","A provision ale originally brewed in Wallonia, the French-speaking part of Belgium, for consumption during the active farming season. Originally a lower-alcohol product so as to not debilitate field workers, but tavern-strength products also existed. Higher-strength and different-colored products appeared after WWII. The best known modern saison, Saison Dupont, was first produced in the 1920s. Originally a rustic, artisanal ale made with local farm-produced ingredients, it is now brewed mostly in larger breweries yet retains the image of its humble origins.","Not typically spiced, with the yeast, hops and grain providing the character; but spices are allowed if they provide a complementary character. Continental base malts are typical, but the grist frequently contains other grains such as wheat, oats, rye, or spelt. Adjuncts such as sugar and honey can also serve to add complexity and dry out the beer. Darker versions will typically use richer, darker malts, but not typically roasted types. Saazer-type, Styrian or East Kent Golding hops are commonly used. A wide range of herbs or spices can add complexity and uniqueness, but should always meld well with the yeast and hop character. Brettanomyces is not typical for this style; Saisons with Brett should be entered in the American Wild Ale category.","At standard strengths and pale color (the most common variety), like a more highly-attenuated, hoppy, and bitter Belgian blond ale with a stronger yeast character. At super strength and pale color, similar to a Belgian tripel, but often with more of a grainy, rustic quality and sometimes with a spicier yeast character.","Ellezelloise Saison, Fantôme Saison, Lefebvre Saison 1900, Saison Dupont Vieille Provision, Saison de Pipaix, Saison Regal, Saison Voisin,  Boulevard Tank 7 Farmhouse Ale",null,"Le plus souvent, une bière belge de type Ale rafraîchissante, hautement atténuée, modérément amère, moyennement forte et avec une finition très sèche. Généralement très gazéifiée avec l'utilisation optionnelle de céréales autre que l'orge et d'épices pour la complexité, en complément du caractère expressif de la levure qui est fruitée, épicée et pas excessivement phénolique. Des variantes moins fréquentes sont produites incluant des taux inférieurs ou supérieurs d'alcool aussi bien que des versions plus sombres aux caractéristiques de malt supplémentaires. ","Relativement aromatique avec des caractéristiques fruitées, épicées et de houblon évidentes. Les esters peuvent être assez élevés (modérés à élevés) et rappellent souvent les agrumes, les oranges ou le citron. Le houblon est faible à modéré au nez et souvent épicé, floral, terreux ou fruité. Les versions plus fortes peuvent avoir une note d'alcool douce et épicée (en faible intensité). Les notes épicées sont généralement poivrées plutôt que clou de girofle et peuvent aller jusqu'à modérément fortes (typiquement dérivées de la levure). De subtils ajouts d'herbes ou d'épices complémentaires sont permis mais ne doivent pas dominer. Le caractère de malt est généralement sur un caractère de céréales en faible intensité. Les versions plus foncées et plus fortes auront un arôme malté plus perceptible, avec des variantes brunes prenant les caractéristiques associées aux grains de cette couleur (toasté, biscuit, caramel, chocolat, etc.). Dans les versions où l'acidité est présente à la place de l'amertume, certains caractères aigres peuvent être détectés (faible à modéré). ","\nLes versions blondes sont souvent d'un orange clair distinctif mais peuvent aussi être de couleur dorée claire à ambrée (ambre doré est la couleur la plus commune). Les versions plus foncées peuvent aller du cuivré au brun foncé. Tête persistante, dense, chancelante, blanche à ivoire donnant une belle dentelle belge caractéristique sur le verre en s'effaçant. La limpidité est mauvaise à bonne, même si un trouble n'est pas inattendu dans ce type de bière non filtrée. Effervescente.  ","Saveurs fruitées moyennement faibles à moyennement élevées et saveurs épicées, soutenues par un caractère délicat de malt faible à moyen, avec souvent quelques saveurs de céréales. L'amertume est généralement modérée à élevée, bien que l'acidité puisse être présente à la place de l'amertume (Les deux ne devant pas être des saveurs fortes en même temps). L'atténuation est extrêmement élevée, ce qui donne une finition sèche essentielle et caractéristique du style; une Saison ne doit jamais avoir de notes finales douces. Le caractère fruité est souvent sur les agrumes (orange ou citron) et les épices sont généralement poivrées. L'éventail d'équilibres permis dans les caractéristiques fruitées épicées est souvent conditionné par la sélection des souches de levures. Saveur de houblon faible à modérée et généralement de caractère épicé ou terreux. L'équilibre est vers l'épicé, le fruité, le houblonné, avec aucune amertume ni aigreur qui viendrait surpasser ces saveurs. Les versions plus foncées auront un caractère plus malté avec une gamme de saveurs provenant de malts foncés (toasté, brioché, biscuit, chocolat, etc.) qui viennent en support du caractère fruité-épicé de la bière (les saveurs grillées ne sont pas typiques). Les versions plus fortes auront en général plus de flaveurs de malt ainsi qu'une impression d'alcool légère. Les herbes et les épices sont complètement facultatives, mais si elles sont présente, elles doivent être utilisées avec modération et ne pas porter atteinte au caractère de la levure. La finition est très sèche et l'arrière-goût est typiquement amer et piquant. L'amertume du houblon peut être retenue, même si elle peut sembler accentuée en raison des taux d'atténuation élevés. ","Corps léger à moyen. La sensation d'alcool varie en fonction de la force, de nulle dans la version de table, à légère dans les versions standard, à modérée dans les versions supérieure. Cependant, tout caractère de réchauffement doit rester assez faible. Très haute carbonatation avec une belle effervescente. Il y a suffisamment d'acidité piquante sur la langue pour équilibrer la finition très sèche. Dans les versions avec de l'aigreur, un caractère acidulé de bas à modéré peut ajouter un coté rafraîchissant, mais il ne doit pas être crispant (en option). ","Il existe des variantes tant en force qu'en couleur mais elles ont toutes des caractéristiques et un équilibre similaire, en particulier, rafraîchissante, très atténuée, sèche, avec une carbonatation importante. Il n'y a pas de corrélation entre la force et la couleur. L'équilibre peut changer quelque peu avec la force et les variations de couleur, mais la ressemblance à la famille des bières artisanales originales doit être évidente. Les versions blondes sont susceptibles d'être plus amères et ont un caractère plus houblonné tandis que les versions plus brunes ont tendance à avoir plus le caractère du malt et de douceur, ce qui donne un résultat plus équilibré. Les versions plus fortes auront souvent plus de saveur de malt, de richesse et de corps en raison tout simplement de leur densité plus élevée. Bien qu'elles aient tendance à être très bien atténuées, elles ne peuvent pas être perçues comme aussi sèche que des saisons de force standard en raison de leur force. Le caractère Saison de la levure est un must bien que les versions maltées et plus riches aient tendance à plus masquer ce caractère. Souvent appelées Farmhouse Ales (Bières de Fermes) aux États-Unis, ce terme est peu commun en Europe où elles font simplement partie d'un plus grand groupe des bières artisanales. ","Une bière de réserve brassée à l'origine en Wallonie, la partie française de la Belgique, pour la consommation pendant la saison des travaux agricoles. À l'origine un produit moins alcoolisé afin de ne pas affaiblir les travailleurs sur le terrain, mais des produits de taverne plus forts ont aussi existé. Des produits plus forts et de différentes couleurs sont apparus après la Seconde Guerre mondiale. La Saison moderne la plus connue est la Saison Dupont qui a été produite pour la première fois dans les années 1920. A l'origine, une bière artisanale rustique faite avec des ingrédients locaux produits à la ferme, elle est désormais brassée essentiellement dans les grandes brasseries mais conserve encore l'image de ses origines modestes. ","Généralement pas d'ajout d'épices, c'est la levure, le houblon et les céréales qui apportent ce caractère; mais les épices sont autorisées si elles offrent un caractère complémentaire. Malts de base continentaux sont typiques, mais la mouture contient souvent d'autres céréales comme le blé, l'avoine, le seigle, l'épeautre. Des ajouts tels que le sucre et le miel peuvent aussi servir à apporter de la complexité et à assécher la bière. Les versions plus foncées utilisent généralement des malts plus riches et plus sombre mais généralement pas grillés. Houblons de type Saaz, Styrian ou East Kent Golding couramment utilisés. Une large gamme d'herbes ou d'épices peuvent ajouter de la complexité et une originalité mais doivent toujours bien se fondre avec le caractère de la levure et du houblon. Les Brettanomyces ne sont pas typiques pour ce style; Les Saisons avec des Bretts doivent être inscrites dans la catégorie American Wild Ale. ","Les versions à la force standard et de couleur blonde (la variante la plus commune), ressemble à une Belge Blonde plus hautement atténuée, houblonnée et amère avec un caractère plus fort de levure. A une force supérieure et de couleur blonde, semblable à un Triple Belge, mais souvent avec un coté céréale, rustique et parfois un caractère plus épicé de levure. ","Ellezelloise Saison, Fantôme Saison, Lefebvre Saison 1900, Saison Dupont Vieille Provision, Saison de Pipaix, Saison Regal, Saison Voisin,  Boulevard Tank 7 Farmhouse Ale "]
["25C - Belgian Golden Strong Ale",1.07,1.095,1.0049999999999999,1.016,5.91,11.82,22,35,7.5,10.5,3,6,1070,1095,1005,1016,"25C","Belgian Golden Strong Ale",1.9,2.4,{"$f":"VLOOKUP(A88,Feuil2!$A$1:$H$74,2,FALSE)","v":"50-100"},{"$f":"VLOOKUP(A88,Feuil2!$A$1:$H$74,3,FALSE)","v":"0-30"},{"$f":"VLOOKUP(A88,Feuil2!$A$1:$H$74,4,FALSE)","v":"0-40"},{"$f":"VLOOKUP(A88,Feuil2!$A$1:$H$74,5,FALSE)","v":"50-100"},{"$f":"VLOOKUP(A88,Feuil2!$A$1:$H$74,6,FALSE)","v":"50-100"},{"$f":"VLOOKUP(A88,Feuil2!$A$1:$H$74,7,FALSE)","v":"<100"},{"$f":"VLOOKUP(A88,Feuil2!$A$1:$H$74,8,FALSE)","v":"-30-30"},"25-Strong Belgian Ale","Strong Ale","Belgian Strong Ale","Belgium",1005,"25C - Belgian Golden Strong Ale",1016,"A pale, complex, effervescent, strong Belgian-style ale that is highly attenuated and features fruity and hoppy notes in preference to phenolics.","Complex with significant fruity esters, moderate spiciness and low to moderate alcohol and hop aromas. Esters are reminiscent of lighter fruits such as pears, oranges or apples. Moderate to moderately low spicy, peppery phenols. A low to moderate yet distinctive perfumy, floral hop character is often present. Alcohols are soft, spicy, perfumy and low-to-moderate in intensity. No hot alcohol or solventy aromas. The malt character is light and slightly grainy-sweet to nearly neutral.","Yellow to medium gold in color. Good clarity. Effervescent. Massive, long-lasting, rocky, often beady, white head resulting in characteristic Belgian lace on the glass as it fades.","Marriage of fruity, spicy and alcohol flavors supported by a soft malt character. Esters are reminiscent of pears, oranges or apples. Low to moderately low phenols are peppery in character. A low to moderate spicy hop character is often present. Alcohols are soft and spicy, and are low-to-moderate in intensity. Bitterness is typically medium to high from a combination of hop bitterness and yeast-produced phenolics. Substantial carbonation and bitterness leads to a dry finish with a low to moderately bitter aftertaste. ","Very highly carbonated; effervescent. Light to medium body, although lighter than the substantial gravity would suggest. Smooth but noticeable alcohol warmth. No hot alcohol or solventy character. ","References to the devil are included in the names of many commercial examples of this style, referring to their potent alcoholic strength and as a tribute to the original example (Duvel). The best examples are complex and delicate. High carbonation helps to bring out the many flavors and to increase the perception of a dry finish. Traditionally bottle-conditioned (or refermented in the bottle).","Originally developed by the Moortgat brewery after WWI as a response to the growing popularity of Pilsner beers.","Pilsner malt with substantial sugary adjuncts. Saazer-type hops or Styrian Goldings are commonly used. Belgian yeast strains are used – those that produce fruity esters, spicy phenolics and higher alcohols – often aided by slightly warmer fermentation temperatures. Fairly soft water. Spicing is not traditional; if present, should be a background character only.","Strongly resembles a Tripel, but may be even paler, lighter-bodied and even crisper and drier; the drier finish and lighter body also serves to make the assertive hopping and yeast character more prominent. Tends to use yeast that favor ester development (particularly pome fruit) over spiciness in the balance.","Brigand, Delirium Tremens, Dulle Teve, Duvel, Judas, Lucifer, Piraat, Russian River Damnation",null,"Une bière blonde de type ale, complexe, effervescente, forte de style Belge qui est très fortement atténuée et dispose de notes fruitées et houblonnée, plutôt que des composés phénoliques. ","Arôme complexe avec un taux d'esters fruités significatifs, modérément épicé ainsi que des notes d'alcool et de houblons faibles à modérés. Les esters ont des réminiscences de fruits légers tels que les poires, les oranges ou les pommes. Phénols poivrées et épicées modérés à modérément faibles. Un parfum faible à modérée mais distinctif de houblon floral est souvent présent. Les alcools sont doux, épicés, parfumés et faibles à modérés en intensité. Aucun alcool brulant ou aux arômes de solvant. Le caractère de malt est léger à presque neutre et légèrement de céréale sucrée. ","Couleur jaune à moyennement dorée. Bonne limpidité. Effervescente. Tête de mousse blanche, importante avec une bonne tenue, du relief et souvent pétillante avec une dentelle belge caractéristique déposée sur le verre. ","Mariage de saveurs épicées, fruitées et d’alcool rehaussé par un caractère de malt doux. Les esters ne sont pas sans rappeler les poires, les oranges ou les pommes. Phénols poivrés faibles à modérément faible. Houblon au caractère épicé faible à modéré souvent présent. Les alcools sont doux et épicés et sont d'intensité faible à modérée. L'amertume est généralement moyenne à élevée et provient d'une combinaison de l'amertume du houblon et des composés phénoliques produits par la levure. La carbonatation substantielle et l'amertume conduisent à une finale sèche avec un arrière-goût amer faible à modéré. ","Très fortement carbonatée; effervescente. Corps léger à moyen, bien plus léger que la densité substantielle le suggère. Chaleur d'alcool douce mais perceptible. Pas d'alcool brumant ou de caractère de solvant. ","Des références au diable ou aux démons sont courantes dans les noms de nombreux exemples commerciaux de ce style, faisant référence à leur titre alcoométrique puissant et en hommage à l'exemple d'origine (Duvel). Les meilleurs exemples sont complexes et délicats. Une carbonatation importante aide à faire ressortir les nombreuses saveurs et à accroître la perception d'une finale sèche. Traditionnellement conditionné en bouteille (ou refermentée en bouteille). ","Développée à l'origine par la brasserie Moortgat après la Première Guerre mondiale comme une réponse à la popularité croissante des bières de type Pils. ","Malt Pilsner avec une proportion substantielle d'ajouts sucrés. Les houblons de type Saaz ou Styrian Goldings sont couramment utilisés. Des souches de levures belges sont utilisées - celles qui produisent des esters fruités, des phénols épicés et des alcools supérieurs - souvent favorisé par des températures de fermentation légèrement plus chaudes. Eau assez douce. Les épices ne sont pas traditionnelles; si elles sont présentes, elles doivent être en toile de fond seulement. ","Ressemble fortement à une Belge Triple, mais peut-être encore plus blonde, avec moins de corps et encore plus pétillante et sèche; la finition plus sèche et le corps plus léger ajoute également au houblon et la levure un caractère encore plus proéminent. Tend à avoir un équilibre qui utilise plus la levure qui favorise le développement d'ester (de fruits à pépins en particulier) que le coté épicé. ","Brigand, Delirium Tremens, Dulle Teve, Duvel, Judas, Lucifer, Piraat, Russian River Damnation "]
["26A - Trappist Single",1.044,1.054,1.004,1.01,5.91,9.85,25,45,4.8,6,3,5,1044,1054,1004,1010,"26A","Trappist Single",1.9,2.4,{"$f":"VLOOKUP(A89,Feuil2!$A$1:$H$74,2,FALSE)","v":{"$error":"#N/A"}},{"$f":"VLOOKUP(A89,Feuil2!$A$1:$H$74,3,FALSE)","v":{"$error":"#N/A"}},{"$f":"VLOOKUP(A89,Feuil2!$A$1:$H$74,4,FALSE)","v":{"$error":"#N/A"}},{"$f":"VLOOKUP(A89,Feuil2!$A$1:$H$74,5,FALSE)","v":{"$error":"#N/A"}},{"$f":"VLOOKUP(A89,Feuil2!$A$1:$H$74,6,FALSE)","v":{"$error":"#N/A"}},{"$f":"VLOOKUP(A89,Feuil2!$A$1:$H$74,7,FALSE)","v":{"$error":"#N/A"}},{"$f":"VLOOKUP(A89,Feuil2!$A$1:$H$74,8,FALSE)","v":{"$error":"#N/A"}},"26-Trappist Ale","Pale Ale","Belgian Ale","Belgium",1004,"26A - Trappist Single",1010,"A pale, bitter, highly attenuated and well carbonated Trappist ale, showing a fruity-spicy Trappist yeast character, a spicy-floral hop profile, and a soft, supportive grainy-sweet malt palate. ","Medium-low to medium-high Trappist yeast character, showing a fruity-spicy character along with medium-low to medium spicy or floral hops, occasionally enhanced by light herbal/citrusy spice additions. Low to medium-low grainy-sweet malt backdrop, which may have a light honey or sugar quality. Fruit expression can vary widely (citrus, pome fruit, stone fruit). Light spicy, yeast-driven phenolics found in the best examples. Bubblegum inappropriate.","Pale yellow to medium gold color. Generally good clarity, with a moderate-sized, persistent, billowy white head with characteristic lacing.","Fruity, hoppy, bitter, and dry. Initial malty-sweet impression, with a grainy-sweet soft malt palate, and a dry, hoppy finish. The malt may have a light honeyed biscuit or cracker impression. Moderate spicy or floral hop flavor. Esters can be citrus (orange, lemon, grapefruit), pome fruit (apple, pear), or stone fruit (apricot, peach). Light to moderate spicy, peppery, or clove phenolics. Bitterness rises towards the crisp, dry finish, with an aftertaste of light malt, moderate hops and yeast character.","Medium-light to medium body. Smooth. Medium-high to high carbonation, can be somewhat prickly. Should not have noticeable alcohol warmth.","Often not labeled or available outside the monastery, or infrequently brewed. Might also be called monk’s beer or Brother’s beer. Highly attenuated, generally 85% or higher.","While Trappist breweries have a tradition of brewing a lower-strength beer as a monk’s daily ration, the bitter, pale beer this style describes is a relatively modern invention reflecting current tastes. Westvleteren first brewed theirs in 1999, but replaced older lower-gravity products.","Pilsner malt, Belgian Trappist yeast, Saazer-type hops.","Like a top-fermented Belgian/Trappist interpretation of a German Pils – pale, hoppy, and well-attenuated, but showing prototypical Belgian yeast character. Has less sweetness, higher attenuation, less character malt, and is more hop-centered than a Belgian Pale Ale. More like a much smaller, more highly hopped tripel than a smaller Belgian Blond Ale.","Achel 5° Blond, St. Bernardus Extra 4, Westmalle Extra, Westvleteren Blond",null,"Une bière Trappiste blonde, amère, hautement atténuée et bien carbonatée, arborant un caractère de levure Trappiste fruité-épicé, un profil houblonné épicé-floral, rehaussé par une saveur maltée douce sucrée sous le palais. ","Un caractère de levure Trappiste fruitée-épicée allant de modérément bas à modérément élevé, agrémenté d'arômes épicés ou floraux de houblons allant de modérément bas à modéré, occasionnellement complété par de légers ajouts relevés herbeux/citronnés. Un fond de malt sucré, bas à modérément bas, pouvant avoir des touches légères de miel ou de sucre. Le ressenti fruité peut varier largement (agrumes, fruits à pépins, fruits à noyaux). Légèrement épicé, des phénols apportés par la levure ont été trouvé dans les meilleurs exemples. Arôme de gomme à mâcher inapproprié. ","Couleur allant de jaune pâle à moyennement dorée. Généralement d’une bonne limpidité, surmontée d’une mousse caractéristique modérée blanche, persistante et ondulée. ","Fruitée, houblonnée, amère et sèche. Première impression maltée-sucrée, accompagnée en bouche d’une douce saveur sucrée de céréales et d’une finale sèche et houblonnée. Le malt peut donner une impression de biscuit au miel ou salé. Saveur de houblon épicée ou floral équilibrée. Les esters peuvent être d’agrumes (orange, citron, pamplemousse), de fruits à pépins (pomme, poire) ou de fruits à noyaux (abricot, pèche). Phénols légèrement à modérément relevé, épicé ou sur le clou de girofle. Amertume rafraichissante, finale sèche avec un arrière-goût de malt léger, levure et modérément houblonnée. ","De moyen à moyen léger. Onctueux. Carbonatation de modérément haute à haute pouvant être un peu piquante. La chaleur de l'alcool ne doit pas être perceptible. ","Elles sont souvent non étiquetées, disponibles à l'extérieur du monastère ou brassées occasionnellement. Peuvent être appelée Patersbier « bière des Moines » ou «bière des Frères ». Haute atténuation, généralement 85% ou plus. ","Bien que les brasseries Trappistes aient pour tradition de brasser une bière de tous les jours moins forte pour les moines, la bière blonde et amère que nous décrivons ici est une invention relativement moderne reflétant les goûts actuels. Westvleteren a brassé sa première bière de ce style en 1999 et a remplacé ses anciens produits à la densité plus faible. ","Malt Pilsner, levure belge Trappiste, houblon de type Saaz. ","Une interprétation en fermentation haute version Belge/Trappiste des Pils allemande – claire, houblonnée et bien atténuée, mais arborant l’archétype de la souche de levure belge. Moins douce, plus atténuée, avec un caractère moins malté et plus houblonné qu’une Pale Ale Belge. Ressemble davantage à une Belge Triple plus légère et plus houblonné qu’à une Blonde Belge qui serait moins alcoolisée. ","Achel 5° Blonde, St. Bernardus Extra 4, Westmalle Extra, Westvleteren Blonde "]
["26B - Belgian Dubbel",1.0620000000000001,1.075,1.008,1.018,19.7,33.49,15,25,6,7.6,10,17,1062,1075,1008,1018,"26B","Belgian Dubbel",1.9,2.4,{"$f":"VLOOKUP(A90,Feuil2!$A$1:$H$74,2,FALSE)","v":"50-100"},{"$f":"VLOOKUP(A90,Feuil2!$A$1:$H$74,3,FALSE)","v":"0-30"},{"$f":"VLOOKUP(A90,Feuil2!$A$1:$H$74,4,FALSE)","v":"40-120"},{"$f":"VLOOKUP(A90,Feuil2!$A$1:$H$74,5,FALSE)","v":"50-100"},{"$f":"VLOOKUP(A90,Feuil2!$A$1:$H$74,6,FALSE)","v":"50-150"},{"$f":"VLOOKUP(A90,Feuil2!$A$1:$H$74,7,FALSE)","v":"<100"},{"$f":"VLOOKUP(A90,Feuil2!$A$1:$H$74,8,FALSE)","v":"0-60"},"26-Trappist Ale","Amber Ale","Belgian Ale","Belgium",1008,"26B - Belgian Dubbel",1018,"A deep reddish-copper, moderately strong, malty, complex Trappist ale with rich malty flavors, dark or dried fruit esters, and light alcohol blended together in a malty presentation that still finishes fairly dry.","Complex, rich-sweet malty aroma, possibly with hints of chocolate, caramel and/or toast (but never roasted or burnt aromas). Moderate fruity esters (usually including raisins and plums, sometimes also dried cherries). Esters sometimes include banana or apple. Spicy phenols and higher alcohols are common (may include light clove and spice, peppery, rose-like and/or perfumy notes). Spicy qualities can be moderate to very low. Alcohol, if present, is soft and never hot or solventy. Low to no spicy, herbal, or floral hop aroma, typically absent. The malt is most prominent in the balance with esters and a touch of alcohol in support, blending together for a harmonious presentation. ","Dark amber to copper in color, with an attractive reddish depth of color. Generally clear. Large, dense, and long-lasting creamy off-white head.","Similar qualities as aroma. Rich, complex medium to medium-full rich-sweet malt flavor on the palate yet finishes moderately dry. Complex malt, ester, alcohol and phenol interplay (raisiny flavors are common; dried fruit flavors are welcome; clove or pepper spiciness is optional). Balance is always toward the malt. Medium-low bitterness that doesn’t persist into the aftertaste. Low spicy, floral, or herbal hop flavor is optional and not usually present. ","Medium-full body. Medium-high carbonation, which can influence the perception of body. Low alcohol warmth. Smooth, never hot or solventy.","Most commercial examples are in the 6.5 – 7% ABV range. Traditionally bottle-conditioned (or refermented in the bottle).","Originated at monasteries in the Middle Ages, and was revived in the mid-1800s after the Napoleonic era.","Belgian yeast strains prone to production of higher alcohols, esters, and phenolics are commonly used. Impression of complex grain bill, although traditional versions are typically Belgian Pils malt with caramelized sugar syrup or other unrefined sugars providing much of the character. Saazer-type, English-type or Styrian Goldings hops commonly used. No spices are traditionally used, although restrained use is allowable (background strength only).","Should not be as malty as a bock and should not have crystal malt-type sweetness. Similar in strength and balance as a Belgian Blond, but with a richer malt and ester profile. Less strong and intense as a Belgian Dark Strong Ale.","Affligem Dubbel, Chimay Première, Corsendonk Pater, Grimbergen Double, La Trappe Dubbel, St. Bernardus Pater 6, Trappistes Rochefort 6, Westmalle Dubbel",null,"Une bière trappiste d'un rouge-cuivré profond, modérément forte, aux saveurs complexes d'arômes maltés riches, d’esters de fruits noirs ou séchés et d’une touche légère d’alcool parfaitement assemblés dans une présentation malté à la note finale relativement sèche. ","Complexe : arôme de malt richement sucré, potentiellement avec une touche de chocolat, de caramel et/ou toasté (mais jamais de goût de grillé ou de brulé). Esters fruités modérés (dont généralement du raisin, de la prune et parfois des cerises séchées, de la banane ou de la pomme). Des phénols épicés et une forte odeur d’alcool sont communs (pouvant inclure des notes légères de clou de girofle, épices, poivre, rose et/ou parfumées). Les arômes épicés peuvent être modérés à très bas. L’alcool, si il est présent, est doux et n’est jamais brulant ou au gout de solvant. Peu ou pas d’arômes de houblon épicé, herbeux ou floral, généralement absent. Le malt est proéminent dans l'équilibre avec les esters et la touche d’alcool renforce l'harmonie de cette présentation. ","D'ambrée foncée à cuivrée accompagnée d’une séduisante profondeur rougeâtre. Généralement limpide. Col de mousse généreux, blanc, crémeux et dense. ","Les particularités sont similaires aux arômes. Saveur de malts sucrés de modérée à modérément élevée sous le palais, riche et complexe avec une finale modérément sèche. Harmonies complexes entre malt, ester, alcool et phénol (saveur de raisin commune, les fruits secs sont appréciés, le clou de girofle ou le poivre sont optionnels). L'équilibre penche toujours vers le malt. Amertume modérément basse non persistante en bouche. Une saveur de houblon légèrement poivrée, florale ou herbeuse est optionnelle et rarement présente. ","Corps moyennement robuste. Carbonatation modérément forte, ce qui peut influencer la perception du corps. Chaleur alcoolique faible. Douce jamais piquante ou « solvantée ». ","La pluparts des exemples commerciaux se situent dans une échelle allant 6.5-7% alc. Traditionnellement conditionnée en bouteille (ou refermentée en bouteille). ","Elles trouvent leurs origines dans les monastères durant le Moyen-Age, et ont connu un regain de popularité au milieu des années 1800, après l’ère Napoléonienne. ","Les souches de levures belges sont enclines à la production de bières fortement alcoolisées, les esters et les phénols sont fréquemment utilisés. Une palette de grain complexe est utilisée bien que les versions traditionnelles soient souvent créées avec du malt Pils belge accompagné de sirop de sucre caramélisé ou autre sucre non raffiné donnant ce caractère à la bière. Les houblons de type Saaz, anglais ou Styrian Goldings sont fréquemment utilisés. Les épices ne sont traditionnellement pas utilisées bien qu’un usage restreint soit possible (pour la puissance uniquement). ","Ne devrait pas être aussi maltée qu’une Bock et ne devrait pas avoir la douceur d’un malt comme le Crystal. Similaire en puissance et en équilibre à une Blonde Belge, mais avec un profil riche en malts et en esters. Moins forte et intense qu’une Brune Forte Belge. ","Affligem Double, Chimay Première, Corsendonk Pater, Grimbergen Double, La Trappe Double, St. Bernardus Pater 6, Trappistes Rochefort 6, Westmalle Double "]
["26C - Belgian Tripel",1.075,1.085,1.008,1.014,8.8650000000000002,13.79,20,40,7.5,9.5,4.5,7,1075,1085,1008,1014,"26C","Belgian Tripel",1.9,2.4,{"$f":"VLOOKUP(A91,Feuil2!$A$1:$H$74,2,FALSE)","v":"50-100"},{"$f":"VLOOKUP(A91,Feuil2!$A$1:$H$74,3,FALSE)","v":"0-30"},{"$f":"VLOOKUP(A91,Feuil2!$A$1:$H$74,4,FALSE)","v":"0-40"},{"$f":"VLOOKUP(A91,Feuil2!$A$1:$H$74,5,FALSE)","v":"50-100"},{"$f":"VLOOKUP(A91,Feuil2!$A$1:$H$74,6,FALSE)","v":"50-100"},{"$f":"VLOOKUP(A91,Feuil2!$A$1:$H$74,7,FALSE)","v":"<100"},{"$f":"VLOOKUP(A91,Feuil2!$A$1:$H$74,8,FALSE)","v":"-30-30"},"26-Trappist Ale","Strong Ale","Belgian Strong Ale","Belgium",1008,"26C - Belgian Tripel",1014,"A pale, somewhat spicy, dry, strong Trappist ale with a pleasant rounded malt flavor and firm bitterness. Quite aromatic, with spicy, fruity, and light alcohol notes combining with the supportive clean malt character to produce a surprisingly drinkable beverage considering the high alcohol level.","Complex bouquet with moderate to significant spiciness, moderate fruity esters and low alcohol and hop aromas. Generous spicy, peppery, sometimes clove-like phenols. Esters are often reminiscent of citrus fruits such as oranges, but may sometimes have a slight banana character. A low yet distinctive spicy, floral, sometimes perfumy hop character is usually found. Alcohols are soft, spicy and low in intensity. The malt character is light, with a soft, slightly grainy-sweet or slightly honey-like impression. The best examples have a seamless, harmonious interplay between the yeast character, hops, malt, and alcohol.","Deep yellow to deep gold in color. Good clarity. Effervescent. Long-lasting, creamy, rocky, white head resulting in characteristic Belgian lace on the glass as it fades.","Marriage of spicy, fruity and alcohol flavors supported by a soft, rounded grainy-sweet malt impression, occasionally with a very light honey note. Low to moderate phenols are peppery in character. Esters are reminiscent of citrus fruit such as orange or sometimes lemon, and are low to moderate. A low to moderate spicy hop character is usually found. Alcohols are soft, spicy, and low in intensity. Bitterness is typically medium to high from a combination of hop bitterness and yeast-produced phenolics. Substantial carbonation and bitterness lends a dry finish with a moderately bitter aftertaste with substantial spicy-fruity yeast character. The grainy-sweet malt flavor does not imply any residual sweetness.","Medium-light to medium body, although lighter than the substantial gravity would suggest. Highly carbonated. The alcohol content is deceptive, and has little to no obvious warming sensation. Always effervescent.","High in alcohol but does not taste strongly of alcohol. The best examples are sneaky, not obvious. High carbonation and attenuation helps to bring out the many flavors and to increase the perception of a dry finish. Most Trappist versions have at least 30 IBUs and are very dry. Traditionally bottle-conditioned (or refermented in the bottle).","Originally popularized by the Trappist monastery at Westmalle.","Pilsner malt, typically with pale sugar adjuncts. Saazer-type hops or Styrian Goldings are commonly used. Belgian yeast strains are used – those that produce fruity esters, spicy phenolics and higher alcohols – often aided by slightly warmer fermentation temperatures. Spice additions are generally not traditional, and if used, should be a background character only. Fairly soft water.","May resemble a Belgian Golden Strong Ale but slightly darker and somewhat fuller-bodied, with more emphasis on phenolics and less on esters. Usually has a more rounded malt flavor but should never be sweet.","Affligem Tripel, Chimay Cinq Cents, La Rulles Tripel, La Trappe Tripel, St. Bernardus Tripel, Unibroue La Fin Du Monde, Val-Dieu Triple, Watou Tripel, Westmalle Tripel",null,"Une bière blonde Trappiste forte, quelque peu épicée, sèche avec une saveur ronde et plaisante de malt et une amertume franche. Plutôt aromatique, avec des notes d’alcool légères, d’épices et de fruits se combinant à un caractère malté net pour produire une boisson étonnamment agréable à boire au vu de son taux d’alcool élevé. ","Un bouquet complexe allant de modérément à hautement épicé, des esters modérément fruité, et de légers arômes d’alcool et de houblons. Généreusement épicé, poivré et parfois avec des phénols s’apparentant à des clous de girofle. Les esters rappellent souvent des agrumes tels que l’orange mais peuvent parfois avoir un léger caractère de banane. Un léger mais distinguable caractère épicé, floral et parfois parfumé de houblon est généralement ressenti. L’alcool est doux, épicé et faible en intensité. Le caractère malté est léger, avec des notes légèrement céréalières ou légèrement mielleuses. Les meilleurs exemples ont une balance sans accroche, harmonieuse entre la levure, le houblon, le malt et l’alcool. ","Couleur allant de profondément jaune à profondément dorée. Effervescente et d’une bonne limpidité. Une mousse blanche persistante, crémeuse et ondulée laissant son empreinte sur le verre. ","Un mélange de saveurs épicées, fruitées et d’alcool soutenu par une empreinte maltée ronde et sucrée occasionnellement accompagnée par une légère note de miel. Des phénols avec un caractère allant de légèrement à modérément épicé. Les esters rappellent les agrumes tels que l’orange ou parfois le citron et sont légers à modérés. Un caractère de houblon épicé léger à modéré est généralement ressenti. Les alcools sont doux, épicés et léger en intensité. L’amertume est typiquement moyenne à forte, résultante d’une combinaison entre l’amertume du houblon et les phénols produits par la levure. Une amertume et une carbonatation importante laissent place à une finale avec un arrière-gout modérément amer accompagné d’un important caractère de levure épicée-fruitée. La saveur douce du malt ne comporte pas d’amertume résiduelle. ","De moyen léger à moyen, même si plus léger que ce que la densité importante laisserait penser. Fortement carbonatée. La teneur en alcool est trompeuse et à une chaleur de peu à pas ressentie. Toujours effervescente. ","Forte en alcool mais ne se ressent pas trop au goût. Les meilleurs exemples sont durs à trouver. Les fortes carbonations et atténuations aident à faire ressortir les nombreuses saveurs et augmente la perception d’une finale sèche. La majeure partie des versions Trappistes ont au moins 30IBUs et sont très sèches. Traditionnellement conditionnée en bouteille (ou refermentée en bouteille). ","Popularisée à l’origine par le monastère Trappiste à Westmalle. ","Malt Pilsner avec des ajouts de sucre blanc caractéristiques. Des houblons de types Saaz ou Styrian Goldings sont généralement utilisés. Des souches de levure belge sont utilisées – celles produisant des esters fruités, des phénols épicés et des alcools supérieurs – souvent aidées par des températures de fermentation légèrement plus hautes. Les ajouts d’épices ne sont généralement pas traditionnels, et s’ils sont utilisés, cela ne devrait être que pour donner un certain caractère en arrière-plan. ","Peut ressembler à une bière Belge Blonde Forte mais légèrement plus sombre et quelque peu plus consistante, avec plus de phénols et moins d’esters. Ayant généralement une saveur maltée plus ronde mais ne devrait jamais être sucrée. ","Affligem Triple, Chimay Cinq Cents, La Rulles Triple, La Trappe Triple, St. Bernardus Triple, Unibroue La Fin Du Monde, Val-Dieu Triple, Watou Triple, Westmalle Triple. "]
["26D - Belgian Dark Strong Ale",1.075,1.1100000000000001,1.01,1.024,23.64,43.339999999999996,20,35,8,12,12,22,1075,1110,1010,1024,"26D","Belgian Dark Strong Ale",1.9,2.4,{"$f":"VLOOKUP(A92,Feuil2!$A$1:$H$74,2,FALSE)","v":"50-75"},{"$f":"VLOOKUP(A92,Feuil2!$A$1:$H$74,3,FALSE)","v":"0-30"},{"$f":"VLOOKUP(A92,Feuil2!$A$1:$H$74,4,FALSE)","v":"120-200"},{"$f":"VLOOKUP(A92,Feuil2!$A$1:$H$74,5,FALSE)","v":"50-150"},{"$f":"VLOOKUP(A92,Feuil2!$A$1:$H$74,6,FALSE)","v":"50-150"},{"$f":"VLOOKUP(A92,Feuil2!$A$1:$H$74,7,FALSE)","v":"<100"},{"$f":"VLOOKUP(A92,Feuil2!$A$1:$H$74,8,FALSE)","v":"120 - 200"},"26-Trappist Ale","Strong Ale","Belgian Strong Ale","Belgium",1010,"26D - Belgian Dark Strong Ale",1024,"A dark, complex, very strong Belgian ale with a delicious blend of malt richness, dark fruit flavors, and spicy elements. Complex, rich, smooth and dangerous.","Complex, with a rich-sweet malty presence, significant esters and alcohol, and an optional light to moderate spiciness. The malt is rich and strong, and can have a deep bready-toasty quality often with a deep caramel complexity. The fruity esters are strong to moderately low, and can contain raisin, plum, dried cherry, fig or prune notes. Spicy phenols may be present, but usually have a peppery quality not clove-like; light vanilla is possible. Alcohols are soft, spicy, perfumy and/or rose-like, and are low to moderate in intensity. Hops are not usually present (but a very low spicy, floral, or herbal hop aroma is acceptable). No dark/roast malt aroma. No hot alcohols or solventy aromas.","Deep amber to deep coppery-brown in color (dark in this context implies more deeply colored than golden). Huge, dense, moussy, persistent cream- to light tan-colored head. Can be clear to somewhat hazy.","Similar to aroma (same malt, ester, phenol, alcohol, and hop comments apply to flavor as well). Moderately malty-rich on the palate, which can have a sweet impression if bitterness is low. Usually moderately dry to dry finish, although may be up to moderately sweet. Medium-low to moderate bitterness; alcohol provides some of the balance to the malt. Generally malty-rich balance, but can be fairly even with bitterness. The complex and varied flavors should blend smoothly and harmoniously. The finish should not be heavy or syrupy.","High carbonation but not sharp. Smooth but noticeable alcohol warmth. Body can range from medium-light to medium-full and creamy. Most are medium-bodied.","Authentic Trappist versions tend to be drier (Belgians would say more digestible) than Abbey versions, which can be rather sweet and full-bodied. Traditionally bottle-conditioned (or refermented in the bottle). Sometimes known as a Trappist Quadruple, most are simply known by their strength or color designation.","Most versions are unique in character reflecting characteristics of individual breweries, produced in limited quantities and often highly sought-after.","Belgian yeast strains prone to production of higher alcohols, esters, and sometimes phenolics are commonly used. Impression of a complex grain bill, although many traditional versions are quite simple, with caramelized sugar syrup or unrefined sugars and yeast providing much of the complexity. Saazer-type, English-type or Styrian Goldings hops commonly used. Spices generally not used; if used, keep subtle and in the background. ","Like a larger dubbel, with a fuller body and increased malt richness. Not as bitter or hoppy as a tripel, but of similar strength.","Achel Extra Brune, Boulevard The Sixth Glass, Chimay Grande Réserve, Gouden Carolus Grand Cru of the Emperor, Rochefort 8 & 10, St. Bernardus Abt 12, Westvleteren 12",null,"Une bière belge très forte, brune, complexe avec un délicieux et riche mélange de malts, de saveurs de fruits noirs et d’épices. Complexe, riche, onctueuse et dangereuse. ","Complexe avec une présence maltée riche et sucrée, esters et alcool considérables, et optionnellement peu à modérément épicée. Le malt est riche et fort, et peut avoir un profond caractère de pain toasté souvent accompagné de caramel. Esters fruités sont forts à modérément bas et contiennent du raisin, de la prune, de la cerise séchée, de la figue ou des notes de pruneau. Des phénols épicés peuvent être présent mais généralement poivrés, pas de clous de girofle ; possibilité d’avoir un arôme légèrement vanillé. Les alcools sont doux, épicés et/ou ayant un parfum s’apparentant à la rose, et sont peu à modérément intenses. Les houblons ne sont généralement pas présents (mais un très léger arôme épicé, floral ou herbeux est acceptable). Pas d’arôme de de malt brun/grillé. Pas d’arômes d’alcools forts ou de solvant. ","Couleur allant d'ambrée profond à marron cuivré profond (sombre dans ce contexte implique plus profondément coloré que dorée). Une mousse grande, dense, persistante et crémeuse-se terminant par un sommet clair. Peut-être limpide à quelque peu trouble. ","Similaire à l’arôme (les commentaires sur les malts, esters, phénols, alcools et houblons s’appliquent à la saveur). Modérément riche en malt sous le palais, qui peut donner une sensation de sucré si l’amertume est basse. Une finale habituellement sèche à modérément sèche, qui peut aussi être modérément sucrée. Amertume modérément basse à modérée, l’alcool fait un peu pencher la balance vers le malt. Généralement un équilibre richement malté, mais peut être équitablement balancé avec l’amertume. Les saveurs complexes et variées devraient se mélanger harmonieusement. La finale ne devrait pas être lourde ou sirupeuse. ","Fortement carbonatée mais pas piquante. Chaleur alcoolique douce mais notable. Le corps est modérément léger à modérément fort et crémeux. La plupart sont moyennement corsées. ","Les versions Trappistes authentiques tendent à être plus sèches (les Belges diraient plus facile à digérer) que les versions d’abbaye, qui peuvent être plutôt sucrées et corsées. Traditionnellement conditionnée en bouteille (ou refermentée en bouteille). Parfois connues sous le nom de Trappiste quadruple, la plupart sont simplement connues à cause de leur force ou leur couleur. ","La plupart des versions sont uniques en caractère, reflétant les caractéristiques de chacune des brasseries, produites en quantités limitées et souvent très recherchées. ","Les souches de levure belges tendant à produire des alcools supérieurs, des phénols et des esters sont couramment utilisées. Une liste de malts ayant l’air complexe même si la plupart des versions traditionnelles sont assez simples, avec du sirop de sucre caramélisé ou du sucre non raffiné et de la levure apportant une bonne partie de la complexité. Des houblons de types Saaz, Anglais ou Styrian Goldings sont communément utilisés. Les ajouts d’épices ne sont généralement pas utilisés ; si il y en à, cela doit être subtile et en arrière-plan. ","Ressemble à une dubbel plus forte, avec plus de corps et une présence de malt accrue. Pas aussi amère ou houblonnée qu’une tripel mais d’une force similaire. ","Achel Extra Brune, Boulevard The Sixth Glass, Chimay Grande Réserve, Gouden Carolus Grand Cru of the Emperor, Rochefort 8 & 10, St. Bernardus Abt 12, Westvleteren 12. "]
["27A - Gose",1.036,1.056,1.006,1.01,5.91,7.88,5,12,4.2,4.8,3,4,1036,1056,1006,1010,"27A","Gose",2.5,4,{"$f":"VLOOKUP(A93,Feuil2!$A$1:$H$74,2,FALSE)","v":{"$error":"#N/A"}},{"$f":"VLOOKUP(A93,Feuil2!$A$1:$H$74,3,FALSE)","v":{"$error":"#N/A"}},{"$f":"VLOOKUP(A93,Feuil2!$A$1:$H$74,4,FALSE)","v":{"$error":"#N/A"}},{"$f":"VLOOKUP(A93,Feuil2!$A$1:$H$74,5,FALSE)","v":{"$error":"#N/A"}},{"$f":"VLOOKUP(A93,Feuil2!$A$1:$H$74,6,FALSE)","v":{"$error":"#N/A"}},{"$f":"VLOOKUP(A93,Feuil2!$A$1:$H$74,7,FALSE)","v":{"$error":"#N/A"}},{"$f":"VLOOKUP(A93,Feuil2!$A$1:$H$74,8,FALSE)","v":{"$error":"#N/A"}},"27-Historical Beer","Wheat Beer","German Sour Ale","Germany",1006,"27A - Gose",1010,"A highly-carbonated, tart and fruity wheat ale with a restrained coriander and salt character and low bitterness. Very refreshing, with bright flavors and high attenuation.","Light to moderately fruity aroma of pome fruit. Light sourness, slightly sharp. Noticeable coriander, which can have an aromatic lemony quality, and an intensity up to moderate. Light bready, doughy, yeasty character like uncooked sourdough bread. The acidity and coriander can give a bright, lively impression. The salt may be perceived as a very light, clean sea breeze character or just a general freshness, if noticeable at all.","Unfiltered, with a moderate to full haze. Moderate to tall sized white head with tight bubbles and good retention. Effervescent. Medium yellow color.","Moderate to restrained but noticeable sourness, like a squeeze of lemon in iced tea. Moderate bready/doughy malt flavor. Light to moderate fruity character of pome fruit, stone fruit, or lemons. Light to moderate salt character, up to the threshold of taste; the salt should be noticeable (particularly in the initial taste) but not taste overtly salty. Low bitterness, no hop flavor. Dry, fully-attenuated finish, with acidity not hops balancing the malt. Acidity can be more noticeable in the finish, and enhance the refreshing quality of the beer. The acidity should be balanced, not forward (although historical versions could be very sour).","High to very high carbonation, effervescent. Medium-light to medium-full body. Salt may give a slightly tingly, mouthwatering quality, if perceived at all. The yeast and wheat can give it a little body, but it shouldn’t have a heavy feel.","Served in traditional cylindrical glasses. Historical versions may have been more sour than modern examples due to spontaneous fermentation, and may be blended with syrups as is done with Berliner Weisse, or Kümmel, a liqueur flavored with caraway, cumin, and fennel. Modern examples are inoculated with lactobacillus, and are more balanced and generally don’t need sweetening. Pronounced GOH-zeh.","Minor style associated with Leipzig but originating in the Middle Ages in the town of Goslar on the Gose River. Documented to have been in Leipzig by 1740. Leipzig was said to have 80 Gose houses in 1900. Production declined significantly after WWII, and ceased entirely in 1966. Modern production was revived in the 1980s, but the beer is not widely available. ","Pilsner and wheat malt, restrained use of salt and coriander seed, lactobacillus. The coriander should have a fresh, citrusy (lemon or bitter orange), bright note, and not be vegetal, celery-like, or ham-like. The salt should have a sea salt or fresh salt character, not a metallic, iodine note.","Perceived acidity is not as intense as Berliner Weisse or Gueuze. Restrained use of salt, coriander, and lactobacillus – should not taste overtly salty. Coriander aroma can be similar to a witbier. Haziness similar to a Weissbier.","Anderson Valley Gose, Bayerisch Bahnhof Leipziger Gose, Döllnitzer Ritterguts Gose",null,"Une bière de blé fruité acidulé et très gazéifiée avec des notes contenues salées et de coriandre ainsi qu'une amertume faible. Très rafraîchissante avec des saveurs vives et une forte atténuation. ","Arôme fruité léger à modéré de fruits à pépins. Légère acidité, un peu piquante. Coriandre perceptible, qui peut avoir des notes aromatiques citronnées et une intensité allant jusqu'à modérée. Légèrement sur des arômes de pain, de pâte et de levure comme pain au levain non cuit. L'acidité et la coriandre peuvent laisser une impression vive et claire. Le sel peut être perçu comme une brise de mer très légère ou tout simplement une fraîcheur générale, du moins si perceptible. ","Non filtrée, avec un trouble moyen à important. Mousse modérée à haute, blanche avec de fines bulles et une bonne tenue. Effervescente. Couleur jaune moyenne. ","Acidité modérée à sobre mais perceptible comme un filet de citron dans le thé glacé. Saveur de malt type pain/pâte à pain modérée. Caractère fruité léger à modéré de fruits à pépins, fruits à noyau ou de citron. Goût salé léger à modéré jusqu'au seuil du perceptible; le sel doit être ressenti (en particulier dans le goût initial), mais pas comme un goût ouvertement salé. Une faible amertume mais aucune saveur du houblon. Note finale sèche, entièrement atténué, avec une acidité et un équilibre non houblonné du malt. L'acidité peut être plus perceptible dans la finition et améliorer la qualité rafraîchissante de la bière. L'acidité doit être bien équilibrée et non en avant (bien que les versions historiques pouvaient être très aigre). ","Carbonatation élevée à très élevée, effervescente. Corps moyen-léger à moyen-plein. Le sel, s'il est perçu, peut donner un peu de pétillant et l'eau à la bouche. La levure et le blé peuvent apporter un peu de corps mais ne doivent pas avoir une sensation lourde. ","Servie dans des verres cylindriques traditionnels. Les versions historiques peuvent avoir été plus aigre que les exemples modernes en raison de la fermentation spontanée et auraient pu être mélangées avec des sirops comme on le fait avec les Berliner Weisse ou du Kümmel, une liqueur aromatisée au carvi, cumin et fenouil. Les exemples modernes sont inoculés avec des lactobacilles, sont plus équilibrés et n'ont généralement pas besoin d'édulcorant. Prononcé GOH-Zé. ","Style mineur associé à Leipzig mais remontant en réalité au Moyen Age dans la ville de Goslar sur la rivière Gose. Les premiers documents la citent à Leipzig autour de 1740. Leipzig était réputé pour avoir 80 Maisons de Gose en 1900. La production a baissé de manière significative après la Seconde Guerre mondiale, et complètement cessé en 1966. La production moderne a été relancée dans les années 1980, mais la bière n'est pas largement distribuée. ","Malt Pilsner et de blé ainsi qu'une utilisation modérée de sel, de graines de coriandre et des lactobacillus. La coriandre doit avoir une note fraîche, d'agrumes (citron ou orange amère), nette et ne pas être végétale, comme du céleri ou du jambon. Le sel doit avoir un caractère de sel de mer ou frais aux notes d'iode et non métallique. ","L'acidité perçue n'est pas aussi intense qu'une Berliner Weisse ou une Gueuze. L'utilisation modérée de sel, de coriandre et de Lactobacillus - ne doit pas avoir un goût ouvertement salé. L'arôme de coriandre peut être assez semblable à une Witbier. Trouble similaire à une Weissbier. ","Anderson Valley Gose, Bayerisch Bahnhof Leipziger Gose, Döllnitzer Ritterguts Gose, SULAUZE Gose'illa "]
["27A - Kentucky Common",1.044,1.0549999999999999,1.01,1.018,21.669999999999998,39.4,15,30,4,5.5,11,20,1044,1055,1010,1018,"27A","Kentucky Common",null,null,{"$f":"VLOOKUP(A94,Feuil2!$A$1:$H$74,2,FALSE)","v":{"$error":"#N/A"}},{"$f":"VLOOKUP(A94,Feuil2!$A$1:$H$74,3,FALSE)","v":{"$error":"#N/A"}},{"$f":"VLOOKUP(A94,Feuil2!$A$1:$H$74,4,FALSE)","v":{"$error":"#N/A"}},{"$f":"VLOOKUP(A94,Feuil2!$A$1:$H$74,5,FALSE)","v":{"$error":"#N/A"}},{"$f":"VLOOKUP(A94,Feuil2!$A$1:$H$74,6,FALSE)","v":{"$error":"#N/A"}},{"$f":"VLOOKUP(A94,Feuil2!$A$1:$H$74,7,FALSE)","v":{"$error":"#N/A"}},{"$f":"VLOOKUP(A94,Feuil2!$A$1:$H$74,8,FALSE)","v":{"$error":"#N/A"}},"27-Historical Beer","Amber Ale","Indigenous American Beer","United States",1010,"27A - Kentucky Common",1018,"A darker-colored, light-flavored, malt-accented beer with a dry finish and interesting character malt flavors. Refreshing due to its high carbonation and mild flavors, and highly sessionable due to being served very fresh and with restrained alcohol levels.","Low to medium grainy, corn-like or sweet maltiness with a low toast, biscuity-grainy, bready, or caramel malt accent. Medium to moderately-low hop aroma, usually floral or spicy in character. Clean fermentation character, with possible faint berry ester. Low levels of DMS are acceptable. No sourness. Malt-forward in the balance.","Amber-orange to light brown in color. Typically clear, but may have some light haze due to limited conditioning. Foam stand may not be long lasting, and is usually white to beige in color.","Moderate grainy-sweet maltiness with low to medium-low caramel, toffee, bready, and/or biscuity notes. Generally light palate flavors typical of adjunct beers; a low grainy, corn-like sweetness is common. Medium to low floral or spicy hop flavor. Medium to low hop bitterness, which should neither be coarse nor have a harsh aftertaste. May exhibit light fruitiness. Balance in the finish is towards the malt. May have a lightly flinty or minerally-sulfate flavor in the finish. The finish is fairly dry, including the contributions of roasted grains and minerals. No sourness.","Medium to medium-light body with a relatively soft mouthfeel. Highly carbonated. Can have a creamy texture.","Modern characterizations of the style often mention a lactic sourness or sour mashing, but extensive brewing records from the larger breweries at the turn of the century have no indication of long acid rests, sour mashing, or extensive conditioning. This is likely a modern homebrewer invention, based on the supposition that since indigenous Bourbon distillers used a sour mash, beer brewers must also have used this process. No contemporaneous records indicate sour mashing or that the beer had a sour profile; rather the opposite, that the beer was brewed as an inexpensive, present-use ale. Enter soured versions in American Wild Ale.","A true American original style, Kentucky Common was almost exclusively produced and sold around the Louisville Kentucky metropolitan area from some time after the Civil War up to Prohibition. Its hallmark was that it was inexpensive and quickly produced, typically 6 to 8 days from mash to delivery. The beer was racked into barrels while actively fermenting (1.020 – 1.022) and tightly bunged to allow carbonation in the saloon cellar. There is some speculation that it was a variant of the lighter common or cream ale produced throughout much of the East prior to the Civil War and that the darker grains were added by the mostly Germanic brewers to help acidify the typical carbonate water of the Louisville area, or that they had a preference for darker colored beers. Up until the late 19th century, Kentucky Common was not brewed in the summer months unless cellars, usually used for malting, were used for fermentation. With the advent of ice machines, the larger breweries were able to brew year round. In the period from 1900 to prohibition, about 75% of the beer sold in the Louisville area was Kentucky Common. With prohibition, the style died completely as the few larger breweries that survived were almost exclusively lager producers.","Six-row barley malt was used with 35% corn grits to dilute the excessive protein levels along with 1 to 2% each caramel and black malt. Native American hops, usually about .2 pounds per barrel of Western hops for bittering and a similar amount of New York hops (such as Clusters) for flavor (15 minutes prior to knock out). Imported continental Saazer-type hops (.1 pounds per barrel) were added at knock out for aroma. Water in the Louisville area was typically moderate to high in carbonates. Mash water was often pre-boiled to precipitate the carbonate and Gypsum was commonly added. Considering the time from mash in to kegging for delivery was typically 6 to 8 days, clearly aggressive top-fermenting yeasts was used.","Like a darker-colored cream ale emphasizing corn, but with some light character malt flavor. Malt flavors and balance are probably closest to modern adjunct-driven international amber or dark lagers, Irish red ales, or Belgian pale ales.","Apocalypse Brew Works Ortel’s 1912",null,"Une bière de couleur foncée, aux saveurs légères, bien maltée avec une finale sèche et d'intéressantes saveurs caractéristiques de malt. Rafraîchissante en raison de sa haute carbonatation, de ses saveurs douces et sa propension à être légère en raison d'un service très frais et de taux d'alcool sobres. ","Arômes faibles à moyens de céréales, de grains ou douceur maltée avec de faibles notes toastées, biscuitées, briochées ou des accents de malt caramel. Arôme de houblon moyen à modérément faible, habituellement aux notes florales ou épicées. Fermentation neutre, avec une possibilité d'ester faible sur les baies. Des niveaux de DMS faibles sont acceptables. Aucune acidité. Équilibre poussé sur le malt. ","Couleur ambre orangée à brune claire. Typiquement limpide, mais peut avoir léger trouble due au conditionnement de durée courte. Mousse à la tenue faible et habituellement de couleur blanche à beige. ","Saveurs modérée et douce de céréales maltées avec un peu de caramel légèrement doux, de toffee, de pain et / ou notes de biscuits. Généralement des saveurs légères sur le palais typique des bières adjuvantées; un peu de douceur des céréales non maltées et de type maïs sont communes. Saveur moyenne à faible de houblon floral ou épicés. Amertume de moyenne à faible du houblon, qui doit être ni grossier, ni avoir un arrière-goût âpre. Peut présenter un léger coté fruité. Équilibre de la fin vers le malt. Peut avoir une saveur légèrement siliceuse ou de sulfate minéral sur la fin de bouche. La fin de bouche est assez sèche y compris les apports des céréales grillées et de minéraux. Aucune acidité. ","Corps moyen à moyennement léger avec une bouche relativement moelleuse. Très gazéifiée. Peut avoir une texture crémeuse. ","Les caractéristiques modernes du style mentionnent souvent une acidité lactique ou un sour mashing (brassage sur levain) mais les nombreuses archives de brassage des grandes brasseries au tournant du siècle ne font aucune référence à de longue garde acide, à un brassage lactique ou une garde prolongée. Ceci est probablement une invention moderne des brasseurs amateurs, basée sur les suppositions basées sur les pratiques des distillateurs de Bourbon autochtones qui utilisait une sour mash. Aucun document contemporain n’indique un brassage acide ou que la bière ait eu un profil aigre; bien au contraire, la bière était brassée comme une Ale peu coûteuse destinée à en faire cadeau. Inscrivez les versions acides dans Amercian Wild Ale. ","Un vrai style original américain, la Kentucky Common a été presque exclusivement produite et vendue autour de la zone métropolitaine de Louisville Kentucky de quelque temps après la Guerre de Sécession (1865) jusqu'à la Prohibition (1919). Sa marque de fabrique est qu'elle est peu coûteuse et rapidement produite, généralement de 6 à 8 jours entre le brassage et la livraison. La bière était soutirée dans des barriques lors de la fermentation active (1,020 à 1,022) et hermétiquement bouchée pour permettre une carbonatation forcée dans la cave des saloons. Certaines spéculations disent qu'elle serait une variante légère des Commun Ale ou Cream Ale produites dans une grande partie de l'Est des USA avant la guerre civile et que des grains plus foncées ont été ajoutés par les brasseurs principalement germaniques pour aider à acidifier l'eau typiquement carbonatée de la région de Louisville, ou qu'ils avaient une préférence pour des bières plus foncées. Jusqu'à la fin du 19e siècle, la Kentucky Common n'était pas brassée dans les mois d'été à moins que des caves, généralement utilisées pour le maltage, puissent servir à la fermentation. Avec l'avènement des machines à glace, les grandes brasseries ont pu brasser toute l'année. De 1900 à la prohibition, environ 75% de la bière vendue dans la région de Louisville était la Kentucky Common. Avec la prohibition, le style a complètement disparu : les quelques grandes brasseries qui ont survécu étaient presque exclusivement des producteurs de Lager. ","Du malt d'orge 6 rang était utilisé avec 35% de mouture de maïs pour diluer les niveaux excessifs de protéines ainsi qu' 1 à 2% chacun de caramel et de malt noir. Des houblons américains, habituellement 0.1 kg par baril (160 litres) de houblon de l'ouest pour amertume et une quantité similaire de houblons de New York (comme le Clusters) pour la saveur (15 minutes avant la fin de l'ébullition). Des houblons continentaux de type Saaz importés (45 g/160 l) étaient ajoutés à la coupure du feu pour l'arôme. L'eau de la région de Louisville avait généralement un taux de carbonates modéré à élevé. L'eau de brassage était souvent préalablement bouillie pour précipiter le carbonate et du gypse était couramment ajouté. Compte tenu du temps de l'empâtage aux fûts pour la livraison qui était généralement de 6 à 8 jours, des levures de fermentations hautes agressives étaient clairement utilisées.  ","Comme une Cream Ale de couleur foncée rehaussée au maïs, mais avec un peu de saveur légèrement maltée. L'équilibre et les arômes de malt sont probablement plus proche d'une version adjuvantée moderne et internationale des lagers ambrées ou brunes, d'une Irish Red Ale ou d'une Belgian Pale Ale. ","Apocalypse Brew Works Ortel’s 1912 "]
["27A - Lichtenhainer",1.032,1.04,1.004,1.008,5.91,11.82,5,12,3.5,4.7,3,6,1032,1040,1004,1008,"27A","Lichtenhainer",null,null,{"$f":"VLOOKUP(A95,Feuil2!$A$1:$H$74,2,FALSE)","v":{"$error":"#N/A"}},{"$f":"VLOOKUP(A95,Feuil2!$A$1:$H$74,3,FALSE)","v":{"$error":"#N/A"}},{"$f":"VLOOKUP(A95,Feuil2!$A$1:$H$74,4,FALSE)","v":{"$error":"#N/A"}},{"$f":"VLOOKUP(A95,Feuil2!$A$1:$H$74,5,FALSE)","v":{"$error":"#N/A"}},{"$f":"VLOOKUP(A95,Feuil2!$A$1:$H$74,6,FALSE)","v":{"$error":"#N/A"}},{"$f":"VLOOKUP(A95,Feuil2!$A$1:$H$74,7,FALSE)","v":{"$error":"#N/A"}},{"$f":"VLOOKUP(A95,Feuil2!$A$1:$H$74,8,FALSE)","v":{"$error":"#N/A"}},"27-Historical Beer","Wheat Beer","European Smoked Beer","Germany",1004,"27A - Lichtenhainer",1008,"A sour, smoked, lower-gravity historical German wheat beer. Complex yet refreshing character due to high attenuation and carbonation, along with low bitterness and moderate sourness. ","Moderately strong fresh smoky aroma, light hints of sourness, medium-low fruity esters, possibly apples or lemons, moderate bready-grainy malt. The smoke character is stronger than the bready notes, and the smoke has a ‘dry’ character, like the remnants of an old fire, not a ‘greasy’ smoke. ","Tall off-white head, rocky and persistent. Deep yellow to light gold color. Fair clarity, may be somewhat hazy.","Moderately strong fruity flavor, possibly lemons or apples. Moderate intensity, clean lactic tartness (no funk). Similar smoky character as aroma (dry wood fire), medium strength. Dry finish, with acidity and smoke in the aftertaste. Low bitterness; the acidity is providing the balance, not hops. Fresh, clean palate and slightly puckery aftertaste. The wheat character is on the low side; the smoke and acidity are more prominent in the balance. The lemony-tart/green apple flavor is strongest in the finish, with smoke a close second. Complex.","Tingly acidity. High carbonation. Medium to medium-light body.","Served young. Smoke and sour is an unusual combination that is not for everyone.","Originating in Lichtenhain, in Thüringen (central Germany). Height of popularity was towards the end of the 1800s, and was widely available throughout Thüringen. Like a pre-1840 Berliner Weisse.","Smoked barley malt, wheat malt, lactobacillus, top-fermenting yeast. Grists vary, but the wheat would typically be 30-50%.","In the same general historical lower-alcohol top-fermenting central European wheat beer family as Gose, Grodziskie, and Berliner weisse, has elements of all of them but having its own unique balance – sour and smoke is not found in any of the other beers. Not as acidic as Berliner weisse, probably more like a smoked Gose without coriander and salt, or a Grodziskie with Gose-like acidity.","none",null,"Une bière de blé historique allemande, fumée, légère et acide. Caractère complexe mais rafraîchissant en raison de la forte atténuation et l'importante carbonatation, avec une faible amertume et une acidité modérée. ","Arôme fumé frais modérément fort, notes légères d'acidité, esters fruités moyen-doux, parfois de la pomme ou du citron, malt sur les céréales et le pain modéré. Le caractère fumé est plus fort que les notes de pain et la fumée a un caractère «sec», comme les vestiges d'un ancien feu, pas une fumée 'grasse'. ","Mousse importante et blanc cassé, structurée et persistante. Couleur jaune foncé à doré léger. Relativement limpide mais peut présenter un léger trouble. ","Saveur fruitée modérément forte qui peut être sur le citron ou la pomme. Acidité lactique neutre (pas de funk) d'intensité modérée. Caractère de fumé similaire à l'arôme (feu de bois sec), de force moyenne. Fin de bouche sèche avec de l'acidité et du fumé en bouche. Une faible amertume; l'acidité remporte l'équilibre, pas le houblon. Fraiche et propre en bouche propre avec un arrière-goût légèrement aigrelet. Le caractère du blé est un peu laissé de côté; le fumé et l'acidité sont plus importants dans l'équilibre. Les saveurs acidulées de citron et de pomme verte sont plus intenses en fin de bouche avec de la fumée proche en seconde. Complexe. ","Acidité piquante. Carbonatation importante. Corps moyen à moyennement léger. ","Servie jeune. Fumé et acidité dans une combinaison inhabituelle qui n'est pas du goût de tout le monde. ","Originaire de Lichtenhain en Thuringe (centre de l'Allemagne). L'heure de gloire se situe vers la fin des années 1800 où elle était largement disponible partout dans Thüringen. Comme une Berliner Weisse d'avant 1840. ","Malt d'orge fumé, malt de blé, lactobacillus et levure de fermentation haute. Les moutures varient mais le blé est généralement de 30-50%. ","Dans la même famille générale et historique de bière de blé, de fermentation haute, au taux d'alcool inférieur, originaire d'Europe centrale comme les Gose, Grodziskie et Berliner Weisse, avec des éléments de chacune d'entre elles, mais en ayant son propre et unique équilibre - l'acidité et le fumé ne se trouve pas dans une autres de ces bières. Pas aussi acide qu'une Berliner Weisse, probablement plus comme un Gose fumé sans la coriandre et le sel, ou comme un Grodziskie avec une acidité de Gose. "]
["27A - London Brown Ale",1.0329999999999999,1.038,1.012,1.0149999999999999,43.339999999999996,68.95,15,20,2.8,3.6,22,35,1033,1038,1012,1015,"27A","London Brown Ale",null,null,{"$f":"VLOOKUP(A96,Feuil2!$A$1:$H$74,2,FALSE)","v":{"$error":"#N/A"}},{"$f":"VLOOKUP(A96,Feuil2!$A$1:$H$74,3,FALSE)","v":{"$error":"#N/A"}},{"$f":"VLOOKUP(A96,Feuil2!$A$1:$H$74,4,FALSE)","v":{"$error":"#N/A"}},{"$f":"VLOOKUP(A96,Feuil2!$A$1:$H$74,5,FALSE)","v":{"$error":"#N/A"}},{"$f":"VLOOKUP(A96,Feuil2!$A$1:$H$74,6,FALSE)","v":{"$error":"#N/A"}},{"$f":"VLOOKUP(A96,Feuil2!$A$1:$H$74,7,FALSE)","v":{"$error":"#N/A"}},{"$f":"VLOOKUP(A96,Feuil2!$A$1:$H$74,8,FALSE)","v":{"$error":"#N/A"}},"27-Historical Beer","Brown Ale",null,"England",1012,"27A - London Brown Ale",1015,"A luscious, sweet, malt-oriented dark brown ale, with caramel and toffee malt complexity and a sweet finish.","Moderate malty-sweet aroma, often with a rich, caramel or toffee-like character. Low to medium fruity esters, often dark fruit like plums. Very low to no hop aroma, earthy or floral qualities.","Medium to very dark brown color, but can be nearly black. Nearly opaque, although should be relatively clear if visible. Low to moderate off-white to tan head.","Deep, caramel or toffee-like malty and sweet flavor on the palate and lasting into the finish. Hints of biscuit and coffee are common. Some fruity esters can be present (typically dark fruit); relatively clean fermentation profile for an English ale. Low hop bitterness. Hop flavor is low to non-existent, possibly earthy or floral in character. Moderately-low to no perceivable roasty or bitter black malt flavor. Moderately sweet finish with a smooth, malty aftertaste. May have a sugary-sweet flavor. ","Medium body, but the residual sweetness may give a heavier impression. Medium-low to medium carbonation. Quite creamy and smooth in texture, particularly for its gravity.","Increasingly rare; Mann’s has over 90% market share in Britain, but in an increasingly small segment. Always bottled. Frequently used as a sweet mixer with cask mild and bitter in pubs. Commercial versions can be pasteurized and back-sweetened, which gives more of a sugary-sweet flavor.","Developed by Mann’s as a bottled product in 1902. Claimed at the time to be “the sweetest beer in London.” Pre-WWI versions were around 5% ABV, but same general balance. Declined in popularity in second half of 20th century, and now nearly extinct.","English pale ale malt as a base with a healthy proportion of darker caramel malts and often some roasted (black) malt and wheat malt (this is Mann’s traditional grist – others can rely on dark sugars for color and flavor). Moderate to high carbonate water. English hop varieties are most authentic, though with low flavor and bitterness almost any type could be used. Post-fermentation sweetening with lactose or artificial sweeteners, or sucrose (if pasteurized).","May seem somewhat like a less roasty version of a sweet stout (and lower-gravity, at least for US sweet stout examples) or a sweet version of a dark mild.","Harveys Bloomsbury Brown Ale, Mann's Brown Ale",null,"Une bière de type ale, brune foncée, douce, pulpeuse, portée sur le malt, avec une complexité de malt caramel et toffee et une finition douce. ","Arômes de malt sucré modérés, souvent avec un caractère riche de caramel ou de toffee. Esters fruités faibles à moyen, souvent sur les fruits noirs comme les prunes. Très faible à aucun arôme de houblon avec des aspects terreux ou floraux. ","Couleur brune de teinte moyenne à très foncée mais peut être quasiment noire. Presque opaque même si elle doit être relativement limpide si possible. Mousse faible à modérée blanc cassé. ","Saveurs profondes de caramel ou de toffee maltées et douces sur le palais et durable en fin de bouche. Des touches de biscuit et de café sont communes. Certains esters fruités peuvent être présents (fruits généralement foncés); profil de fermentation relativement neutre pour une bière anglaise. Une faible amertume de houblon. Saveurs de houblon faibles, voire inexistantes, potentiellement terreuses ou florales. Saveurs de malts torréfiés ou amertumes des malts noirs modérément basses à non perceptibles. Finale modérément douce avec un arrière-goût malté moelleux. Peut posséder une saveur de bonbons sucrés. ","Corps moyen, mais les sucres résiduels peuvent donner une impression plus corsée. Carbonatation moyennement basse à moyenne. Très crémeuse et de texture lisse, en particulier pour sa densité faible. ","De plus en plus rare; Mann ayant plus de 90% de part de marché en Grande-Bretagne mais dans un tout petit marché de niche. Toujours en bouteille. Fréquemment utilisée comme un sirop doux en mélange avec les milds et les bitters à la pression dans les pubs. Les versions commerciales peuvent être pasteurisées et resucrées, ce qui donne plus une saveur de bonbon sucré. ","Développé par Mann dans une version bouteille en 1902. Vantée un moment comme étant «la bière la plus douce de Londres.\" Les versions d'avant la Première Guerre mondiale étaient autour de 5% d'alcool avec le même équilibre général. Elle a décliné en popularité dans la deuxième moitié du 20e siècle et a maintenant presque disparue. ","Malt Pale Ale anglais comme base avec une proportion saine de malts caramels foncés et souvent une touche de malt torréfié (noir) et de malt de blé (ce qui est la mouture traditionnelle de Mann - d'autres brasseries peuvent compter sur des sucres bruns pour la couleur et la saveur). Eau modérément à fortement riche en carbonate. Des variétés de houblons anglais sont plus authentiques mais avec une si faible saveur et amertume presque tous les types pourraient être utilisés. Refermentation en bouteille avec du lactose, des édulcorants artificiels ou du saccharose (si pasteurisée). ","Peut ressembler un peu à une version moins toastée d'un Sweet Stout (avec une densité plus faible au moins pour les exemples de Sweet Stout US) ou une version sucrée d'une Dark Mild. ","Harveys Bloomsbury Brown Ale, Mann's Brown Ale "]
["27A - Piwo Grodziskie",1.028,1.032,1.006,1.012,5.91,11.82,20,35,2.5,3.3,3,6,1028,1032,1006,1012,"27A","Piwo Grodziskie",null,null,{"$f":"VLOOKUP(A97,Feuil2!$A$1:$H$74,2,FALSE)","v":{"$error":"#N/A"}},{"$f":"VLOOKUP(A97,Feuil2!$A$1:$H$74,3,FALSE)","v":{"$error":"#N/A"}},{"$f":"VLOOKUP(A97,Feuil2!$A$1:$H$74,4,FALSE)","v":{"$error":"#N/A"}},{"$f":"VLOOKUP(A97,Feuil2!$A$1:$H$74,5,FALSE)","v":{"$error":"#N/A"}},{"$f":"VLOOKUP(A97,Feuil2!$A$1:$H$74,6,FALSE)","v":{"$error":"#N/A"}},{"$f":"VLOOKUP(A97,Feuil2!$A$1:$H$74,7,FALSE)","v":{"$error":"#N/A"}},{"$f":"VLOOKUP(A97,Feuil2!$A$1:$H$74,8,FALSE)","v":{"$error":"#N/A"}},"27-Historical Beer","Wheat Beer","European Smoked Beer","Poland",1006,"27A - Piwo Grodziskie",1012,"A low-gravity, highly-carbonated, light-bodied ale combining an oak-smoked flavor with a clean hop bitterness. Highly sessionable.","Low to moderate oak wood smoke is the most prominent aroma component, but can be subtle and hard to detect. A low spicy, herbal, or floral hop aroma is typically present, and should be lower than or equal to the smoke in intensity. Hints of grainy wheat are also detected in the best examples. The aroma is otherwise clean, although light pome fruit esters (especially ripe red apple or pear) are welcome. No acidity. Slight water-derived sulfury notes may be present.","Pale yellow to medium gold in color with excellent clarity. A tall, billowy, white, tightly-knit head with excellent retention is distinctive. Murkiness is a fault.","Moderately-low to medium oak smoke flavor up front which carries into the finish; the smoke can be stronger in flavor than in aroma. The smoke character is gentle, should not be acrid, and can lend an impression of sweetness. A moderate to strong bitterness is readily evident which lingers through the finish. The overall balance is toward bitterness. Low but perceptible spicy, herbal, or floral hop flavor. Low grainy wheat character in the background. Light pome fruit esters (red apple or pear) may be present. Dry, crisp finish. No sourness.","Light in body, with a crisp and dry finish. Carbonation is quite high and can add a slight carbonic bite or prickly sensation. No noticeable alcohol warmth. ","Pronounced in English as “pivo grow-JEES-kee-uh” (meaning: Grodzisk beer). Known as Grätzer (pronounced “GRATE-sir”) in German-speaking countries, and in some beer literature. Traditionally made using a multi-step mash, a long boil (~2 hours), and multiple strains of ale yeast. The beer is never filtered but Isinglass is used to clarify before bottle conditioning. Traditionally served in tall conical glassware to accommodate the vigorous foam stand. ","Developed as a unique style centuries ago in the Polish city of Grodzisk (known as Grätz when ruled by Prussia and Germany). Its fame and popularity rapidly extended to other parts of the world in the late 19th and early 20th century. Regular commercial production declined after WWII and ceased altogether in the early-mid 1990s. This style description describes the traditional version during its period of greatest popularity.","Grain bill usually consists entirely of oak-smoked wheat malt. Oak-smoked wheat malt has a different (and less intense) smoke character than German beechwood-smoked barley malt; it has a drier, crisper, leaner quality – a bacon/ham smoke flavor is inappropriate. Saazer-type hops (Polish, Czech or German), moderate hardness sulfate water, and a relatively clean and attenuative continental ale yeast fermented at moderate ale temperatures are traditional. German hefeweizen yeast or other strains with a phenol or strong ester character are inappropriate.","Similar in strength to a Berliner Weisse, but never sour. Has a smoked character but less intense than in a Rauchbier.","none",null,"Une bière blonde peu corsée, à la faible densité et très gazeuses, combinant une saveur de chêne fumé avec une amertume du houblon nette. Hautement allégeable. ","Les notes faibles à modérées de bois de chêne fumé sont les composantes les plus importantes de l'arôme, mais peuvent être subtiles et difficiles à détecter. Un coté épicé faible à base de plantes ou un arôme de houblon floral est typiquement présent et doit être inférieur ou égal à l'intensité du fumé. Des touches de céréales du blé sont également décelables dans les meilleurs exemples. L'arôme est sinon assez neutre bien que des esters de fruits à pépins légers (pomme ou poire mûres rouge en particulier) sont les bienvenus. Aucune acidité. De légères notes sulfureuses provenant de l'eau peuvent être présentes. ","Couleur jaune pâle à dorée moyenne avec une excellente limpidité. Une mousse importante, chancelante, blanche, serrée avec une excellente tenue est distinctive. L'opacité est une faute. ","Saveur de fumée de chêne modérément-faible à moyenne de l'arrivée en bouche et qui porte jusqu'aux notes finales; la fumée peut être plus forte en saveur qu'en arôme. Le caractère de la fumée est douce, ne doit pas être âcre, et peut apporter une impression de douceur. Une amertume modérée à forte est tout à fait évident et subsiste jusqu'à la fin. L'équilibre global est sur l'amertume. Saveurs de houblon herbeux ou épicé faible mais perceptible ou la saveur florale de houblon. Présence de blé faible sur les céréales en arrière-plan. Des esters de fruits à pépins (pomme rouge ou poire) peuvent être présents. Finale sèche et pétillante. Aucune acidité. ","Corps léger avec une finition piquante et sèche. La carbonatation est assez élevée et peut ajouter une légère morsure carbonique ou sensation de fourmillement. Pas de chaleur d'alcool perceptible. ","Prononcés en français \"pivo Gro-djiz-que\" (ce qui signifie: Bière de Grodzisk). Connu comme Grätzer (prononcé \"gra-tzière-eu\") dans les pays de langue allemande, et dans une certaine littérature de la bière. Traditionnellement fait en utilisant un moût en plusieurs étapes, une longue ébullition (environ 2 heures), et de multiples souches de levure de bière. La bière n'a jamais filtré et ichtyocollel'Isinglass /  (colle à poisson) sert à clarifier avant le conditionnement en bouteille. Traditionnellement servi dans verres coniques hauts pour supporter la montée de la mousse vigoureuse. ","Développée il y a des siècles comme un style unique dans la ville polonaise de Grodzisk (connu sous le nom de Graetz quand elle était sous tutelle de la Prusse et de l'Allemagne). Sa renommée et sa popularité s'est rapidement étendue à d'autres parties du monde à la fin du 19e et début du 20e siècle. La production commerciale régulière a diminué après la Seconde Guerre mondiale et a cessé tout à fait dans le milieu des années 1990. Cette description du style décrit la version traditionnelle pendant sa période de plus grande popularité. ","La proportion de céréales est en général entièrement constituée de malt de blé fumé au chêne. Ce malt a un caractère de fumée différent (et moins intense) que le malt d'orge allemand fumé au hêtre; il dispose de qualités plus sèches, pauvres et fraîches - et des saveurs de bacon / jambon fumée sont inappropriées. Du houblon de type Saaz (polonais, tchèques ou allemands), de l'eau riche en sulfate à la dureté modérée et une levure continental relativement neutre et atténuante, fermenté à des températures modérées, sont traditionnels. Des levures de type Hefeweizen allemande ou d'autres souches produisant des phénols ou un caractère d'esters sont forts inappropriées. ","De force semblable à un Berliner Weisse mais jamais acide. Caractère fumé qu'une Rauchbier mais en moins intense "]
["27A - Pre-Prohibition Lager",1.044,1.06,1.01,1.0149999999999999,5.91,11.82,25,40,4.5,6,3,6,1044,1060,1010,1015,"27A","Pre-Prohibition Lager",null,null,{"$f":"VLOOKUP(A98,Feuil2!$A$1:$H$74,2,FALSE)","v":{"$error":"#N/A"}},{"$f":"VLOOKUP(A98,Feuil2!$A$1:$H$74,3,FALSE)","v":{"$error":"#N/A"}},{"$f":"VLOOKUP(A98,Feuil2!$A$1:$H$74,4,FALSE)","v":{"$error":"#N/A"}},{"$f":"VLOOKUP(A98,Feuil2!$A$1:$H$74,5,FALSE)","v":{"$error":"#N/A"}},{"$f":"VLOOKUP(A98,Feuil2!$A$1:$H$74,6,FALSE)","v":{"$error":"#N/A"}},{"$f":"VLOOKUP(A98,Feuil2!$A$1:$H$74,7,FALSE)","v":{"$error":"#N/A"}},{"$f":"VLOOKUP(A98,Feuil2!$A$1:$H$74,8,FALSE)","v":{"$error":"#N/A"}},"27-Historical Beer","Pilsner","Pilsner","United States",1010,{"$f":"R98&\" - \"&S98","v":"27A - Pre-Prohibition Lager"},1015,"A clean, refreshing, but bitter pale lager, often showcasing a grainy-sweet corn flavor. All malt or rice-based versions have a crisper, more neutral character. The higher bitterness level is the largest differentiator between this style and most modern mass-market pale lagers, but the more robust flavor profile also sets it apart.","Low to medium grainy, corn-like or sweet maltiness may be evident (although rice-based beers are more neutral). Medium to moderately high hop aroma, with a range of character from rustic to floral to herbal/spicy; a fruity or citrusy modern hop character is inappropriate. Clean lager character. Low DMS is acceptable. May show some yeast character, as with modern American lagers; allow for a range of subtle supporting yeast notes.","Yellow to deep gold color. Substantial, long lasting white head. Bright clarity.","Medium to medium-high maltiness with a grainy flavor, and optionally a corn-like roundness and impression of sweetness. Substantial hop bitterness stands up to the malt and lingers through the dry finish. All malt and rice-based versions are often crisper, drier, and generally lack corn-like flavors. Medium to high hop flavor, with a rustic, floral, or herbal/spicy character. Medium to high hop bitterness, which should neither be overly coarse nor have a harsh aftertaste. Allow for a range of lager yeast character, as with modern American lagers, but generally fairly neutral.","Medium body with a moderately rich, creamy mouthfeel. Smooth and well-lagered. Medium to high carbonation levels.","The classic American Pilsner was brewed both pre-Prohibition and post-Prohibition with some differences. OGs of 1.050–1.060 would have been appropriate for pre-Prohibition beers while gravities dropped to 1.044–1.048 after Prohibition. Corresponding IBUs dropped from a pre-Prohibition level of 30–40 to 25–30 after Prohibition.","A version of Pilsner brewed in the USA by immigrant German brewers who brought the process and yeast with them, but who had to adapt their recipes to work with native hops and malt. This style died out after Prohibition but was resurrected by homebrewers in the 1990s. Few commercial versions are made, so the style still remains mostly a homebrew phenomenon.","Six-row barley with 20% to 30% flaked maize (corn) or rice to dilute the excessive protein levels; modern versions may be all malt. Native American hops such as Clusters, traditional continental hops, or modern noble-type crosses are also appropriate. Modern American hops such as Cascade are inappropriate. Water with a high mineral content can lead to an unpleasant coarseness in flavor and harshness in aftertaste. A wide range of lager yeast character can be exhibited, although modern versions tend to be fairly clean.","Similar balance and bitterness as modern Czech Premium Pale Lagers, but exhibiting native American grains and hops from the era before US Prohibition. More robust, bitter, and flavorful than modern American pale lagers, and often with higher alcohol.","Anchor California Lager, Coors Batch 19, Little Harpeth Chicken Scratch",null,"Une lager blonde, neutre, rafraîchissante mais amère, présentant souvent une saveur douce de maïs. Toutes les versions à base de malt ou de riz ont un caractère plus pétillant et plus neutre. Le niveau d'amertume plus élevé est le plus grand facteur de différenciation entre ce style et la plupart des Lager blondes modernes du marché de masse, mais le profil de saveurs plus robuste les démarque également. ","Des arômes faibles à moyens de céréales, de maïs ou de malt sucré peuvent être évidents (bien que des bières à base de riz soient plus neutres). Arôme moyen à modérément élevé de houblon, avec une gamme de caractère de rustique à floral ou herbeux/épicé; un caractère fruité ou d'agrumes des houblons modernes est inapproprié. Caractère de Lager neutre. Des DMS faibles sont acceptables. Peut présenter un certain caractère de levure, comme pour les lagers américaines modernes; il est permis un certain éventail de notes subtiles de levure en arrière-plan. ","Couleur jaune à dorée profonde. Mousse blanche, conséquente et à la bonne tenue. Limpidité éclatante. ","Malté avec des saveurs de céréales moyennes à moyennement élevées et éventuellement la rondeur du maïs et une impression de douceur. Amertume significative du houblon s'attarde sur le malt et persiste à travers une fin sèche. Toutes les versions à base de malt et de riz sont souvent plus pétillantes, sèche, et manquent généralement de saveurs de maïs. Saveur de houblon moyenne à haute avec un côté rustique, floral, ou un caractère herbeux / épicé. Amertume du houblon moyenne à élevée qui ne doit pas être ni trop lourde ni avoir un arrière-goût âpre. Accepter une gamme de caractères de levure de type Lager, comme avec les lagers américaines modernes, mais généralement assez neutre. ","Corps moyen avec une impression en bouche crémeuse modérément riche. Harmonieuse et bien fermentée. Niveaux de carbonatation moyens à élevés. ","La Pilsner Américaine Classique a été brassée à la fois avant et après la Prohibition avec quelques différences. Des densités initiales de 1050 à 1060 auraient été appropriées pour les bières pré-prohibition alors que les densités ont chuté à 1044 - 1048 après la Prohibition. Les IBUs correspondant ont chuté d'un niveau de 30-40 avant la Prohibition à 25-30 après. ","Une version de Pilsner, brassée aux Etats-Unis par les brasseurs allemands immigrants qui ont apporté le processus et la levure avec eux, mais qui ont dû adapter leurs recettes et travailler avec du houblon et des malts locaux. Ce style a disparu après la Prohibition, mais a été ressuscité par les brasseurs amateurs dans les années 1990. Quelques versions commerciales sont produites de sorte que le style reste encore principalement un phénomène brassam. ","Orge à six rangs avec 20% à 30% des flocons de maïs (corn flakes) ou de riz pour diluer les niveaux de protéines excessives; les versions modernes peuvent être tout malt. Des houblons amérindiens tels que le cluster, houblon continentaux traditionnels ou modernes croix de type noble sont également appropriés. Houblons américains modernes tels que Cascade sont inappropriés. Eau avec une haute teneur en minéraux peut conduire à une grossièreté désagréable dans la saveur et de la dureté en bouche. Une large gamme de caractère de levure de bière peut être exposée, bien que les versions modernes aient tendance à être assez propre. ","Équilibre et amertume équivalents aux Lager Tchèque Blonde Premium (3B) mais présentant des céréales américaines locales et des houblons US datant d'avant la Prohibition. Plus robuste, amère et savoureuse que les Lagers Blondes Américaines modernes et souvent avec un taux d'alcool plus élevé. ","Anchor California Lager, Coors Batch 19, Little Harpeth Chicken Scratch "]
["27A - Pre-Prohibition Porter",1.046,1.06,1.01,1.016,35.46,59.1,20,30,4.5,6,18,30,1046,1060,1010,1016,"27A","Pre-Prohibition Porter",null,null,{"$f":"VLOOKUP(A99,Feuil2!$A$1:$H$74,2,FALSE)","v":{"$error":"#N/A"}},{"$f":"VLOOKUP(A99,Feuil2!$A$1:$H$74,3,FALSE)","v":{"$error":"#N/A"}},{"$f":"VLOOKUP(A99,Feuil2!$A$1:$H$74,4,FALSE)","v":{"$error":"#N/A"}},{"$f":"VLOOKUP(A99,Feuil2!$A$1:$H$74,5,FALSE)","v":{"$error":"#N/A"}},{"$f":"VLOOKUP(A99,Feuil2!$A$1:$H$74,6,FALSE)","v":{"$error":"#N/A"}},{"$f":"VLOOKUP(A99,Feuil2!$A$1:$H$74,7,FALSE)","v":{"$error":"#N/A"}},{"$f":"VLOOKUP(A99,Feuil2!$A$1:$H$74,8,FALSE)","v":{"$error":"#N/A"}},"27-Historical Beer","Porter","Dark American Beer","United States",1010,"27A - Pre-Prohibition Porter",1016,"An American adaptation of English Porter using American ingredients, including adjuncts.","Base grainy malt aroma with low levels of dark malt (slight burnt or chocolate notes). Low hop aroma. Low to moderate low levels of DMS acceptable. May show low levels of caramel and biscuit aroma. No to very low esters. Light adjunct (licorice, molasses) aroma acceptable. Diacetyl low to none. Clean lager profile acceptable.","Medium to dark brown, though some examples can be nearly black in color, with ruby or mahogany highlights. Relatively clear. Light to medium tan head which will persist in the glass.","Grainy base malt flavor, with low levels of chocolate or burnt black malt notes, along with low levels of caramel, biscuit, licorice, and toast notes. Corn/DMS flavor acceptable at low to moderate levels. American hop bitterness low to moderate and American hop flavor low to none. Balance is typically even between malt and hops, with a moderate dry finish.","Medium light to medium body, moderate carbonation, low to moderate creaminess. May have a slight astringency from the dark malts.","Also sometimes known as Pennsylvania Porter or East Coast Porter.","Commercially brewed in Philadelphia during the revolutionary period, the beer gained wide acceptance in the newly formed mid-Atlantic states, and was endorsed by President George Washington.","Two and six row malt (or a combination of both) are used, along with low percentages of dark malts including black, chocolate, and brown malt (roasted barley is not typically used). Adjuncts are acceptable, including corn, brewers licorice, molasses, and porterine. More historical versions will have up to twenty percent adjuncts. Lager or ale yeast. Emphasis on historical or traditional American bittering hops (Cluster, Willamette, Cascade), though finishing and flavor hops may vary.","Smoother and less hoppy-bitter than a (modern) American Porter, less caramelly than an English Porter with more of an adjunct/lager character.","Stegmaier Porter, Yuengling Porter",null,"Une adaptation américaine du Porter Anglais (13C) utilisant des ingrédients américains y compris des additifs. ","Arôme de malt à base de céréales avec de faibles niveaux de malt foncé (de légères notes brûlées ou chocolatées). Faible arôme de houblon. De faibles à modérément faibles niveaux de DMS sont acceptables. Peut posséder de faibles arômes de caramel et de biscuit. Esters nuls à très faibles. Légers arômes de compléments (réglisse, mélasse) acceptables. Diacétyle faible ou nul. Profil de Lager neutre permis. ","De couleur brune moyenne à foncée bien que quelques exemples puissent être presque noire, avec des reflets rubis ou acajou. Relativement limpide. Mousse ocre, légère à moyenne et persistante. ","Saveurs de malt à base de céréales, avec de faibles niveaux de chocolat ou des notes brûlées du malt noir, avec aussi de faibles notes de caramel, biscuit, réglisse et pain toasté. Saveur DMS de maïs acceptable à des niveaux faibles à modérés. Amertume des houblons américains basse à modérée et saveurs des houblons américains faibles ou nulles. L'équilibre est généralement entre le malt et le houblon avec une finale modérément sèche. ","Légèrement à moyennement corsée. Carbonisation et onctuosité modérées. Peut posséder la légère astringence des malts foncés. ","Parfois aussi connu sous le nom de Pennsylvania Porter ou East Coast Porter. ","Brassée commercialement à Philadelphie au cours de la période révolutionnaire (1763-1789), cette bière a été par la suite largement plébiscitée dans les états nouvellement formés du centre de l'Atlantique et a été approuvé par le président George Washington. ","Des malts d'orges deux et six rangs (ou une combinaison des deux) sont utilisés, avec de faibles pourcentages de malts foncés y compris des malts black, chocolat, brun (l'orge torréfié n'est généralement pas utilisé). Des compléments sont acceptables, y compris du maïs, réglisse, de la mélasse et de la Porterine (NDT marque d'un caramel fait à base de sucre de maïs). Les versions plus historiques avaient jusqu'à vingt pour cent d'adjuvants. Levure type Lager ou Ale. L'accent est mis sur les houblons américains amérisants historiques ou traditionnels (Cluster, Willamette, Cascade), même si les houblons aromatiques peuvent varier. ","Plus souple et moins houblonnée/amère qu'un Porter américains (moderne), Moins caramel qu'un Porter Anglais avec plus d'un caractère de Lager et de sucres ajoutés. ","Stegmaier Porter, Yuengling Porter "]
["27A - Roggenbier",1.046,1.056,1.01,1.014,27.58,37.43,10,20,4.5,6,14,19,1046,1056,1010,1014,"27A","Roggenbier",null,null,{"$f":"VLOOKUP(A100,Feuil2!$A$1:$H$74,2,FALSE)","v":"50-150"},{"$f":"VLOOKUP(A100,Feuil2!$A$1:$H$74,3,FALSE)","v":"0-30"},{"$f":"VLOOKUP(A100,Feuil2!$A$1:$H$74,4,FALSE)","v":"40-120"},{"$f":"VLOOKUP(A100,Feuil2!$A$1:$H$74,5,FALSE)","v":"100-300"},{"$f":"VLOOKUP(A100,Feuil2!$A$1:$H$74,6,FALSE)","v":"50-100"},{"$f":"VLOOKUP(A100,Feuil2!$A$1:$H$74,7,FALSE)","v":"<100"},{"$f":"VLOOKUP(A100,Feuil2!$A$1:$H$74,8,FALSE)","v":"0-60 "},"27-Historical Beer","Wheat Beer","Wheat Beer","Germany",1010,"27A - Roggenbier",1014,"A dunkelweizen made with rye rather than wheat, but with a greater body and light finishing hops.","Light to moderate spicy rye aroma intermingled with light to moderate weizen yeast aromatics (spicy clove and fruity esters, either banana or citrus). Light spicy, floral, or herbal hops are acceptable.","Light coppery-orange to very dark reddish or coppery-brown color. Large creamy off-white to tan head, quite dense and persistent (often thick and rocky). Cloudy, hazy appearance.","Grainy, moderately-low to moderately-strong spicy rye flavor, often having a hearty flavor reminiscent of rye or pumpernickel bread. Medium to medium-low bitterness allows an initial malt sweetness (sometimes with a bit of caramel) to be tasted before yeast and rye character takes over. Low to moderate weizen yeast character (banana, clove), although the balance can vary. Medium-dry, grainy finish with a lightly bitter (from rye) aftertaste. Low to moderate spicy, herbal, or floral hop flavor acceptable, and can persist into aftertaste.","Medium to medium-full body. High carbonation. Moderately creamy.","Rye is a huskless grain and is difficult to mash, often resulting in a gummy mash texture that is prone to sticking. Rye has been characterized as having the most assertive flavor of all cereal grains. It is inappropriate to add caraway seeds to a roggenbier (as some American brewers do); the rye character is traditionally from the rye grain only.","A specialty German rye beer originally brewed in Regensburg, Bavaria. Never a widely popular style, it has all but disappeared in modern times.","Malted rye typically constitutes 50% or greater of the grist (some versions have 60-65% rye). Remainder of grist can include pale malt, Munich malt, wheat malt, crystal malt and/or small amounts of debittered dark malts for color adjustment. Weizen yeast provides distinctive banana esters and clove phenols. Light usage of Saazer-type hops in bitterness, flavor and aroma. Lower fermentation temperatures accentuate the clove character by suppressing ester formation. Decoction mash traditionally used (as with weissbiers).","A more distinctive variant of a dunkelweizen using malted rye instead of malted wheat. American Rye Beers will not have the weizen yeast character, and likely more hops.","Thurn und Taxis Roggen",null,"Les Roggenbier sont des Dunkelweizen brassées avec des malts de seigle plutôt que des malts blé. Elles possèdent un corps plus important et une fin de bouche plus houblonnée. ","Les arômes légèrement à modérément épicés du seigle se combinent avec les saveurs développées par les levures Weizen (épices : clous de girofle ; fruités : banane ou citronnée). Une touche de houblon légèrement épicée, florale ou herbale est acceptable. ","Les Roggenbier sont de couleur orange cuivrée claire à rouge très sombre ou brun cuivré. Leur mousse est importante, crémeuse dense, persistante, de couleur blanc-cassé à brun léger. Ces sont des bières troubles. ","Céréales, saveurs épicées modérément basses à modérément fortes du seigle, les Roggenbier présentent souvent un goût de pain noir au seigle (Pumpernickel). Une amertume faible à modérément faible permet une entrée de bouche maltée sucrée (parfois avec une touche de caramel) arrivant avant que la banane, le clou de girofle et le seigle ne prennent le dessus. Saveurs typiques des levures Weizen faible à modérées, même si l'équilibre peut varier. Fin de bouche modérément sèche accompagnée d'un faible goût de céréales avec une touche d'amertume en finale venant du seigle. Des notes houblonnées faibles ou modérément épicée, herbales ou florales sont acceptables et peuvent persister après la consommation. ","Corps moyen à plein. Haute carbonatation. Modérément onctueuse. ","Le seigle est une céréale sans enveloppe rendant l'empâtage difficile, la maische présente une texture plus épaisse, visqueuse et collante. Le seigle est une céréale dont le goût domine facilement celui des autres céréales utilisées. Il est inadéquat d'ajouter des graines de carvis a une Roggenbier comme le font parfois certains brasseurs américains. Les arômes de seigle ne doivent provenir que des malts de seigles. ","À l'origine, ce sont des bières spéciales venant de Regensburg en Bavière. Ce style a pratiquement disparu. ","Les malts de seigles constituent au moins 50 % du total des grains et peuvent aller jusqu'à 60-65%. Le reste est complété par des malts clairs, Munich, malts de froment, crystal et/ou des petits ajouts de malts sombres désamérisés pour un ajustement de la couleur. Les levures weizen apportent des phénols épicés de clous de girofle et des esters de banane. Un usage parcimonieux des houblons de type Saaz en amérisant ou aromatique peut être utilisé. Des températures de fermentation basses favorisent les phénols en empêchant la formation des esters. Le brassage par décoction est traditionnellement utilisé (comme pour les weissbiers). ","Une variante très reconnaissable des Dunkelweizen utilisant du seigle pour remplacer le froment. Les bières au seigle américaines ne possèderont pas le caractère des Weissbiers mais présenterons des arômes de houblon plus prononcés. ","Thurn und Taxis Roggen "]
["27A - Sahti",1.0760000000000001,1.1200000000000001,1.016,1.02,7.88,43.339999999999996,7,15,7,11,4,22,1076,1120,1016,1020,"27A","Sahti",null,null,{"$f":"VLOOKUP(A101,Feuil2!$A$1:$H$74,2,FALSE)","v":{"$error":"#N/A"}},{"$f":"VLOOKUP(A101,Feuil2!$A$1:$H$74,3,FALSE)","v":{"$error":"#N/A"}},{"$f":"VLOOKUP(A101,Feuil2!$A$1:$H$74,4,FALSE)","v":{"$error":"#N/A"}},{"$f":"VLOOKUP(A101,Feuil2!$A$1:$H$74,5,FALSE)","v":{"$error":"#N/A"}},{"$f":"VLOOKUP(A101,Feuil2!$A$1:$H$74,6,FALSE)","v":{"$error":"#N/A"}},{"$f":"VLOOKUP(A101,Feuil2!$A$1:$H$74,7,FALSE)","v":{"$error":"#N/A"}},{"$f":"VLOOKUP(A101,Feuil2!$A$1:$H$74,8,FALSE)","v":{"$error":"#N/A"}},"27-Historical Beer","Wheat Beer","European Farmhouse Beer","Scandinavia",1016,"27A - Sahti",1020,"A sweet, heavy, strong traditional Finnish beer with a rye, juniper, and juniper berry flavor and a strong banana-clove yeast character.","High banana esters with moderate to moderately-high clove-like phenolics. Not sour. May have a low to moderate juniper character. Grainy malt, caramel, and rye in background. Light alcohol aroma. Sweet malt impression.","Pale yellow to dark brown color; most are medium to dark amber. Generally quite cloudy (unfiltered). Little head, due to low carbonation.","Strong banana and moderate to moderately-high clove yeast character. Moderate grainy rye flavor. Low bitterness. Fairly sweet finish. Juniper can add a pine-like flavor; juniper berries can add a gin-like flavor; both should be complementary, not dominant. No noticeable hop flavor. Moderate caramel flavor but no roast. Multi-layered and complex, with kind of a wortiness that is unusual in other beer styles. Not sour.","Thick, viscous, and heavy with protein (no boil means no hot break). Nearly still to medium-low carbonation. Strongly warming from the alcohol level and young age, but often masked by sweetness.","The use of rye doesn’t mean that it should taste like caraway (a dominant flavor in rye bread). The use of juniper berries will give a flavor like gin (similarly flavored with juniper berries). The juniper acts a bit like hops in the balance and flavor, providing some counterpoint to the sweet malt.","An indigenous traditional style from Finland; a farmhouse tradition for at least 500 years, often brewed for festive occasions like summer weddings, and consumed within a week or two of brewing. A similar tradition exists in Estonia, where the beer is known as koduolu.","Malted barley along with malted and unmalted grains, often rye. Low hops. Juniper boughs used for lautering (traditionally in a hollowed-out log), but often producing a juniper/berry character. Often uses top-fermenting baker’s yeast in a fast, warm fermentation (German Weizen yeast is a good substitute). Not boiled; a long mash steep is used, with a separately added hop tea.","Strong resemblance to Weizenbocks, but sweet and thick with a rye and juniper character.","Now made year-round by several breweries in Finland.",null,"Une bière traditionnelle forte finlandaise, forte, douce, charpentée avec du seigle, du genévrier et la saveur des baies de genièvre ainsi un fort caractère de levure sur la banane et le clou de girofle. ","Importants esters de bananes avec des composés phénoliques modérés ou modérément élevés de clou de girofle. Pas aigre. Peut avoir un faible à modérée caractère de genièvre. Malt sur les céréales, le caramel et le seigle en arrière-plan. Arôme d'alcool léger. Douce impression de malt. ","Couleur jaune claire à brune foncée; la plupart sont ambrée moyenne à foncée. Généralement très trouble (non filtrée). Mousse mince en raison de la faible carbonatation. ","Saveurs de levures fortes de banane et modérées à modérément élevées de clous de girofle. Saveur modérée de céréale de seigle. Faible amertume. Finale assez douce. Le genévrier peut ajouter une saveur de pin; les baies de genièvre peuvent ajouter une saveur qui ressemble au gin; les deux doivent être complémentaires, pas dominant. Sans saveur de houblon perceptible. Goût de caramel modérée mais aucun goût de grillé. Saveurs multiples et complexes avec une sorte caractère de moût qui est inhabituel dans d'autres styles de bière. Pas aigre. ","Corps épais, visqueux et lourd avec des protéines (pas d'ébullition ne signifie pas de cassure à chaud). Presque plate à moyennement carbonatée. Fort réchauffement du au taux d'alcool et au jeune âge mais souvent masquée par la douceur. ","L'utilisation du seigle ne signifie pas qu'il doit avoir le goût de cumin (une saveur dominante dans le pain de seigle). L'utilisation de baies de genièvre donnera une saveur comme du Gin (boisson alcoolisée similaire aromatisée aux baies de genièvre). Le genévrier agit un peu comme le houblon dans l'équilibre et la saveur en fournissant un certain contrepoids au malt sucré. ","Un style traditionnel endémique de Finlande; une tradition agricole d'au moins 500 ans souvent brassée pour les occasions festives comme les mariages d'été et consommée une semaine ou deux après le brassage. Une tradition similaire existe en Estonie, où la bière est connue sous le nom de koduolu. ","Orges maltées avec d'autres céréales maltées ou non, souvent du seigle. Peu de houblon. Les branches de genévrier utilisées pour la filtration (traditionnellement dans un tronc évidé) produisaient souvent un caractère de bois ou de baies de genièvre. Utilisation fréquente de levure de fermentation haute de type levure de boulanger avec une fermentation chaude et rapide (Le levure allemande Weizen est un bon substitut). Non bouillie; un long palier d'empâtage est utilisé avec une décoction de houblon ajouté séparément. ","Il existe des bières apparentées: Sur l'île suédoise de Gotland: \"Gotlandsdricke\", \"Gotlandsdricku\" ou \"Dricku\".Sur l'île estonienne de Saaremaa: \"Koduõlu\" ou \"Taluõlu\".Forte ressemblance avec les Weizenbocks mais douce et épaisse avec un caractère de seigle et de genièvre. "]
["28A - Brett Beer",null,null,null,null,null,null,"Variable by base style","Variable by base style","Variable by base style","Variable by base style","Variable by base style","Variable by base style","Variable by base style","Variable by base style","Variable by base style","Variable by base style","28A","Brett Beer",2,4,{"$f":"VLOOKUP(A102,Feuil2!$A$1:$H$74,2,FALSE)","v":{"$error":"#N/A"}},{"$f":"VLOOKUP(A102,Feuil2!$A$1:$H$74,3,FALSE)","v":{"$error":"#N/A"}},{"$f":"VLOOKUP(A102,Feuil2!$A$1:$H$74,4,FALSE)","v":{"$error":"#N/A"}},{"$f":"VLOOKUP(A102,Feuil2!$A$1:$H$74,5,FALSE)","v":{"$error":"#N/A"}},{"$f":"VLOOKUP(A102,Feuil2!$A$1:$H$74,6,FALSE)","v":{"$error":"#N/A"}},{"$f":"VLOOKUP(A102,Feuil2!$A$1:$H$74,7,FALSE)","v":{"$error":"#N/A"}},{"$f":"VLOOKUP(A102,Feuil2!$A$1:$H$74,8,FALSE)","v":{"$error":"#N/A"}},"28-American Wild Ale","Specialty Beer","Specialty Beer","Specialty Beer","Variable by base style","28A - Brett Beer","Variable by base style","Most often drier and fruitier than the base style suggests. Funky notes range from low to high, depending on the age of the beer and strain(s) of Brett used. Funkiness is generally restrained in younger 100% Brett examples, but tends to increase with age. May possess a light acidity, although this does not come from Brett.","Variable by base style. Young Brett-fermented beers will possess more fruity notes (e.g., tropical fruit, stone fruit, or citrus), but this is variable by the strain(s) of Brett used. For 100% Brett beers heavily hopped with American hop varieties, the fermentation-derived flavors are often difficult to tease from the hop aromatics. Older 100% Brett beers may start to develop a little funk (e.g., barnyard, wet hay, or slightly earthy or smoky notes), but this character should not dominate. If the beer is fermented with a brewer’s yeast in addition to Brett, some of the character of the primary yeast may remain. A faint sourness is acceptable but should not be a prominent character.","Variable by base style. Clarity can be variable, and depends on the base style and ingredients used. Some haze is not necessarily a fault.","Variable by base style. Brett character may range from minimal to aggressive. Can be quite fruity (e.g., tropical fruit, berry, stone fruit, citrus), or have some smoky, earthy, or barnyard character. Should not be unpleasantly funky, such as Band-Aid, fetid, nail polish remover, cheese, etc. Light sourness is acceptable with the beer being lightly tart, but should not be truly sour. Always fruitier when young, gaining more funk with age. May not be acetic or lactic. Malt flavors are often less pronounced than in the base style, leaving a beer most often dry and crisp due to high attenuation by the Brett.","Variable by base style. Generally a light body, lighter than what might be expected from the base style but an overly thin body is a fault. Generally moderate to high carbonation. Head retention is variable.","The base style describes most of the character of these beers, but the addition of Brett ensures a drier, thinner, and funkier product. Younger versions are brighter and fruitier, while older ones possess more depth of funk and may lose more of the base style character. Wood-aged versions should be entered in the Wild Specialty Beer style. The Brett character should always meld with the style; these beers should never be a ‘Brett bomb’. Note that Brett does not produce lactic acid.","Modern American craft beer interpretations of Belgian wild ales, or experimentations inspired by Belgian wild ales or historical English beers with Brett. 100% Brett beers gained popularity after the year 2000; Port Brewing Mo Betta Bretta was one of the first celebrated examples.","Virtually any style of beer, fermented in any manner, then finished with one or more strains of Brett. Alternatively, a beer made with Brett as the sole fermentation strain.","Compared to the same beer style without Brett, a Brett Beer will be drier, more highly attenuated, fruitier, lighter in body, and slightly funkier as it ages. Less sourness and depth than Belgian ‘wild’ ales. ","Boulevard Saison Brett, Hill Farmstead Arthur, Logsdon Seizoen Bretta, Russian River Sanctification, The Bruery Saison Rue, Victory Helios",null,"Le plus souvent plus sèche et plus fruitée que le style d'origine le suggère. Les notes funky vont de faibles à élevées en fonction de l'âge de la bière et de la ou des souche(s) de Brett utilisées. Le côté funky est généralement présent dans les exemplaires jeunes 100% Brett, mais tend à augmenter avec l'âge. Peut posséder une légère acidité, bien que cela ne vient pas des Brett. ","Variable selon le style d'origine. Les bières jeunes fermentées aux Bretts auront des notes plus fruitées (par exemple fruits tropicaux, fruits à noyau ou agrumes), mais c'est très variable suivant les souches de Brett utilisées. Pour les bières 100% Brett fortement houblonnées avec des variétés de houblons américains, les flaveurs dérivées de la fermentation sont souvent difficiles à dissocier des houblons aromatiques. Les bières 100% Brett vieillies peuvent commencer à développer un peu de funk (par exemple basse-cour, foin mouillé ou des notes légèrement terreuses ou fumées) mais ces caractères ne doivent pas être dominants. Si la bière est fermentée avec de la levure de brasserie en plus des Brett, une partie du caractère de la levure peut persister. Une légère acidité est acceptable, mais ne doit pas être une caractéristique de premier plan. ","Variable selon le style de base. La limpidité peut être variable, et dépend du style de base et des ingrédients utilisés. Un certain trouble n'est pas nécessairement un défaut. ","Variable selon le style d'origine. Le caractère des Brett peut varier de minimal à agressif. Peut être très fruitée (par exemple fruits tropicaux, baies, fruits à noyau, agrumes) ou avoir certain caractère fumé, terreux ou de basse-cour. Ne doit pas être désagréablement funky avec des saveurs telles que sparadrap, fétide, vernis à ongles, fromage, etc. Une légère acidité est acceptable avec une bière étant légèrement âpre mais qui ne doit pas être vraiment aigre. Toujours fruité quand elle est jeune mais gagne en funk avec l'âge. Ne doit pas être acétique ou lactique. Les saveurs de malt sont souvent moins prononcées que dans le style d'origine et laisse à la bière le plus souvent une sécheresse et coté pétillant en raison de la forte atténuation par les Brett. ","Variable selon le style d'origine. En général, un corps léger, plus léger que ce qu'on pourrait attendre avec le style de référence, mais un corps trop léger est une faute. Carbonatation généralement modérée à élevée. La tenue de la mousse est variable. ","Le style de référence décrit la plupart des caractéristiques de ces bières, mais l'ajout de Brett garantie un produit plus sec, avec moins de corps et plus funky. Les versions plus jeunes sont plus vives et plus fruitées tandis que celles plus âgées possèdent plus de profondeur et de funk, et peuvent s'éloigner des caractéristiques du style de référence. Les versions élevées sous bois doivent être inscrites dans le style Wild Beer. Le caractère des Brett doit toujours fusionner avec le style; ces bières ne doivent jamais être une \"Explosion de Brett\". Notez que les Brett ne produisent pas d'acide lactique. ","Interprétations modernes des bières artisanales belges de type Wild Ale ou bien expérimentations inspirées par des bières belges sauvages ou des bières anglaises historiques avec des Brett. Les bières 100% Brett ont gagné en popularité après l'an 2000; Port Brewing Mo Betta Bretta a été l'un des premiers exemples reconnu. ","Potentiellement tous les styles de bières, fermentées de n'importe quelle manière, puis terminées avec une ou plusieurs souches de Brett. Alternativement, une bière faite avec des Brett comme seule souche de fermentation. ","En comparaison avec le même style de bière sans Brett, une Brett Beer sera plus sèche, plus fortement atténuée, fruitée, avec moins de corps, et un peu plus de funk à mesure qu'elle vieillit. Moins d'aigreur et de profondeur que les bières «sauvages» belges ","Boulevard Saison Brett, Hill Farmstead Arthur, Logsdon Seizoen Bretta, Russian River Sanctification, The Bruery Saison Rue, Victory Helios "]
["28B - Mixed-Fermentation Sour Beer",null,null,null,null,null,null,"Variable by base style","Variable by base style","Variable by base style","Variable by base style","Variable by base style","Variable by base style","Variable by base style","Variable by base style","Variable by base style","Variable by base style","28B","Mixed-Fermentation Sour Beer",1.5,3.5,{"$f":"VLOOKUP(A103,Feuil2!$A$1:$H$74,2,FALSE)","v":{"$error":"#N/A"}},{"$f":"VLOOKUP(A103,Feuil2!$A$1:$H$74,3,FALSE)","v":{"$error":"#N/A"}},{"$f":"VLOOKUP(A103,Feuil2!$A$1:$H$74,4,FALSE)","v":{"$error":"#N/A"}},{"$f":"VLOOKUP(A103,Feuil2!$A$1:$H$74,5,FALSE)","v":{"$error":"#N/A"}},{"$f":"VLOOKUP(A103,Feuil2!$A$1:$H$74,6,FALSE)","v":{"$error":"#N/A"}},{"$f":"VLOOKUP(A103,Feuil2!$A$1:$H$74,7,FALSE)","v":{"$error":"#N/A"}},{"$f":"VLOOKUP(A103,Feuil2!$A$1:$H$74,8,FALSE)","v":{"$error":"#N/A"}},"28-American Wild Ale","Specialty Beer","Specialty Beer","Specialty Beer","Variable by base style","28B - Mixed-Fermentation Sour Beer","Variable by base style","A sour and/or funky version of a base style of beer.","Variable by base style. The contribution of non-Saccharomyces microbes should be noticeable to strong, and often contribute a sour and/or funky, wild note. The best examples will display a range of aromatics, rather than a single dominant character. The aroma should be inviting, not harsh or unpleasant. ","Variable by base style. Clarity can be variable; some haze is not a fault. Head retention can be poor due to high levels of acid or anti-foam properties of some lactobacillus strains.","Variable by base style. Look for an agreeable balance between the base beer and the fermentation character. A range of results is possible from fairly high acidity/funk to a subtle, pleasant, harmonious beer. The best examples are pleasurable to drink with the esters and phenols complementing the malt and/or hops. The wild character can be prominent, but does not need to be dominating in a style with an otherwise strong malt/hop profile. Acidity should be firm yet enjoyable, but should not be biting or vinegary; prominent or objectionable/offensive acetic acid is a fault. Bitterness tends to be low, especially as sourness increases.","Variable by base style. Generally a light body, almost always lighter than what might be expected from the base style. Generally moderate to high carbonation, although often lower in higher alcohol examples.","These beers may be aged in wood, but any wood character should not be a primary or dominant flavor. Sour beers are typically not bitter as these flavors clash. The base beer style becomes less relevant because the various yeast and bacteria tend to dominate the profile. Inappropriate characteristics include diacetyl, solvent, ropy/viscous texture, and heavy oxidation.","Modern American craft beer interpretations of Belgian sour ales, or experimentations inspired by Belgian sour ales.","Virtually any style of beer. Usually fermented by Lactobacillus and/or Pediococcus, often in conjunction with Saccharomyces and/or Brettanomyces. Can also be a blend of styles. Wood or barrel aging is very common, but not required.","A sour and/or funky version of a base style.","Boulevard Love Child, Cascade Vlad the Imp Aler, Jester King Le Petit Prince, Jolly Pumpkin Calabaza Blanca, Russian River Temptation, The Bruery Rueuze, The Bruery Tart of Darkness",null,"Une version acide et/ou funky d'un style de bière classique de référence. ","Variable selon le style de référence. L'apport des mirco-organismes autre que les Saccharomyces doit être perceptible à fort et contribue souvent à l'aicidité et/ou l'originalité des notes sauvage. Les meilleurs exemples affichent une palette de nuances aromatiques plutôt qu'un caractère dominant unique. L'arôme doit être accueillant, pas agressif ni désagréable. ","Variable selon le style de référence. La limpidité peut être variable; le trouble n'est pas un défaut. La tenue de la mousse peut être médiocre en raison des niveaux élevés d'acidité ou aux propriétés anti-mousse de certaines souches de lactobacilles. ","Variable selon le style de référence. Cherchez un équilibre agréable entre la bière de base et le caractère de la fermentation. Une palette de bières résultantes est possible allant d'une assez forte acidité / originalité à une bière subtile, agréable et harmonieuse. Les meilleurs exemples sont agréables à boire avec des esters et des phénols complétant le malt et/ou houblon. Le caractère sauvage peut être important mais n'a pas besoin d'être dominant dans un style qui a par ailleurs un profil de malt et de houblons solide. L'acidité doit être ferme mais très agréable et ne doit pas être mordante ou vinaigre; De l'acide acétique au premier plan ou objectivement offensif est une faute. L'amertume tend à être faible, d'autant plus que l'aigreur augmente. ","Variable selon le style de référence. En général, un corps léger, presque toujours moins corsée que ce qu'on pourrait attendre du style d'origine. Carbonatation généralement modérée à élevée, bien que souvent plus faible dans les exemples aux taux d'alcools supérieurs. ","Ces bières peuvent être vieillies avec du bois, mais le caractère boisé ne doit pas être une saveur primaire ou dominante. Les bières acides sont généralement peu amères car ces saveurs s'affrontent. Le style de la bière d'origine devient moins pertinent car les différentes levures et bactéries ont tendance à dominer le profil. Des caractéristiques inappropriées peuvent être diacétyle, solvant, texture visqueuse/gluante et une forte oxydation. ","Interprétations artisanales modernes, à l'origine américaines, des bières aigres belges ou expérimentations inspirées par des bières aigres belges. ","Potentiellement tous les styles de bière. Habituellement fermenté par Lactobacillus et/ou Pediococcus, souvent en association avec Saccharomyces et/ou Brettanomyces. Peut également être un mélange de styles. Les élevages en barrique ou au bois sont très communs, mais pas obligatoire. ","Une version aigre et/ou décalée du style classique d'origine. ","Boulevard Love Child, Cascade Vlad the Imp Aler, Jester King Le Petit Prince, Jolly Pumpkin Calabaza Blanca, Russian River Temptation, The Bruery Rueuze, The Bruery Tart of Darkness  "]
["28C - Wild Specialty Beer",null,null,null,null,null,null,"Variable by base style","Variable by base style","Variable by base style","Variable by base style","Variable by base style","Variable by base style","Variable by base style","Variable by base style","Variable by base style","Variable by base style","28C","Wild Specialty Beer",1.5,3.5,{"$f":"VLOOKUP(A104,Feuil2!$A$1:$H$74,2,FALSE)","v":{"$error":"#N/A"}},{"$f":"VLOOKUP(A104,Feuil2!$A$1:$H$74,3,FALSE)","v":{"$error":"#N/A"}},{"$f":"VLOOKUP(A104,Feuil2!$A$1:$H$74,4,FALSE)","v":{"$error":"#N/A"}},{"$f":"VLOOKUP(A104,Feuil2!$A$1:$H$74,5,FALSE)","v":{"$error":"#N/A"}},{"$f":"VLOOKUP(A104,Feuil2!$A$1:$H$74,6,FALSE)","v":{"$error":"#N/A"}},{"$f":"VLOOKUP(A104,Feuil2!$A$1:$H$74,7,FALSE)","v":{"$error":"#N/A"}},{"$f":"VLOOKUP(A104,Feuil2!$A$1:$H$74,8,FALSE)","v":{"$error":"#N/A"}},"28-American Wild Ale","Specialty Beer","Specialty Beer","Specialty Beer","Variable by base style","28C - Wild Specialty Beer","Variable by base style","A sour and/or funky version of a fruit, herb, or spice beer, or a wild beer aged in wood. If wood-aged, the wood should not be the primary or dominant character.","Variable by base style. Should show the fruit, sour and/or funk of a wild fermentation, as well as the characteristics of the special ingredients used. The best examples will blend the aromatics from the fermentation with the special ingredients, creating an aroma that may be difficult to attribute precisely. ","Variable by base style, generally showing a color, tint, or hue from any fruit (if used) in both the beer and the head. Clarity can be variable; some haze is not a fault. Head retention is often poor.","Variable by base style. Should show the fruit, sour and/or funk of a wild fermentation, as well as the characteristics of the special ingredients used. Any fruit sweetness is generally gone, so only the esters typically remain from the fruit. The sour character from the fruit and wild fermentation could be prominent, but should not be overwhelming. The acidity and tannin from any fruit can both enhance the dryness of the beer, so care must be taken with the balance. The acidity should enhance the perception of the fruit flavor, not detract from it. Wood notes, if present, add flavor but should be balanced.","Variable by base style. Generally a light body, lighter than what might be expected from the base style. Generally moderate to high carbonation; carbonation should balance the base style if one is declared. The presence of tannin from some fruit or wood can provide a slight astringency, enhance the body, or make the beer seem drier than it is.","A wild beer featuring fruit, herbs, spices, or wood based on a style other than lambic. Could be another Classic Style (normally sour or not), or something more generic. These beers may be aged in wood, but any wood character should not be a primary or dominant flavor.","Modern American craft beer interpretations of Belgian wild ales, or experimentations inspired by Belgian wild ales.","Virtually any style of beer. Any combination of Saccharomyces, Brettanomyces, Lactobacillus, Pediococcus, or other similar fermenters. Can also be a blend of styles. While cherries, raspberries, and peaches are most common, other fruits can be used as well. Vegetables with fruit-like characteristics (chile, rhubarb, pumpkin, etc.) may also be used. Wood or barrel aging is very common, but not required.","Like a fruit, herb, spice, or wood beer, but sour and/or funky.","Cascade Bourbonic Plague, Jester King Atrial Rubicite, New Belgium Eric’s Ale, New Glarus Belgian Red, Russian River Supplication, The Lost Abbey Cuvee de Tomme",null,"Une version acide et/ou décalée de bière aux fruits, herbes ou aux épices ou une bière sauvage vieillie au bois. Si boisé, le bois ne doit pas être le caractère principal ou dominant. ","Variable selon le style de référence. Doit mettre en avant le fruité, l'acidité et/ou le côté aigre et original d'une fermentation sauvage, ainsi que les caractéristiques des ingrédients spéciaux utilisés. Les meilleurs exemples associent les composés aromatiques de la fermentation avec les ingrédients spéciaux, créant un arôme qu'il peut être difficile d'attribuer précisément. ","Variable selon le style de référence, avec généralement une couleur, une teinte et des nuances de tous les fruits (si utilisés) à la fois dans la bière et la mousse. La limpidité peut être variable et un léger trouble n'est pas un défaut. La tenue de la tête de mousse est souvent médiocre. ","Variable selon le style de référence. Doit mettre en avant le fruité, l'acidité et/ou l'originalité d'une fermentation sauvage, ainsi que les caractéristiques des ingrédients spéciaux utilisés. Tout le côté sucré des fruits a généralement disparu, de sorte que seuls demeurent habituellement les esters du fruit. Le caractère aigre du fruit et de la fermentation sauvage peut être important, mais ne doit pas être dominante. L'acidité et les tanins de tous les type de fruits peuvent tous les deux augmenter la sécheresse de la bière, une attention particulière doit être prise pour conserver l'équilibre. L'acidité doit augmenter la perception de la saveur des fruits et non lui nuire. Les notes boisées, si elles sont présentes, doivent ajouter de la saveur et être équilibrées. ","Variable selon le style de référence. En général, un corps léger, plus léger que ce qu'on pourrait attendre du style d'origine. Une carbonatation généralement modérée à élevée qui doit contrebalancer le style d'origine s'il est défini. La présence de tanin de certains fruits ou de boisé peut fournir une légère astringence, améliorer le corps ou faire que de la bière semble plus sèche qu'elle ne l’est. ","Une bière sauvage avec des fruits, des herbes, des épices, ou boisée sur un style autre que le Lambic. Peut-être en rapport avec un autre style classique (normalement aigre ou pas), ou quelque chose de plus générique. Ces bières peuvent être vieillies sur bois mais aucun caractère boisé ne doit être une saveur principale ou dominante. ","Interprétations artisanales modernes à l'origine américaines des Bières Belges de fermentation spontanée ou expérimentations inspirées par des Bières Belges de fermentation spontanée. ","Potentiellement tous styles de bière. Toutes les combinaisons de Saccharomyces, Brettanomyces, Lactobacillus, Pediococcus, ou d'autres ferments similaires. Peut également être un mélange de styles. Bien que les cerises, les framboises et les pêches soient les plus courantes, d'autres fruits peuvent aussi bien être utilisés. Des légumes avec des caractéristiques de fruits (piment, rhubarbe, citrouille, etc.) peuvent également être utilisés. L'élevage sur bois ou en barrique est très commun, mais pas obligatoire. ","Comme une bière aux fruits, herbes, épices ou boisée mais acide et/ou funky. ","Cascade Bourbonic Plague, Jester King Atrial Rubicite, New Belgium Eric’s Ale, New Glarus Belgian Red, Russian River Supplication, The Lost Abbey Cuvee de Tomme  "]
["29A - Fruit Beer",null,null,null,null,null,null,"Vary depending on the underlying base beer, but the fruit will often be reflected in the color","Vary depending on the underlying base beer, but the fruit will often be reflected in the color","Vary depending on the underlying base beer, but the fruit will often be reflected in the color","Vary depending on the underlying base beer, but the fruit will often be reflected in the color","Vary depending on the underlying base beer, but the fruit will often be reflected in the color","Vary depending on the underlying base beer, but the fruit will often be reflected in the color","Vary depending on the underlying base beer, but the fruit will often be reflected in the color","Vary depending on the underlying base beer, but the fruit will often be reflected in the color","Vary depending on the underlying base beer, but the fruit will often be reflected in the color","Vary depending on the underlying base beer, but the fruit will often be reflected in the color","29A","Fruit Beer",null,null,{"$f":"VLOOKUP(A105,Feuil2!$A$1:$H$74,2,FALSE)","v":{"$error":"#N/A"}},{"$f":"VLOOKUP(A105,Feuil2!$A$1:$H$74,3,FALSE)","v":{"$error":"#N/A"}},{"$f":"VLOOKUP(A105,Feuil2!$A$1:$H$74,4,FALSE)","v":{"$error":"#N/A"}},{"$f":"VLOOKUP(A105,Feuil2!$A$1:$H$74,5,FALSE)","v":{"$error":"#N/A"}},{"$f":"VLOOKUP(A105,Feuil2!$A$1:$H$74,6,FALSE)","v":{"$error":"#N/A"}},{"$f":"VLOOKUP(A105,Feuil2!$A$1:$H$74,7,FALSE)","v":{"$error":"#N/A"}},{"$f":"VLOOKUP(A105,Feuil2!$A$1:$H$74,8,FALSE)","v":{"$error":"#N/A"}},"29-Fruit Beer","Specialty Beer","Specialty Beer","Specialty Beer","Vary depending on the underlying base beer, but the fruit will often be reflected in the color","29A - Fruit Beer","Vary depending on the underlying base beer, but the fruit will often be reflected in the color","A harmonious marriage of fruit and beer, but still recognizable as a beer. The fruit character should be evident but in balance with the beer, not so forward as to suggest an artificial product.","The distinctive aromatics associated with the declared fruit should be noticeable in the aroma; however, note that some fruit (e.g., raspberries, cherries) have stronger aromas and are more distinctive than others (e.g., blueberries, strawberries) – allow for a range of fruit character and intensity from subtle to aggressive. The additional aromatics should blend well with whatever aromatics are appropriate for the declared base beer style.","Appearance should be appropriate for the declared base beer and declared fruit. For lighter-colored beers with fruits that exhibit distinctive colors, the color should be noticeable. Note that the color of fruit in beer is often lighter than the flesh of the fruit itself and may take on slightly different shades. Fruit beers may have some haze or be clear, although haze is a generally undesirable. The head may take on some of the color of the fruit.","As with aroma, the distinctive flavor character associated with the declared fruit should be noticeable, and may range in intensity from subtle to aggressive. The balance of fruit with the underlying beer is vital, and the fruit character should not be so artificial and/or inappropriately overpowering as to suggest a ‘fruit juice drink.’ Hop bitterness, flavor, malt flavors, alcohol content, and fermentation by-products, such as esters, should be appropriate to the base beer and be harmonious and balanced with the distinctive fruit flavors present. Remember that fruit generally add flavor not sweetness to fruit beers. The sugar found in fruit is usually fully fermented and contributes to lighter flavors and a drier finish than might be expected for the declared base style. However, residual sweetness is not necessarily a negative characteristic unless it has a raw, unfermented quality.","Mouthfeel may vary depending on the base beer selected and as appropriate to that base beer. Body and carbonation levels should be appropriate to the declared base beer style. Fruit generally adds fermentables that tend to thin out the beer; the resulting beer may seem lighter than expected for the declared base style. Smaller and darker fruit have a tendency to add a tannic depth that should overwhelm the base beer.","Overall balance is the key to presenting a well-made fruit beer. The fruit should complement the original style and not overwhelm it. The key attributes of the underlying style will be different with the addition of fruit; do not expect the base beer to taste the same as the unadulterated version. Judge the beer based on the pleasantness and balance of the resulting combination.",null,null,null,"Bell’s Cherry Stout, Dogfish Head Aprihop, Ebulum Elderberry Black Ale, Founders Rübæus",null,"Un mariage harmonieux des fruits et de la bière qui reste malgré tout reconnaissable comme une bière. Le caractère des fruits doit être évident, mais en accord avec la bière et pas si poussé qu'il pourrait suggérer un produit artificiel. ","Les notes aromatiques distinctives associées aux fruits déclarés doivent se ressentir dans l'arôme; Toutefois, notez que certains fruits (par exemple, les framboises, les cerises) ont des arômes plus forts et sont plus distinctifs que d'autres (par exemple les myrtilles ou les fraises) - permettant une palette d'arômes de fruits et une intensité allant de subtile à agressive. Les arômes supplémentaires doivent bien s'associer avec toutes les notes aromatiques appropriés au style de bière d'origine déclarée. ","L'apparence doit être en accord avec la bière de référence et les fruits déclarés. Pour des bières de base légèrement colorées avec des fruits qui présentent une couleur distinctive, la nuance doit être perceptible. Notez que la couleur des fruits dans une bière est souvent plus subtile que la chair du fruit en lui-même et peut prendre des nuances légèrement différentes. Les bières aux Fruits peuvent avoir un trouble ou être limpide bien que le trouble est un généralement indésirable. La mousse peut avoir en partie la couleur du fruit. ","Comme pour l'arôme, les saveurs distinctives associées au fruit déclaré doivent être perceptibles et peuvent varier en intensité de subtiles à agressives. L'équilibre des fruits avec la bière servant de base est essentiel et le caractère de fruit ne doit pas prendre le dessus de manière artificielle et/ou inappropriée au point de suggérer un \"jus de fruits\". L'amertume et la saveur du houblon, les saveurs de malt, la teneur en alcool et les sous-produits de la fermentation tels que les esters, doivent être adaptés à la bière servant de base et être harmonieux et équilibrés avec les arômes qui caractérisent les fruits présents. Rappelez-vous que les fruits apportent d'une manière générale de la saveur et non un gout sucré aux Bières aux Fruits. Le sucre contenu dans les fruits est généralement entièrement fermenté et contribue à des saveurs légères et une fin en bouche plus sèche que l'on pourrait attendre du style de référence déclarée. Cependant, du sucre résiduel n'est pas nécessairement une caractéristique négative, sauf si il est de nature cru et non fermenté. ","Les sensations en bouche sont variables en fonction de la bière servant de base sélectionnée et en accord avec cette bière de base. Le corps et la carbonatation doivent être à des niveaux appropriés au style de la bière d'origine déclarée. Les fruits ajoutent généralement des fermentescibles qui tendent à moins corsé la bière; la bière résultante peut sembler plus légère que prévue pour le style de base déclarée. Les fruits petits et foncés ont tendance à ajouter un côté tannique profond qui doit englober la bière de base. ","L'équilibre global est la clé pour présenter une bière fruitée bien faite. Le fruit doit compléter le style d'origine et non le submerger. Les attributs majeurs du style servant de base seront différents avec l'ajout de fruits; ne vous attendez pas au même goût que la version sans ajout. Jugez la bière sur la base du côté agréable et de l'équilibre de la combinaison qui en résulte. ","L'équilibre global est la clé pour présenter une bière aux fruits et aux épices réussie. Les fruits et les épices doivent chacun compléter le style originel et non l'écraser. Les principaux attributs du style servant de base seront différents avec l'ajout de fruits et d'épices; ne vous attendez pas au même gout que la bière de base dans sa version pure. Juger de la bière sur le côté plaisant et l'équilibre de l'association qui en résulte. Le brasseur doit savoir que certaines combinaisons de styles de bière de base avec les fruits/épices marchent bien ensemble, tandis que d'autres ne sont pas faites pour des combinaisons harmonieuses. Chaque fois que des fruits, des épices, des herbes ou des légumes sont déclarés, chacun d'eux doit être perceptible et se distinguer à sa manière (pas nécessairement identifiables de manière individuelle; l'équilibre avec les autres ingrédients restant la clé) - en d'autres termes, la bière doit se lire comme une bière épicée aux fruits, mais sans avoir à dire que des fruits et des épices spécifiques sont présents (même si ils sont déclarés). ",null,null,"Bell’s Cherry Stout, Dogfish Head Aprihop, Ebulum Elderberry Black Ale, Founders Rübæus "]
["29B - Fruit and Spice Beer",null,null,null,null,null,null,"Vary depending on the underlying base beer, but the fruit will often be reflected in the color","Vary depending on the underlying base beer, but the fruit will often be reflected in the color","Vary depending on the underlying base beer, but the fruit will often be reflected in the color","Vary depending on the underlying base beer, but the fruit will often be reflected in the color","Vary depending on the underlying base beer, but the fruit will often be reflected in the color","Vary depending on the underlying base beer, but the fruit will often be reflected in the color","Vary depending on the underlying base beer, but the fruit will often be reflected in the color","Vary depending on the underlying base beer, but the fruit will often be reflected in the color","Vary depending on the underlying base beer, but the fruit will often be reflected in the color","Vary depending on the underlying base beer, but the fruit will often be reflected in the color","29B","Fruit and Spice Beer",null,null,{"$f":"VLOOKUP(A106,Feuil2!$A$1:$H$74,2,FALSE)","v":{"$error":"#N/A"}},{"$f":"VLOOKUP(A106,Feuil2!$A$1:$H$74,3,FALSE)","v":{"$error":"#N/A"}},{"$f":"VLOOKUP(A106,Feuil2!$A$1:$H$74,4,FALSE)","v":{"$error":"#N/A"}},{"$f":"VLOOKUP(A106,Feuil2!$A$1:$H$74,5,FALSE)","v":{"$error":"#N/A"}},{"$f":"VLOOKUP(A106,Feuil2!$A$1:$H$74,6,FALSE)","v":{"$error":"#N/A"}},{"$f":"VLOOKUP(A106,Feuil2!$A$1:$H$74,7,FALSE)","v":{"$error":"#N/A"}},{"$f":"VLOOKUP(A106,Feuil2!$A$1:$H$74,8,FALSE)","v":{"$error":"#N/A"}},"29-Fruit Beer","Specialty Beer","Specialty Beer","Specialty Beer","Vary depending on the underlying base beer, but the fruit will often be reflected in the color","29B - Fruit and Spice Beer","Vary depending on the underlying base beer, but the fruit will often be reflected in the color","A harmonious marriage of fruit, spice, and beer, but still recognizable as a beer. The fruit and spice character should each be evident but in balance with the beer, not so forward as to suggest an artificial product.","The distinctive aromatics associated with the declared fruit and spices should be noticeable in the aroma; however, note that some fruit (e.g., raspberries, cherries) and some spices (e.g., cinnamon, ginger) have stronger aromas and are more distinctive than others (e.g., blueberries, strawberries) – allow for a range of fruit and spice character and intensity from subtle to aggressive. The additional aromatics should blend well with whatever aromatics are appropriate for the declared base beer style. The hop aroma may be absent or balanced, depending on the declared base style.","Appearance should be appropriate for the declared base beer and declared fruit and spices. For lighter-colored beers with fruits or spices that exhibit distinctive colors, the color should be noticeable. Note that the color of fruit in beer is often lighter than the flesh of the fruit itself and may take on slightly different shades. May have some haze or be clear, although haze is a generally undesirable. The head may take on some of the color of the fruit or spice.","As with aroma, the distinctive flavor character associated with the declared fruits and spices should be noticeable, and may range in intensity from subtle to aggressive. The balance of fruit and spices with the underlying beer is vital, and the fruit character should not be so artificial and/or inappropriately overpowering as to suggest a spiced fruit juice drink. Hop bitterness, flavor, malt flavors, alcohol content, and fermentation by-products, such as esters, should be appropriate to the base beer and be harmonious and balanced with the distinctive fruit and spice flavors present. Remember that fruit generally add flavor not sweetness. The sugar found in fruit is usually fully fermented and contributes to lighter flavors and a drier finish than might be expected for the declared base style. However, residual sweetness is not necessarily a negative characteristic unless it has a raw, unfermented quality. Some SHV(s) are inherently bitter and may result in a beer more bitter than the declared base style.","Mouthfeel may vary depending on the base beer selected and as appropriate to that base beer. Body and carbonation levels should be appropriate to the declared base beer style. Fruit generally adds fermentables that tend to thin out the beer; the resulting beer may seem lighter than expected for the declared base style. Some SHV(s) may add additional body, although fermentable additions may thin out the beer. Some SHV(s) may add a bit of astringency, although a “raw” spice character is undesirable.","Overall balance is the key to presenting a well-made fruit and spice beer. The fruit and spice should each complement the original style and not overwhelm it. The key attributes of the underlying style will be different with the addition of fruit and spice; do not expect the base beer to taste the same as the unadulterated version. Judge the beer based on the pleasantness and balance of the resulting combination. The brewer should recognize that some combinations of base beer styles and fruits/spices work well together while others do not make for harmonious combinations. Whenever fruits, spices, herbs or vegetables are declared, each should be noticeable and distinctive in its own way (although not necessarily individually identifiable; balanced with the other ingredients is still critical) – in other words, the beer should read as a spiced fruit beer but without having to tell that specific fruits and spices are present (even if declared).",null,null,null,null,null,"Un mariage harmonieux de fruits, d'épices et de bière, restant tout de même reconnaissable comme une bière. Les caractères des fruits et des épices doivent tous deux être évidents, mais chacun en accord avec la bière et pas trop poussé pour laisser penser à un produit artificiel. ","Les notes aromatiques distinctives associées avec les fruits et les épices déclarés doivent être perceptibles dans l'arôme; Toutefois, notez que certains fruits (par exemple framboises et cerises) et quelques épices (par exemple la cannelle ou le gingembre) ont des arômes plus forts et sont plus distinctifs que d'autres (par exemple, les myrtilles ou les fraises) - Il faut permettre une palette de caractères et d'intensité pour les fruits et les épices qui peut aller de subtil à agressif. Les arômes additionnels doivent bien se mêler avec toutes les notes aromatiques qui sont appropriées pour le style de bière servant de base déclarée. L'arôme de houblon peut être absent ou équilibrée, en fonction du style de base d'origine. ","L'apparence doit correspondre à la bière de référence ainsi qu'aux fruits et aux épices déclarés. Pour les bières de couleur claire avec des fruits ou des épices qui présentent des couleurs distinctives, cette dernière doit être perceptible. Notez que la couleur des fruits dans la bière est souvent plus légère que la chair du fruit elle-même et peut prendre des nuances légèrement différentes. Peut être trouble ou bien limpide, bien que le trouble soit généralement indésirable. La mousse peut prendre une partie de la couleur des fruits ou des épices. ","Comme pour l'arôme, le caractère distinctifs des saveurs associées aux fruits et aux épices choisies doit être perceptible et peut varier en intensité de subtil à agressif. L'équilibre des fruits et des épices avec la structure de la bière est essentiel, et le caractère de fruit ne doit pas paraitre artificiel et/ou anormalement dominant au point de laisser penser à une boisson type jus de fruits épicé. L'amertume et les saveurs du houblon, les saveurs de malt, la teneur en alcool et les sous-produits de la fermentation tels que les esters, doivent être adaptés à la bière servant de base et être harmonieux et équilibrés avec les arômes distinctifs de fruits et d'épices présents. Rappelez-vous que les fruits ajoutent généralement de la saveur et non de la douceur. Le sucre contenu dans les fruits est généralement entièrement fermenté et contribue à des saveurs légères et une fin en bouche plus sèche que l'on pourrait s'attendre du style d'origine. Cependant, du sucre résiduel n'est pas nécessairement une caractéristique négative, sauf si elle a des aspects crus ou non fermentés. Certaines EHL (épices, herbes, légumes) sont intrinsèquement amères et peuvent entraîner une bière plus amère que le style de référence. ","Les sensations en bouche sont variables en fonction de la bière servant de base choisie et sont appropriées à la bière de référence. Le corps et la carbonatation doivent être en accord avec le style de la bière de référence. Les fruits ajoutent généralement des sucres fermentescibles qui tendent à diluer la bière; la bière résultante peut sembler plus légère que prévue par le style déclaré. Certaines EHL peuvent ajouter plus de corps bien que les ajouts de sucres fermentescibles puissent amincir la bière. Certains EHL peuvent ajouter un peu d'astringence mais un caractère d'épices \"brut\" est indésirable. ","L'équilibre global est la clé pour présenter une bière fruitée bien faite. Le fruit doit compléter le style d'origine et non le submerger. Les attributs majeurs du style servant de base seront différents avec l'ajout de fruits; ne vous attendez pas au même goût que la version sans ajout. Jugez la bière sur la base du côté agréable et de l'équilibre de la combinaison qui en résulte. "]
["29C - Specialty Fruit Beer",null,null,null,null,null,null,"Vary depending on the underlying base beer, but the fruit will often be reflected in the color","Vary depending on the underlying base beer, but the fruit will often be reflected in the color","Vary depending on the underlying base beer, but the fruit will often be reflected in the color","Vary depending on the underlying base beer, but the fruit will often be reflected in the color","Vary depending on the underlying base beer, but the fruit will often be reflected in the color","Vary depending on the underlying base beer, but the fruit will often be reflected in the color","Vary depending on the underlying base beer, but the fruit will often be reflected in the color","Vary depending on the underlying base beer, but the fruit will often be reflected in the color","Vary depending on the underlying base beer, but the fruit will often be reflected in the color","Vary depending on the underlying base beer, but the fruit will often be reflected in the color","29C","Specialty Fruit Beer",null,null,{"$f":"VLOOKUP(A107,Feuil2!$A$1:$H$74,2,FALSE)","v":{"$error":"#N/A"}},{"$f":"VLOOKUP(A107,Feuil2!$A$1:$H$74,3,FALSE)","v":{"$error":"#N/A"}},{"$f":"VLOOKUP(A107,Feuil2!$A$1:$H$74,4,FALSE)","v":{"$error":"#N/A"}},{"$f":"VLOOKUP(A107,Feuil2!$A$1:$H$74,5,FALSE)","v":{"$error":"#N/A"}},{"$f":"VLOOKUP(A107,Feuil2!$A$1:$H$74,6,FALSE)","v":{"$error":"#N/A"}},{"$f":"VLOOKUP(A107,Feuil2!$A$1:$H$74,7,FALSE)","v":{"$error":"#N/A"}},{"$f":"VLOOKUP(A107,Feuil2!$A$1:$H$74,8,FALSE)","v":{"$error":"#N/A"}},"29-Fruit Beer","Specialty Beer","Specialty Beer","Specialty Beer","Vary depending on the underlying base beer, but the fruit will often be reflected in the color","29C - Specialty Fruit Beer","Vary depending on the underlying base beer, but the fruit will often be reflected in the color","A harmonious marriage of fruit, sugar, and beer, but still recognizable as a beer. The fruit and sugar character should both be evident but in balance with the beer, not so forward as to suggest an artificial product.","Same as fruit beer, except that some additional fermentables (honey, molasses, etc.) may add an aroma component. Whatever additional aroma component is present should be in balance with the fruit and the beer components, and be a pleasant combination.","Same as fruit beer.","Same as fruit beer, except that some additional fermentables (honey, molasses, etc.) may add a flavor component. Whatever additional flavor component is present should be in balance with the fruit and the beer components, and be a pleasant combination. Added sugars should not have a raw, unfermented flavor. Some added sugars will have unfermentable elements that may provide a fuller finish; fully fermentable sugars may thin out the finish.","Same as fruit beer, although depending on the type of sugar added, could increase or decrease the body.","If the additional fermentables or processes do not add a distinguishable character to the beer, enter it as a normal 29A Fruit Beer and omit a description of the extra ingredients or processes.",null,null,null,"New Planet Raspberry Ale","A Specialty Fruit Beer is a fruit beer with some additional ingredients or processes, such as fermentable sugars (honey, brown sugar, invert sugar, etc.) added.","Un mélange harmonieux de fruits, de sucre et de bière qui reste reconnaissable comme une bière. Les caractéristiques des fruits et des sucres doivent à la fois être évidentes mais équilibrées avec la bière et pas prononcées au point de suggérer un produit artificiel. ","Identique à une bière aux fruits, à l'exception de certains sucres fermentescibles additionnels (miel, mélasse, etc.) qui peuvent ajouter une composante aromatique. Quelque soit les notes aromatique supplémentaires présentes, elles doivent être en équilibre avec le fruit et les arômes de la bière, et former une combinaison agréable. ","Identique à une bière aux fruits. ","Identique à une bière aux fruits, même si certains sucres fermentescibles additionnels (miel, mélasse, etc.) peuvent ajouter une composante à la saveur. Quel que soit le composant aromatique supplémentaire présent, il doit être en équilibre avec les fruits et les caractéristiques de la bière, et former une association agréable. Les sucres ajoutés ne doivent pas avoir une saveur brute, non fermentée. Certains sucres ajoutés auront des éléments non fermentescibles qui peuvent fournir des notes finales plus riches; les sucres entièrement fermentescibles peuvent quant à eux alléger les saveurs finales. ","Identique à une bière aux fruits, même si le type de sucre ajouté peut augmenter ou amoindrir le corps. ","Si les sucres fermentescibles additionnels ou de processus particuliers n'ajoutent pas un caractère qui distingue la bière, classer comme une Bière aux Fruits normale (29A) et ne pas préciser la description des ingrédients ou des procédés supplémentaires. ",null,null,null,"New Planet Raspberry Ale "]
["30A - Spice, Herb, or Vegetable Beer",null,null,null,null,null,null,"Vary depending on the underlying base beer","Vary depending on the underlying base beer","Vary depending on the underlying base beer","Vary depending on the underlying base beer","Vary depending on the underlying base beer","Vary depending on the underlying base beer","Vary depending on the underlying base beer","Vary depending on the underlying base beer","Vary depending on the underlying base beer","Vary depending on the underlying base beer","30A","Spice, Herb, or Vegetable Beer",null,null,{"$f":"VLOOKUP(A108,Feuil2!$A$1:$H$74,2,FALSE)","v":{"$error":"#N/A"}},{"$f":"VLOOKUP(A108,Feuil2!$A$1:$H$74,3,FALSE)","v":{"$error":"#N/A"}},{"$f":"VLOOKUP(A108,Feuil2!$A$1:$H$74,4,FALSE)","v":{"$error":"#N/A"}},{"$f":"VLOOKUP(A108,Feuil2!$A$1:$H$74,5,FALSE)","v":{"$error":"#N/A"}},{"$f":"VLOOKUP(A108,Feuil2!$A$1:$H$74,6,FALSE)","v":{"$error":"#N/A"}},{"$f":"VLOOKUP(A108,Feuil2!$A$1:$H$74,7,FALSE)","v":{"$error":"#N/A"}},{"$f":"VLOOKUP(A108,Feuil2!$A$1:$H$74,8,FALSE)","v":{"$error":"#N/A"}},"30-Spiced Beer","Specialty Beer","Specialty Beer","Specialty Beer","Vary depending on the underlying base beer","30A - Spice, Herb, or Vegetable Beer","Vary depending on the underlying base beer","A harmonious marriage of SHV and beer, but still recognizable as a beer. The SHV character should be evident but in balance with the beer, not so forward as to suggest an artificial product. ","The character of the particular spices, herbs and/or vegetables (SHV) should be noticeable in the aroma; however, note that some SHV (e.g., ginger, cinnamon) have stronger aromas and are more distinctive than others (e.g., some vegetables) – allow for a range of SHV character and intensity from subtle to aggressive. The individual character of each SHV(s) may not always be identifiable when used in combination. Hop aroma may be absent or balanced with SHV, depending on the style. The SHV(s) should add an extra complexity to the beer, but not be so prominent as to unbalance the resulting presentation.","Appearance should be appropriate to the declared base beer and declared special ingredients. For lighter-colored beers with spices, herbs or vegetables that exhibit distinctive colors, the colors may be noticeable in the beer and possibly the head. May have some haze or be clear. Head formation may be adversely affected by some ingredients, such as chocolate.","As with aroma, the distinctive flavor character associated with the particular SHV(s) should be noticeable, and may range in intensity from subtle to aggressive. The individual character of each SHV(s) may not always be identifiable when used in combination. The balance of SHV with the underlying beer is vital, and the SHV character should not be so artificial and/or overpowering as to overwhelm the beer. Hop bitterness, flavor, malt flavors, alcohol content, and fermentation by-products, such as esters, should be appropriate to the base beer and be harmonious and balanced with the distinctive SHV flavors present. Some SHV(s) are inherently bitter and may result in a beer more bitter than the declared base style.","Mouthfeel may vary depending on the base beer selected and as appropriate to that base beer. Body and carbonation levels should be appropriate to the base beer style being presented. Some SHV(s) may add additional body, although fermentable additions may thin out the beer. Some SHV(s) may add a bit of astringency, although a “raw” spice character is undesirable.","Overall balance is the key to presenting a well-made spice, herb or vegetable (SHV) beer. The SHV(s) should complement the original style and not overwhelm it. The key attributes of the declared base style will be different with the addition of spices, herbs and/or vegetables; do not expect the base beer to taste the same as the unadulterated version. Judge the beer based on the pleasantness and balance of the resulting combination. The individual character of each SHV may not always be individually identifiable when used in combination.",null,null,null,"Alesmith Speedway Stout, Bell’s Java Stout, Elysian Avatar Jasmine IPA, Founders Breakfast Stout, Rogue Chipotle Ale, Traquair Jacobite Ale, Young’s Double Chocolate Stout,",null,"Un mariage harmonieux de EHL (Epices, Herbes, Légumes) avec la bière qui reste encore reconnaissable comme une bière. Le caractère des EHL doit être évident, mais équilibré avec la bière et pas prononcé au point de suggérer un produit artificiel. ","Le caractère des épices, des herbes et/ou des légumes particuliers (EHL) doit être perceptible dans l'arôme; notez cependant que certains EHL (par exemple, le gingembre, la cannelle) ont des arômes plus forts et sont plus caractéristiques que d'autres (par exemple, certains légumes) - Il faut permettre une palette de caractères et d'intensité aux EHL allant de subtil à agressif. Le caractère individuel de chaque EHL ne peut pas toujours être identifiable lorsqu'il est utilisé en combinaison. Selon le style, l'arôme du houblon peut être absent ou équilibré avec les EHL. Les EHL doivent ajouter une complexité supplémentaire à la bière, mais ne doivent pas être prononcés au point de déséquilibrer le produit qui en résulte. ","L'apparence doit être en accord avec la bière de référence et les ingrédients spéciaux déclarés. Pour les bières de couleurs claires avec des épices, des herbes ou des légumes qui ont des couleurs distinctives, ces couleurs peuvent être perceptibles dans la bière et éventuellement la mousse. Peut être légèrement trouble ou limpide. La tenue de la mousse peut être affectée par certains ingrédients, comme le chocolat ","Comme pour les arômes, le caractère distinctif des saveurs particulières associées aux EHL dot être perceptible et peut varier en intensité de subtile à agressif. Le caractère individuel de chaque EHL ne peut pas toujours être reconnaissable lorsqu'il est utilisé en combinaison. L'équilibre des EHL avec la bière servant de base est essentiel et le caractère des EHL ne doit pas paraitre artificiel et/ou dominant au point d'écraser la bière. L'amertume et le goût du houblon, les saveurs de malt, la teneur en alcool et les sous-produits de la fermentation, tels que les esters, doivent être adaptés à la bière de référence et être harmonieux et équilibrés avec les saveurs des EHL distinctifs présents. Certains EHL sont intrinsèquement amers et peuvent entraîner une bière plus amère que le style d'origine déclarée. ","Les sensations en bouche seront variables en fonction de la bière de référence sélectionnée et appropriées à cette même bière. Les niveaux de carbonatation et le corps doivent être appropriés au style de la bière représentée. Certains EHL peuvent corser la bière, bien que les ajouts fermentescibles aient plutôt la tendance inverse. Certains EHL peuvent ajouter un peu d'astringence, mais un caractère d'épices \"brut\" est indésirable. ","L'équilibre général est la clé pour présenter une Bière aux épices, herbes ou légumes réussie. Les EHL doivent compléter le style original et non l'écraser. Les principaux attributs du style de base déclaré seront différents avec l'ajout d'épices, d'herbes et/ou de légumes; ne vous attendez pas au gout de la bière de base dans sa version d'origine. Jugez la bière sur le côté agréable et l'équilibre de la combinaison qui en résulte. Le caractère individuel de chaque EHL ne peut pas toujours être distingué individuellement lorsqu'ils sont utilisés en combinaison.  ",null,null,null,"Alesmith Speedway Stout, Bell’s Java Stout, Elysian Avatar Jasmine IPA, Founders Breakfast Stout, Rogue Chipotle Ale, Traquair Jacobite Ale, Young’s Double Chocolate Stout, "]
["30B - Autumn Seasonal Beer",null,null,null,null,null,null,"Vary depending on the underlying base beer. ABV is generally above 5%, and most examples are somewhat amber-copper in color","Vary depending on the underlying base beer. ABV is generally above 5%, and most examples are somewhat amber-copper in color","Vary depending on the underlying base beer. ABV is generally above 5%, and most examples are somewhat amber-copper in color","Vary depending on the underlying base beer. ABV is generally above 5%, and most examples are somewhat amber-copper in color","Vary depending on the underlying base beer. ABV is generally above 5%, and most examples are somewhat amber-copper in color","Vary depending on the underlying base beer. ABV is generally above 5%, and most examples are somewhat amber-copper in color","Vary depending on the underlying base beer. ABV is generally above 5%, and most examples are somewhat amber-copper in color","Vary depending on the underlying base beer. ABV is generally above 5%, and most examples are somewhat amber-copper in color","Vary depending on the underlying base beer. ABV is generally above 5%, and most examples are somewhat amber-copper in color","Vary depending on the underlying base beer. ABV is generally above 5%, and most examples are somewhat amber-copper in color","30B","Autumn Seasonal Beer",null,null,{"$f":"VLOOKUP(A109,Feuil2!$A$1:$H$74,2,FALSE)","v":{"$error":"#N/A"}},{"$f":"VLOOKUP(A109,Feuil2!$A$1:$H$74,3,FALSE)","v":{"$error":"#N/A"}},{"$f":"VLOOKUP(A109,Feuil2!$A$1:$H$74,4,FALSE)","v":{"$error":"#N/A"}},{"$f":"VLOOKUP(A109,Feuil2!$A$1:$H$74,5,FALSE)","v":{"$error":"#N/A"}},{"$f":"VLOOKUP(A109,Feuil2!$A$1:$H$74,6,FALSE)","v":{"$error":"#N/A"}},{"$f":"VLOOKUP(A109,Feuil2!$A$1:$H$74,7,FALSE)","v":{"$error":"#N/A"}},{"$f":"VLOOKUP(A109,Feuil2!$A$1:$H$74,8,FALSE)","v":{"$error":"#N/A"}},"30-Spiced Beer","Specialty Beer","Specialty Beer","Specialty Beer","Vary depending on the underlying base beer. ABV is generally above 5%, and most examples are somewhat amber-copper in color","30B - Autumn Seasonal Beer","Vary depending on the underlying base beer. ABV is generally above 5%, and most examples are somewhat amber-copper in color","An amber to copper, spiced beer that often has a moderately rich body and slightly warming finish suggesting a good accompaniment for the cool fall season, and often evocative of Thanksgiving traditions.","A wide range of aromatics is possible, although many examples are reminiscent of pumpkin pie, candied yams, or similar harvest or (US) Thanksgiving themed dishes. Any combination of aromatics that suggests the fall season is welcome. The base beer style often has a malty profile that supports the balanced presentation of the aromatics from spices and possibly other special ingredients. Additional fermentables (e.g., brown sugar, honey, molasses, maple syrup, etc.) may lend their own unique aromatics. Hop aromatics are often absent, subdued, or slightly spicy. Alcohol aromatics may be found in some examples, but this character should be restrained. The overall aroma should be balanced and harmonious, and is often fairly complex and inviting.","Generally medium amber to coppery-brown (lighter versions are more common). Usually clear, although darker versions may be virtually opaque. Some chill haze is acceptable. Generally has a well-formed head that is often off-white to tan. Some versions with squashes will take on an unusual hue for beer, with orange-like hints.","Many interpretations are possible; allow for brewer creativity as long as the resulting product is balanced and provides some spice (and optionally, sugar and vegetable) presentation. Spices associated with the fall season are typical (as mentioned in the Aroma section). The spices and optional fermentables should be supportive and blend well with the base beer style. Rich, malty and/or sweet malt-based flavors are common, and may include caramel, toasty, biscuity, or nutty flavors (toasted bread crust or cooked pie crust flavors are welcome). May include distinctive flavors from specific fermentables (molasses, honey, brown sugar, etc.), although these elements are not required. Flavor derived from squash-based vegetables are often elusive. The wide range of special ingredients should be supportive and balanced, not so prominent as to overshadow the base beer. Bitterness and hop flavor are generally restrained so as to not interfere with the spices and special ingredients. Generally finishes rather full and satisfying, and often has some alcohol flavor. Roasted malt characteristics are typically absent.","A wide range of interpretations is possible. Body is generally medium to full, and a certain malty and/or vegetable-based chewiness is often present. Moderately low to moderately high carbonation is typical. Many examples will show some well-aged, warming alcohol content, but without being overly hot. The beers do not have to be overly strong to show some warming effects.","Overall balance is the key to presenting a well-made Autumn Seasonal beer. The special ingredients should complement the base beer and not overwhelm it. The brewer should recognize that some combinations of base beer styles and special ingredients work well together while others do not make for harmonious combinations. If the base beer is a classic style, the original style should come through in aroma and flavor. Whenever spices, herbs or additional fermentables are declared, each should be noticeable and distinctive in its own way (although not necessarily individually identifiable; balanced with the other ingredients is still critical) – in other words, the beer should read as a spiced beer but without having to tell that specific spices are present (even if declared).",null,"Spices are required, and often include those evocative of the fall or Thanksgiving season (e.g., allspice, nutmeg, cinnamon, cloves, ginger) but any combination is possible and creativity is encouraged. Flavorful adjuncts are often used (e.g., molasses, invert sugar, brown sugar, honey, maple syrup, etc.). Squash-type or gourd-type vegetables (most frequently pumpkin) are often used.",null,"Dogfish Head Punkin Ale, Schlafly Pumpkin Ale, Southampton Pumpkin Ale","Autumn Seasonal Beers are beers that suggest cool weather and the autumn harvest season, and may include pumpkin or other squashes, and the associated spices. See the Introduction to Specialty-Type Beer section for additional comments, particularly on evaluating the balance of added ingredients with the base beer.","Une bière ambrée à cuivrée, épicée qui a souvent un corps modérément riche et une note finale légèrement réchauffante suggérant un bon accompagnement pour la saison fraîche de l'automne, et souvent évocatrice des traditions de Thanksgiving. ","Une large gamme de notes aromatiques est possible, bien que de nombreux exemples rappellent la tarte à la citrouille, les ignames confits ou sur la thématique similaire de la récolte ou de Thanksgiving (US). Toute combinaison de composés aromatiques qui suggère l'automne est la bienvenue. Le style de la bière servant de base a souvent un profil malté qui accompagne la présence équilibrée des notes aromatiques épicées et éventuellement les autres ingrédients spéciaux. Les ajouts de sucres fermentescibles (par exemple, la cassonade, le miel, la mélasse, le sirop d'érable, etc.) peuvent apporter leurs propres notes aromatiques spécifiques. Les arômes de houblon sont souvent absents, atténués ou légèrement épicés. Des arômes d'alcool peuvent être trouvés dans certains ex-emples mais ils doivent être contenus. L'arôme général doit être équilibré, harmonieux et est souvent assez complexe et appétissant. ","Généralement ambrée de teinte moyenne à brune cuivrée (les versions plus claires sont les plus fréquentes). Habituellement limpide, bien que les versions plus foncées puissent être pratiquement opaque. Un certain trouble à froid est acceptable. En général la tête de mousse est bien formée et souvent blanche cassée à beige. Certaines versions avec des courges prendront une teinte inhabituelle pour ce type de bière avec des nuances orangées. ","Beaucoup d'interprétations sont possibles; il faut permettre au brasseur une certaine créativité aussi longtemps que le produit présenté est équilibré et offre un résultat un peu épicé (et éventuellement du sucre et des légumes). Les épices associés à l'automne sont typiques (comme mentionné dans la section Arôme). Les épices et les sucres fermentescibles optionnels doivent compléter et bien s'associer au style de bière servant de base. Les saveurs riches, maltées et/ou sucrée à base de malt sont courantes et peuvent inclure des notes de caramel, toastées, de biscuit ou des saveurs de noisette (des saveurs de croûte de pain grillé ou de tourte cuites sont les bienvenues). Peut posséder différentes saveurs de sucres fermentescibles spécifiques (mélasse, miel, cassonade, etc.) même si ces éléments ne sont pas requis. Les saveurs dérivées des légumes de type courges sont souvent évasives. La large gamme d'ingrédients spéciaux doit être en accord et équilibrée et pas aussi prononcée qu'elle puisse faire de l'ombre à la bière d'origine. L'amertume et la saveur du houblon sont généralement contenues de façon à ne pas interférer avec les épices et les ingrédients spéciaux. Les notes finales sont généralement assez variées et plaisantes avec souvent quelques notes d'alcool. Des caractéristiques de malt torréfié sont généralement absentes. ","Un large éventail d'interprétations est possible. Le corps est généralement moyen à plein et une certaine masticabilité maltée et/ou à base de légumes est souvent présente. Une carbonatation modérément faible à modérément élevée est typique. De nombreux exemples auront un certain réchauffement de l'alcool bien vieilli, mais sans être trop brulant. Les bières n'ont pas à être trop fortes pour montrer certains effets du réchauffement de l'alcool. ","L'équilibre général est la clé pour présenter une bière d'Automne réussie. Les ingrédients spéciaux doivent compléter la bière servant de base et ne pas l'écraser. Le brasseur doit savoir que certaines combinaisons de styles de bière de base et d'ingrédients spéciaux fonctionnent bien ensemble tandis que d'autres ne font pas une combinaison harmonieuse. Si la bière servant de modèle est un style classique, le style d'origine doit transparaitre à travers les arômes et la saveur. Chaque fois que des épices, des herbes ou des sucres fermentescibles supplémentaires sont déclarés, chacun d'eux doit être perceptible et se distinguer à sa manière (mais pas être nécessairement identifiables individuellement; l'équilibre avec les autres ingrédients étant toujours le point critique) - en d'autres termes, la bière doit se lire comme une bière épicée mais sans avoir à dire que des épices spécifiques sont présents (même si elles sont déclarées). ",null,"Les épices sont indispensables et comprennent souvent celles qui évoquent l'Automne ou la saison de Thanksgiving (par exemple piment, muscade, cannelle, clous de girofle, gingembre), mais toutes les combinaisons sont possibles et la créativité est à encourager. Des compléments de saveurs sont souvent utilisés (par exemple mélasse, sucre inverti, sucre brun, miel, sirop d'érable, etc.). Des légumes de type courge ou potimarron (de la citrouille le plus souvent) sont souvent utilisés. ",null,"Dogfish Head Punkin Ale, Schlafly Pumpkin Ale, Southampton Pumpkin Ale"]
["30C - Winter Seasonal Beer",null,null,null,null,null,null,"Vary depending on the underlying base beer. ABV is generally above 6%, and most examples are somewhat dark in color","Vary depending on the underlying base beer. ABV is generally above 6%, and most examples are somewhat dark in color","Vary depending on the underlying base beer. ABV is generally above 6%, and most examples are somewhat dark in color","Vary depending on the underlying base beer. ABV is generally above 6%, and most examples are somewhat dark in color","Vary depending on the underlying base beer. ABV is generally above 6%, and most examples are somewhat dark in color","Vary depending on the underlying base beer. ABV is generally above 6%, and most examples are somewhat dark in color","Vary depending on the underlying base beer. ABV is generally above 6%, and most examples are somewhat dark in color","Vary depending on the underlying base beer. ABV is generally above 6%, and most examples are somewhat dark in color","Vary depending on the underlying base beer. ABV is generally above 6%, and most examples are somewhat dark in color","Vary depending on the underlying base beer. ABV is generally above 6%, and most examples are somewhat dark in color","30C","Winter Seasonal Beer",null,null,{"$f":"VLOOKUP(A110,Feuil2!$A$1:$H$74,2,FALSE)","v":{"$error":"#N/A"}},{"$f":"VLOOKUP(A110,Feuil2!$A$1:$H$74,3,FALSE)","v":{"$error":"#N/A"}},{"$f":"VLOOKUP(A110,Feuil2!$A$1:$H$74,4,FALSE)","v":{"$error":"#N/A"}},{"$f":"VLOOKUP(A110,Feuil2!$A$1:$H$74,5,FALSE)","v":{"$error":"#N/A"}},{"$f":"VLOOKUP(A110,Feuil2!$A$1:$H$74,6,FALSE)","v":{"$error":"#N/A"}},{"$f":"VLOOKUP(A110,Feuil2!$A$1:$H$74,7,FALSE)","v":{"$error":"#N/A"}},{"$f":"VLOOKUP(A110,Feuil2!$A$1:$H$74,8,FALSE)","v":{"$error":"#N/A"}},"30-Spiced Beer","Specialty Beer","Specialty Beer","Specialty Beer","Vary depending on the underlying base beer. ABV is generally above 6%, and most examples are somewhat dark in color","30C - Winter Seasonal Beer","Vary depending on the underlying base beer. ABV is generally above 6%, and most examples are somewhat dark in color","A stronger, darker, spiced beer that often has a rich body and warming finish suggesting a good accompaniment for the cold winter season.","A wide range of aromatics is possible, although many examples are reminiscent of Christmas cookies, gingerbread, English-type Christmas pudding, evergreen trees, or mulling spices. Any combination of aromatics that suggests the holiday season is welcome. The base beer style often has a malty profile that supports the balanced presentation of the aromatics from spices and possibly other special ingredients. Additional fermentables (e.g., honey, molasses, maple syrup, etc.) may lend their own unique aromatics. Hop aromatics are often absent, subdued, or slightly spicy. Some fruit character (often of dried citrus peel, or dried fruit such as raisins or plums) is optional but acceptable. Alcohol aromatics may be found in some examples, but this character should be restrained. The overall aroma should be balanced and harmonious, and is often fairly complex and inviting.","Generally medium amber to very dark brown (darker versions are more common). Usually clear, although darker versions may be virtually opaque. Some chill haze is acceptable. Generally has a well-formed head that is often off-white to tan.","Many interpretations are possible; allow for brewer creativity as long as the resulting product is balanced and provides some spice presentation. Spices associated with the holiday season are typical (as mentioned in the Aroma section). The spices and optional fermentables should be supportive and blend well with the base beer style. Rich, malty and/or sweet malt-based flavors are common, and may include caramel, toast, nutty, or chocolate flavors. May include some dried fruit or dried fruit peel flavors such as raisin, plum, fig, orange peel or lemon peel. May include distinctive flavors from specific fermentables (molasses, honey, brown sugar, etc.), although these elements are not required. A light evergreen tree character is optional but found in some examples. The wide range of special ingredients should be supportive and balanced, not so prominent as to overshadow the base beer. Bitterness and hop flavor are generally restrained so as to not interfere with the spices and special ingredients. Generally finishes rather full and satisfying, and often has some alcohol flavor. Roasted malt characteristics are rare, and not usually stronger than chocolate.","A wide range of interpretations is possible. Body is generally medium to full, and a certain malty chewiness is often present. Moderately low to moderately high carbonation is typical. Many examples will show some well-aged, warming alcohol content, but without being overly hot. The beers do not have to be overly strong to show some warming effects.","Overall balance is the key to presenting a well-made Winter Seasonal Beer. The special ingredients should complement the base beer and not overwhelm it. The brewer should recognize that some combinations of base beer styles and special ingredients work well together while others do not make for harmonious combinations. If the base beer is a classic style, the original style should come through in aroma and flavor. Whenever spices, herbs or additional fermentables are declared, each should be noticeable and distinctive in its own way (although not necessarily individually identifiable; balanced with the other ingredients is still critical). Whenever spices, herbs or additional fermentables are declared, each should be noticeable and distinctive in its own way (although not necessarily individually identifiable; balanced with the other ingredients is still critical) – in other words, the beer should read as a spiced beer but without having to tell that specific spices are present (even if declared).","Throughout history, beer of a somewhat higher alcohol content and richness has been enjoyed during the winter holidays, when old friends get together to enjoy the season. Many breweries produce unique seasonal offerings that may be darker, stronger, spiced, or otherwise more characterful than their normal beers. Spiced versions are an American or Belgian tradition, since English or German breweries traditionally do not use spices in their beer.","Generally ales, although some dark strong lagers exist. Spices are required, and often include those evocative of the Christmas season (e.g., allspice, nutmeg, cinnamon, cloves, ginger) but any combination is possible and creativity is encouraged. Fruit peel (e.g., oranges, lemon) may be used, as may subtle additions of other fruits. Flavorful adjuncts are often used (e.g., molasses, treacle, invert sugar, brown sugar, honey, maple syrup, etc.).",null,"Anchor Our Special Ale, Goose Island Christmas Ale, Great Lakes Christmas Ale, Harpoon Winter Warmer, Lakefront Holiday Spice Lager Beer, Weyerbacher Winter Ale","Winter Seasonal Beers are beers that suggest cold weather and the Christmas holiday season, and may include holiday spices, specialty sugars, and other products that are reminiscent of mulling spices or Christmas holiday desserts. See the Introduction to Specialty-Type Beer section for additional comments, particularly on evaluating the balance of added ingredients with the base beer.","Une bière plus foncée, plus forte, plus épicée, qui a souvent un corps riche et un réchauffement en fin de bouche suggérant un bon accompagnement pour la saison et le froid de l'hiver. ","Une large gamme de composantes aromatiques est possible, bien que de nombreux exemples rappellent les biscuits de Noël, le pain d'épice, le pudding anglais de Noël, les résineux ou les épices. Toutes les combinaisons de composés aromatiques qui suggèrent la saison froide et les vacances de Noël sont les bienvenues. Le style de la bière de référence a souvent un profil malté qui prend en compte la présence équilibré des arômes, des épices et éventuellement des autres ingrédients spéciaux. Les sucres fermentescibles supplémentaires (par exemple le miel, la mélasse, le sirop d'érable, etc.) peuvent apporter leurs propres notes aromatiques individuelles. Les arômes de houblon sont souvent absents, atténué ou légèrement épicé. Certaines notes de fruits (écorces d'agrumes souvent séchés ou des fruits secs comme des raisins ou des pruneaux) sont facultatives mais acceptables. Des arômes d'alcool peuvent se rencontrer dans certains exemples mais cette caractéristique doit être maitrisée. L'arôme global doit être équilibré et harmonieux, et est souvent assez complexe et appétissant. ","Ambrée moyenne à brune très foncée. Souvent foncées. Habituellement limpide bien que les versions plus foncées puissent être presque opaque. Un certain trouble à froid est acceptable. En général, la tête de mousse est bien formée et blanche cassée à ocre. ","Beaucoup d'interprétations sont possibles et il faut permettre au brasseur une certaine créativité tant que le produit final est équilibré et offre une bonne présence d'épices. Les épices associés à la saison des fêtes de Noël sont typiques (cf. aromes). Les épices et les sucres fermentescibles optionnels doivent rehausser et bien s'associer avec le style de la bière servant de base. Des saveurs riches, maltées et/ou sucrées provenant du malt sont communes et peuvent comprendre des saveurs de caramel, toastées, de noisette ou de chocolat. Peut avoir des notes de fruits secs ou de zestes de fruits secs telles que raisins, prunes, figues, zeste d'orange ou de citron. Peut comporter différentes saveurs de sucres fermentescibles spéciaux (mélasse, miel, cassonade, etc.), même si ces éléments ne sont pas obligatoires. Un caractère léger de résineux est facultatif, mais présent dans certains exemples. La large gamme d'ingrédients spéciaux doit être enrichissante et équilibrée, pas aussi importante qu'elle pourrait éclipser la bière de base. L'amertume et la saveur du houblon sont généralement contenues de façon à ne pas interférer avec les épices et les ingrédients spéciaux. Les notes finales sont généralement assez intenses et plaisante et ont souvent quelques saveurs d'alcool. Des caractéristiques de malt torréfié sont rares et généralement pas plus fortes que du chocolat. ","Un large éventail d'interprétations est possible. Le corps est généralement moyen à plein et une certaine rondeur maltée est souvent présente. Une carbonatation modérément faible à modérément élevée est typique. De nombreux exemples montrent un certain réchauffement d'alcool bien vieilli mais sans être trop brulant. Les bières n'ont pas besoin d'être trop forte pour montrer certains effets de l'alcool. ","L'équilibre général est la clé pour présenter une bière d'hiver réussie. Les ingrédients spéciaux doivent compléter la bière servant de base et ne pas l'écraser. Le brasseur doit savoir que certaines combinaisons de styles de bière servant de base et les ingrédients spéciaux s'associent bien ensemble alors que d'autres ne font pas des combinaisons harmonieuses. Si la bière servant de modèle est un style classique, le style d'origine doit transparaitre à travers les arômes et la saveur. Chaque fois que des épices, des herbes ou des sucres fermentescibles supplémentaires sont déclarés, chacun d'eux doit être perceptible et se distinguer à sa manière (mais pas être nécessairement identifiables individuellement; l'équilibre avec les autres ingrédients étant toujours le point critique) -  en d'autres termes, la bière doit se lire comme une bière épicée mais sans avoir à dire que des épices spécifiques sont présents (même si elles sont déclarées). ","De tout temps, une bière avec un taux d'alcool un peu plus élevé et de la richesse a été appréciée pendant les fêtes de Noël, lorsque les vieux amis se réunissent pour profiter des vacances. De nombreuses brasseries produisent une offre unique et saisonnière qui est souvent plus foncée, plus forte,  plus épicée et alors avec plus de caractère que leurs bières normales. Les versions épicées sont une tradition américaine ou belge puisque les brasseries anglaises ou en allemandes n'utilisent pas traditionnellement d'épices dans leur bière. ","Ce sont généralement des Ales de fermentation haute bien que certaines Lagers foncées et fortes puissent exister. Les épices sont nécessaires et comprennent souvent celles qui évoquent la saison de Noël (par exemple la muscade, la cannelle, les clous de girofle, le gingembre), mais toute combinaison est possible et la créativité est à encourager. Des écorces de fruits (par exemple des zestes d'oranges ou de citrons) peuvent être utilisées, comme on peut faire des ajouts subtils d'autres fruits. D’autres ajouts sont souvent utilisés (par exemple mélasse, sucre inverti, sucre brun, miel, sirop d'érable, etc.). ",null,"Anchor Our Special Ale, Goose Island Christmas Ale, Great Lakes Christmas Ale, Harpoon Winter Warmer, Lakefront Holiday Spice Lager Beer, Weyerbacher Winter Ale "]
["31A - Alternative Grain Beer",null,null,null,null,null,null,"Vary depending on the underlying base beer","Vary depending on the underlying base beer","Vary depending on the underlying base beer","Vary depending on the underlying base beer","Vary depending on the underlying base beer","Vary depending on the underlying base beer","Vary depending on the underlying base beer","Vary depending on the underlying base beer","Vary depending on the underlying base beer","Vary depending on the underlying base beer","31A","Alternative Grain Beer",null,null,{"$f":"VLOOKUP(A111,Feuil2!$A$1:$H$74,2,FALSE)","v":{"$error":"#N/A"}},{"$f":"VLOOKUP(A111,Feuil2!$A$1:$H$74,3,FALSE)","v":{"$error":"#N/A"}},{"$f":"VLOOKUP(A111,Feuil2!$A$1:$H$74,4,FALSE)","v":{"$error":"#N/A"}},{"$f":"VLOOKUP(A111,Feuil2!$A$1:$H$74,5,FALSE)","v":{"$error":"#N/A"}},{"$f":"VLOOKUP(A111,Feuil2!$A$1:$H$74,6,FALSE)","v":{"$error":"#N/A"}},{"$f":"VLOOKUP(A111,Feuil2!$A$1:$H$74,7,FALSE)","v":{"$error":"#N/A"}},{"$f":"VLOOKUP(A111,Feuil2!$A$1:$H$74,8,FALSE)","v":{"$error":"#N/A"}},"31-Alternative Fermentables Beer","Specialty Beer","Specialty Beer","Specialty Beer","Vary depending on the underlying base beer","31A - Alternative Grain Beer","Vary depending on the underlying base beer","A base beer enhanced by or featuring the character of additional grain or grains. The specific character depends greatly on the character of the added grains.","Same as base beer style. The added grain will lend a particular character, although with some grains the beer will simply seem a bit more grainy or nutty. The alternative grain should provide the major aroma profile for this beer.","Same as base beer style, although some additional haze may be noticeable.","Same as base beer style. The additional grain should be noticeable in flavor, although it may not be necessarily identifiable. However, the alternative grain should provide the major flavor profile for this beer. Different grains have different characters; the additional grain should enhance the flavor of the base beer. Many will add an additional grainy, bready, or nutty flavor.","Same as the base beer, although many additional grains will tend to increase the body (oats, rye) and increase the viscosity, while some may decrease the body (GF grains) resulting in thinness. ","If the alternative grain does not provide a noticeable distinguishable character to the beer, enter it as the base style. This style should not be used for styles where the alternative grain is fundamental to the style definition (e.g., Rye IPA, Oatmeal Stout, Rice- or Corn-based International Lager). Note that sake is not beer, and is not intended for this category.",null,null,null,"Green’s Indian Pale Ale, Lakefront New Grist, New Planet Pale Ale","An Alternative Fermentables Beer is a standard beer (Classic Style or not) with additional or non-standard brewing grains (e.g., rye, oats, buckwheat, spelt, millet, sorghum, rice, etc.) added or used exclusively. Gluten-free (GF) beers made from completely gluten-free ingredients may be entered here, while GF beers using process-based gluten removal should be entered in their respective base style categories.","Une bière de base renforcée par ou avec le caractère d'une ou de céréales supplémentaires. Le caractère spécifique dépend fortement de la nature des céréales ajoutées. ","Identique au style de la bière d'origine. La céréale ajoutée va apporter un caractère particulier mais avec certaines céréales la bière va tout simplement sembler un peu plus farineuse ou noisette. La céréale alternative doit apporter un profil dominant d'arôme à cette bière. ","Identique au style de la bière d'origine, bien qu'un certain trouble supplémentaire puisse être perceptible. ","Identique au style de la bière d'origine. La céréale ajoutée doit être perceptible dans la saveur, même si elle peut ne pas être nécessairement identifiable. La céréale alternative doit  cependant fournir le profil de saveur principal de cette bière. Des céréales différentes ont des caractères différents; la céréale ajoutée doit rehausser la saveur de la bière servant de base. Un grand nombre vont ajouter une saveur de céréale, de pain, de brioche ou de noisette supplémentaire. ","Identique à la bière d'origine bien qu'un ajout important de céréales aura tendance à augmenter le corps (avoine, seigle) et augmenter la viscosité, tandis que certaines autres peuvent diminuer les corps (Céréales sans gluten) et aboutir à de la maigreur. ","Si la céréale de substitution ne fournit pas un caractère notable distinctif à la bière, le style d'origine est à conserver. Ce style ne doit pas être utilisé pour les styles où les céréales alternatives sont indispensables à la définition de style (par exemple Rye IPA (IPA au Seigle), Oatmeal Stout (Stout à l'Avoine), Lagers Internationales à base de riz ou de maïs). Notez bien que la Saké n'est pas de la bière et n'est pas à propos dans cette catégorie. ",null,null,null,"Green’s Indian Pale Ale, Lakefront New Grist, New Planet Pale Ale  "]
["31B - Alternative Sugar Beer",null,null,null,null,null,null,"Vary depending on the underlying base beer","Vary depending on the underlying base beer","Vary depending on the underlying base beer","Vary depending on the underlying base beer","Vary depending on the underlying base beer","Vary depending on the underlying base beer","Vary depending on the underlying base beer","Vary depending on the underlying base beer","Vary depending on the underlying base beer","Vary depending on the underlying base beer","31B","Alternative Sugar Beer",null,null,{"$f":"VLOOKUP(A112,Feuil2!$A$1:$H$74,2,FALSE)","v":{"$error":"#N/A"}},{"$f":"VLOOKUP(A112,Feuil2!$A$1:$H$74,3,FALSE)","v":{"$error":"#N/A"}},{"$f":"VLOOKUP(A112,Feuil2!$A$1:$H$74,4,FALSE)","v":{"$error":"#N/A"}},{"$f":"VLOOKUP(A112,Feuil2!$A$1:$H$74,5,FALSE)","v":{"$error":"#N/A"}},{"$f":"VLOOKUP(A112,Feuil2!$A$1:$H$74,6,FALSE)","v":{"$error":"#N/A"}},{"$f":"VLOOKUP(A112,Feuil2!$A$1:$H$74,7,FALSE)","v":{"$error":"#N/A"}},{"$f":"VLOOKUP(A112,Feuil2!$A$1:$H$74,8,FALSE)","v":{"$error":"#N/A"}},"31-Alternative Fermentables Beer","Specialty Beer","Specialty Beer","Specialty Beer","Vary depending on the underlying base beer","31B - Alternative Sugar Beer","Vary depending on the underlying base beer","A harmonious marriage of sugar and beer, but still recognizable as a beer. The sugar character should both be evident but in balance with the beer, not so forward as to suggest an artificial product.","Same as the base beer, except that some additional fermentables (honey, molasses, etc.) may add an aroma component. Whatever additional aroma component is present should be in balance with the beer components, and be a pleasant combination.","Same as the base beer, although some sugars will bring additional colors.","Same as the base beer, except that some additional fermentables (honey, molasses, etc.) may add a flavor component. Whatever additional flavor component is present should be in balance with the beer components, and be a pleasant combination. Added sugars should not have a raw, unfermented flavor. Some added sugars will have unfermentable elements that may provide a fuller finish; fully fermentable sugars may thin out the finish.","Same as the base beer, although depending on the type of sugar added, could increase or decrease the body.","If the additional fermentables do not add a distinguishable character to the beer, enter it in the base style category. A honey-based beer should not have so much honey that it reads more like a mead with beer (i.e., a braggot) than a honey beer. This style should not be used for styles where the alternative sugar is fundamental to the style definition, or where a small amount of neutral-flavored sugar is used simply to increase gravity, increase attenuation, or lighten flavor or body; those beers should be entered as the normal base style.",null,null,null,"Bell’s Hopslam, Fullers Honey Dew, Lagunitas Brown Shugga’","An Alternative Fermentables Beer is a standard beer (Classic Style or not) with additional fermentable sugars (e.g., honey, brown sugar, invert sugar, molasses, treacle, maple syrup, sorghum, etc.) added.","Ce doit être perçu comme un mariage harmonieux de sucres et de bière restant cependant reconnaissable en tant que bière. Le caractère des sucres ajoutés doit à la fois être bien présent tout en restant équilibré avec la bière donc pas trop proéminent au point de suggérer un produit artificiel. ","Les arômes sont identiques à ceux de la bière d'origine sauf que certains sucres fermentescibles ajoutés (miel, mélasse, etc.) peuvent apporter une composante aromatique nouvelle. Quel que soit l'arôme apporté encore une fois, il doit être en équilibre avec les composantes de la bière et créer une combinaison agréable. ","D'apparence identique à la bière d'origine bien que certains sucres peuvent renforcer la couleur. ","Les saveurs sont identiques à la bière servant de base, sauf que certains sucres fermentescibles ajoutés (miel, mélasse, etc.) peuvent apporter une nouvelle composante de saveur. Quel qu'elle soit, elle doit être en équilibre avec les composantes de la bière, et apporter une combinaison agréable. Les sucres ajoutés ne doivent pas avoir une saveur brute, non fermentée. Certains sucres ajoutés incluront des éléments non fermentescibles qui peuvent fournir une fin de bouche plus ronde ; les sucres complètement fermentescibles par contre pourront affiner la fin de bouche. ","Le corps est similaire à la bière servant de base, bien que le type de sucre ajouté puisse l'arrondir ou l'affiner. ","Si les sucres fermentescibles ajoutés n'apportent pas un caractère distinctif à la bière, il convient de garder le style d'origine. Une bière à base de miel ne doit pas avoir trop de miel au point d'en faire un hydromel à la bière (aussi appelé \"braggot\") plutôt qu'une bière au miel. Ce style ne doit pas être utilisé pour les styles où le sucre alternatif est fondamental par définition ou si une petite quantité de sucres au goût neutre est utilisé simplement pour augmenter la densité, l'atténuation ou réduire la saveur ou le corps ; ces bières doivent être classées dans les styles de base classiques",null,null,null,"Bell’s Hopslam, Fullers Honey Dew, Lagunitas Brown Shugga’"]
["32A - Classic Style Smoked Beer",null,null,null,null,null,null,"Varies with the base beer style","Varies with the base beer style","Varies with the base beer style","Varies with the base beer style","Varies with the base beer style","Varies with the base beer style","Varies with the base beer style","Varies with the base beer style","Varies with the base beer style","Varies with the base beer style","32A","Classic Style Smoked Beer",null,null,{"$f":"VLOOKUP(A113,Feuil2!$A$1:$H$74,2,FALSE)","v":{"$error":"#N/A"}},{"$f":"VLOOKUP(A113,Feuil2!$A$1:$H$74,3,FALSE)","v":{"$error":"#N/A"}},{"$f":"VLOOKUP(A113,Feuil2!$A$1:$H$74,4,FALSE)","v":{"$error":"#N/A"}},{"$f":"VLOOKUP(A113,Feuil2!$A$1:$H$74,5,FALSE)","v":{"$error":"#N/A"}},{"$f":"VLOOKUP(A113,Feuil2!$A$1:$H$74,6,FALSE)","v":{"$error":"#N/A"}},{"$f":"VLOOKUP(A113,Feuil2!$A$1:$H$74,7,FALSE)","v":{"$error":"#N/A"}},{"$f":"VLOOKUP(A113,Feuil2!$A$1:$H$74,8,FALSE)","v":{"$error":"#N/A"}},"32-Smoked Beer","Specialty Beer","Specialty Beer","Specialty Beer","Varies with the base beer style","32A - Classic Style Smoked Beer","Varies with the base beer style","A smoke-enhanced beer showing good balance between the smoke and beer character, while remaining pleasant to drink. Balance in the use of smoke, hops and malt character is exhibited by the better examples.","The aroma should be a pleasant balance between the expected aroma of the base beer and the smokiness imparted by the use of smoked malts. The intensity and character of the smoke and base beer style can vary, with either being prominent in the balance. Smokiness may vary from low to assertive; however, balance in the overall presentation is the key to well-made examples. The quality and secondary characteristics of the smoke are reflective of the source of the smoke (e.g., alder, oak, beechwood). Sharp, phenolic, harsh, rubbery, or burnt smoke-derived aromatics are inappropriate.","Variable. The appearance should reflect the base beer style, although the color of the beer is often a bit darker than the plain base style.","As with aroma, there should be a balance between smokiness and the expected flavor characteristics of the base beer style. Smokiness may vary from low to assertive. Smoky flavors may range from woody to somewhat bacon-like depending on the type of malts used. The balance of underlying beer characteristics and smoke can vary, although the resulting blend should be somewhat balanced and enjoyable. Smoke can add some dryness to the finish. Harsh, bitter, burnt, charred, rubbery, sulfury, medicinal, or phenolic smoky characteristics are generally inappropriate (although some of these characteristics may be present in some base styles; however, the smoked malt shouldn’t contribute these flavors).","Varies with the base beer style. Significant astringent, phenolic smoke-derived harshness is inappropriate.","This style is for any beer that exhibits smoke as a principal flavor and aroma characteristic other than the Bamberg-style Rauchbier (i.e., beechwood-smoked Märzen), which has its own style. Any style of beer can be smoked; the goal is to reach a pleasant balance between the smoke character and the base beer style. Entries should be judged on how well that style is represented, and how well it is balanced with the smoke character. Entries with a specific type or types of smoke cited will be judged on how well that type of smoke is recognizable and marries with the base style. Judges should evaluate the beers mostly on the overall balance, and how well the smoke character enhances the base beer.","The process of using smoked malts has been adapted by craft brewers to many styles. German brewers have traditionally used smoked malts in bock, doppelbock, weissbier, dunkel, schwarzbier, helles, Pils, and other specialty styles.","Different materials used to smoke malt result in unique flavor and aroma characteristics. Beechwood, or other hardwood (oak, maple, mesquite, alder, pecan, apple, cherry, other fruitwoods) smoked malts may be used. The various woods may remind one of certain smoked products due to their food association (e.g., hickory with ribs, maple with bacon or sausage, and alder with salmon). Evergreen wood should never be used since it adds a medicinal, piney flavor to the malt. Noticeable peat-smoked malt is universally undesirable due to its sharp, piercing phenolics and dirt-like earthiness. The remaining ingredients vary with the base style. If smoked malts are combined with other unusual ingredients (fruits, vegetables, spices, honey, etc.) in noticeable quantities, the resulting beer should be entered in the Specialty Smoked Beer.",null,"Alaskan Smoked Porter, Schlenkerla Weizen Rauchbier and Ur-Bock Rauchbier, Spezial Lagerbier, Weissbier and Bockbier, Stone Smoked Porter",null,"Une bière au fumé prononcé ayant un bon équilibre entre le caractère fumé et la bière, tout en restant agréable à boire. L'équilibre dans l'usage du fumé, des houblons et du malt caractère est rencontré dans les meilleurs exemples. ","L'arôme doit être un équilibre agréable entre l'arôme attendu de la bière servant de base et le fumé conféré par l'utilisation de malts fumés. L'intensité et le caractère fumé et le style de la bière d'origine peuvent varier et être même très important dans l'équilibre. Le fumé peut varier de faible à affirmé; Cependant l'équilibre du résultat final est la clé des exemples réussis. La qualité et les caractéristiques secondaires du fumé sont le reflet de la source de la fumée (par exemple aulne, chêne, hêtre). Les arômes fumés piquants, phénoliques, agressifs, caoutchouteux ou dérivés de fumées brûlées sont inappropriés. ","Variable. L'apparence doit refléter le style de la bière d'origine bien que la couleur de la bière soit souvent un peu plus foncée que le style de base pur. ","Comme pour l'arôme, il doit y avoir un équilibre entre le fumé et les caractéristiques gustatives attendues par le style de bière d'origine. Le goût fumé peut varier de faible à affirmé. Les saveurs fumées peuvent aller de boisées vers un peu comme du bacon en fonction du type de malts utilisés. L'équilibre entre les caractéristiques de la bière et le fumé peut varier bien que le résultat obtenu doit être relativement équilibré et agréable. La fumée peut ajouter un peu de sécheresse sur la fin en bouche. Dureté, âpreté, brûlé, carbonisé, caoutchouteux, sulfureux, médicamenteux ou des caractéristiques fumées phénoliques sont généralement inappropriés (bien que certaines de ces caractéristiques puissent être présentes dans certains styles de références; le malt fumé ne doit cependant pas contribuer à ces saveurs). ","Variable en fonction du style de la bière d'origine. Astringence significative. Les dérivés phénoliques de la fumée agressifs sont inappropriés. ","Ce style est pour toutes les bières qui présentent des caractéristiques fumées comme principale saveur et arôme autre que le Rauchbier de style Bamberg (c'est à dire une Märzen au hêtre fumé), qui a son propre style. Tout style de bière peut être fumé; l'objectif est d'atteindre un équilibre agréable entre le caractère fumé et le style de la bière servant de base. Les participants doivent être jugés sur la façon dont ce style est représenté et sur la manière dont il est en accord avec le caractère fumé. Les exemplaires avec un ou plusieurs types de fumées cités spécifiquement seront appréciés sur la façon dont ce type de fumée est reconnaissable et se marie avec le style de référence. Les juges doivent évaluer les bières principalement sur l'équilibre général et comment le caractère fumé améliore la bière de base. ","Le procédé d'utilisation des malts fumés a été adapté par les brasseurs artisanaux à de nombreux styles. Les brasseurs allemands ont traditionnellement utilisé les malts fumés sur des bocks, Doppelbock, weissbier, Dunkel, Schwarzbier, Helles, Pils ou encore d'autres styles de Bières Spéciales. ","Les différents matériaux utilisés pour fumer apportent au malt des caractéristiques de saveurs et d'arôme uniques. Le hêtre ou les autre bois dur (chêne, érable, acacia, aulne, pommier, cerisier et autres fruitiers) peuvent être utilisés pour fumer les malts. Les différents bois peuvent rappeler certains produits fumés en raison de leur association à des aliments (par exemple le frêne pour la palette fumée, l'érable avec le bacon ou les saucisses, et l'aulne pour le saumon). Les résineux ne doivent jamais être utilisés car ils ajoutent une saveur de pin médicamenteuse au malt. Les malts dont le fumage à la tourbe est perceptible, sont universellement indésirable en raison de leur fort et tranchant coté phénoliques et terreux. Les ingrédients restants varient en fonction du style servant de base. Si les malts fumés sont combinés avec d'autres ingrédients inhabituels (fruits, légumes, épices, miel, etc.) en quantités notables, la bière résultant doit tout de même être inscrite comme une Bière Fumée Spéciale. ",null,"​Alaskan Smoked Porter, Schlenkerla Weizen Rauchbier and Ur-Bock Rauchbier, Spezial Lagerbier, Weissbier and Bockbier, Stone Smoked Porter "]
["32B - Specialty Smoked Beer",null,null,null,null,null,null,"Varies with the base beer style","Varies with the base beer style","Varies with the base beer style","Varies with the base beer style","Varies with the base beer style","Varies with the base beer style","Varies with the base beer style","Varies with the base beer style","Varies with the base beer style","Varies with the base beer style","32B","Specialty Smoked Beer",null,null,{"$f":"VLOOKUP(A114,Feuil2!$A$1:$H$74,2,FALSE)","v":{"$error":"#N/A"}},{"$f":"VLOOKUP(A114,Feuil2!$A$1:$H$74,3,FALSE)","v":{"$error":"#N/A"}},{"$f":"VLOOKUP(A114,Feuil2!$A$1:$H$74,4,FALSE)","v":{"$error":"#N/A"}},{"$f":"VLOOKUP(A114,Feuil2!$A$1:$H$74,5,FALSE)","v":{"$error":"#N/A"}},{"$f":"VLOOKUP(A114,Feuil2!$A$1:$H$74,6,FALSE)","v":{"$error":"#N/A"}},{"$f":"VLOOKUP(A114,Feuil2!$A$1:$H$74,7,FALSE)","v":{"$error":"#N/A"}},{"$f":"VLOOKUP(A114,Feuil2!$A$1:$H$74,8,FALSE)","v":{"$error":"#N/A"}},"32-Smoked Beer","Specialty Beer","Specialty Beer","Specialty Beer","Varies with the base beer style","32B - Specialty Smoked Beer","Varies with the base beer style","A smoke-enhanced beer showing good balance between the smoke, the beer character, and the added ingredients, while remaining pleasant to drink. Balance in the use of smoke, hops and malt character is exhibited by the better examples.","The aroma should be a pleasant balance between the expected aroma of the base beer, the smokiness imparted by the use of smoked malts, and any additional ingredients. The intensity and character of the smoke, base beer style, and additional ingredients can vary, with any being more prominent in the balance. Smokiness may vary from low to assertive; however, balance in the overall presentation is the key to well-made examples. The quality and secondary characteristics of the smoke are reflective of the source of the smoke (e.g., alder, oak, beechwood). Sharp, phenolic, harsh, rubbery, or burnt smoke-derived aromatics are inappropriate.","Variable. The appearance should reflect the base beer style, although the color of the beer is often a bit darker than the plain base style. The use of certain fruits and spices may affect the color and hue of the beer as well.","As with aroma, there should be a balance between smokiness, the expected flavor characteristics of the base beer style, and the additional ingredients. Smokiness may vary from low to assertive. Smoky flavors may range from woody to somewhat bacon-like depending on the type of malts used. The balance of underlying beer characteristics and smoke can vary, although the resulting blend should be somewhat balanced and enjoyable. Smoke can add some dryness to the finish. Harsh, bitter, burnt, charred, rubbery, sulfury, medicinal, or phenolic smoky characteristics are generally inappropriate (although some of these characteristics may be present in some base styles; however, the smoked malt shouldn’t contribute these flavors).","Varies with the base beer style. Significant astringent, phenolic smoke-derived harshness is inappropriate.","Any style of beer can be smoked; the goal is to reach a pleasant balance between the smoke character and the base beer style. Entries should be judged on how well that style is represented, and how well it is balanced with the smoke character. Entries with a specific type or types of smoke cited will be judged on how well that type of smoke is recognizable and marries with the base style and added ingredients. Judges should evaluate the beers mostly on the overall balance, and how well the smoke character and added ingredients enhances the base beer.",null,"Different materials used to smoke malt result in unique flavor and aroma characteristics. Beechwood, or other hardwood (oak, maple, mesquite, alder, pecan, apple, cherry, other fruitwoods) smoked malts may be used. The various woods may remind one of certain smoked products due to their food association (e.g., hickory with ribs, maple with bacon or sausage, and alder with salmon). Evergreen wood should never be used since it adds a medicinal, piney flavor to the malt. Noticeable peat-smoked malt is universally undesirable due to its sharp, piercing phenolics and dirt-like earthiness. The beer ingredients vary with the base style. Other unusual ingredients (fruits, vegetables, spices, honey, etc.) used in noticeable quantities.",null,null,"A Specialty Smoked Beer is either a smoked beer based on something other than a Classic Style, or any type of smoked beer with additional ingredients (fruits, vegetables, spices) or processes employed that transform the beer into something more unique.","Une bière fumée améliorée montrant un bon équilibre entre le fumé, le caractère de la bière et les ingrédients ajoutés, tout en restant agréable à boire. L'équilibre dans l'usage du fumé, des houblons et le caractère du malt est présent dans les meilleurs exemples. ","L'arôme doit être un équilibre agréable entre l'arôme attendu de la bière servant de base, le fumé conféré par l'utilisation de malts fumés et tous les ingrédients supplémentaires. L'intensité et le caractère de fumé, du style de bière d'origine et des ingrédients ajoutés peuvent varier, avec l'un d'entre eux pouvant être plus important dans l'équilibre. Le fumé peut varier de faible à affirmé; Cependant, l'équilibre dans le résultat final est la clé des exemples réussis. La qualité et les caractéristiques secondaires du fumé sont le reflet de la source de la fumée (par exemple, aulne, chêne, hêtre). Les notes aromatiques dérivées de la fumée, piquante, phénolique, agressive, caoutchouteuse ou brûlés sont inappropriées. ","Variable. L'aspect doit refléter le style de la bière d'origine, bien que la couleur de la bière puisse souvent être un peu plus sombre que le style de base lui-même. L'utilisation de certains fruits et épices peut ainsi influer sur la couleur et la teinte de la bière. ","Comme pour l'arôme, il doit y avoir un équilibre entre le fumé, les caractéristiques de goûts attendus dans le style de la bière servant de base et les ingrédients supplémentaires. Le goût fumé peut varier de faible à affirmer. Les saveurs fumées peuvent aller de boisées vers quelque chose d'un peu typé bacon en fonction du type de malts utilisés. L'équilibre entre les caractéristiques de la bière et le fumé peut varier bien que le résultat obtenu doit être relativement équilibré et agréable. La fumée peut ajouter un peu de sécheresse en fin de bouche. Dureté, âpreté, brûlé, carbonisé, caoutchouteux, sulfureux, médicamenteux ou des caractéristiques fumées phénoliques sont généralement inappropriés (bien que certaines de ces caractéristiques puissent être présentes dans certains styles de références; le malt fumé ne doit cependant pas contribuer à ces saveurs). ","Variable en fonction du style de la bière d'origine. Astringence significative. Des dérivés phénoliques de la fumée agressifs sont inappropriés. ","Tout style de bière peut être fumé; l'objectif est d'atteindre un équilibre agréable entre le caractère fumé et le style de la bière servant de base. Les participants devront être jugés sur la façon dont ce style est représenté et sur la manière dont il est en accord avec le caractère fumé. Les exemplaires avec un ou plusieurs types de fumées cités spécifiquement seront appréciés sur la façon dont ce type de fumée est reconnaissable et se marie avec le style de référence et les ingrédients ajoutés. Les juges devront évaluer les bières principalement sur l'équilibre général et comment le caractère fumé et les ingrédients ajoutés améliorent la bière de base.  ",null,"Les différents matériaux utilisés pour fumer apportent au malt des caractéristiques de saveurs et d'arôme uniques. Le hêtre ou les autre bois dur (chêne, érable, acacia, aulne, pommier, cerisier et autres fruitiers) peuvent être utilisés pour fumer les malts. Les différents bois peuvent rappeler certains produits fumés en raison de leur association à des aliments (par exemple le frêne pour la palette fumée, l'érable avec le bacon ou les saucisses, et l'aulne pour le saumon). Les résineux ne doivent jamais être utilisés car ils ajoutent une saveur de pin médicamenteuse au malt.  Les malts dont le fumage à la tourbe est perceptible, sont universellement indésirable en raison de leur fort et agressifs coté phénoliques et terreux. Les ingrédients restants varient en fonction du style servant de base. Les autres ingrédients inhabituels (fruits, légumes, épices, miel, etc.) sont utilisés en quantités appréciables. ",null,"Alaskan Smoked Porter, Schlenkerla Weizen Rauchbier and Ur-Bock Rauchbier, Spezial Lagerbier, Weissbier and Bockbier, Stone Smoked Porter "]
["33A - Wood-Aged Beer",null,null,null,null,null,null,"Varies with base style","Varies with base style","Varies with base style, typically above-average","Varies with base style, typically above-average","Varies with base style, often darker than the unadulterated base style","Varies with base style, often darker than the unadulterated base style","Varies with base style, typically above-average ","Varies with base style, typically above-average ","Varies with base style","Varies with base style","33A","Wood-Aged Beer",null,null,{"$f":"VLOOKUP(A115,Feuil2!$A$1:$H$74,2,FALSE)","v":{"$error":"#N/A"}},{"$f":"VLOOKUP(A115,Feuil2!$A$1:$H$74,3,FALSE)","v":{"$error":"#N/A"}},{"$f":"VLOOKUP(A115,Feuil2!$A$1:$H$74,4,FALSE)","v":{"$error":"#N/A"}},{"$f":"VLOOKUP(A115,Feuil2!$A$1:$H$74,5,FALSE)","v":{"$error":"#N/A"}},{"$f":"VLOOKUP(A115,Feuil2!$A$1:$H$74,6,FALSE)","v":{"$error":"#N/A"}},{"$f":"VLOOKUP(A115,Feuil2!$A$1:$H$74,7,FALSE)","v":{"$error":"#N/A"}},{"$f":"VLOOKUP(A115,Feuil2!$A$1:$H$74,8,FALSE)","v":{"$error":"#N/A"}},"33-Wood Beer","Specialty Beer","Specialty Beer","Specialty Beer","Varies with base style","33A - Wood-Aged Beer","Varies with base style","A harmonious blend of the base beer style with characteristics from aging in contact with wood. The best examples will be smooth, flavorful, well-balanced and well-aged. ","Varies with base style. A low to moderate wood- or oak-based aroma is usually present. Fresh wood can occasionally impart raw “green” aromatics, although this character should never be too strong. Other optional aromatics include a low to moderate vanilla, caramel, toffee, toast, or cocoa character from any char on the wood. Any alcohol character should be smooth and balanced, not hot. Some background oxidation character is optional, and can take on a pleasant, sherry-like character and not be papery or cardboard-like. Should not have added alcohol character.","Varies with base style. Often darker than the unadulterated base beer style, particularly if toasted/charred barrels are used.","Varies with base style. Wood usually contributes a woody or oaky flavor, which can occasionally take on a raw “green” flavor if new wood is used. Other flavors that may optionally be present include vanilla (from vanillin in the wood); caramel, butterscotch, toasted bread or almonds (from toasted wood); and coffee, chocolate, cocoa (from charred wood). The wood and/or other cask-derived flavors should be balanced, supportive and noticeable, but should not overpower the base beer style. Some background oxidation character is optional, although this should take on a pleasant, sherry-like character and not be papery or cardboard-like.","Varies with base style. Wood can add tannins to the beer, depending on age of the cask. The tannins can lead to additional astringency (which should never be high), or simply a fuller mouthfeel. Tart or acidic characteristics should be low to none, and never distracting.","The base beer style should be apparent. The wood-based character should be evident, but not so dominant as to unbalance the beer. The intensity of the wood-based flavors is based on the contact time with the wood; the age, condition, and origin and char level of the barrel; and the type of wood. THIS CATEGORY SHOULD NOT BE USED FOR BASE STYLES WHERE WOOD-AGING IS A FUNDAMENTAL REQUIREMENT FOR THE STYLE (e.g., Flanders Red, Lambic, etc.). Beers made using either limited wood aging or products that only provide a subtle background character may be entered in the base beer style categories as long as the wood character isn’t prominently featured.","A traditional production method that is rarely used by major breweries, and usually only with specialty products. More popular with modern American craft breweries looking for new, distinctive products. Oak cask and barrels are traditional, although other woods are becoming more popular.","Varies with base style. Aged in wooden casks or barrels, or using wood-based additives (wood chips, wood staves, oak essence). Fuller-bodied, higher-gravity base styles often are used since they can best stand up to the additional flavors, although experimentation is encouraged.",null,"Bush Prestige, Cigar City Humidor India Pale Ale, Faust Holzfassgereifter Eisbock, Firestone Walker Double Barrel Ale, Great Divide Oak Aged Yeti Imperial Stout, Petrus Aged Pale, Samuel Smith Yorkshire Stingo","This style is intended for beer aged in wood without added alcohol character from previous use of the barrel. Bourbon-barrel or other similar beers should be entered as a Specialty Wood-Aged Beer.","Un assemblage harmonieux d'un style de bière classique avec des caractéristiques de vieillissement au contact avec le bois. Les meilleurs exemples seront moelleux, savoureux, bien équilibrés et bien vieillis. ","Variable en fonction du style servant de base. Un faible à modéré arôme de bois ou de chêne est généralement présent. Le bois frais peut parfois conférer des arômes \"verts\" bruts, bien que ce caractère ne doive jamais être trop fort. D'autres notes aromatiques faibles à modérées en option incluant vanille, caramel, toffee, toasté ou cacao provenant de la brûlure superficielle du bois. Tout caractère d'alcool doit être doux et équilibrée, jamais brûlant. Des caractéristiques d'oxydation en arrière-plan sont facultatives et peuvent prendre un caractère agréable, de type Sherry mais pas être parcheminée ou comme du carton. Ne doit pas avoir le caractère d'un alcool ajouté. ","Variable selon le style servant de base. Souvent plus sombre que le style de bière de base sans affinage en particulier si des barriques brûlées/carbonisées sont utilisées. ","Variable selon le style d'origine. Le bois contribue généralement à une saveur boisée ou de chêne qui peut parfois prendre une saveur \"vert\" brute si des fûts de bois neufs sont utilisés. D'autres saveurs peuvent éventuellement être présentes et comprennent de la vanille (à partir de la vanilline présente dans le bois); caramel, caramel au beurre, pain toasté ou amandes (provenant de bois grillé); et le café, le chocolat, le cacao (à partir de bois carbonisé). D'autres saveurs dérivées du bois ou des fûts doivent être équilibrées, harmonieuses et remarquables mais ne doivent pas écraser le style de la bière servant de base à la préparation. Les caractères d'oxydation en arrière-plan sont facultatifs et sinon doivent prendre un caractère agréable, de type xérès/sherry et ne pas être pâteux ou cartonné. ","Variable selon le style d'origine. Le bois peut ajouter des tanins à la bière en fonction de l'âge du fût. Les tanins peuvent conduire à une astringence supplémentaire (qui ne doit jamais être trop élevé) ou tout simplement une sensation en bouche plus complète. L'âpreté ou l'acidité doivent être faibles à nulle mais jamais déconcertantes. ","Le style de la bière servant de base à la préparation doit rester évident. Le caractère boisé doit être évident mais pas au point de dominer et de déséquilibrer la bière. L'intensité des arômes à base de bois est basée sur le temps de contact avec le bois; la durée, l'état, et l'origine et le brûlage du fût, ainsi que le type de bois. Cette catégorie ne doit pas être utilisée pour les styles classiques ou l'élevage en fûts est une exigence fondamentale du style (par exemple Flandre Rouge, Lambic, etc.). Les Bières faites en utilisant soit un vieillissement sous bois limitée ou des produits qui ne donnent pas un caractère de fond subtil peuvent être inscrits dans les catégories de style de bière d'origine tant que le caractère du bois n'est pas un trait distinctif. ","Une méthode de production traditionnelle qui est rarement utilisé par les grandes brasseries et généralement uniquement avec des produits spéciaux. Plus populaire auprès des brasseries artisanales modernes en quête de nouveaux produits distinctifs. Les fûts et les barriques en chêne sont traditionnels bien que d'autres type de bois soit de plus en plus populaire. ","Variable selon le style servant de base. Bières vieillies en fûts ou barriques en bois, ou en utilisant des additifs à base de bois (copeaux de bois, bâtons de bois, huiles essentielles de chêne). Les styles les plus corsé et avec une densité élevée sont souvent utilisés car ils peuvent mieux résister aux saveurs supplémentaires même si les expérimentations sont à encourager. ",null,"Bush Prestige, Cigar City Humidor India Pale, Faust Holzfassgereifter Eisbock, Firestone Walker Double Barrel Ale, Great Divide Oak Aged Yeti Imperial Stout, Petrus Aged Pale, Samuel Smith Yorkshire Stingo "]
["33B - Specialty Wood-Aged Beer",null,null,null,null,null,null,"Varies with base style ","Varies with base style ","Varies with base style, typically above-average","Varies with base style, typically above-average","Varies with base style","Varies with base style","Varies with base style, typically above-average","Varies with base style, typically above-average","Varies with base style ","Varies with base style ","33B","Specialty Wood-Aged Beer",null,null,{"$f":"VLOOKUP(A116,Feuil2!$A$1:$H$74,2,FALSE)","v":{"$error":"#N/A"}},{"$f":"VLOOKUP(A116,Feuil2!$A$1:$H$74,3,FALSE)","v":{"$error":"#N/A"}},{"$f":"VLOOKUP(A116,Feuil2!$A$1:$H$74,4,FALSE)","v":{"$error":"#N/A"}},{"$f":"VLOOKUP(A116,Feuil2!$A$1:$H$74,5,FALSE)","v":{"$error":"#N/A"}},{"$f":"VLOOKUP(A116,Feuil2!$A$1:$H$74,6,FALSE)","v":{"$error":"#N/A"}},{"$f":"VLOOKUP(A116,Feuil2!$A$1:$H$74,7,FALSE)","v":{"$error":"#N/A"}},{"$f":"VLOOKUP(A116,Feuil2!$A$1:$H$74,8,FALSE)","v":{"$error":"#N/A"}},"33-Wood Beer","Specialty Beer","Specialty Beer","Specialty Beer","Varies with base style ","33B - Specialty Wood-Aged Beer","Varies with base style ","A harmonious blend of the base beer style with characteristics from aging in contact with wood (including alcoholic products previously in contact with the wood). The best examples will be smooth, flavorful, well-balanced and well-aged. ","Varies with base style. A low to moderate wood- or oak-based aroma is usually present. Other aromatics often include a low to moderate vanilla, caramel, toffee, toast, or cocoa character, as well as any aromatics associated with alcohol (distilled spirits, wine, etc.) previously stored in the wood. The added alcohol character should be smooth and balanced, not hot. Some background oxidation character is optional, and can take on a pleasant, sherry-like character and not be papery or cardboard-like.","Varies with base style. Often darker than the unadulterated base beer style, particularly if whiskey/bourbon barrels are used. Beers aged in wine barrels or other products with distinctive colors may also impart a color to the finished beer.","Varies with base style. Wood usually contributes a woody or oaky flavor. Other flavors that are typically present include vanilla (from vanillin in the wood); caramel, butterscotch, toasted bread or almonds (from toasted wood); coffee, chocolate, cocoa (from charred wood or bourbon casks); and alcohol flavors from other products previously stored in the wood. The wood and/or other cask-derived flavors should be balanced, supportive and noticeable, but should not overpower the base beer style. Some background oxidation character is optional, although this should take on a pleasant, sherry-like character and not be papery or cardboard-like.","Varies with base style. Wood can add tannins to the beer, depending on age of the cask. The tannins can lead to additional astringency (which should never be high), or simply a fuller mouthfeel. Usually exhibits additional alcohol warming. Higher alcohol levels should not result in “hot” beers; aged, smooth flavors are most desirable. Tart or acidic characteristics should be low to none.","The base beer style should be apparent. The wood-based character should be evident, but not so dominant as to unbalance the beer. The intensity of the wood-based flavors is based on the contact time with the wood; the age, condition, previous usage of the barrel; and the type of wood. Alcoholic products previously stored in the wood should be evident, but should not be so dominant as to unbalance the beer. THIS CATEGORY SHOULD NOT BE USED FOR BASE STYLES WHERE BARREL-AGING IS A FUNDAMENTAL REQUIREMENT FOR THE STYLE (e.g., Flanders Red, Lambic, etc.). Special wood-aged wild ales should be entered in the Wild Specialty style.","A traditional production method that is rarely used by major breweries, and usually only with specialty products. Quite popular with modern American craft breweries looking for new, distinctive products. Oak cask and barrels are traditional, although other woods can be used.","Varies with base style. Aged in wooden casks or barrels previously used to store alcohol (e.g., whiskey, bourbon, port, sherry, Madeira, wine, etc). Fuller-bodied, higher-gravity base styles often are used since they can best stand up to the additional flavors, although experimentation is encouraged.",null,"Founders Kentucky Breakfast Stout, Goose Island Bourbon County Stout, J.W. Lees Harvest Ale in Port, Sherry, Lagavulin Whisky or Calvados Casks, The Lost Abbey Angel’s Share Ale; many microbreweries have specialty beers served only on premises often directly from the cask.","This style is intended for beer aged in wood with added alcohol character from previous use of the barrel. Bourbon-barrel or other similar beers should be entered here."]
["34A - Clone Beer",null,null,null,null,null,null,"Vary depending on the declared beer","Vary depending on the declared beer","Vary depending on the declared beer","Vary depending on the declared beer","Vary depending on the declared beer","Vary depending on the declared beer","Vary depending on the declared beer","Vary depending on the declared beer","Vary depending on the declared beer","Vary depending on the declared beer","34A","Clone Beer",null,null,{"$f":"VLOOKUP(A117,Feuil2!$A$1:$H$74,2,FALSE)","v":{"$error":"#N/A"}},{"$f":"VLOOKUP(A117,Feuil2!$A$1:$H$74,3,FALSE)","v":{"$error":"#N/A"}},{"$f":"VLOOKUP(A117,Feuil2!$A$1:$H$74,4,FALSE)","v":{"$error":"#N/A"}},{"$f":"VLOOKUP(A117,Feuil2!$A$1:$H$74,5,FALSE)","v":{"$error":"#N/A"}},{"$f":"VLOOKUP(A117,Feuil2!$A$1:$H$74,6,FALSE)","v":{"$error":"#N/A"}},{"$f":"VLOOKUP(A117,Feuil2!$A$1:$H$74,7,FALSE)","v":{"$error":"#N/A"}},{"$f":"VLOOKUP(A117,Feuil2!$A$1:$H$74,8,FALSE)","v":{"$error":"#N/A"}},"34-Specialty Beer","Specialty Beer","Specialty Beer","Specialty Beer","Vary depending on the declared beer","34A - Clone Beer","Vary depending on the declared beer","Based on declared clone beer.","Based on declared clone beer.","Based on declared clone beer.","Based on declared clone beer.","Based on declared clone beer.","Intended as a catch-all location for specific beers that are based on unique commercial examples that don’t fit existing styles.",null,null,null,null,"This style is intended for reproductions of specific commercial beers that aren’t good representations of existing styles. The use of the word clone does not imply an exact copy; it implies an interpretation of a style represented by a specific beer that does not have a defined style within the guidelines. The beer should be judged as to how well it fits the broader style represented by the example beer, not how well it is an exact copy of a specific commercial product. If a ‘clone beer’ does fit another style, do not enter it here."]
["34B - Mixed-Style Beer",null,null,null,null,null,null,"Vary depending on the declared beer","Vary depending on the declared beer","Vary depending on the declared beer","Vary depending on the declared beer","Vary depending on the declared beer","Vary depending on the declared beer","Vary depending on the declared beer","Vary depending on the declared beer","Vary depending on the declared beer","Vary depending on the declared beer","34B","Mixed-Style Beer",null,null,{"$f":"VLOOKUP(A118,Feuil2!$A$1:$H$74,2,FALSE)","v":{"$error":"#N/A"}},{"$f":"VLOOKUP(A118,Feuil2!$A$1:$H$74,3,FALSE)","v":{"$error":"#N/A"}},{"$f":"VLOOKUP(A118,Feuil2!$A$1:$H$74,4,FALSE)","v":{"$error":"#N/A"}},{"$f":"VLOOKUP(A118,Feuil2!$A$1:$H$74,5,FALSE)","v":{"$error":"#N/A"}},{"$f":"VLOOKUP(A118,Feuil2!$A$1:$H$74,6,FALSE)","v":{"$error":"#N/A"}},{"$f":"VLOOKUP(A118,Feuil2!$A$1:$H$74,7,FALSE)","v":{"$error":"#N/A"}},{"$f":"VLOOKUP(A118,Feuil2!$A$1:$H$74,8,FALSE)","v":{"$error":"#N/A"}},"34-Specialty Beer","Specialty Beer","Specialty Beer","Specialty Beer","Vary depending on the declared beer","34B - Mixed-Style Beer","Vary depending on the declared beer","Based on the declared base styles. As with all Specialty-Type Beers, the resulting combination of beer styles needs to be harmonious and balanced, and be pleasant to drink.","Based on the declared base styles.","Based on the declared base styles.","Based on the declared base styles.","Based on the declared base styles.","Intended for Specialty-Type combinations of styles not described elsewhere as Specialty-Type Beers, or as hybrid or fusion beers between other existing styles.",null,null,null,null,"This style is intended for combinations of existing styles (Classic Beers or Specialty-Type) that are not defined elsewhere in the guidelines. If a ‘mixed-style beer’ does fit another style, do not enter it here. "]
["34C - Experimental Beer",null,null,null,null,null,null,"Vary depending on the declared beer","Vary depending on the declared beer","Vary depending on the declared beer","Vary depending on the declared beer","Vary depending on the declared beer","Vary depending on the declared beer","Vary depending on the declared beer","Vary depending on the declared beer","Vary depending on the declared beer","Vary depending on the declared beer","34C","Experimental Beer",null,null,{"$f":"VLOOKUP(A119,Feuil2!$A$1:$H$74,2,FALSE)","v":{"$error":"#N/A"}},{"$f":"VLOOKUP(A119,Feuil2!$A$1:$H$74,3,FALSE)","v":{"$error":"#N/A"}},{"$f":"VLOOKUP(A119,Feuil2!$A$1:$H$74,4,FALSE)","v":{"$error":"#N/A"}},{"$f":"VLOOKUP(A119,Feuil2!$A$1:$H$74,5,FALSE)","v":{"$error":"#N/A"}},{"$f":"VLOOKUP(A119,Feuil2!$A$1:$H$74,6,FALSE)","v":{"$error":"#N/A"}},{"$f":"VLOOKUP(A119,Feuil2!$A$1:$H$74,7,FALSE)","v":{"$error":"#N/A"}},{"$f":"VLOOKUP(A119,Feuil2!$A$1:$H$74,8,FALSE)","v":{"$error":"#N/A"}},"34-Specialty Beer","Specialty Beer","Specialty Beer","Specialty Beer","Vary depending on the declared beer","34C - Experimental Beer","Vary depending on the declared beer","Varies, but should be a unique experience.","Varies.","Varies.","Varies.","Varies.","This style is the ultimate in creativity, since it cannot represent a well-known commercial beer (otherwise it would be a clone beer) and cannot fit into any other existing Specialty-Type style (including those within this major category).",null,null,null,null,"This is explicitly a catch-all category for any beer that does not fit into an existing style description. No beer is ever “out of style” in this style, unless it fits elsewhere. This is the last resort for any beer entered into a competition."]

{"sheet":"Paramètres","index":10,"n_rows":400,"n_cols":17,"rows_kept":400,"cut":false,"hidden":false,"merged":[[54,6,54,7],[55,6,55,7],[56,6,56,7],[57,6,57,7],[58,6,58,7],[48,5,48,7],[50,6,50,7],[51,6,51,7],[52,6,52,7],[53,6,53,7],[42,5,42,8],[32,5,32,8],[0,9,0,16],[15,5,15,8],[0,0,0,4],[0,6,0,7],[8,6,8,8]]}
["Caractéristiques des malts",null,null,null,null,null,"Taux d'utilisation houblon",null,null,"Caractéristiques des levures"]
["Type","Rendement max","EBC","%max","pH",null,"Ebullition",1,null,"Nom","Type","Atténuation min","Atténuation max","Atténuation moyenne calculée","T°C min","T°C max","Floculation"]
["Abbaye",0.7,45,0.3,5.13,null,"DH",0,null,{"$f":"Levures!A2","v":"Wyeast 3068 Weihenstephan Weizen"},{"$f":"Levures!E2","v":"Liquide"},{"$f":"Levures!G2","v":0.73},{"$f":"Levures!H2","v":0.77},{"$f":"Levures!I2","v":0.75},{"$f":"Levures!J2","v":18},{"$f":"Levures!K2","v":24},{"$f":"Levures!F2","v":"Basse"}]
["Arôme",0.74,100,0.2,5.03,null,"Hop-Stand",0,null,{"$f":"Levures!A3","v":"Wyeast 1007 German Ale"},{"$f":"Levures!E3","v":"Liquide"},{"$f":"Levures!G3","v":0.73},{"$f":"Levures!H3","v":0.77},{"$f":"Levures!I3","v":0.75},{"$f":"Levures!J3","v":12.8},{"$f":"Levures!K3","v":20},{"$f":"Levures!F3","v":"Basse"}]
["Avoine (flocons)",0.7,5,0.25,5.2,null,"FWH",1.1000000000000001,null,{"$f":"Levures!A4","v":"Wyeast 1028 London Ale"},{"$f":"Levures!E4","v":"Liquide"},{"$f":"Levures!G4","v":0.73},{"$f":"Levures!H4","v":0.77},{"$f":"Levures!I4","v":0.75},{"$f":"Levures!J4","v":15.6},{"$f":"Levures!K4","v":22.2},{"$f":"Levures!F4","v":"Basse - Moyenne"}]
["Biscuit Malt",0.75,50,0.3,5.12,null,"Mash-Hop",0.2,null,{"$f":"Levures!A5","v":"Wyeast 1056 American Ale"},{"$f":"Levures!E5","v":"Liquide"},{"$f":"Levures!G5","v":0.73},{"$f":"Levures!H5","v":0.77},{"$f":"Levures!I5","v":0.75},{"$f":"Levures!J5","v":15.6},{"$f":"Levures!K5","v":22.2},{"$f":"Levures!F5","v":"Basse - Moyenne"}]
["Black",0.55000000000000004,1300,0.05,4.71,null,"Flame-out",0.75,null,{"$f":"Levures!A6","v":"Wyeast 1084 Irish Ale"},{"$f":"Levures!E6","v":"Liquide"},{"$f":"Levures!G6","v":0.71},{"$f":"Levures!H6","v":0.75},{"$f":"Levures!I6","v":0.73},{"$f":"Levures!J6","v":16.7},{"$f":"Levures!K6","v":22.2},{"$f":"Levures!F6","v":"Moyenne"}]
["Black of black",0.55000000000000004,800,0.05,4.71,null,null,null,null,{"$f":"Levures!A7","v":"Wyeast 1098 British Ale"},{"$f":"Levures!E7","v":"Liquide"},{"$f":"Levures!G7","v":0.73},{"$f":"Levures!H7","v":0.75},{"$f":"Levures!I7","v":0.74},{"$f":"Levures!J7","v":17.8},{"$f":"Levures!K7","v":22.2},{"$f":"Levures!F7","v":"Moyenne"}]
["Blé (flocons)",0.77,5,0.25,5.2,null,"Taux d'ensemencement",null,null,{"$f":"Levures!A8","v":"Wyeast 1187 Ringwood Ale"},{"$f":"Levures!E8","v":"Liquide"},{"$f":"Levures!G8","v":0.68},{"$f":"Levures!H8","v":0.72},{"$f":"Levures!I8","v":0.7},{"$f":"Levures!J8","v":17.8},{"$f":"Levures!K8","v":23.3},{"$f":"Levures!F8","v":"Haute"}]
["Café",0.6,500,0.1,4.71,null,null,1.0649999999999999,">1065",{"$f":"Levures!A9","v":"Wyeast 1214 Belgian Abbey Style Ale"},{"$f":"Levures!E9","v":"Liquide"},{"$f":"Levures!G9","v":0.74},{"$f":"Levures!H9","v":0.78},{"$f":"Levures!I9","v":0.76},{"$f":"Levures!J9","v":20},{"$f":"Levures!K9","v":25.6},{"$f":"Levures!F9","v":"Basse - Moyenne"}]
["Café light",0.6,250,0.1,4.71,null,"Ale",0.75,1,{"$f":"Levures!A10","v":"Wyeast 1272 American Ale II"},{"$f":"Levures!E10","v":"Liquide"},{"$f":"Levures!G10","v":0.72},{"$f":"Levures!H10","v":0.76},{"$f":"Levures!I10","v":0.74},{"$f":"Levures!J10","v":15.6},{"$f":"Levures!K10","v":22.2},{"$f":"Levures!F10","v":"Moyenne"}]
["Cara Belge",0.74,35,0.3,5.16,null,"Lager",1.5,2,{"$f":"Levures!A11","v":"Wyeast 1275 Thames Valley Ale"},{"$f":"Levures!E11","v":"Liquide"},{"$f":"Levures!G11","v":0.72},{"$f":"Levures!H11","v":0.76},{"$f":"Levures!I11","v":0.74},{"$f":"Levures!J11","v":16.7},{"$f":"Levures!K11","v":22.2},{"$f":"Levures!F11","v":"Basse - Moyenne"}]
["Cara Bohemian",0.74,195,0.2,4.9000000000000004,null,null,null,null,{"$f":"Levures!A12","v":"Wyeast 1335 British Ale II"},{"$f":"Levures!E12","v":"Liquide"},{"$f":"Levures!G12","v":0.73},{"$f":"Levures!H12","v":0.76},{"$f":"Levures!I12","v":0.745},{"$f":"Levures!J12","v":22.8},{"$f":"Levures!K12","v":24.4},{"$f":"Levures!F12","v":"Haute"}]
["Cara Gold",0.74,120,0.2,4.99,null,null,null,null,{"$f":"Levures!A13","v":"Wyeast 1388 Belgian Strong Ale"},{"$f":"Levures!E13","v":"Liquide"},{"$f":"Levures!G13","v":0.74},{"$f":"Levures!H13","v":0.78},{"$f":"Levures!I13","v":0.76},{"$f":"Levures!J13","v":17.8},{"$f":"Levures!K13","v":26.7},{"$f":"Levures!F13","v":"Basse"}]
["Cara Gold - Vieux Silo",0.7,120,0.2,4.99,null,null,null,null,{"$f":"Levures!A14","v":"Wyeast 1728 Scottish Ale"},{"$f":"Levures!E14","v":"Liquide"},{"$f":"Levures!G14","v":0.69},{"$f":"Levures!H14","v":0.73},{"$f":"Levures!I14","v":0.71},{"$f":"Levures!J14","v":12.8},{"$f":"Levures!K14","v":23.9},{"$f":"Levures!F14","v":"Haute"}]
["Cara Ruby",0.74,50,0.25,5.12,"Sucres",null,null,null,{"$f":"Levures!A15","v":"Wyeast 1762 Belgian Abbey Style Ale II"},{"$f":"Levures!E15","v":"Liquide"},{"$f":"Levures!G15","v":0.73},{"$f":"Levures!H15","v":0.77},{"$f":"Levures!I15","v":0.75},{"$f":"Levures!J15","v":18.3},{"$f":"Levures!K15","v":23.9},{"$f":"Levures!F15","v":"Moyenne"}]
["Cara-Blond",0.7,20,0.3,5.18,"Type","Rendement max","EBC","pH",{"$f":"Levures!A16","v":"Wyeast 1968 London ESB Ale"},{"$f":"Levures!E16","v":"Liquide"},{"$f":"Levures!G16","v":0.67},{"$f":"Levures!H16","v":0.71},{"$f":"Levures!I16","v":0.69},{"$f":"Levures!J16","v":17.8},{"$f":"Levures!K16","v":22.2},{"$f":"Levures!F16","v":"Haute"}]
["Cara-clair",0.75,5.5,0.3,5.2,"Sucre ambré",1,150,null,{"$f":"Levures!A17","v":"Wyeast 2001 PC Pilsner Urquell H-Strain 20"},{"$f":"Levures!E17","v":"Liquide"},{"$f":"Levures!G17","v":0.72},{"$f":"Levures!H17","v":0.76},{"$f":"Levures!I17","v":0.74},{"$f":"Levures!J17","v":8.9},{"$f":"Levures!K17","v":13.3},{"$f":"Levures!F17","v":"Moyenne - Haute"}]
["Château Abbaye",0.78,45,0.25,5.13,"Sucre blanc",1,2,null,{"$f":"Levures!A18","v":"Wyeast 2007 Pilsen Lager"},{"$f":"Levures!E18","v":"Liquide"},{"$f":"Levures!G18","v":0.71},{"$f":"Levures!H18","v":0.75},{"$f":"Levures!I18","v":0.73},{"$f":"Levures!J18","v":17.8},{"$f":"Levures!K18","v":17.8},{"$f":"Levures!F18","v":"Moyenne"}]
["Château Acide Malt",0.74,8,0.1,4.5,"Sucre foncé",1,542,null,{"$f":"Levures!A19","v":"Wyeast 2112 California Lager"},{"$f":"Levures!E19","v":"Liquide"},{"$f":"Levures!G19","v":0.67},{"$f":"Levures!H19","v":0.71},{"$f":"Levures!I19","v":0.69},{"$f":"Levures!J19","v":17.8},{"$f":"Levures!K19","v":17.8},{"$f":"Levures!F19","v":"Haute"}]
["Château Arôme",0.78,100,0.2,5.03,"DME blond",0.96599999999999997,8,"",{"$f":"Levures!A20","v":"Wyeast 2124 Bohemian Lager"},{"$f":"Levures!E20","v":"Liquide"},{"$f":"Levures!G20","v":0.73},{"$f":"Levures!H20","v":0.77},{"$f":"Levures!I20","v":0.75},{"$f":"Levures!J20","v":17.8},{"$f":"Levures!K20","v":17.8},{"$f":"Levures!F20","v":"Basse-Moyenne"}]
["Château Avoine Malt",0.59,2,0.15,5.2,"DME ambré",0.96599999999999997,18,"",{"$f":"Levures!A21","v":"Wyeast 2206 Bavarian Lager"},{"$f":"Levures!E21","v":"Liquide"},{"$f":"Levures!G21","v":0.73},{"$f":"Levures!H21","v":0.77},{"$f":"Levures!I21","v":0.75},{"$f":"Levures!J21","v":17.8},{"$f":"Levures!K21","v":17.8},{"$f":"Levures!F21","v":"Moyenne - Haute"}]
["Château Biscuit Malt",0.77,50,0.25,5.12,"DME foncé",0.96599999999999997,57,"",{"$f":"Levures!A22","v":"Wyeast 2247 PC European Lager"},{"$f":"Levures!E22","v":"Liquide"},{"$f":"Levures!G22","v":0.73},{"$f":"Levures!H22","v":0.77},{"$f":"Levures!I22","v":0.75},{"$f":"Levures!J22","v":17.8},{"$f":"Levures!K22","v":17.8},{"$f":"Levures!F22","v":"Basse"}]
["Château Black",0.72,1300,0.06,4.71,"DME noir",0.96599999999999997,95,"",{"$f":"Levures!A23","v":"Wyeast 2272 PC North American Lager"},{"$f":"Levures!E23","v":"Liquide"},{"$f":"Levures!G23","v":0.7},{"$f":"Levures!H23","v":0.76},{"$f":"Levures!I23","v":0.73},{"$f":"Levures!J23","v":17.8},{"$f":"Levures!K23","v":17.8},{"$f":"Levures!F23","v":"Haute"}]
["Château Café",0.75,500,0.1,4.71,"LME blond",0.79300000000000004,10,"",{"$f":"Levures!A24","v":"Wyeast 2308 Munich Lager"},{"$f":"Levures!E24","v":"Liquide"},{"$f":"Levures!G24","v":0.7},{"$f":"Levures!H24","v":0.74},{"$f":"Levures!I24","v":0.72},{"$f":"Levures!J24","v":17.8},{"$f":"Levures!K24","v":17.8},{"$f":"Levures!F24","v":"Moyenne"}]
["Château Café Light",0.77,250,0.1,4.71,"LME ambré",0.79300000000000004,18,"",{"$f":"Levures!A25","v":"Wyeast 2487 PC Hella Bock Lager"},{"$f":"Levures!E25","v":"Liquide"},{"$f":"Levures!G25","v":0.7},{"$f":"Levures!H25","v":0.74},{"$f":"Levures!I25","v":0.72},{"$f":"Levures!J25","v":17.8},{"$f":"Levures!K25","v":17.8},{"$f":"Levures!F25","v":"Moyenne"}]
["Château Cara Blond",0.78,20,0.3,5.18,"LME foncé",0.79300000000000004,55,"",{"$f":"Levures!A26","v":"Wyeast 2575 PC Kölsch II"},{"$f":"Levures!E26","v":"Liquide"},{"$f":"Levures!G26","v":0.73},{"$f":"Levures!H26","v":0.77},{"$f":"Levures!I26","v":0.75},{"$f":"Levures!J26","v":12.8},{"$f":"Levures!K26","v":21.1},{"$f":"Levures!F26","v":"Basse"}]
["Château Cara Clair (carapils)",0.78,8,0.3,5.2,"Miel (printemps)",0.75,5,"",{"$f":"Levures!A27","v":"Wyeast 3068 Weihenstephan Weizen"},{"$f":"Levures!E27","v":"Liquide"},{"$f":"Levures!G27","v":0.73},{"$f":"Levures!H27","v":0.77},{"$f":"Levures!I27","v":0.75},{"$f":"Levures!J27","v":17.8},{"$f":"Levures!K27","v":23.9},{"$f":"Levures!F27","v":"Basse"}]
["Château Cara Gold",0.78,120,0.2,4.99,"Miel (été)",0.75,20,"",{"$f":"Levures!A28","v":"Wyeast 3333 PC German Wheat"},{"$f":"Levures!E28","v":"Liquide"},{"$f":"Levures!G28","v":0.7},{"$f":"Levures!H28","v":0.76},{"$f":"Levures!I28","v":0.73},{"$f":"Levures!J28","v":17.2},{"$f":"Levures!K28","v":23.9},{"$f":"Levures!F28","v":"Haute"}]
["Château Cara Ruby",0.77,50,0.25,5.12,"Fruits (coulis)",0.26,5,"",{"$f":"Levures!A29","v":"Wyeast 3463 PC Forbidden Fruit"},{"$f":"Levures!E29","v":"Liquide"},{"$f":"Levures!G29","v":0.72},{"$f":"Levures!H29","v":0.76},{"$f":"Levures!I29","v":0.74},{"$f":"Levures!J29","v":17.2},{"$f":"Levures!K29","v":24.4},{"$f":"Levures!F29","v":"Basse"}]
["Château Chocolat",0.75,900,7.0000000000000007E-2,3.33,"","","","",{"$f":"Levures!A30","v":"Wyeast 3522 Belgian Ardennes"},{"$f":"Levures!E30","v":"Liquide"},{"$f":"Levures!G30","v":0.72},{"$f":"Levures!H30","v":0.76},{"$f":"Levures!I30","v":0.74},{"$f":"Levures!J30","v":18.3},{"$f":"Levures!K30","v":24.4},{"$f":"Levures!F30","v":"Haute"}]
["Château Crystal",0.78,150,0.2,4.93,null,null,null,null,{"$f":"Levures!A31","v":"Wyeast 3638 Bavarian Wheat"},{"$f":"Levures!E31","v":"Liquide"},{"$f":"Levures!G31","v":0.7},{"$f":"Levures!H31","v":0.76},{"$f":"Levures!I31","v":0.73},{"$f":"Levures!J31","v":17.8},{"$f":"Levures!K31","v":23.9},{"$f":"Levures!F31","v":"Basse"}]
["Château Diastasique",0.8,3,0.3,5.7,"Sucres non-fermentiscibles",null,null,null,{"$f":"Levures!A32","v":"Wyeast 3724 Belgian Saison"},{"$f":"Levures!E32","v":"Liquide"},{"$f":"Levures!G32","v":0.76},{"$f":"Levures!H32","v":0.8},{"$f":"Levures!I32","v":0.78},{"$f":"Levures!J32","v":21.1},{"$f":"Levures!K32","v":35},{"$f":"Levures!F32","v":"Basse"}]
["Château Epeautre",0.79,5,0.15,5.8,"Type","Rendement max","EBC","Pouvoir sucrant",{"$f":"Levures!A33","v":"Wyeast 3787 Trappist Style High Gravity"},{"$f":"Levures!E33","v":"Liquide"},{"$f":"Levures!G33","v":0.74},{"$f":"Levures!H33","v":0.78},{"$f":"Levures!I33","v":0.76},{"$f":"Levures!J33","v":17.8},{"$f":"Levures!K33","v":25.6},{"$f":"Levures!F33","v":"Moyenne"}]
["Château Froment blanc",0.83,4,0.35,6.04,"Lactose",1,"",0.16,{"$f":"Levures!A34","v":"Wyeast 3864 PC Canadian/Belgian Ale"},{"$f":"Levures!E34","v":"Liquide"},{"$f":"Levures!G34","v":0.75},{"$f":"Levures!H34","v":0.79},{"$f":"Levures!I34","v":0.77},{"$f":"Levures!J34","v":18.3},{"$f":"Levures!K34","v":26.7},{"$f":"Levures!F34","v":"Moyenne"}]
["Château Froment Chocolat",0.71,900,0.2,4.71,"","","","",{"$f":"Levures!A35","v":"Wyeast 3944  Belgian Witbier"},{"$f":"Levures!E35","v":"Liquide"},{"$f":"Levures!G35","v":0.72},{"$f":"Levures!H35","v":0.76},{"$f":"Levures!I35","v":0.74},{"$f":"Levures!J35","v":16.7},{"$f":"Levures!K35","v":23.9},{"$f":"Levures!F35","v":"Moyenne"}]
["Château Froment Crystal",0.78,150,0.2,4.93,"","","","",{"$f":"Levures!A36","v":"Imperial Yeast A01 House"},{"$f":"Levures!E36","v":"Liquide"},{"$f":"Levures!G36","v":0.73},{"$f":"Levures!H36","v":0.75},{"$f":"Levures!I36","v":0.74},{"$f":"Levures!J36","v":16.7},{"$f":"Levures!K36","v":21.1},{"$f":"Levures!F36","v":"Haute"}]
["Château Froment Munich",0.84,25,0.3,5.43,"","","","",{"$f":"Levures!A37","v":"Imperial Yeast A04 Barbarian"},{"$f":"Levures!E37","v":"Liquide"},{"$f":"Levures!G37","v":0.73},{"$f":"Levures!H37","v":0.74},{"$f":"Levures!I37","v":0.73499999999999999},{"$f":"Levures!J37","v":16.7},{"$f":"Levures!K37","v":21.1},{"$f":"Levures!F37","v":"Moyenne"}]
["Château Fumé",0.77,8,0.15,5.6,"","","","",{"$f":"Levures!A38","v":"Imperial Yeast A07 Flagship"},{"$f":"Levures!E38","v":"Liquide"},{"$f":"Levures!G38","v":0.73},{"$f":"Levures!H38","v":0.77},{"$f":"Levures!I38","v":0.75},{"$f":"Levures!J38","v":15.6},{"$f":"Levures!K38","v":22.2},{"$f":"Levures!F38","v":"Basse - Moyenne"}]
["Château Mélano (80)",0.78,80,0.2,5.0999999999999996,"","","","",{"$f":"Levures!A39","v":"Imperial Yeast A09 Pub"},{"$f":"Levures!E39","v":"Liquide"},{"$f":"Levures!G39","v":0.69},{"$f":"Levures!H39","v":0.74},{"$f":"Levures!I39","v":0.71499999999999997},{"$f":"Levures!J39","v":17.8},{"$f":"Levures!K39","v":21.1},{"$f":"Levures!F39","v":"Très  Haute"}]
["Château Munich",0.8,25,0.6,5.4,"","","","",{"$f":"Levures!A40","v":"Imperial Yeast A10 Darkness"},{"$f":"Levures!E40","v":"Liquide"},{"$f":"Levures!G40","v":0.71},{"$f":"Levures!H40","v":0.75},{"$f":"Levures!I40","v":0.73},{"$f":"Levures!J40","v":16.7},{"$f":"Levures!K40","v":22.2},{"$f":"Levures!F40","v":"Moyenne"}]
["Château Pale Ale",0.81,8,1,5.7,null,null,null,null,{"$f":"Levures!A41","v":"Imperial Yeast A15 Independence"},{"$f":"Levures!E41","v":"Liquide"},{"$f":"Levures!G41","v":0.72},{"$f":"Levures!H41","v":0.76},{"$f":"Levures!I41","v":0.74},{"$f":"Levures!J41","v":15.6},{"$f":"Levures!K41","v":22.2},{"$f":"Levures!F41","v":"Moyenne"}]
["Château Pilsen 2 rangs",0.81,3,1,5.7,"Effet des acides",null,null,null,{"$f":"Levures!A42","v":"Imperial Yeast A18 Joystick"},{"$f":"Levures!E42","v":"Liquide"},{"$f":"Levures!G42","v":0.73},{"$f":"Levures!H42","v":0.77},{"$f":"Levures!I42","v":0.75},{"$f":"Levures!J42","v":15.6},{"$f":"Levures!K42","v":21.1},{"$f":"Levures!F42","v":"Moyenne - Haute"}]
["Château Roasted Barley",0.65,1150,0.05,4.71,"quantité","Type","concentration","effet",{"$f":"Levures!A43","v":"Imperial Yeast A20 Citrus"},{"$f":"Levures!E43","v":"Liquide"},{"$f":"Levures!G43","v":0.74},{"$f":"Levures!H43","v":0.78},{"$f":"Levures!I43","v":0.76},{"$f":"Levures!J43","v":19.399999999999999},{"$f":"Levures!K43","v":26.7},{"$f":"Levures!F43","v":"Basse"}]
["Château Sarrazin malt",0.65,12,0.75,5.5,1,"Acide Lactique",0.8,10.7,{"$f":"Levures!A44","v":"Imperial Yeast A24 Dry Hop"},{"$f":"Levures!E44","v":"Liquide"},{"$f":"Levures!G44","v":0.74},{"$f":"Levures!H44","v":0.78},{"$f":"Levures!I44","v":0.76},{"$f":"Levures!J44","v":17.8},{"$f":"Levures!K44","v":23.3},{"$f":"Levures!F44","v":"Moyenne"}]
["Château Seigle malt",0.81,7,1,5.7,1,"Acide Lactique",0.88,11.8,{"$f":"Levures!A45","v":"Imperial Yeast A31 Tartan"},{"$f":"Levures!E45","v":"Liquide"},{"$f":"Levures!G45","v":0.7},{"$f":"Levures!H45","v":0.75},{"$f":"Levures!I45","v":0.72499999999999998},{"$f":"Levures!J45","v":18.3},{"$f":"Levures!K45","v":21.1},{"$f":"Levures!F45","v":"Moyenne"}]
["Château Special B",0.77,290,0.1,4.6500000000000004,1,"Acide Chlorhydrique",0.37,15,{"$f":"Levures!A46","v":"Imperial Yeast A38 Juice"},{"$f":"Levures!E46","v":"Liquide"},{"$f":"Levures!G46","v":0.72},{"$f":"Levures!H46","v":0.76},{"$f":"Levures!I46","v":0.74},{"$f":"Levures!J46","v":17.8},{"$f":"Levures!K46","v":23.3},{"$f":"Levures!F46","v":"Moyenne"}]
["Château Vienna",0.8,6,1,5.56,1,"Malt acide",0.04,0.33,{"$f":"Levures!A47","v":"Imperial Yeast A43 Loki"},{"$f":"Levures!E47","v":"Liquide"},{"$f":"Levures!G47","v":0.75},{"$f":"Levures!H47","v":0.85},{"$f":"Levures!I47","v":0.8},{"$f":"Levures!J47","v":18.3},{"$f":"Levures!K47","v":37.799999999999997},{"$f":"Levures!F47","v":"Moyenne - Haute"}]
["Château Whisky",0.67,4,0.05,5.6,"pH des malts",null,null,null,{"$f":"Levures!A48","v":"Imperial Yeast B44 Whiteout"},{"$f":"Levures!E48","v":"Liquide"},{"$f":"Levures!G48","v":0.72},{"$f":"Levures!H48","v":0.76},{"$f":"Levures!I48","v":0.74},{"$f":"Levures!J48","v":16.7},{"$f":"Levures!K48","v":22.2},{"$f":"Levures!F48","v":"Basse - Moyenne"}]
["Chocolat",0.6,1000,7.0000000000000007E-2,3.33,"Crystal/Cara Malt",8,{"$f":"5.22-0.00504*(G50+1.479)/2.6686","v":5.2020976691898371},null,{"$f":"Levures!A49","v":"Imperial Yeast B45 Gnome"},{"$f":"Levures!E49","v":"Liquide"},{"$f":"Levures!G49","v":0.72},{"$f":"Levures!H49","v":0.76},{"$f":"Levures!I49","v":0.74},{"$f":"Levures!J49","v":18.3},{"$f":"Levures!K49","v":23.9},{"$f":"Levures!F49","v":"Moyenne - Haute"}]
["Crystal",0.74,150,0.2,4.93,"Base - 2-Row",5.7,null,null,{"$f":"Levures!A50","v":"Imperial Yeast B48 Triple Double"},{"$f":"Levures!E50","v":"Liquide"},{"$f":"Levures!G50","v":0.74},{"$f":"Levures!H50","v":0.78},{"$f":"Levures!I50","v":0.76},{"$f":"Levures!J50","v":18.3},{"$f":"Levures!K50","v":25},{"$f":"Levures!F50","v":"Moyenne"}]
["Dextrine/Cara pils Malt",0.7,5,0.4,5.2,"Base - 6-Row",5.79,null,null,{"$f":"Levures!A51","v":"Imperial Yeast B51 Workhorse"},{"$f":"Levures!E51","v":"Liquide"},{"$f":"Levures!G51","v":0.72},{"$f":"Levures!H51","v":0.77},{"$f":"Levures!I51","v":0.745},{"$f":"Levures!J51","v":18.3},{"$f":"Levures!K51","v":23.9},{"$f":"Levures!F51","v":"Moyenne"}]
["Diastasique",0.81,3,0.3,5.7,"Base - Maris Otter",5.77,null,null,{"$f":"Levures!A52","v":"Imperial Yeast B56 Rustic"},{"$f":"Levures!E52","v":"Liquide"},{"$f":"Levures!G52","v":0.72},{"$f":"Levures!H52","v":0.76},{"$f":"Levures!I52","v":0.74},{"$f":"Levures!J52","v":20},{"$f":"Levures!K52","v":26.7},{"$f":"Levures!F52","v":"Moyenne"}]
["Flocons Avoine",0.7,5,0.25,5.2,"Base - Munich",5.43,null,null,{"$f":"Levures!A53","v":"Imperial Yeast B63 Monastic"},{"$f":"Levures!E53","v":"Liquide"},{"$f":"Levures!G53","v":0.74},{"$f":"Levures!H53","v":0.78},{"$f":"Levures!I53","v":0.76},{"$f":"Levures!J53","v":20},{"$f":"Levures!K53","v":25.6},{"$f":"Levures!F53","v":"Basse - Moyenne"}]
["Flocons Blé",0.5,5,0.25,5.2,"Base - Pilsner",5.75,null,null,{"$f":"Levures!A54","v":"Imperial Yeast B64 Napoleon"},{"$f":"Levures!E54","v":"Liquide"},{"$f":"Levures!G54","v":0.77},{"$f":"Levures!H54","v":0.83},{"$f":"Levures!I54","v":0.8},{"$f":"Levures!J54","v":18.3},{"$f":"Levures!K54","v":25.6},{"$f":"Levures!F54","v":"Basse"}]
["Flocons Epeautre",0.75,5,0.1,5.7,"Base - Wheat",6.04,null,null,{"$f":"Levures!A55","v":"Fermentis BE-134"},{"$f":"Levures!E55","v":"Sèche"},{"$f":"Levures!G55","v":0.9},{"$f":"Levures!H55","v":0.9},{"$f":"Levures!I55","v":0.9},{"$f":"Levures!J55","v":18},{"$f":"Levures!K55","v":28},{"$f":"Levures!F55","v":"Basse"}]
["Flocons Maïs",0.82,2,0.4,5.7,"Base - Vienna",5.56,null,null,{"$f":"Levures!A56","v":"Fermentis BE-256"},{"$f":"Levures!E56","v":"Sèche"},{"$f":"Levures!G56","v":0.85},{"$f":"Levures!H56","v":0.85},{"$f":"Levures!I56","v":0.85},{"$f":"Levures!J56","v":15},{"$f":"Levures!K56","v":20},{"$f":"Levures!F56","v":"Haute"}]
["Flocons Orge",0.5,5,0.3,5.7,"Base - Other",5.7,null,null,{"$f":"Levures!A57","v":"Imperial Yeast F08 Sour Batch Kidz"},{"$f":"Levures!E57","v":"Liquide"},{"$f":"Levures!G57","v":0.8},{"$f":"Levures!H57","v":0.8},{"$f":"Levures!I57","v":0.8},{"$f":"Levures!J57","v":20},{"$f":"Levures!K57","v":24.4},{"$f":"Levures!F57","v":"Basse"}]
["Flocons Riz",0.7,1,0.25,5.7,"Roasted/Toasted Malt",4.71,null,null,{"$f":"Levures!A58","v":"Imperial Yeast G01 Stefon"},{"$f":"Levures!E58","v":"Liquide"},{"$f":"Levures!G58","v":0.73},{"$f":"Levures!H58","v":0.77},{"$f":"Levures!I58","v":0.75},{"$f":"Levures!J58","v":17.2},{"$f":"Levures!K58","v":22.8},{"$f":"Levures!F58","v":"Basse"}]
["Flocons Seigle",0.78,3,0.1,5.7,null,null,null,null,{"$f":"Levures!A59","v":"Imperial Yeast G02 Kaiser"},{"$f":"Levures!E59","v":"Liquide"},{"$f":"Levures!G59","v":0.73},{"$f":"Levures!H59","v":0.77},{"$f":"Levures!I59","v":0.75},{"$f":"Levures!J59","v":13.3},{"$f":"Levures!K59","v":18.3},{"$f":"Levures!F59","v":"Basse"}]
["Froment",0.79,4.5,0.35,6.04,null,null,null,null,{"$f":"Levures!A60","v":"Imperial Yeast G03 Dieter"},{"$f":"Levures!E60","v":"Liquide"},{"$f":"Levures!G60","v":0.73},{"$f":"Levures!H60","v":0.77},{"$f":"Levures!I60","v":0.75},{"$f":"Levures!J60","v":15.6},{"$f":"Levures!K60","v":20.6},{"$f":"Levures!F60","v":"Moyenne"}]
["Froment - Vieux Silo",0.75,4.5,0.35,6.04,null,null,null,null,{"$f":"Levures!A61","v":"GigaYeast GB001 BRUSSELS BRUXELLENSIS"},{"$f":"Levures!E61","v":"Liquide"},{"$f":"Levures!G61","v":0.57999999999999996},{"$f":"Levures!H61","v":0.85},{"$f":"Levures!I61","v":0.71499999999999997},{"$f":"Levures!J61","v":17.8},{"$f":"Levures!K61","v":17.8},{"$f":"Levures!F61","v":"Faible"}]
["Froment Black",0.55000000000000004,1300,0.05,4.71,null,null,null,null,{"$f":"Levures!A62","v":"GigaYeast GB002 TART CHERRY BRETT"},{"$f":"Levures!E62","v":"Liquide"},{"$f":"Levures!G62","v":0.7},{"$f":"Levures!H62","v":0.85},{"$f":"Levures!I62","v":0.77499999999999991},{"$f":"Levures!J62","v":17.8},{"$f":"Levures!K62","v":17.8},{"$f":"Levures!F62","v":"Faible"}]
["Froment Chocolat",0.6,1000,0.2,4.71,null,null,null,null,{"$f":"Levures!A63","v":"GigaYeast GB110 GIGAYEAST LACTO"},{"$f":"Levures!E63","v":"Liquide"},{"$f":"Levures!G63","v":0.4},{"$f":"Levures!H63","v":0.4},{"$f":"Levures!I63","v":0.4},{"$f":"Levures!J63","v":17.8},{"$f":"Levures!K63","v":17.8},{"$f":"Levures!F63","v":"Moyenne"}]
["Froment Crystal",0.74,150,0.2,4.93,null,null,null,null,{"$f":"Levures!A64","v":"GigaYeast GB121 FARMHOUSE SOUR"},{"$f":"Levures!E64","v":"Liquide"},{"$f":"Levures!G64","v":0.84},{"$f":"Levures!H64","v":0.89},{"$f":"Levures!I64","v":0.86499999999999999},{"$f":"Levures!J64","v":17.8},{"$f":"Levures!K64","v":17.8},{"$f":"Levures!F64","v":""}]
["Froment Munich",0.75,25,0.3,5.43,null,null,null,null,{"$f":"Levures!A65","v":"GigaYeast GB122 BERLINER BLEND"},{"$f":"Levures!E65","v":"Liquide"},{"$f":"Levures!G65","v":0.89},{"$f":"Levures!H65","v":0.89},{"$f":"Levures!I65","v":0.89},{"$f":"Levures!J65","v":17.8},{"$f":"Levures!K65","v":17.8},{"$f":"Levures!F65","v":""}]
["Froment Munich light",0.75,15,0.3,5.19,null,null,null,null,{"$f":"Levures!A66","v":"GigaYeast GB123 SOUR PLUM BELGIAN"},{"$f":"Levures!E66","v":"Liquide"},{"$f":"Levures!G66","v":0.77},{"$f":"Levures!H66","v":0.77},{"$f":"Levures!I66","v":0.77},{"$f":"Levures!J66","v":17.8},{"$f":"Levures!K66","v":17.8},{"$f":"Levures!F66","v":""}]
["Maïs (flocons)",0.84,5,0.25,5.7,null,null,null,null,{"$f":"Levures!A67","v":"GigaYeast GB124 SAISON SOUR"},{"$f":"Levures!E67","v":"Liquide"},{"$f":"Levures!G67","v":0.78},{"$f":"Levures!H67","v":0.78},{"$f":"Levures!I67","v":0.78},{"$f":"Levures!J67","v":17.8},{"$f":"Levures!K67","v":17.8},{"$f":"Levures!F67","v":""}]
["Marris Otter",0.81,5,1,5.77,null,null,null,null,{"$f":"Levures!A68","v":"GigaYeast GB144 SWEET FLEMISH BRETT"},{"$f":"Levures!E68","v":"Liquide"},{"$f":"Levures!G68","v":0.83},{"$f":"Levures!H68","v":0.83},{"$f":"Levures!I68","v":0.83},{"$f":"Levures!J68","v":17.8},{"$f":"Levures!K68","v":17.8},{"$f":"Levures!F68","v":""}]
["Marris Otter (Muntons)",0.81,6,1,5.77,null,null,null,null,{"$f":"Levures!A69","v":"GigaYeast GB150 SOUR CHERRY FUNK"},{"$f":"Levures!E69","v":"Liquide"},{"$f":"Levures!G69","v":0.6},{"$f":"Levures!H69","v":0.89},{"$f":"Levures!I69","v":0.745},{"$f":"Levures!J69","v":17.8},{"$f":"Levures!K69","v":17.8},{"$f":"Levures!F69","v":""}]
["Melano",0.7,80,0.3,5.07,null,null,null,null,{"$f":"Levures!A70","v":"GigaYeast GB156 BRUX BLEND"},{"$f":"Levures!E70","v":"Liquide"},{"$f":"Levures!G70","v":""},{"$f":"Levures!H70","v":""},{"$f":"Levures!I70","v":""},{"$f":"Levures!J70","v":17.8},{"$f":"Levures!K70","v":17.8},{"$f":"Levures!F70","v":""}]
["Melano light",0.7,40,0.3,5.14,null,null,null,null,{"$f":"Levures!A71","v":"GigaYeast GY001 NORCAL ALE #1"},{"$f":"Levures!E71","v":"Liquide"},{"$f":"Levures!G71","v":0.76},{"$f":"Levures!H71","v":0.8},{"$f":"Levures!I71","v":0.78},{"$f":"Levures!J71","v":17.8},{"$f":"Levures!K71","v":25},{"$f":"Levures!F71","v":"Moyenne"}]
["Munich light",0.75,15,0.6,5.43,null,null,null,null,{"$f":"Levures!A72","v":"GigaYeast GY002 CZECH PILSNER"},{"$f":"Levures!E72","v":"Liquide"},{"$f":"Levures!G72","v":0.75},{"$f":"Levures!H72","v":0.79},{"$f":"Levures!I72","v":0.77},{"$f":"Levures!J72","v":8.9},{"$f":"Levures!K72","v":12.8},{"$f":"Levures!F72","v":"Moyenne - Haute"}]
["Munich light Swaen",0.75,13,0.6,5.43,null,null,null,null,{"$f":"Levures!A73","v":"GigaYeast GY003 A TOUCH OF SPICE BELGIAN ALE"},{"$f":"Levures!E73","v":"Liquide"},{"$f":"Levures!G73","v":0.81},{"$f":"Levures!H73","v":0.84},{"$f":"Levures!I73","v":0.82499999999999996},{"$f":"Levures!J73","v":20},{"$f":"Levures!K73","v":25},{"$f":"Levures!F73","v":"Basse- Moyenne"}]
["Munich Malt",0.75,25,0.6,5.43,null,null,null,null,{"$f":"Levures!A74","v":"GigaYeast GY005 GOLDEN GATE LAGER"},{"$f":"Levures!E74","v":"Liquide"},{"$f":"Levures!G74","v":0.79},{"$f":"Levures!H74","v":0.83},{"$f":"Levures!I74","v":0.81},{"$f":"Levures!J74","v":12.8},{"$f":"Levures!K74","v":21.1},{"$f":"Levures!F74","v":"Moyenne"}]
["Orge (flocons)",0.7,5,0.25,5.7,null,null,null,null,{"$f":"Levures!A75","v":"GigaYeast GY007 BELGIAN MIX"},{"$f":"Levures!E75","v":"Liquide"},{"$f":"Levures!G75","v":0.79},{"$f":"Levures!H75","v":0.81},{"$f":"Levures!I75","v":0.8},{"$f":"Levures!J75","v":18.899999999999999},{"$f":"Levures!K75","v":25},{"$f":"Levures!F75","v":"Basse"}]
["Pale ale 2 rangs",0.81,8,0.8,5.7,null,null,null,null,{"$f":"Levures!A76","v":"GigaYeast GY011 BRITISH ALE #1"},{"$f":"Levures!E76","v":"Liquide"},{"$f":"Levures!G76","v":0.75},{"$f":"Levures!H76","v":0.79},{"$f":"Levures!I76","v":0.77},{"$f":"Levures!J76","v":17.8},{"$f":"Levures!K76","v":25},{"$f":"Levures!F76","v":"Haute"}]
["Pale ale Château",0.81,8.5,1,5.7,null,null,null,null,{"$f":"Levures!A77","v":"GigaYeast GY014 BELGIAN ABBEY ALE"},{"$f":"Levures!E77","v":"Liquide"},{"$f":"Levures!G77","v":0.79},{"$f":"Levures!H77","v":0.81},{"$f":"Levures!I77","v":0.8},{"$f":"Levures!J77","v":17.8},{"$f":"Levures!K77","v":26.7},{"$f":"Levures!F77","v":"Basse"}]
["Pale ale Swaen",0.8,7.1,1,5.7,null,null,null,null,{"$f":"Levures!A78","v":"GigaYeast GY015 BELGIAN TRIPEL"},{"$f":"Levures!E78","v":"Liquide"},{"$f":"Levures!G78","v":0.74},{"$f":"Levures!H78","v":0.76},{"$f":"Levures!I78","v":0.75},{"$f":"Levures!J78","v":18.899999999999999},{"$f":"Levures!K78","v":23.3},{"$f":"Levures!F78","v":"Basse"}]
["Pilsen 2 rangs",0.8,3,1,5.7,null,null,null,null,{"$f":"Levures!A79","v":"GigaYeast GY016 ALTSTADT ALE"},{"$f":"Levures!E79","v":"Liquide"},{"$f":"Levures!G79","v":0.77},{"$f":"Levures!H79","v":0.81},{"$f":"Levures!I79","v":0.79},{"$f":"Levures!J79","v":12.8},{"$f":"Levures!K79","v":20},{"$f":"Levures!F79","v":"Basse"}]
["Pilsen 6 rangs",0.76,3,1,5.79,null,null,null,null,{"$f":"Levures!A80","v":"GigaYeast GY017 BAVARIAN HEFE"},{"$f":"Levures!E80","v":"Liquide"},{"$f":"Levures!G80","v":0.77},{"$f":"Levures!H80","v":0.81},{"$f":"Levures!I80","v":0.79},{"$f":"Levures!J80","v":17.8},{"$f":"Levures!K80","v":26.7},{"$f":"Levures!F80","v":"Très Basse"}]
["Pilsen Swaen",0.8,3.7,1,5.7,null,null,null,null,{"$f":"Levures!A81","v":"GigaYeast GY018 SAISON #1"},{"$f":"Levures!E81","v":"Liquide"},{"$f":"Levures!G81","v":0.81},{"$f":"Levures!H81","v":0.83},{"$f":"Levures!I81","v":0.82000000000000006},{"$f":"Levures!J81","v":17.8},{"$f":"Levures!K81","v":26.7},{"$f":"Levures!F81","v":"Basse"}]
["Pilsen vieux silo",0.72,3,1,5.79,null,null,null,null,{"$f":"Levures!A82","v":"GigaYeast GY020 PORTLAND HEFE"},{"$f":"Levures!E82","v":"Liquide"},{"$f":"Levures!G82","v":0.76},{"$f":"Levures!H82","v":0.8},{"$f":"Levures!I82","v":0.78},{"$f":"Levures!J82","v":17.8},{"$f":"Levures!K82","v":23.3},{"$f":"Levures!F82","v":"Très Basse"}]
["Riz (flocons)",0.82,5,0.25,5.7,null,null,null,null,{"$f":"Levures!A83","v":"GigaYeast GY021 KÖLSCH BIER"},{"$f":"Levures!E83","v":"Liquide"},{"$f":"Levures!G83","v":0.79},{"$f":"Levures!H83","v":0.83},{"$f":"Levures!I83","v":0.81},{"$f":"Levures!J83","v":15.6},{"$f":"Levures!K83","v":22.2},{"$f":"Levures!F83","v":"Moyenne - Haute"}]
["Roasted Barley",0.55000000000000004,1200,0.1,4.71,null,null,null,null,{"$f":"Levures!A84","v":"GigaYeast GY027 SAISON #2"},{"$f":"Levures!E84","v":"Liquide"},{"$f":"Levures!G84","v":0.79},{"$f":"Levures!H84","v":0.83},{"$f":"Levures!I84","v":0.81},{"$f":"Levures!J84","v":17.8},{"$f":"Levures!K84","v":26.7},{"$f":"Levures!F84","v":"Basse"}]
["Seigle",0.63,8,0.2,5.7,null,null,null,null,{"$f":"Levures!A85","v":"GigaYeast GY028 BELGIAN WIT"},{"$f":"Levures!E85","v":"Liquide"},{"$f":"Levures!G85","v":0.76},{"$f":"Levures!H85","v":0.79},{"$f":"Levures!I85","v":0.77500000000000002},{"$f":"Levures!J85","v":17.8},{"$f":"Levures!K85","v":26.7},{"$f":"Levures!F85","v":"Très Basse"}]
["Seigle Chocolat",0.6,650,7.0000000000000007E-2,4.71,null,null,null,null,{"$f":"Levures!A86","v":"GigaYeast GY030 AMERICAN LAGER"},{"$f":"Levures!E86","v":"Liquide"},{"$f":"Levures!G86","v":0.79},{"$f":"Levures!H86","v":0.83},{"$f":"Levures!I86","v":0.81},{"$f":"Levures!J86","v":8.9},{"$f":"Levures!K86","v":15.6},{"$f":"Levures!F86","v":"Moyenne"}]
["Soufflet Pale Ale 2RP",0.8,5,1,5.7,null,null,null,null,{"$f":"Levures!A87","v":"GigaYeast GY031 BRITISH ALE #2"},{"$f":"Levures!E87","v":"Liquide"},{"$f":"Levures!G87","v":0.8},{"$f":"Levures!H87","v":0.82},{"$f":"Levures!I87","v":0.81},{"$f":"Levures!J87","v":17.8},{"$f":"Levures!K87","v":23.9},{"$f":"Levures!F87","v":"Haute"}]
["Soufflet Pilsen 2RP",0.8,5,1,5.7,null,null,null,null,{"$f":"Levures!A88","v":"GigaYeast GY044 SCOTCH ALE #1"},{"$f":"Levures!E88","v":"Liquide"},{"$f":"Levures!G88","v":0.8},{"$f":"Levures!H88","v":0.82},{"$f":"Levures!I88","v":0.81},{"$f":"Levures!J88","v":17.8},{"$f":"Levures!K88","v":23.9},{"$f":"Levures!F88","v":"Basse- Moyenne"}]
["Soufflet Pilsen 6RH",0.8,5,1,5.79,null,null,null,null,{"$f":"Levures!A89","v":"GigaYeast GY045 GERMAN LAGER"},{"$f":"Levures!E89","v":"Liquide"},{"$f":"Levures!G89","v":0.74},{"$f":"Levures!H89","v":0.78},{"$f":"Levures!I89","v":0.76},{"$f":"Levures!J89","v":10},{"$f":"Levures!K89","v":15.6},{"$f":"Levures!F89","v":"Basse- Moyenne"}]
["Special B",0.68,300,0.1,4.6500000000000004,null,null,null,null,{"$f":"Levures!A90","v":"GigaYeast GY047 SAISON BLEND"},{"$f":"Levures!E90","v":"Liquide"},{"$f":"Levures!G90","v":0.8},{"$f":"Levures!H90","v":0.83},{"$f":"Levures!I90","v":0.81499999999999995},{"$f":"Levures!J90","v":17.8},{"$f":"Levures!K90","v":26.7},{"$f":"Levures!F90","v":"Basse"}]
["Sucre ambré",1,150,"","",null,null,null,null,{"$f":"Levures!A91","v":"GigaYeast GY048 GOLDEN PEAR BELGIAN"},{"$f":"Levures!E91","v":"Liquide"},{"$f":"Levures!G91","v":0.83},{"$f":"Levures!H91","v":0.85},{"$f":"Levures!I91","v":0.84},{"$f":"Levures!J91","v":18.3},{"$f":"Levures!K91","v":26.7},{"$f":"Levures!F91","v":"Basse"}]
["Sucre blanc",1,2,"","",null,null,null,null,{"$f":"Levures!A92","v":"GigaYeast GY054 VERMONT IPA"},{"$f":"Levures!E92","v":"Liquide"},{"$f":"Levures!G92","v":0.78},{"$f":"Levures!H92","v":0.82},{"$f":"Levures!I92","v":0.8},{"$f":"Levures!J92","v":16.7},{"$f":"Levures!K92","v":23.9},{"$f":"Levures!F92","v":"Basse- Moyenne"}]
["Sucre foncé",1,542,"","",null,null,null,null,{"$f":"Levures!A93","v":"GigaYeast GY077 QUEBEC ABBEY ALE"},{"$f":"Levures!E93","v":"Liquide"},{"$f":"Levures!G93","v":0.79},{"$f":"Levures!H93","v":0.83},{"$f":"Levures!I93","v":0.81},{"$f":"Levures!J93","v":20},{"$f":"Levures!K93","v":26.7},{"$f":"Levures!F93","v":"Moyenne"}]
["Vienna",0.75,6,1,5.56,null,null,null,null,{"$f":"Levures!A94","v":"GigaYeast GY080 IRISH STOUT"},{"$f":"Levures!E94","v":"Liquide"},{"$f":"Levures!G94","v":0.82},{"$f":"Levures!H94","v":0.86},{"$f":"Levures!I94","v":0.84},{"$f":"Levures!J94","v":17.8},{"$f":"Levures!K94","v":22.2},{"$f":"Levures!F94","v":"Moyenne"}]
["Vienna Swaen",0.75,10,1,5.56,null,null,null,null,{"$f":"Levures!A95","v":"Fermentis HA-18"},{"$f":"Levures!E95","v":"Sèche"},{"$f":"Levures!G95","v":0.97},{"$f":"Levures!H95","v":0.97},{"$f":"Levures!I95","v":0.97},{"$f":"Levures!J95","v":25},{"$f":"Levures!K95","v":35},{"$f":"Levures!F95","v":"Moyenne"}]
["Viking Vienna",0.8,8,1,5.56,null,null,null,null,{"$f":"Levures!A96","v":"Fermentis K-97"},{"$f":"Levures!E96","v":"Sèche"},{"$f":"Levures!G96","v":0.81},{"$f":"Levures!H96","v":0.81},{"$f":"Levures!I96","v":0.81},{"$f":"Levures!J96","v":15},{"$f":"Levures!K96","v":20},{"$f":"Levures!F96","v":"Basse"}]
["Weyermann Abbey",0.78,60,0.25,5.0999999999999996,null,null,null,null,{"$f":"Levures!A97","v":"Imperial Yeast L05 Cablecar"},{"$f":"Levures!E97","v":"Liquide"},{"$f":"Levures!G97","v":0.71},{"$f":"Levures!H97","v":0.75},{"$f":"Levures!I97","v":0.73},{"$f":"Levures!J97","v":12.8},{"$f":"Levures!K97","v":18.3},{"$f":"Levures!F97","v":"Moyenne - Haute"}]
["Weyermann Acide malt",0.65,4,0.1,4.5,null,null,null,null,{"$f":"Levures!A98","v":"Imperial Yeast L13 Global"},{"$f":"Levures!E98","v":"Liquide"},{"$f":"Levures!G98","v":0.73},{"$f":"Levures!H98","v":0.77},{"$f":"Levures!I98","v":0.75},{"$f":"Levures!J98","v":7.8},{"$f":"Levures!K98","v":13.3},{"$f":"Levures!F98","v":"Basse - Moyenne"}]
["Weyermann Cara Amber",0.8,70,0.2,5,null,null,null,null,{"$f":"Levures!A99","v":"Imperial Yeast L17 Harvest"},{"$f":"Levures!E99","v":"Liquide"},{"$f":"Levures!G99","v":0.7},{"$f":"Levures!H99","v":0.74},{"$f":"Levures!I99","v":0.72},{"$f":"Levures!J99","v":10},{"$f":"Levures!K99","v":15.6},{"$f":"Levures!F99","v":"Moyenne"}]
["Weyermann Cara Aroma",0.73,400,0.15,4.7,null,null,null,null,{"$f":"Levures!A100","v":"Imperial Yeast L28 Urkel"},{"$f":"Levures!E100","v":"Liquide"},{"$f":"Levures!G100","v":0.71},{"$f":"Levures!H100","v":0.75},{"$f":"Levures!I100","v":0.73},{"$f":"Levures!J100","v":11.1},{"$f":"Levures!K100","v":14.4},{"$f":"Levures!F100","v":"Moyenne"}]
["Weyermann Cara Belge",0.74,32,0.3,5.16,null,null,null,null,{"$f":"Levures!A101","v":"Mangrove Jack M02 Cider"},{"$f":"Levures!E101","v":"Sèche"},{"$f":"Levures!G101","v":0.95},{"$f":"Levures!H101","v":1},{"$f":"Levures!I101","v":0.97499999999999998},{"$f":"Levures!J101","v":12.2},{"$f":"Levures!K101","v":27.8},{"$f":"Levures!F101","v":"Haute"}]
["Weyermann Cara Bohemian",0.74,200,0.2,4.9000000000000004,null,null,null,null,{"$f":"Levures!A102","v":"Mangrove Jack M05 Mead"},{"$f":"Levures!E102","v":"Sèche"},{"$f":"Levures!G102","v":0.95},{"$f":"Levures!H102","v":1},{"$f":"Levures!I102","v":0.97499999999999998},{"$f":"Levures!J102","v":15},{"$f":"Levures!K102","v":30},{"$f":"Levures!F102","v":"Moyenne – Haute"}]
["Weyermann Cara Hell",0.76,25,0.3,5.17,null,null,null,null,{"$f":"Levures!A103","v":"Mangrove Jack M15 Empire Ale"},{"$f":"Levures!E103","v":"Sèche"},{"$f":"Levures!G103","v":0.7},{"$f":"Levures!H103","v":0.75},{"$f":"Levures!I103","v":0.72499999999999998},{"$f":"Levures!J103","v":17.8},{"$f":"Levures!K103","v":22.2},{"$f":"Levures!F103","v":"Moyenne"}]
["Weyermann Cara Munich I",0.77,90,0.1,5.05,null,null,null,null,{"$f":"Levures!A104","v":"Mangrove Jack M20 Bavarian Wheat"},{"$f":"Levures!E104","v":"Sèche"},{"$f":"Levures!G104","v":0.7},{"$f":"Levures!H104","v":0.75},{"$f":"Levures!I104","v":0.72499999999999998},{"$f":"Levures!J104","v":17.8},{"$f":"Levures!K104","v":30},{"$f":"Levures!F104","v":"Moyenne – Basse"}]
["Weyermann Cara Munich II",0.75,120,0.2,5,null,null,null,null,{"$f":"Levures!A105","v":"Mangrove Jack M21 Belgian Wit"},{"$f":"Levures!E105","v":"Sèche"},{"$f":"Levures!G105","v":0.7},{"$f":"Levures!H105","v":0.75},{"$f":"Levures!I105","v":0.72499999999999998},{"$f":"Levures!J105","v":17.8},{"$f":"Levures!K105","v":25},{"$f":"Levures!F105","v":"Moyenne – Basse"}]
["Weyermann Cara Munich III",0.78,150,0.1,4.9000000000000004,null,null,null,null,{"$f":"Levures!A106","v":"Mangrove Jack M29 French Saison Ale"},{"$f":"Levures!E106","v":"Sèche"},{"$f":"Levures!G106","v":0.85},{"$f":"Levures!H106","v":0.9},{"$f":"Levures!I106","v":0.875},{"$f":"Levures!J106","v":26.1},{"$f":"Levures!K106","v":32.200000000000003},{"$f":"Levures!F106","v":"Moyenne"}]
["Weyermann Cara Red",0.77,50,0.25,5.12,null,null,null,null,{"$f":"Levures!A107","v":"Mangrove Jack M31 Belgian Tripel"},{"$f":"Levures!E107","v":"Sèche"},{"$f":"Levures!G107","v":0.82},{"$f":"Levures!H107","v":0.88},{"$f":"Levures!I107","v":0.85},{"$f":"Levures!J107","v":17.8},{"$f":"Levures!K107","v":27.8},{"$f":"Levures!F107","v":"Moyenne – Basse"}]
["Weyermann Carafa spécial I",0.55000000000000004,900,0.05,4.71,null,null,null,null,{"$f":"Levures!A108","v":"Mangrove Jack M36 Liberty Bell Ale"},{"$f":"Levures!E108","v":"Sèche"},{"$f":"Levures!G108","v":0.74},{"$f":"Levures!H108","v":0.78},{"$f":"Levures!I108","v":0.76},{"$f":"Levures!J108","v":17.8},{"$f":"Levures!K108","v":22.8},{"$f":"Levures!F108","v":"Moyenne – Haute"}]
["Weyermann Carafa spécial II",0.77,1150,0.05,4.7,null,null,null,null,{"$f":"Levures!A109","v":"Mangrove Jack M41 Belgian Ale"},{"$f":"Levures!E109","v":"Sèche"},{"$f":"Levures!G109","v":0.82},{"$f":"Levures!H109","v":0.88},{"$f":"Levures!I109","v":0.85},{"$f":"Levures!J109","v":17.8},{"$f":"Levures!K109","v":27.8},{"$f":"Levures!F109","v":"Moyenne"}]
["Weyermann Carafa spécial III",0.6,1400,0.05,3.33,null,null,null,null,{"$f":"Levures!A110","v":"Mangrove Jack M42 New World Strong Ale"},{"$f":"Levures!E110","v":"Sèche"},{"$f":"Levures!G110","v":0.77},{"$f":"Levures!H110","v":0.82},{"$f":"Levures!I110","v":0.79499999999999993},{"$f":"Levures!J110","v":16.100000000000001},{"$f":"Levures!K110","v":22.2},{"$f":"Levures!F110","v":"Haute"}]
["Weyermann CaraPils (Dextrine)",0.78,5,0.4,5.2,null,null,null,null,{"$f":"Levures!A111","v":"Mangrove Jack M44 US West Coast"},{"$f":"Levures!E111","v":"Sèche"},{"$f":"Levures!G111","v":0.77},{"$f":"Levures!H111","v":0.85},{"$f":"Levures!I111","v":0.81},{"$f":"Levures!J111","v":17.8},{"$f":"Levures!K111","v":22.8},{"$f":"Levures!F111","v":"Moyenne"}]
["Weyermann Diastatic (orge/blé)",0.8,3,0.3,5.7,null,null,null,null,{"$f":"Levures!A112","v":"Mangrove Jack M47 Belgian Abbey"},{"$f":"Levures!E112","v":"Sèche"},{"$f":"Levures!G112","v":0.73},{"$f":"Levures!H112","v":0.77},{"$f":"Levures!I112","v":0.75},{"$f":"Levures!J112","v":17.8},{"$f":"Levures!K112","v":25},{"$f":"Levures!F112","v":"Moyenne – Haute"}]
["Weyermann Epeautre Choco (Spelt)",0.7,550,0.06,4.7,null,null,null,null,{"$f":"Levures!A113","v":"Mangrove Jack M54 Californian Lager"},{"$f":"Levures!E113","v":"Sèche"},{"$f":"Levures!G113","v":0.77},{"$f":"Levures!H113","v":0.82},{"$f":"Levures!I113","v":0.79499999999999993},{"$f":"Levures!J113","v":17.8},{"$f":"Levures!K113","v":20},{"$f":"Levures!F113","v":"Moyenne – Haute"}]
["Weyermann Epeautre malt (Spelt)",0.75,5,0.15,5.8,null,null,null,null,{"$f":"Levures!A114","v":"Mangrove Jack M76 Bavarian Lager"},{"$f":"Levures!E114","v":"Sèche"},{"$f":"Levures!G114","v":0.75},{"$f":"Levures!H114","v":0.8},{"$f":"Levures!I114","v":0.77500000000000002},{"$f":"Levures!J114","v":7.2},{"$f":"Levures!K114","v":13.9},{"$f":"Levures!F114","v":"Moyenne"}]
["Weyermann Froment Cara (Wheat)",0.8,125,0.15,4.9800000000000004,null,null,null,null,{"$f":"Levures!A115","v":"Mangrove Jack M84 Bohemian Lager"},{"$f":"Levures!E115","v":"Sèche"},{"$f":"Levures!G115","v":0.72},{"$f":"Levures!H115","v":0.76},{"$f":"Levures!I115","v":0.74},{"$f":"Levures!J115","v":10},{"$f":"Levures!K115","v":15},{"$f":"Levures!F115","v":"Moyenne – Haute"}]
["Weyermann Froment Choco (Wheat)",0.75,1050,0.05,4.7,null,null,null,null,{"$f":"Levures!A116","v":"Fermentis S-04"},{"$f":"Levures!E116","v":"Sèche"},{"$f":"Levures!G116","v":0.75},{"$f":"Levures!H116","v":0.75},{"$f":"Levures!I116","v":0.75},{"$f":"Levures!J116","v":15},{"$f":"Levures!K116","v":20},{"$f":"Levures!F116","v":"Haute"}]
["Weyermann Froment malt (Wheat)",0.8,4,1,5.8,null,null,null,null,{"$f":"Levures!A117","v":"Fermentis S-189"},{"$f":"Levures!E117","v":"Sèche"},{"$f":"Levures!G117","v":0.82},{"$f":"Levures!H117","v":0.82},{"$f":"Levures!I117","v":0.82},{"$f":"Levures!J117","v":12},{"$f":"Levures!K117","v":15},{"$f":"Levures!F117","v":"Haute"}]
["Weyermann Froment Sombre (Wheat)",0.75,18,0.1,5.3,null,null,null,null,{"$f":"Levures!A118","v":"Fermentis S-23"},{"$f":"Levures!E118","v":"Sèche"},{"$f":"Levures!G118","v":0.82},{"$f":"Levures!H118","v":0.82},{"$f":"Levures!I118","v":0.82},{"$f":"Levures!J118","v":12},{"$f":"Levures!K118","v":15},{"$f":"Levures!F118","v":"Haute"}]
["Weyermann Fumé Chêne (blé)",0.76,5,0.25,5.5,null,null,null,null,{"$f":"Levures!A119","v":"Fermentis S-33"},{"$f":"Levures!E119","v":"Sèche"},{"$f":"Levures!G119","v":0.7},{"$f":"Levures!H119","v":0.7},{"$f":"Levures!I119","v":0.7},{"$f":"Levures!J119","v":15},{"$f":"Levures!K119","v":20},{"$f":"Levures!F119","v":"Moyenne"}]
["Weyermann Fumé Hêtre (orge)",0.76,6,0.25,5.5,null,null,null,null,{"$f":"Levures!A120","v":"Fermentis T-58"},{"$f":"Levures!E120","v":"Sèche"},{"$f":"Levures!G120","v":0.7},{"$f":"Levures!H120","v":0.7},{"$f":"Levures!I120","v":0.7},{"$f":"Levures!J120","v":15},{"$f":"Levures!K120","v":20},{"$f":"Levures!F120","v":"Basse- Moyenne"}]
["Weyermann Melano",0.7,70,0.2,5.07,null,null,null,null,{"$f":"Levures!A121","v":"The Yeast Bay  TYB184  BRETTANOMYCES BRUXELLENSIS\nSTRAI"},{"$f":"Levures!E121","v":"Liquide"},{"$f":"Levures!G121","v":0.82},{"$f":"Levures!H121","v":0.88},{"$f":"Levures!I121","v":0.85},{"$f":"Levures!J121","v":22.2},{"$f":"Levures!K121","v":27.8},{"$f":"Levures!F121","v":"Basse - Moyenne"}]
["Weyermann Munich I",0.82199999999999995,14,1,5.43,null,null,null,null,{"$f":"Levures!A122","v":"The Yeast Bay  TYB184  BRETTANOMYCES BRUXELLENSIS\nSTRAI"},{"$f":"Levures!E122","v":"Liquide"},{"$f":"Levures!G122","v":0.8},{"$f":"Levures!H122","v":0.82},{"$f":"Levures!I122","v":0.81},{"$f":"Levures!J122","v":22.2},{"$f":"Levures!K122","v":27.8},{"$f":"Levures!F122","v":"Basse - Moyenne"}]
["Weyermann Munich II",0.75,22,0.6,5.41,null,null,null,null,{"$f":"Levures!A123","v":"The Yeast Bay  TYB207  BRETTANOMYCES BRUXELLENSIS\nSTRAI"},{"$f":"Levures!E123","v":"Liquide"},{"$f":"Levures!G123","v":0.8},{"$f":"Levures!H123","v":0.82},{"$f":"Levures!I123","v":0.81},{"$f":"Levures!J123","v":22.2},{"$f":"Levures!K123","v":27.8},{"$f":"Levures!F123","v":"Basse - Moyenne"}]
["Weyermann Roasted Barley",0.65,1150,0.05,4.72,null,null,null,null,{"$f":"Levures!A124","v":"The Yeast Bay  TYB261  BRETTANOMYCES BRUXELLENSIS\nSTRAI"},{"$f":"Levures!E124","v":"Liquide"},{"$f":"Levures!G124","v":0.05},{"$f":"Levures!H124","v":0.05},{"$f":"Levures!I124","v":0.05},{"$f":"Levures!J124","v":21.1},{"$f":"Levures!K124","v":32.200000000000003},{"$f":"Levures!F124","v":"N/A"}]
["Weyermann Seigle Cara (Rye)",0.7,175,0.15,4.8899999999999997,null,null,null,null,{"$f":"Levures!A125","v":"The Yeast Bay  TYB282  LACTOBACILLUS BREVIS\nSTRAI"},{"$f":"Levures!E125","v":"Liquide"},{"$f":"Levures!G125","v":0.8},{"$f":"Levures!H125","v":0.84},{"$f":"Levures!I125","v":0.82000000000000006},{"$f":"Levures!J125","v":21.1},{"$f":"Levures!K125","v":26.7},{"$f":"Levures!F125","v":"Basse"}]
["Weyermann Seigle Choco (Rye)",0.65,650,0.06,4.71,null,null,null,null,{"$f":"Levures!A126","v":"The Yeast Bay  TYB307  BRETTANOMYCES BRUXELLENSIS\nSTRAI"},{"$f":"Levures!E126","v":"Liquide"},{"$f":"Levures!G126","v":0.82},{"$f":"Levures!H126","v":0.86},{"$f":"Levures!I126","v":0.84},{"$f":"Levures!J126","v":21.1},{"$f":"Levures!K126","v":26.7},{"$f":"Levures!F126","v":"Basse"}]
["Weyermann Seigle Malt (Rye)",0.63,7,0.5,5.7,null,null,null,null,{"$f":"Levures!A127","v":"Fermentis US-05"},{"$f":"Levures!E127","v":"Sèche"},{"$f":"Levures!G127","v":0.81},{"$f":"Levures!H127","v":0.81},{"$f":"Levures!I127","v":0.81},{"$f":"Levures!J127","v":12},{"$f":"Levures!K127","v":25},{"$f":"Levures!F127","v":"Moyenne - Haute"}]
["Weyermann Special W.",0.77,300,0.1,4.6500000000000004,null,null,null,null,{"$f":"Levures!A128","v":"Imperial Yeast W15 Suburban Brett"},{"$f":"Levures!E128","v":"Liquide"},{"$f":"Levures!G128","v":0.75},{"$f":"Levures!H128","v":0.8},{"$f":"Levures!I128","v":0.77500000000000002},{"$f":"Levures!J128","v":17.8},{"$f":"Levures!K128","v":23.3},{"$f":"Levures!F128","v":"Basse"}]
["Weyermann Vienna",0.8,8,1,5.5,null,null,null,null,{"$f":"Levures!A129","v":"Fermentis W-34/70"},{"$f":"Levures!E129","v":"Sèche"},{"$f":"Levures!G129","v":0.82},{"$f":"Levures!H129","v":0.82},{"$f":"Levures!I129","v":0.82},{"$f":"Levures!J129","v":12},{"$f":"Levures!K129","v":15},{"$f":"Levures!F129","v":"Haute"}]
["","","","","",null,null,null,null,{"$f":"Levures!A130","v":"Fermentis WB-06"},{"$f":"Levures!E130","v":"Sèche"},{"$f":"Levures!G130","v":0.86},{"$f":"Levures!H130","v":0.86},{"$f":"Levures!I130","v":0.86},{"$f":"Levures!J130","v":17.8},{"$f":"Levures!K130","v":23.9},{"$f":"Levures!F130","v":"Basse"}]
["","","","","",null,null,null,null,{"$f":"Levures!A131","v":"Whitelabs WLP001 California Ale Yeast"},{"$f":"Levures!E131","v":"Liquide"},{"$f":"Levures!G131","v":0.73},{"$f":"Levures!H131","v":0.8},{"$f":"Levures!I131","v":0.76500000000000001},{"$f":"Levures!J131","v":20},{"$f":"Levures!K131","v":22.8},{"$f":"Levures!F131","v":"Moyenne"}]
["","","","","",null,null,null,null,{"$f":"Levures!A132","v":"Whitelabs WLP002 English Ale Yeast"},{"$f":"Levures!E132","v":"Liquide"},{"$f":"Levures!G132","v":0.63},{"$f":"Levures!H132","v":0.68},{"$f":"Levures!I132","v":0.65500000000000003},{"$f":"Levures!J132","v":18.3},{"$f":"Levures!K132","v":20},{"$f":"Levures!F132","v":"Très  Haute"}]
["","","","","",null,null,null,null,{"$f":"Levures!A133","v":"Whitelabs WLP003 German Ale II Yeast"},{"$f":"Levures!E133","v":"Liquide"},{"$f":"Levures!G133","v":0.73},{"$f":"Levures!H133","v":0.8},{"$f":"Levures!I133","v":0.76500000000000001},{"$f":"Levures!J133","v":18.3},{"$f":"Levures!K133","v":21.1},{"$f":"Levures!F133","v":"Moyenne"}]
["","","","","",null,null,null,null,{"$f":"Levures!A134","v":"Whitelabs WLP004 Irish Ale Yeast"},{"$f":"Levures!E134","v":"Liquide"},{"$f":"Levures!G134","v":0.69},{"$f":"Levures!H134","v":0.74},{"$f":"Levures!I134","v":0.71499999999999997},{"$f":"Levures!J134","v":18.3},{"$f":"Levures!K134","v":20},{"$f":"Levures!F134","v":"Moyenne  -  Haute"}]
["","","","","",null,null,null,null,{"$f":"Levures!A135","v":"Whitelabs WLP005 British Ale Yeast"},{"$f":"Levures!E135","v":"Liquide"},{"$f":"Levures!G135","v":0.67},{"$f":"Levures!H135","v":0.74},{"$f":"Levures!I135","v":0.70500000000000007},{"$f":"Levures!J135","v":18.3},{"$f":"Levures!K135","v":21.1},{"$f":"Levures!F135","v":"Haute"}]
["","","","","",null,null,null,null,{"$f":"Levures!A136","v":"Whitelabs WLP006 Bedford British Ale Yeast"},{"$f":"Levures!E136","v":"Liquide"},{"$f":"Levures!G136","v":0.72},{"$f":"Levures!H136","v":0.8},{"$f":"Levures!I136","v":0.76},{"$f":"Levures!J136","v":18.3},{"$f":"Levures!K136","v":21.1},{"$f":"Levures!F136","v":"Moyenne  -  Haute"}]
["","","","","",null,null,null,null,{"$f":"Levures!A137","v":"Whitelabs WLP007 Dry English Ale Yeast"},{"$f":"Levures!E137","v":"Liquide"},{"$f":"Levures!G137","v":0.7},{"$f":"Levures!H137","v":0.8},{"$f":"Levures!I137","v":0.75},{"$f":"Levures!J137","v":18.3},{"$f":"Levures!K137","v":21.1},{"$f":"Levures!F137","v":"Moyenne  -  Haute"}]
["","","","","",null,null,null,null,{"$f":"Levures!A138","v":"Whitelabs WLP008 East Coast Ale Yeast"},{"$f":"Levures!E138","v":"Liquide"},{"$f":"Levures!G138","v":0.7},{"$f":"Levures!H138","v":0.75},{"$f":"Levures!I138","v":0.72499999999999998},{"$f":"Levures!J138","v":20},{"$f":"Levures!K138","v":22.8},{"$f":"Levures!F138","v":"Basse  -  Moyenne"}]
["","","","","",null,null,null,null,{"$f":"Levures!A139","v":"Whitelabs WLP009 Australian Ale Yeast"},{"$f":"Levures!E139","v":"Liquide"},{"$f":"Levures!G139","v":0.7},{"$f":"Levures!H139","v":0.75},{"$f":"Levures!I139","v":0.72499999999999998},{"$f":"Levures!J139","v":18.3},{"$f":"Levures!K139","v":21.1},{"$f":"Levures!F139","v":"Haute"}]
["","","","","",null,null,null,null,{"$f":"Levures!A140","v":"Whitelabs WLP011 European Ale Yeast"},{"$f":"Levures!E140","v":"Liquide"},{"$f":"Levures!G140","v":0.65},{"$f":"Levures!H140","v":0.7},{"$f":"Levures!I140","v":0.67500000000000004},{"$f":"Levures!J140","v":18.3},{"$f":"Levures!K140","v":21.1},{"$f":"Levures!F140","v":"Moyenne"}]
["","","","","",null,null,null,null,{"$f":"Levures!A141","v":"Whitelabs WLP013 London Ale Yeast"},{"$f":"Levures!E141","v":"Liquide"},{"$f":"Levures!G141","v":0.67},{"$f":"Levures!H141","v":0.75},{"$f":"Levures!I141","v":0.71},{"$f":"Levures!J141","v":18.899999999999999},{"$f":"Levures!K141","v":21.7},{"$f":"Levures!F141","v":"Moyenne"}]
["","","","","",null,null,null,null,{"$f":"Levures!A142","v":"Whitelabs WLP017 Whitbread II Ale Yeast"},{"$f":"Levures!E142","v":"Liquide"},{"$f":"Levures!G142","v":0.67},{"$f":"Levures!H142","v":0.73},{"$f":"Levures!I142","v":0.7},{"$f":"Levures!J142","v":18.899999999999999},{"$f":"Levures!K142","v":21.1},{"$f":"Levures!F142","v":"Haute"}]
["","","","","",null,null,null,null,{"$f":"Levures!A143","v":"Whitelabs WLP022 Essex Ale Yeast"},{"$f":"Levures!E143","v":"Liquide"},{"$f":"Levures!G143","v":0.71},{"$f":"Levures!H143","v":0.76},{"$f":"Levures!I143","v":0.73499999999999999},{"$f":"Levures!J143","v":18.899999999999999},{"$f":"Levures!K143","v":21.1},{"$f":"Levures!F143","v":"Moyenne  -  Haute"}]
["","","","","",null,null,null,null,{"$f":"Levures!A144","v":"Whitelabs WLP023 Burton Ale Yeast"},{"$f":"Levures!E144","v":"Liquide"},{"$f":"Levures!G144","v":0.69},{"$f":"Levures!H144","v":0.75},{"$f":"Levures!I144","v":0.72},{"$f":"Levures!J144","v":20},{"$f":"Levures!K144","v":22.8},{"$f":"Levures!F144","v":"Moyenne"}]
["","","","","",null,null,null,null,{"$f":"Levures!A145","v":"Whitelabs WLP025 Southwold Ale Yeast"},{"$f":"Levures!E145","v":"Liquide"},{"$f":"Levures!G145","v":0.68},{"$f":"Levures!H145","v":0.75},{"$f":"Levures!I145","v":0.71500000000000008},{"$f":"Levures!J145","v":18.899999999999999},{"$f":"Levures!K145","v":20.6},{"$f":"Levures!F145","v":"Moyenne"}]
["","","","","",null,null,null,null,{"$f":"Levures!A146","v":"Whitelabs WLP026 Premium Bitter Ale Yeast"},{"$f":"Levures!E146","v":"Liquide"},{"$f":"Levures!G146","v":0.7},{"$f":"Levures!H146","v":0.75},{"$f":"Levures!I146","v":0.72499999999999998},{"$f":"Levures!J146","v":19.399999999999999},{"$f":"Levures!K146","v":21.1},{"$f":"Levures!F146","v":"Moyenne"}]
["","","","","",null,null,null,null,{"$f":"Levures!A147","v":"Whitelabs WLP028 Edinburgh Scottish Ale Yeast"},{"$f":"Levures!E147","v":"Liquide"},{"$f":"Levures!G147","v":0.7},{"$f":"Levures!H147","v":0.75},{"$f":"Levures!I147","v":0.72499999999999998},{"$f":"Levures!J147","v":18.3},{"$f":"Levures!K147","v":21.1},{"$f":"Levures!F147","v":"Moyenne"}]
["","","","","",null,null,null,null,{"$f":"Levures!A148","v":"Whitelabs WLP028 Edinburgh Scottish Ale Yeast"},{"$f":"Levures!E148","v":"Liquide"},{"$f":"Levures!G148","v":0.7},{"$f":"Levures!H148","v":0.75},{"$f":"Levures!I148","v":0.72499999999999998},{"$f":"Levures!J148","v":18.3},{"$f":"Levures!K148","v":21.1},{"$f":"Levures!F148","v":"Moyenne"}]
["","","","","",null,null,null,null,{"$f":"Levures!A149","v":"Whitelabs WLP029 German Ale/ Kölsch Yeast"},{"$f":"Levures!E149","v":"Liquide"},{"$f":"Levures!G149","v":0.72},{"$f":"Levures!H149","v":0.78},{"$f":"Levures!I149","v":0.75},{"$f":"Levures!J149","v":18.3},{"$f":"Levures!K149","v":20.6},{"$f":"Levures!F149","v":"Moyenne"}]
["","","","","",null,null,null,null,{"$f":"Levures!A150","v":"Whitelabs WLP033 Klassic Ale Yeast"},{"$f":"Levures!E150","v":"Liquide"},{"$f":"Levures!G150","v":0.66},{"$f":"Levures!H150","v":0.74},{"$f":"Levures!I150","v":0.7},{"$f":"Levures!J150","v":18.899999999999999},{"$f":"Levures!K150","v":21.1},{"$f":"Levures!F150","v":"Moyenne"}]
["","","","","",null,null,null,null,{"$f":"Levures!A151","v":"Whitelabs WLP036 Düsseldorf Alt Ale Yeast"},{"$f":"Levures!E151","v":"Liquide"},{"$f":"Levures!G151","v":0.65},{"$f":"Levures!H151","v":0.72},{"$f":"Levures!I151","v":0.68500000000000005},{"$f":"Levures!J151","v":18.3},{"$f":"Levures!K151","v":20.6},{"$f":"Levures!F151","v":"Moyenne"}]
["","","","","",null,null,null,null,{"$f":"Levures!A152","v":"Whitelabs WLP037 Yorkshire Square Ale Yeast"},{"$f":"Levures!E152","v":"Liquide"},{"$f":"Levures!G152","v":0.68},{"$f":"Levures!H152","v":0.72},{"$f":"Levures!I152","v":0.7},{"$f":"Levures!J152","v":18.3},{"$f":"Levures!K152","v":21.1},{"$f":"Levures!F152","v":"Haute"}]
["","","","","",null,null,null,null,{"$f":"Levures!A153","v":"Whitelabs WLP038 Manchester Ale Yeast"},{"$f":"Levures!E153","v":"Liquide"},{"$f":"Levures!G153","v":0.7},{"$f":"Levures!H153","v":0.74},{"$f":"Levures!I153","v":0.72},{"$f":"Levures!J153","v":18.3},{"$f":"Levures!K153","v":21.1},{"$f":"Levures!F153","v":"Moyenne  -  Haute"}]
["","","","","",null,null,null,null,{"$f":"Levures!A154","v":"Whitelabs WLP039 East Midlands Ale Yeast"},{"$f":"Levures!E154","v":"Liquide"},{"$f":"Levures!G154","v":0.73},{"$f":"Levures!H154","v":0.82},{"$f":"Levures!I154","v":0.77499999999999991},{"$f":"Levures!J154","v":18.899999999999999},{"$f":"Levures!K154","v":21.1},{"$f":"Levures!F154","v":"Moyenne  -  Haute"}]
["","","","","",null,null,null,null,{"$f":"Levures!A155","v":"Whitelabs WLP041 Pacific Ale Yeast"},{"$f":"Levures!E155","v":"Liquide"},{"$f":"Levures!G155","v":0.65},{"$f":"Levures!H155","v":0.7},{"$f":"Levures!I155","v":0.67500000000000004},{"$f":"Levures!J155","v":18.3},{"$f":"Levures!K155","v":20},{"$f":"Levures!F155","v":"Haute"}]
["","","","","",null,null,null,null,{"$f":"Levures!A156","v":"Whitelabs WLP051 California V Ale Yeast"},{"$f":"Levures!E156","v":"Liquide"},{"$f":"Levures!G156","v":0.7},{"$f":"Levures!H156","v":0.75},{"$f":"Levures!I156","v":0.72499999999999998},{"$f":"Levures!J156","v":18.899999999999999},{"$f":"Levures!K156","v":21.1},{"$f":"Levures!F156","v":"Moyenne  -  Haute"}]
["","","","","",null,null,null,null,{"$f":"Levures!A157","v":"Whitelabs WLP059 Melbourne Ale Yeast"},{"$f":"Levures!E157","v":"Liquide"},{"$f":"Levures!G157","v":0.74},{"$f":"Levures!H157","v":0.78},{"$f":"Levures!I157","v":0.76},{"$f":"Levures!J157","v":18},{"$f":"Levures!K157","v":23},{"$f":"Levures!F157","v":"Moyenne"}]
["","","","","",null,null,null,null,{"$f":"Levures!A158","v":"Whitelabs WLP060 American Ale Yeast Blend"},{"$f":"Levures!E158","v":"Liquide"},{"$f":"Levures!G158","v":0.72},{"$f":"Levures!H158","v":0.8},{"$f":"Levures!I158","v":0.76},{"$f":"Levures!J158","v":20},{"$f":"Levures!K158","v":22.2},{"$f":"Levures!F158","v":"Moyenne"}]
["","","","","",null,null,null,null,{"$f":"Levures!A159","v":"Whitelabs WLP060 American Ale Yeast Blend"},{"$f":"Levures!E159","v":"Liquide"},{"$f":"Levures!G159","v":0.72},{"$f":"Levures!H159","v":0.8},{"$f":"Levures!I159","v":0.76},{"$f":"Levures!J159","v":20},{"$f":"Levures!K159","v":22.2},{"$f":"Levures!F159","v":"Moyenne"}]
["","","","","",null,null,null,null,{"$f":"Levures!A160","v":"Whitelabs WLP064 Buchner Ale Yeast Blend"},{"$f":"Levures!E160","v":"Liquide"},{"$f":"Levures!G160","v":0.72},{"$f":"Levures!H160","v":0.78},{"$f":"Levures!I160","v":0.75},{"$f":"Levures!J160","v":19.399999999999999},{"$f":"Levures!K160","v":22.2},{"$f":"Levures!F160","v":"Moyenne"}]
["","","","","",null,null,null,null,{"$f":"Levures!A161","v":"Whitelabs WLP066 London Fog Ale Yeast"},{"$f":"Levures!E161","v":"Liquide"},{"$f":"Levures!G161","v":0.75},{"$f":"Levures!H161","v":0.82},{"$f":"Levures!I161","v":0.78499999999999992},{"$f":"Levures!J161","v":17.8},{"$f":"Levures!K161","v":22.2},{"$f":"Levures!F161","v":"Basse  -  Moyenne"}]
["","","","","",null,null,null,null,{"$f":"Levures!A162","v":"Whitelabs WLP067 Coastal Haze Ale Yeast Blend"},{"$f":"Levures!E162","v":"Liquide"},{"$f":"Levures!G162","v":0.7},{"$f":"Levures!H162","v":0.75},{"$f":"Levures!I162","v":0.72499999999999998},{"$f":"Levures!J162","v":20},{"$f":"Levures!K162","v":22.2},{"$f":"Levures!F162","v":"Basse  -  Moyenne"}]
["","","","","",null,null,null,null,{"$f":"Levures!A163","v":"Whitelabs WLP072 French Ale Yeast"},{"$f":"Levures!E163","v":"Liquide"},{"$f":"Levures!G163","v":0.68},{"$f":"Levures!H163","v":0.75},{"$f":"Levures!I163","v":0.71500000000000008},{"$f":"Levures!J163","v":17.2},{"$f":"Levures!K163","v":22.8},{"$f":"Levures!F163","v":"Moyenne  -  Haute"}]
["","","","","",null,null,null,null,{"$f":"Levures!A164","v":"Whitelabs WLP073 Artisanal Country Ale Yeast"},{"$f":"Levures!E164","v":"Liquide"},{"$f":"Levures!G164","v":0.75},{"$f":"Levures!H164","v":0.8},{"$f":"Levures!I164","v":0.77500000000000002},{"$f":"Levures!J164","v":21.1},{"$f":"Levures!K164","v":27.8},{"$f":"Levures!F164","v":"Basse  -  Moyenne"}]
["","","","","",null,null,null,null,{"$f":"Levures!A165","v":"Whitelabs WLP075 Hansen Ale Yeast Blend"},{"$f":"Levures!E165","v":"Liquide"},{"$f":"Levures!G165","v":0.75},{"$f":"Levures!H165","v":0.8},{"$f":"Levures!I165","v":0.77500000000000002},{"$f":"Levures!J165","v":18.899999999999999},{"$f":"Levures!K165","v":21.1},{"$f":"Levures!F165","v":"Moyenne  -  Haute"}]
["","","","","",null,null,null,null,{"$f":"Levures!A166","v":"Whitelabs WLP076 Old Sonoma Ale Yeast"},{"$f":"Levures!E166","v":"Liquide"},{"$f":"Levures!G166","v":0.7},{"$f":"Levures!H166","v":0.74},{"$f":"Levures!I166","v":0.72},{"$f":"Levures!J166","v":18.899999999999999},{"$f":"Levures!K166","v":21.1},{"$f":"Levures!F166","v":"Moyenne"}]
["","","","","",null,null,null,null,{"$f":"Levures!A167","v":"Whitelabs WLP080 Cream Ale Yeast Blend"},{"$f":"Levures!E167","v":"Liquide"},{"$f":"Levures!G167","v":0.75},{"$f":"Levures!H167","v":0.8},{"$f":"Levures!I167","v":0.77500000000000002},{"$f":"Levures!J167","v":18.3},{"$f":"Levures!K167","v":21.1},{"$f":"Levures!F167","v":"Moyenne"}]
["","","","","",null,null,null,null,{"$f":"Levures!A168","v":"Whitelabs WLP085 English Ale Yeast Blend"},{"$f":"Levures!E168","v":"Liquide"},{"$f":"Levures!G168","v":0.69},{"$f":"Levures!H168","v":0.76},{"$f":"Levures!I168","v":0.72499999999999998},{"$f":"Levures!J168","v":20},{"$f":"Levures!K168","v":22.2},{"$f":"Levures!F168","v":"Moyenne  -  Haute"}]
["","","","","",null,null,null,null,{"$f":"Levures!A169","v":"Whitelabs WLP090 San Diego Super Yeast"},{"$f":"Levures!E169","v":"Liquide"},{"$f":"Levures!G169","v":0.76},{"$f":"Levures!H169","v":0.83},{"$f":"Levures!I169","v":0.79499999999999993},{"$f":"Levures!J169","v":18.3},{"$f":"Levures!K169","v":20},{"$f":"Levures!F169","v":"Moyenne  -  Haute"}]
["","","","","",null,null,null,null,{"$f":"Levures!A170","v":"Whitelabs WLP095 Burlington Ale Yeast"},{"$f":"Levures!E170","v":"Liquide"},{"$f":"Levures!G170","v":0.72},{"$f":"Levures!H170","v":0.78},{"$f":"Levures!I170","v":0.75},{"$f":"Levures!J170","v":19.399999999999999},{"$f":"Levures!K170","v":21.1},{"$f":"Levures!F170","v":"Moyenne"}]
["","","","","",null,null,null,null,{"$f":"Levures!A171","v":"Whitelabs WLP099 Super High Gravity Ale Yeast"},{"$f":"Levures!E171","v":"Liquide"},{"$f":"Levures!G171","v":0.8},{"$f":"Levures!H171","v":1},{"$f":"Levures!I171","v":0.9},{"$f":"Levures!J171","v":18.3},{"$f":"Levures!K171","v":20.6},{"$f":"Levures!F171","v":"Moyenne"}]
["","","","","",null,null,null,null,{"$f":"Levures!A172","v":"Whitelabs WLP1983 Charlie's Fist Bump Yeast"},{"$f":"Levures!E172","v":"Liquide"},{"$f":"Levures!G172","v":0.66},{"$f":"Levures!H172","v":0.7},{"$f":"Levures!I172","v":0.67999999999999994},{"$f":"Levures!J172","v":12.8},{"$f":"Levures!K172","v":22.8},{"$f":"Levures!F172","v":"Basse"}]
["","","","","",null,null,null,null,{"$f":"Levures!A173","v":"Whitelabs WLP380 Hefeweizen Ale IV"},{"$f":"Levures!E173","v":"Liquide"},{"$f":"Levures!G173","v":0.73},{"$f":"Levures!H173","v":0.8},{"$f":"Levures!I173","v":0.76500000000000001},{"$f":"Levures!J173","v":19},{"$f":"Levures!K173","v":21.1},{"$f":"Levures!F173","v":"Basse"}]
["","","","","",null,null,null,null,{"$f":"Levures!A174","v":"Whitelabs WLP518 Opshaug Kveik Ale Yeast"},{"$f":"Levures!E174","v":"Liquide"},{"$f":"Levures!G174","v":0.7},{"$f":"Levures!H174","v":0.8},{"$f":"Levures!I174","v":0.75},{"$f":"Levures!J174","v":25},{"$f":"Levures!K174","v":30},{"$f":"Levures!F174","v":"Moyenne  -  Haute"}]
["","","","","",null,null,null,null,{"$f":"Levures!A175","v":"Whitelabs WLP564 Leeuwenhoek Saison Yeast Blend"},{"$f":"Levures!E175","v":"Liquide"},{"$f":"Levures!G175","v":0.76},{"$f":"Levures!H175","v":0.82},{"$f":"Levures!I175","v":0.79},{"$f":"Levures!J175","v":18.899999999999999},{"$f":"Levures!K175","v":23.9},{"$f":"Levures!F175","v":"Basse"}]
["","","","","",null,null,null,null,{"$f":"Levures!A176","v":"Whitelabs WLP565 Belgian Saison I Yeast"},{"$f":"Levures!E176","v":"Liquide"},{"$f":"Levures!G176","v":0.65},{"$f":"Levures!H176","v":0.75},{"$f":"Levures!I176","v":0.7},{"$f":"Levures!J176","v":20},{"$f":"Levures!K176","v":23.9},{"$f":"Levures!F176","v":"Moyenne"}]
["","","","","",null,null,null,null,{"$f":"Levures!A177","v":"Whitelabs WLP566 Belgian Saison II Ale Yeast"},{"$f":"Levures!E177","v":"Liquide"},{"$f":"Levures!G177","v":0.78},{"$f":"Levures!H177","v":0.85},{"$f":"Levures!I177","v":0.81499999999999995},{"$f":"Levures!J177","v":20},{"$f":"Levures!K177","v":25.6},{"$f":"Levures!F177","v":"Moyenne"}]
["","","","","",null,null,null,null,{"$f":"Levures!A178","v":"Whitelabs WLP568 Belgian Style Saison Ale Yeast Blend"},{"$f":"Levures!E178","v":"Liquide"},{"$f":"Levures!G178","v":0.7},{"$f":"Levures!H178","v":0.8},{"$f":"Levures!I178","v":0.75},{"$f":"Levures!J178","v":21.1},{"$f":"Levures!K178","v":26.7},{"$f":"Levures!F178","v":"Moyenne"}]
["","","","","",null,null,null,null,{"$f":"Levures!A179","v":"Whitelabs WLP590 French Saison Ale Yeast"},{"$f":"Levures!E179","v":"Liquide"},{"$f":"Levures!G179","v":0.73},{"$f":"Levures!H179","v":0.8},{"$f":"Levures!I179","v":0.76500000000000001},{"$f":"Levures!J179","v":20.6},{"$f":"Levures!K179","v":23.9},{"$f":"Levures!F179","v":"Moyenne"}]
["","","","","",null,null,null,null,{"$f":"Levures!A180","v":"Whitelabs WLP670 American Farmhouse Blend"},{"$f":"Levures!E180","v":"Liquide"},{"$f":"Levures!G180","v":0.75},{"$f":"Levures!H180","v":0.82},{"$f":"Levures!I180","v":0.78499999999999992},{"$f":"Levures!J180","v":20},{"$f":"Levures!K180","v":22.2},{"$f":"Levures!F180","v":"Moyenne"}]
["","","","","",null,null,null,null,{"$f":"Levures!A181","v":"Whitelabs WLP715 Champagne Yeast"},{"$f":"Levures!E181","v":"Liquide"},{"$f":"Levures!G181","v":0.75},{"$f":"Levures!H181","v":0.1},{"$f":"Levures!I181","v":0.42499999999999999},{"$f":"Levures!J181","v":21.1},{"$f":"Levures!K181","v":23.9},{"$f":"Levures!F181","v":"Basse"}]
["","","","","",null,null,null,null,{"$f":"Levures!A182","v":"Whitelabs WLP780 Thai Rice Chong Yeast"},{"$f":"Levures!E182","v":"Liquide"},{"$f":"Levures!G182","v":0.76},{"$f":"Levures!H182","v":0.76},{"$f":"Levures!I182","v":0.76},{"$f":"Levures!J182","v":"N/A"},{"$f":"Levures!K182","v":"N/A"},{"$f":"Levures!F182","v":"N/A"}]
["","","","","",null,null,null,null,{"$f":"Levures!A183","v":"Lallemand BELLE SAISON"},{"$f":"Levures!E183","v":"Sèche"},{"$f":"Levures!G183","v":0.76},{"$f":"Levures!H183","v":0.8},{"$f":"Levures!I183","v":0.78},{"$f":"Levures!J183","v":15},{"$f":"Levures!K183","v":35},{"$f":"Levures!F183","v":"Basse"}]
["","","","","",null,null,null,null,{"$f":"Levures!A184","v":"Lallemand WINDSOR"},{"$f":"Levures!E184","v":"Sèche"},{"$f":"Levures!G184","v":0.74},{"$f":"Levures!H184","v":0.76},{"$f":"Levures!I184","v":0.75},{"$f":"Levures!J184","v":15},{"$f":"Levures!K184","v":22.2},{"$f":"Levures!F184","v":"Basse"}]
["","","","","",null,null,null,null,{"$f":"Levures!A185","v":"Lallemand MUNICH CLASSIC"},{"$f":"Levures!E185","v":"Sèche"},{"$f":"Levures!G185","v":0.69},{"$f":"Levures!H185","v":0.71},{"$f":"Levures!I185","v":0.7},{"$f":"Levures!J185","v":17.2},{"$f":"Levures!K185","v":22.2},{"$f":"Levures!F185","v":"Basse"}]
["","","","","",null,null,null,null,{"$f":"Levures!A186","v":"Lallemand MUNICH Wheat"},{"$f":"Levures!E186","v":"Sèche"},{"$f":"Levures!G186","v":""},{"$f":"Levures!H186","v":""},{"$f":"Levures!I186","v":""},{"$f":"Levures!J186","v":17.2},{"$f":"Levures!K186","v":22.2},{"$f":"Levures!F186","v":"Basse"}]
["","","","","",null,null,null,null,{"$f":"Levures!A187","v":"Lallemand LONDON ESB"},{"$f":"Levures!E187","v":"Sèche"},{"$f":"Levures!G187","v":0.71},{"$f":"Levures!H187","v":0.74},{"$f":"Levures!I187","v":0.72499999999999998},{"$f":"Levures!J187","v":18.3},{"$f":"Levures!K187","v":22.2},{"$f":"Levures!F187","v":"Basse"}]
["","","","","",null,null,null,null,{"$f":"Levures!A188","v":"Lallemand NOTTINGHAM"},{"$f":"Levures!E188","v":"Sèche"},{"$f":"Levures!G188","v":0.76},{"$f":"Levures!H188","v":0.79},{"$f":"Levures!I188","v":0.77500000000000002},{"$f":"Levures!J188","v":10},{"$f":"Levures!K188","v":22.2},{"$f":"Levures!F188","v":"Haute"}]
["","","","","",null,null,null,null,{"$f":"Levures!A189","v":"Lallemand DIAMOND Lager"},{"$f":"Levures!E189","v":"Sèche"},{"$f":"Levures!G189","v":0.85},{"$f":"Levures!H189","v":0.9},{"$f":"Levures!I189","v":0.875},{"$f":"Levures!J189","v":10},{"$f":"Levures!K189","v":15},{"$f":"Levures!F189","v":"Haute"}]
["","","","","",null,null,null,null,{"$f":"Levures!A190","v":"Lallemand BRY-97 American West Coast Ale"},{"$f":"Levures!E190","v":"Sèche"},{"$f":"Levures!G190","v":""},{"$f":"Levures!H190","v":""},{"$f":"Levures!I190","v":""},{"$f":"Levures!J190","v":15},{"$f":"Levures!K190","v":22.2},{"$f":"Levures!F190","v":"Haute"}]
["","","","","",null,null,null,null,{"$f":"Levures!A191","v":"Lallemand ABBAYE"},{"$f":"Levures!E191","v":"Sèche"},{"$f":"Levures!G191","v":0.7},{"$f":"Levures!H191","v":0.74},{"$f":"Levures!I191","v":0.72},{"$f":"Levures!J191","v":17.2},{"$f":"Levures!K191","v":25},{"$f":"Levures!F191","v":"Haute"}]
["","","","","",null,null,null,null,{"$f":"Levures!A192","v":"Lallemand LalBrew New England East Coast Ale"},{"$f":"Levures!E192","v":"Sèche"},{"$f":"Levures!G192","v":""},{"$f":"Levures!H192","v":""},{"$f":"Levures!I192","v":""},{"$f":"Levures!J192","v":15},{"$f":"Levures!K192","v":22.2},{"$f":"Levures!F192","v":"Moyenne"}]
["","","","","",null,null,null,null,{"$f":"Levures!A193","v":"Lallemand WildBrew™ Sour Pitch"},{"$f":"Levures!E193","v":"Sèche"},{"$f":"Levures!G193","v":0},{"$f":"Levures!H193","v":0},{"$f":"Levures!I193","v":""},{"$f":"Levures!J193","v":30},{"$f":"Levures!K193","v":40},{"$f":"Levures!F193","v":0}]
["","","","","",null,null,null,null,{"$f":"Levures!A194","v":"The Yeast Bay  TYB415  BRETTANOMYCES BRUXELLENSIS\nSTRAI"},{"$f":"Levures!E194","v":"Liquide"},{"$f":"Levures!G194","v":0.2},{"$f":"Levures!H194","v":0.25},{"$f":"Levures!I194","v":0.22500000000000001},{"$f":"Levures!J194","v":15.6},{"$f":"Levures!K194","v":32.200000000000003},{"$f":"Levures!F194","v":"Basse"}]
["","","","","",null,null,null,null,{"$f":"Levures!A195","v":"The Yeast Bay AMALGAMATION I\nBRETTANOMYCES BLEND"},{"$f":"Levures!E195","v":"Liquide"},{"$f":"Levures!G195","v":0.85},{"$f":"Levures!H195","v":0.85},{"$f":"Levures!I195","v":0.85},{"$f":"Levures!J195","v":21.1},{"$f":"Levures!K195","v":26.7},{"$f":"Levures!F195","v":"Basse"}]
["","","","","",null,null,null,null,{"$f":"Levures!A196","v":"The Yeast Bay AMALGAMATION II\nBRETTANOMYCES BLEND"},{"$f":"Levures!E196","v":"Liquide"},{"$f":"Levures!G196","v":0.82},{"$f":"Levures!H196","v":0.86},{"$f":"Levures!I196","v":0.84},{"$f":"Levures!J196","v":21.1},{"$f":"Levures!K196","v":26.7},{"$f":"Levures!F196","v":"Basse"}]
["","","","","",null,null,null,null,{"$f":"Levures!A197","v":"The Yeast Bay BEERSEL BRETTANOMYCES\nBLEND"},{"$f":"Levures!E197","v":"Liquide"},{"$f":"Levures!G197","v":0.82},{"$f":"Levures!H197","v":0.85},{"$f":"Levures!I197","v":0.83499999999999996},{"$f":"Levures!J197","v":21.1},{"$f":"Levures!K197","v":26.7},{"$f":"Levures!F197","v":"Basse"}]
["","","","","",null,null,null,null,{"$f":"Levures!A198","v":"The Yeast Bay SAISON BLEND I"},{"$f":"Levures!E198","v":"Liquide"},{"$f":"Levures!G198","v":0.78},{"$f":"Levures!H198","v":0.8},{"$f":"Levures!I198","v":0.79},{"$f":"Levures!J198","v":20},{"$f":"Levures!K198","v":26.7},{"$f":"Levures!F198","v":"Basse - Moyenne"}]
["","","","","",null,null,null,null,{"$f":"Levures!A199","v":"The Yeast Bay WALLONIAN FARMHOUSE II"},{"$f":"Levures!E199","v":"Liquide"},{"$f":"Levures!G199","v":0.8},{"$f":"Levures!H199","v":0.82},{"$f":"Levures!I199","v":0.81},{"$f":"Levures!J199","v":20},{"$f":"Levures!K199","v":26.7},{"$f":"Levures!F199","v":"Basse - Moyenne"}]
["","","","","",null,null,null,null,{"$f":"Levures!A200","v":"The Yeast Bay WALLONIAN FARMHOUSE III "},{"$f":"Levures!E200","v":"Liquide"},{"$f":"Levures!G200","v":0.82},{"$f":"Levures!H200","v":0.84},{"$f":"Levures!I200","v":0.83},{"$f":"Levures!J200","v":20},{"$f":"Levures!K200","v":26.7},{"$f":"Levures!F200","v":"Basse - Moyenne"}]
["","","","","",null,null,null,null,{"$f":"Levures!A201","v":"The Yeast Bay BRUSSELS BRETTANOMYCES\nBLEND"},{"$f":"Levures!E201","v":"Liquide"},{"$f":"Levures!G201","v":0.8},{"$f":"Levures!H201","v":0.9},{"$f":"Levures!I201","v":0.85000000000000009},{"$f":"Levures!J201","v":21.1},{"$f":"Levures!K201","v":26.7},{"$f":"Levures!F201","v":"Basse - Moyenne"}]
["","","","","",null,null,null,null,{"$f":"Levures!A202","v":"The Yeast Bay LOCHRISTI BRETTANOMYCES\nBLEND"},{"$f":"Levures!E202","v":"Liquide"},{"$f":"Levures!G202","v":0.8},{"$f":"Levures!H202","v":0.88},{"$f":"Levures!I202","v":0.84000000000000008},{"$f":"Levures!J202","v":21.1},{"$f":"Levures!K202","v":26.7},{"$f":"Levures!F202","v":"Basse - Moyenne"}]
["","","","","",null,null,null,null,{"$f":"Levures!A203","v":"The Yeast Bay SAISON/BRETTANOMYCES\nBLEND II"},{"$f":"Levures!E203","v":"Liquide"},{"$f":"Levures!G203","v":0.82},{"$f":"Levures!H203","v":0.85},{"$f":"Levures!I203","v":0.83499999999999996},{"$f":"Levures!J203","v":22.2},{"$f":"Levures!K203","v":26.7},{"$f":"Levures!F203","v":"Basse - Moyenne"}]
["","","","","",null,null,null,null,{"$f":"Levures!A204","v":"The Yeast Bay MÉLANGE"},{"$f":"Levures!E204","v":"Liquide"},{"$f":"Levures!G204","v":0.85},{"$f":"Levures!H204","v":1},{"$f":"Levures!I204","v":0.92500000000000004},{"$f":"Levures!J204","v":20},{"$f":"Levures!K204","v":25.6},{"$f":"Levures!F204","v":"Basse - Moyenne"}]
["","","","","",null,null,null,null,{"$f":"Levures!A205","v":"The Yeast Bay FARMHOUSE SOUR ALE"},{"$f":"Levures!E205","v":"Liquide"},{"$f":"Levures!G205","v":0.8},{"$f":"Levures!H205","v":1},{"$f":"Levures!I205","v":0.9},{"$f":"Levures!J205","v":21.1},{"$f":"Levures!K205","v":25.6},{"$f":"Levures!F205","v":"Basse - Moyenne"}]
["","","","","",null,null,null,null,{"$f":"Levures!A206","v":"The Yeast Bay SAISON/BRETTANOMYCES\nBLEND I"},{"$f":"Levures!E206","v":"Liquide"},{"$f":"Levures!G206","v":0.8},{"$f":"Levures!H206","v":0.8},{"$f":"Levures!I206","v":0.8},{"$f":"Levures!J206","v":21.1},{"$f":"Levures!K206","v":25.6},{"$f":"Levures!F206","v":"Basse - Moyenne"}]
["","","","","",null,null,null,null,{"$f":"Levures!A207","v":"The Yeast Bay TYB HOUSE SOUR\nBLEND"},{"$f":"Levures!E207","v":"Liquide"},{"$f":"Levures!G207","v":0.85},{"$f":"Levures!H207","v":1},{"$f":"Levures!I207","v":0.92500000000000004},{"$f":"Levures!J207","v":20},{"$f":"Levures!K207","v":25.6},{"$f":"Levures!F207","v":"Basse - Moyenne"}]
["","","","","",null,null,null,null,{"$f":"Levures!A208","v":"The Yeast Bay NORTHEASTERN ABBEY"},{"$f":"Levures!E208","v":"Liquide"},{"$f":"Levures!G208","v":0.77},{"$f":"Levures!H208","v":0.81},{"$f":"Levures!I208","v":0.79},{"$f":"Levures!J208","v":20},{"$f":"Levures!K208","v":23.9},{"$f":"Levures!F208","v":"Basse - Moyenne"}]
["","","","","",null,null,null,null,{"$f":"Levures!A209","v":"The Yeast Bay FUNKTOWN PALE ALE"},{"$f":"Levures!E209","v":"Liquide"},{"$f":"Levures!G209","v":0.78},{"$f":"Levures!H209","v":0.95},{"$f":"Levures!I209","v":0.86499999999999999},{"$f":"Levures!J209","v":20},{"$f":"Levures!K209","v":23.3},{"$f":"Levures!F209","v":"Basse - Moyenne"}]
["","","","","",null,null,null,null,{"$f":"Levures!A210","v":"The Yeast Bay VERMONT ALE"},{"$f":"Levures!E210","v":"Liquide"},{"$f":"Levures!G210","v":0.78},{"$f":"Levures!H210","v":0.82},{"$f":"Levures!I210","v":0.8},{"$f":"Levures!J210","v":17.8},{"$f":"Levures!K210","v":22.2},{"$f":"Levures!F210","v":"Basse - Moyenne"}]
["","","","","",null,null,null,null,{"$f":"Levures!A211","v":"The Yeast Bay HAZY DAZE II "},{"$f":"Levures!E211","v":"Liquide"},{"$f":"Levures!G211","v":0.81},{"$f":"Levures!H211","v":0.85},{"$f":"Levures!I211","v":0.83000000000000007},{"$f":"Levures!J211","v":18.899999999999999},{"$f":"Levures!K211","v":22.2},{"$f":"Levures!F211","v":"Basse - Moyenne"}]
["","","","","",null,null,null,null,{"$f":"Levures!A212","v":"The Yeast Bay HAZY DAZE"},{"$f":"Levures!E212","v":"Liquide"},{"$f":"Levures!G212","v":0.79},{"$f":"Levures!H212","v":0.83},{"$f":"Levures!I212","v":0.81},{"$f":"Levures!J212","v":17.8},{"$f":"Levures!K212","v":21.1},{"$f":"Levures!F212","v":"Basse - Moyenne"}]
["","","","","",null,null,null,null,{"$f":"Levures!A213","v":"The Yeast Bay FRANCONIAN DARK LAGER"},{"$f":"Levures!E213","v":"Liquide"},{"$f":"Levures!G213","v":0.74},{"$f":"Levures!H213","v":0.78},{"$f":"Levures!I213","v":0.76},{"$f":"Levures!J213","v":8.9},{"$f":"Levures!K213","v":10.6},{"$f":"Levures!F213","v":"Basse - Moyenne"}]
["","","","","",null,null,null,null,{"$f":"Levures!A214","v":"The Yeast Bay HESSIAN PILS"},{"$f":"Levures!E214","v":"Liquide"},{"$f":"Levures!G214","v":0.73},{"$f":"Levures!H214","v":0.76},{"$f":"Levures!I214","v":0.745},{"$f":"Levures!J214","v":7.2},{"$f":"Levures!K214","v":8.9},{"$f":"Levures!F214","v":"Basse - Moyenne"}]
["","","","","",null,null,null,null,{"$f":"Levures!A215","v":"The Yeast Bay SIGMUND'S VOSS KVEIK"},{"$f":"Levures!E215","v":"Liquide"},{"$f":"Levures!G215","v":0.78},{"$f":"Levures!H215","v":0.83},{"$f":"Levures!I215","v":0.80499999999999994},{"$f":"Levures!J215","v":21.1},{"$f":"Levures!K215","v":37.799999999999997},{"$f":"Levures!F215","v":"Haute"}]
["","","","","",null,null,null,null,{"$f":"Levures!A216","v":"The Yeast Bay SIMONAITIS LITHUANIAN\nFARMHOUSE YEAST"},{"$f":"Levures!E216","v":"Liquide"},{"$f":"Levures!G216","v":0.76},{"$f":"Levures!H216","v":0.82},{"$f":"Levures!I216","v":0.79},{"$f":"Levures!J216","v":23.9},{"$f":"Levures!K216","v":35},{"$f":"Levures!F216","v":"Haute"}]
["","","","","",null,null,null,null,{"$f":"Levures!A217","v":"The Yeast Bay FLANDERS SPECIALTY ALE"},{"$f":"Levures!E217","v":"Liquide"},{"$f":"Levures!G217","v":0.78},{"$f":"Levures!H217","v":0.82},{"$f":"Levures!I217","v":0.8},{"$f":"Levures!J217","v":20},{"$f":"Levures!K217","v":26.7},{"$f":"Levures!F217","v":"Moyenne"}]
["","","","","",null,null,null,null,{"$f":"Levures!A218","v":"The Yeast Bay SAISON BLEND II"},{"$f":"Levures!E218","v":"Liquide"},{"$f":"Levures!G218","v":0.85},{"$f":"Levures!H218","v":1},{"$f":"Levures!I218","v":0.92500000000000004},{"$f":"Levures!J218","v":20},{"$f":"Levures!K218","v":26.7},{"$f":"Levures!F218","v":"Moyenne"}]
["","","","","",null,null,null,null,{"$f":"Levures!A219","v":"The Yeast Bay WALLONIAN FARMHOUSE I "},{"$f":"Levures!E219","v":"Liquide"},{"$f":"Levures!G219","v":0.81},{"$f":"Levures!H219","v":1},{"$f":"Levures!I219","v":0.90500000000000003},{"$f":"Levures!J219","v":22.2},{"$f":"Levures!K219","v":26.7},{"$f":"Levures!F219","v":"Moyenne"}]
["","","","","",null,null,null,null,{"$f":"Levures!A220","v":"The Yeast Bay MIDWESTERN ALE"},{"$f":"Levures!E220","v":"Liquide"},{"$f":"Levures!G220","v":0.76},{"$f":"Levures!H220","v":0.8},{"$f":"Levures!I220","v":0.78},{"$f":"Levures!J220","v":17.8},{"$f":"Levures!K220","v":22.2},{"$f":"Levures!F220","v":"Moyenne"}]
["","","","","",null,null,null,null,{"$f":"Levures!A221","v":"The Yeast Bay KVEIK'N HILLS"},{"$f":"Levures!E221","v":"Liquide"},{"$f":"Levures!G221","v":0.78},{"$f":"Levures!H221","v":0.83},{"$f":"Levures!I221","v":0.80499999999999994},{"$f":"Levures!J221","v":21.1},{"$f":"Levures!K221","v":37.799999999999997},{"$f":"Levures!F221","v":"Moyenne - Haute"}]
["","","","","",null,null,null,null,{"$f":"Levures!A222","v":"The Yeast Bay LITHUANIA'N HILLS"},{"$f":"Levures!E222","v":"Liquide"},{"$f":"Levures!G222","v":0.76},{"$f":"Levures!H222","v":0.82},{"$f":"Levures!I222","v":0.79},{"$f":"Levures!J222","v":23.9},{"$f":"Levures!K222","v":35},{"$f":"Levures!F222","v":"Moyenne - Haute"}]
["","","","","",null,null,null,null,{"$f":"Levures!A223","v":"The Yeast Bay DRY BELGIAN ALE"},{"$f":"Levures!E223","v":"Liquide"},{"$f":"Levures!G223","v":0.85},{"$f":"Levures!H223","v":1},{"$f":"Levures!I223","v":0.92500000000000004},{"$f":"Levures!J223","v":20},{"$f":"Levures!K223","v":23.3},{"$f":"Levures!F223","v":"Moyenne - Haute"}]
["","","","","",null,null,null,null,{"$f":"Levures!A224","v":"The Yeast Bay LACTOBACILLUS BLEND"},{"$f":"Levures!E224","v":"Liquide"},{"$f":"Levures!G224","v":0.05},{"$f":"Levures!H224","v":0.05},{"$f":"Levures!I224","v":0.05},{"$f":"Levures!J224","v":21.1},{"$f":"Levures!K224","v":32.200000000000003},{"$f":"Levures!F224","v":"N/A"}]
["","","","","",null,null,null,null,{"$f":"Levures!A225","v":" "},{"$f":"Levures!E225","v":0},{"$f":"Levures!G225","v":0},{"$f":"Levures!H225","v":0},{"$f":"Levures!I225","v":""},{"$f":"Levures!J225","v":0},{"$f":"Levures!K225","v":0},{"$f":"Levures!F225","v":0}]
["","","","","",null,null,null,null,{"$f":"Levures!A226","v":" "},{"$f":"Levures!E226","v":0},{"$f":"Levures!G226","v":0},{"$f":"Levures!H226","v":0},{"$f":"Levures!I226","v":""},{"$f":"Levures!J226","v":0},{"$f":"Levures!K226","v":0},{"$f":"Levures!F226","v":0}]
["","","","","",null,null,null,null,{"$f":"Levures!A227","v":" "},{"$f":"Levures!E227","v":0},{"$f":"Levures!G227","v":0},{"$f":"Levures!H227","v":0},{"$f":"Levures!I227","v":""},{"$f":"Levures!J227","v":0},{"$f":"Levures!K227","v":0},{"$f":"Levures!F227","v":0}]
["","","","","",null,null,null,null,{"$f":"Levures!A228","v":" "},{"$f":"Levures!E228","v":0},{"$f":"Levures!G228","v":0},{"$f":"Levures!H228","v":0},{"$f":"Levures!I228","v":""},{"$f":"Levures!J228","v":0},{"$f":"Levures!K228","v":0},{"$f":"Levures!F228","v":0}]
["","","","","",null,null,null,null,{"$f":"Levures!A229","v":" "},{"$f":"Levures!E229","v":0},{"$f":"Levures!G229","v":0},{"$f":"Levures!H229","v":0},{"$f":"Levures!I229","v":""},{"$f":"Levures!J229","v":0},{"$f":"Levures!K229","v":0},{"$f":"Levures!F229","v":0}]
["","","","","",null,null,null,null,{"$f":"Levures!A230","v":" "},{"$f":"Levures!E230","v":0},{"$f":"Levures!G230","v":0},{"$f":"Levures!H230","v":0},{"$f":"Levures!I230","v":""},{"$f":"Levures!J230","v":0},{"$f":"Levures!K230","v":0},{"$f":"Levures!F230","v":0}]
["","","","","",null,null,null,null,{"$f":"Levures!A231","v":" "},{"$f":"Levures!E231","v":0},{"$f":"Levures!G231","v":0},{"$f":"Levures!H231","v":0},{"$f":"Levures!I231","v":""},{"$f":"Levures!J231","v":0},{"$f":"Levures!K231","v":0},{"$f":"Levures!F231","v":0}]
["","","","","",null,null,null,null,{"$f":"Levures!A232","v":" "},{"$f":"Levures!E232","v":0},{"$f":"Levures!G232","v":0},{"$f":"Levures!H232","v":0},{"$f":"Levures!I232","v":""},{"$f":"Levures!J232","v":0},{"$f":"Levures!K232","v":0},{"$f":"Levures!F232","v":0}]
["","","","","",null,null,null,null,{"$f":"Levures!A233","v":" "},{"$f":"Levures!E233","v":0},{"$f":"Levures!G233","v":0},{"$f":"Levures!H233","v":0},{"$f":"Levures!I233","v":""},{"$f":"Levures!J233","v":0},{"$f":"Levures!K233","v":0},{"$f":"Levures!F233","v":0}]
["","","","","",null,null,null,null,{"$f":"Levures!A234","v":" "},{"$f":"Levures!E234","v":0},{"$f":"Levures!G234","v":0},{"$f":"Levures!H234","v":0},{"$f":"Levures!I234","v":""},{"$f":"Levures!J234","v":0},{"$f":"Levures!K234","v":0},{"$f":"Levures!F234","v":0}]
["","","","","",null,null,null,null,{"$f":"Levures!A235","v":" "},{"$f":"Levures!E235","v":0},{"$f":"Levures!G235","v":0},{"$f":"Levures!H235","v":0},{"$f":"Levures!I235","v":""},{"$f":"Levures!J235","v":0},{"$f":"Levures!K235","v":0},{"$f":"Levures!F235","v":0}]
["","","","","",null,null,null,null,{"$f":"Levures!A236","v":" "},{"$f":"Levures!E236","v":0},{"$f":"Levures!G236","v":0},{"$f":"Levures!H236","v":0},{"$f":"Levures!I236","v":""},{"$f":"Levures!J236","v":0},{"$f":"Levures!K236","v":0},{"$f":"Levures!F236","v":0}]
["","","","","",null,null,null,null,{"$f":"Levures!A237","v":" "},{"$f":"Levures!E237","v":0},{"$f":"Levures!G237","v":0},{"$f":"Levures!H237","v":0},{"$f":"Levures!I237","v":""},{"$f":"Levures!J237","v":0},{"$f":"Levures!K237","v":0},{"$f":"Levures!F237","v":0}]
["","","","","",null,null,null,null,{"$f":"Levures!A238","v":" "},{"$f":"Levures!E238","v":0},{"$f":"Levures!G238","v":0},{"$f":"Levures!H238","v":0},{"$f":"Levures!I238","v":""},{"$f":"Levures!J238","v":0},{"$f":"Levures!K238","v":0},{"$f":"Levures!F238","v":0}]
["","","","","",null,null,null,null,{"$f":"Levures!A239","v":" "},{"$f":"Levures!E239","v":0},{"$f":"Levures!G239","v":0},{"$f":"Levures!H239","v":0},{"$f":"Levures!I239","v":""},{"$f":"Levures!J239","v":0},{"$f":"Levures!K239","v":0},{"$f":"Levures!F239","v":0}]
["","","","","",null,null,null,null,{"$f":"Levures!A240","v":" "},{"$f":"Levures!E240","v":0},{"$f":"Levures!G240","v":0},{"$f":"Levures!H240","v":0},{"$f":"Levures!I240","v":""},{"$f":"Levures!J240","v":0},{"$f":"Levures!K240","v":0},{"$f":"Levures!F240","v":0}]
["","","","","",null,null,null,null,{"$f":"Levures!A241","v":" "},{"$f":"Levures!E241","v":0},{"$f":"Levures!G241","v":0},{"$f":"Levures!H241","v":0},{"$f":"Levures!I241","v":""},{"$f":"Levures!J241","v":0},{"$f":"Levures!K241","v":0},{"$f":"Levures!F241","v":0}]
["","","","","",null,null,null,null,{"$f":"Levures!A242","v":" "},{"$f":"Levures!E242","v":0},{"$f":"Levures!G242","v":0},{"$f":"Levures!H242","v":0},{"$f":"Levures!I242","v":""},{"$f":"Levures!J242","v":0},{"$f":"Levures!K242","v":0},{"$f":"Levures!F242","v":0}]
["","","","","",null,null,null,null,{"$f":"Levures!A243","v":" "},{"$f":"Levures!E243","v":0},{"$f":"Levures!G243","v":0},{"$f":"Levures!H243","v":0},{"$f":"Levures!I243","v":""},{"$f":"Levures!J243","v":0},{"$f":"Levures!K243","v":0},{"$f":"Levures!F243","v":0}]
["","","","","",null,null,null,null,{"$f":"Levures!A244","v":" "},{"$f":"Levures!E244","v":0},{"$f":"Levures!G244","v":0},{"$f":"Levures!H244","v":0},{"$f":"Levures!I244","v":""},{"$f":"Levures!J244","v":0},{"$f":"Levures!K244","v":0},{"$f":"Levures!F244","v":0}]
["","","","","",null,null,null,null,{"$f":"Levures!A245","v":" "},{"$f":"Levures!E245","v":0},{"$f":"Levures!G245","v":0},{"$f":"Levures!H245","v":0},{"$f":"Levures!I245","v":""},{"$f":"Levures!J245","v":0},{"$f":"Levures!K245","v":0},{"$f":"Levures!F245","v":0}]
["","","","","",null,null,null,null,{"$f":"Levures!A246","v":" "},{"$f":"Levures!E246","v":0},{"$f":"Levures!G246","v":0},{"$f":"Levures!H246","v":0},{"$f":"Levures!I246","v":""},{"$f":"Levures!J246","v":0},{"$f":"Levures!K246","v":0},{"$f":"Levures!F246","v":0}]
["","","","","",null,null,null,null,{"$f":"Levures!A247","v":" "},{"$f":"Levures!E247","v":0},{"$f":"Levures!G247","v":0},{"$f":"Levures!H247","v":0},{"$f":"Levures!I247","v":""},{"$f":"Levures!J247","v":0},{"$f":"Levures!K247","v":0},{"$f":"Levures!F247","v":0}]
["","","","","",null,null,null,null,{"$f":"Levures!A248","v":" "},{"$f":"Levures!E248","v":0},{"$f":"Levures!G248","v":0},{"$f":"Levures!H248","v":0},{"$f":"Levures!I248","v":""},{"$f":"Levures!J248","v":0},{"$f":"Levures!K248","v":0},{"$f":"Levures!F248","v":0}]
["","","","","",null,null,null,null,{"$f":"Levures!A249","v":" "},{"$f":"Levures!E249","v":0},{"$f":"Levures!G249","v":0},{"$f":"Levures!H249","v":0},{"$f":"Levures!I249","v":""},{"$f":"Levures!J249","v":0},{"$f":"Levures!K249","v":0},{"$f":"Levures!F249","v":0}]
["","","","","",null,null,null,null,{"$f":"Levures!A250","v":" "},{"$f":"Levures!E250","v":0},{"$f":"Levures!G250","v":0},{"$f":"Levures!H250","v":0},{"$f":"Levures!I250","v":""},{"$f":"Levures!J250","v":0},{"$f":"Levures!K250","v":0},{"$f":"Levures!F250","v":0}]
["","","","","",null,null,null,null,{"$f":"Levures!A251","v":" "},{"$f":"Levures!E251","v":0},{"$f":"Levures!G251","v":0},{"$f":"Levures!H251","v":0},{"$f":"Levures!I251","v":""},{"$f":"Levures!J251","v":0},{"$f":"Levures!K251","v":0},{"$f":"Levures!F251","v":0}]
["","","","","",null,null,null,null,{"$f":"Levures!A252","v":" "},{"$f":"Levures!E252","v":0},{"$f":"Levures!G252","v":0},{"$f":"Levures!H252","v":0},{"$f":"Levures!I252","v":""},{"$f":"Levures!J252","v":0},{"$f":"Levures!K252","v":0},{"$f":"Levures!F252","v":0}]
["","","","","",null,null,null,null,{"$f":"Levures!A253","v":" "},{"$f":"Levures!E253","v":0},{"$f":"Levures!G253","v":0},{"$f":"Levures!H253","v":0},{"$f":"Levures!I253","v":""},{"$f":"Levures!J253","v":0},{"$f":"Levures!K253","v":0},{"$f":"Levures!F253","v":0}]
["","","","","",null,null,null,null,{"$f":"Levures!A254","v":" "},{"$f":"Levures!E254","v":0},{"$f":"Levures!G254","v":0},{"$f":"Levures!H254","v":0},{"$f":"Levures!I254","v":""},{"$f":"Levures!J254","v":0},{"$f":"Levures!K254","v":0},{"$f":"Levures!F254","v":0}]
["","","","","",null,null,null,null,{"$f":"Levures!A255","v":" "},{"$f":"Levures!E255","v":0},{"$f":"Levures!G255","v":0},{"$f":"Levures!H255","v":0},{"$f":"Levures!I255","v":""},{"$f":"Levures!J255","v":0},{"$f":"Levures!K255","v":0},{"$f":"Levures!F255","v":0}]
["","","","","",null,null,null,null,{"$f":"Levures!A256","v":" "},{"$f":"Levures!E256","v":0},{"$f":"Levures!G256","v":0},{"$f":"Levures!H256","v":0},{"$f":"Levures!I256","v":""},{"$f":"Levures!J256","v":0},{"$f":"Levures!K256","v":0},{"$f":"Levures!F256","v":0}]
["","","","","",null,null,null,null,{"$f":"Levures!A257","v":" "},{"$f":"Levures!E257","v":0},{"$f":"Levures!G257","v":0},{"$f":"Levures!H257","v":0},{"$f":"Levures!I257","v":""},{"$f":"Levures!J257","v":0},{"$f":"Levures!K257","v":0},{"$f":"Levures!F257","v":0}]
["","","","","",null,null,null,null,{"$f":"Levures!A258","v":" "},{"$f":"Levures!E258","v":0},{"$f":"Levures!G258","v":0},{"$f":"Levures!H258","v":0},{"$f":"Levures!I258","v":""},{"$f":"Levures!J258","v":0},{"$f":"Levures!K258","v":0},{"$f":"Levures!F258","v":0}]
["","","","","",null,null,null,null,{"$f":"Levures!A259","v":" "},{"$f":"Levures!E259","v":0},{"$f":"Levures!G259","v":0},{"$f":"Levures!H259","v":0},{"$f":"Levures!I259","v":""},{"$f":"Levures!J259","v":0},{"$f":"Levures!K259","v":0},{"$f":"Levures!F259","v":0}]
["","","","","",null,null,null,null,{"$f":"Levures!A260","v":" "},{"$f":"Levures!E260","v":0},{"$f":"Levures!G260","v":0},{"$f":"Levures!H260","v":0},{"$f":"Levures!I260","v":""},{"$f":"Levures!J260","v":0},{"$f":"Levures!K260","v":0},{"$f":"Levures!F260","v":0}]
["","","","","",null,null,null,null,{"$f":"Levures!A261","v":" "},{"$f":"Levures!E261","v":0},{"$f":"Levures!G261","v":0},{"$f":"Levures!H261","v":0},{"$f":"Levures!I261","v":""},{"$f":"Levures!J261","v":0},{"$f":"Levures!K261","v":0},{"$f":"Levures!F261","v":0}]
["","","","","",null,null,null,null,{"$f":"Levures!A262","v":" "},{"$f":"Levures!E262","v":0},{"$f":"Levures!G262","v":0},{"$f":"Levures!H262","v":0},{"$f":"Levures!I262","v":""},{"$f":"Levures!J262","v":0},{"$f":"Levures!K262","v":0},{"$f":"Levures!F262","v":0}]
["","","","","",null,null,null,null,{"$f":"Levures!A263","v":" "},{"$f":"Levures!E263","v":0},{"$f":"Levures!G263","v":0},{"$f":"Levures!H263","v":0},{"$f":"Levures!I263","v":""},{"$f":"Levures!J263","v":0},{"$f":"Levures!K263","v":0},{"$f":"Levures!F263","v":0}]
["","","","","",null,null,null,null,{"$f":"Levures!A264","v":" "},{"$f":"Levures!E264","v":0},{"$f":"Levures!G264","v":0},{"$f":"Levures!H264","v":0},{"$f":"Levures!I264","v":""},{"$f":"Levures!J264","v":0},{"$f":"Levures!K264","v":0},{"$f":"Levures!F264","v":0}]
["","","","","",null,null,null,null,{"$f":"Levures!A265","v":" "},{"$f":"Levures!E265","v":0},{"$f":"Levures!G265","v":0},{"$f":"Levures!H265","v":0},{"$f":"Levures!I265","v":""},{"$f":"Levures!J265","v":0},{"$f":"Levures!K265","v":0},{"$f":"Levures!F265","v":0}]
["","","","","",null,null,null,null,{"$f":"Levures!A266","v":" "},{"$f":"Levures!E266","v":0},{"$f":"Levures!G266","v":0},{"$f":"Levures!H266","v":0},{"$f":"Levures!I266","v":""},{"$f":"Levures!J266","v":0},{"$f":"Levures!K266","v":0},{"$f":"Levures!F266","v":0}]
["","","","","",null,null,null,null,{"$f":"Levures!A267","v":" "},{"$f":"Levures!E267","v":0},{"$f":"Levures!G267","v":0},{"$f":"Levures!H267","v":0},{"$f":"Levures!I267","v":""},{"$f":"Levures!J267","v":0},{"$f":"Levures!K267","v":0},{"$f":"Levures!F267","v":0}]
["","","","","",null,null,null,null,{"$f":"Levures!A268","v":" "},{"$f":"Levures!E268","v":0},{"$f":"Levures!G268","v":0},{"$f":"Levures!H268","v":0},{"$f":"Levures!I268","v":""},{"$f":"Levures!J268","v":0},{"$f":"Levures!K268","v":0},{"$f":"Levures!F268","v":0}]
["","","","","",null,null,null,null,{"$f":"Levures!A269","v":" "},{"$f":"Levures!E269","v":0},{"$f":"Levures!G269","v":0},{"$f":"Levures!H269","v":0},{"$f":"Levures!I269","v":""},{"$f":"Levures!J269","v":0},{"$f":"Levures!K269","v":0},{"$f":"Levures!F269","v":0}]
["","","","","",null,null,null,null,{"$f":"Levures!A270","v":" "},{"$f":"Levures!E270","v":0},{"$f":"Levures!G270","v":0},{"$f":"Levures!H270","v":0},{"$f":"Levures!I270","v":""},{"$f":"Levures!J270","v":0},{"$f":"Levures!K270","v":0},{"$f":"Levures!F270","v":0}]
["","","","","",null,null,null,null,{"$f":"Levures!A271","v":" "},{"$f":"Levures!E271","v":0},{"$f":"Levures!G271","v":0},{"$f":"Levures!H271","v":0},{"$f":"Levures!I271","v":""},{"$f":"Levures!J271","v":0},{"$f":"Levures!K271","v":0},{"$f":"Levures!F271","v":0}]
["","","","","",null,null,null,null,{"$f":"Levures!A272","v":" "},{"$f":"Levures!E272","v":0},{"$f":"Levures!G272","v":0},{"$f":"Levures!H272","v":0},{"$f":"Levures!I272","v":""},{"$f":"Levures!J272","v":0},{"$f":"Levures!K272","v":0},{"$f":"Levures!F272","v":0}]
["","","","","",null,null,null,null,{"$f":"Levures!A273","v":" "},{"$f":"Levures!E273","v":0},{"$f":"Levures!G273","v":0},{"$f":"Levures!H273","v":0},{"$f":"Levures!I273","v":""},{"$f":"Levures!J273","v":0},{"$f":"Levures!K273","v":0},{"$f":"Levures!F273","v":0}]
["","","","","",null,null,null,null,{"$f":"Levures!A274","v":" "},{"$f":"Levures!E274","v":0},{"$f":"Levures!G274","v":0},{"$f":"Levures!H274","v":0},{"$f":"Levures!I274","v":""},{"$f":"Levures!J274","v":0},{"$f":"Levures!K274","v":0},{"$f":"Levures!F274","v":0}]
["","","","","",null,null,null,null,{"$f":"Levures!A275","v":" "},{"$f":"Levures!E275","v":0},{"$f":"Levures!G275","v":0},{"$f":"Levures!H275","v":0},{"$f":"Levures!I275","v":""},{"$f":"Levures!J275","v":0},{"$f":"Levures!K275","v":0},{"$f":"Levures!F275","v":0}]
["","","","","",null,null,null,null,{"$f":"Levures!A276","v":" "},{"$f":"Levures!E276","v":0},{"$f":"Levures!G276","v":0},{"$f":"Levures!H276","v":0},{"$f":"Levures!I276","v":""},{"$f":"Levures!J276","v":0},{"$f":"Levures!K276","v":0},{"$f":"Levures!F276","v":0}]
["","","","","",null,null,null,null,{"$f":"Levures!A277","v":" "},{"$f":"Levures!E277","v":0},{"$f":"Levures!G277","v":0},{"$f":"Levures!H277","v":0},{"$f":"Levures!I277","v":""},{"$f":"Levures!J277","v":0},{"$f":"Levures!K277","v":0},{"$f":"Levures!F277","v":0}]
["","","","","",null,null,null,null,{"$f":"Levures!A278","v":" "},{"$f":"Levures!E278","v":0},{"$f":"Levures!G278","v":0},{"$f":"Levures!H278","v":0},{"$f":"Levures!I278","v":""},{"$f":"Levures!J278","v":0},{"$f":"Levures!K278","v":0},{"$f":"Levures!F278","v":0}]
["","","","","",null,null,null,null,{"$f":"Levures!A279","v":" "},{"$f":"Levures!E279","v":0},{"$f":"Levures!G279","v":0},{"$f":"Levures!H279","v":0},{"$f":"Levures!I279","v":""},{"$f":"Levures!J279","v":0},{"$f":"Levures!K279","v":0},{"$f":"Levures!F279","v":0}]
["","","","","",null,null,null,null,{"$f":"Levures!A280","v":" "},{"$f":"Levures!E280","v":0},{"$f":"Levures!G280","v":0},{"$f":"Levures!H280","v":0},{"$f":"Levures!I280","v":""},{"$f":"Levures!J280","v":0},{"$f":"Levures!K280","v":0},{"$f":"Levures!F280","v":0}]
["","","","","",null,null,null,null,{"$f":"Levures!A281","v":" "},{"$f":"Levures!E281","v":0},{"$f":"Levures!G281","v":0},{"$f":"Levures!H281","v":0},{"$f":"Levures!I281","v":""},{"$f":"Levures!J281","v":0},{"$f":"Levures!K281","v":0},{"$f":"Levures!F281","v":0}]
["","","","","",null,null,null,null,{"$f":"Levures!A282","v":" "},{"$f":"Levures!E282","v":0},{"$f":"Levures!G282","v":0},{"$f":"Levures!H282","v":0},{"$f":"Levures!I282","v":""},{"$f":"Levures!J282","v":0},{"$f":"Levures!K282","v":0},{"$f":"Levures!F282","v":0}]
["","","","","",null,null,null,null,{"$f":"Levures!A283","v":" "},{"$f":"Levures!E283","v":0},{"$f":"Levures!G283","v":0},{"$f":"Levures!H283","v":0},{"$f":"Levures!I283","v":""},{"$f":"Levures!J283","v":0},{"$f":"Levures!K283","v":0},{"$f":"Levures!F283","v":0}]
["","","","","",null,null,null,null,{"$f":"Levures!A284","v":" "},{"$f":"Levures!E284","v":0},{"$f":"Levures!G284","v":0},{"$f":"Levures!H284","v":0},{"$f":"Levures!I284","v":""},{"$f":"Levures!J284","v":0},{"$f":"Levures!K284","v":0},{"$f":"Levures!F284","v":0}]
["","","","","",null,null,null,null,{"$f":"Levures!A285","v":" "},{"$f":"Levures!E285","v":0},{"$f":"Levures!G285","v":0},{"$f":"Levures!H285","v":0},{"$f":"Levures!I285","v":""},{"$f":"Levures!J285","v":0},{"$f":"Levures!K285","v":0},{"$f":"Levures!F285","v":0}]
["","","","","",null,null,null,null,{"$f":"Levures!A286","v":" "},{"$f":"Levures!E286","v":0},{"$f":"Levures!G286","v":0},{"$f":"Levures!H286","v":0},{"$f":"Levures!I286","v":""},{"$f":"Levures!J286","v":0},{"$f":"Levures!K286","v":0},{"$f":"Levures!F286","v":0}]
["","","","","",null,null,null,null,{"$f":"Levures!A287","v":" "},{"$f":"Levures!E287","v":0},{"$f":"Levures!G287","v":0},{"$f":"Levures!H287","v":0},{"$f":"Levures!I287","v":""},{"$f":"Levures!J287","v":0},{"$f":"Levures!K287","v":0},{"$f":"Levures!F287","v":0}]
["","","","","",null,null,null,null,{"$f":"Levures!A288","v":" "},{"$f":"Levures!E288","v":0},{"$f":"Levures!G288","v":0},{"$f":"Levures!H288","v":0},{"$f":"Levures!I288","v":""},{"$f":"Levures!J288","v":0},{"$f":"Levures!K288","v":0},{"$f":"Levures!F288","v":0}]
["","","","","",null,null,null,null,{"$f":"Levures!A289","v":" "},{"$f":"Levures!E289","v":0},{"$f":"Levures!G289","v":0},{"$f":"Levures!H289","v":0},{"$f":"Levures!I289","v":""},{"$f":"Levures!J289","v":0},{"$f":"Levures!K289","v":0},{"$f":"Levures!F289","v":0}]
["","","","","",null,null,null,null,{"$f":"Levures!A290","v":" "},{"$f":"Levures!E290","v":0},{"$f":"Levures!G290","v":0},{"$f":"Levures!H290","v":0},{"$f":"Levures!I290","v":""},{"$f":"Levures!J290","v":0},{"$f":"Levures!K290","v":0},{"$f":"Levures!F290","v":0}]
["","","","","",null,null,null,null,{"$f":"Levures!A291","v":" "},{"$f":"Levures!E291","v":0},{"$f":"Levures!G291","v":0},{"$f":"Levures!H291","v":0},{"$f":"Levures!I291","v":""},{"$f":"Levures!J291","v":0},{"$f":"Levures!K291","v":0},{"$f":"Levures!F291","v":0}]
["","","","","",null,null,null,null,{"$f":"Levures!A292","v":" "},{"$f":"Levures!E292","v":0},{"$f":"Levures!G292","v":0},{"$f":"Levures!H292","v":0},{"$f":"Levures!I292","v":""},{"$f":"Levures!J292","v":0},{"$f":"Levures!K292","v":0},{"$f":"Levures!F292","v":0}]
["","","","","",null,null,null,null,{"$f":"Levures!A293","v":" "},{"$f":"Levures!E293","v":0},{"$f":"Levures!G293","v":0},{"$f":"Levures!H293","v":0},{"$f":"Levures!I293","v":""},{"$f":"Levures!J293","v":0},{"$f":"Levures!K293","v":0},{"$f":"Levures!F293","v":0}]
["","","","","",null,null,null,null,{"$f":"Levures!A294","v":" "},{"$f":"Levures!E294","v":0},{"$f":"Levures!G294","v":0},{"$f":"Levures!H294","v":0},{"$f":"Levures!I294","v":""},{"$f":"Levures!J294","v":0},{"$f":"Levures!K294","v":0},{"$f":"Levures!F294","v":0}]
["","","","","",null,null,null,null,{"$f":"Levures!A295","v":" "},{"$f":"Levures!E295","v":0},{"$f":"Levures!G295","v":0},{"$f":"Levures!H295","v":0},{"$f":"Levures!I295","v":""},{"$f":"Levures!J295","v":0},{"$f":"Levures!K295","v":0},{"$f":"Levures!F295","v":0}]
["","","","","",null,null,null,null,{"$f":"Levures!A296","v":" "},{"$f":"Levures!E296","v":0},{"$f":"Levures!G296","v":0},{"$f":"Levures!H296","v":0},{"$f":"Levures!I296","v":""},{"$f":"Levures!J296","v":0},{"$f":"Levures!K296","v":0},{"$f":"Levures!F296","v":0}]
["","","","","",null,null,null,null,{"$f":"Levures!A297","v":" "},{"$f":"Levures!E297","v":0},{"$f":"Levures!G297","v":0},{"$f":"Levures!H297","v":0},{"$f":"Levures!I297","v":""},{"$f":"Levures!J297","v":0},{"$f":"Levures!K297","v":0},{"$f":"Levures!F297","v":0}]
["","","","","",null,null,null,null,{"$f":"Levures!A298","v":" "},{"$f":"Levures!E298","v":0},{"$f":"Levures!G298","v":0},{"$f":"Levures!H298","v":0},{"$f":"Levures!I298","v":""},{"$f":"Levures!J298","v":0},{"$f":"Levures!K298","v":0},{"$f":"Levures!F298","v":0}]
["","","","","",null,null,null,null,{"$f":"Levures!A299","v":" "},{"$f":"Levures!E299","v":0},{"$f":"Levures!G299","v":0},{"$f":"Levures!H299","v":0},{"$f":"Levures!I299","v":""},{"$f":"Levures!J299","v":0},{"$f":"Levures!K299","v":0},{"$f":"Levures!F299","v":0}]
[null,null,null,null,null,null,null,null,null,{"$f":"Levures!A300","v":" "},{"$f":"Levures!E300","v":0},{"$f":"Levures!G300","v":0},{"$f":"Levures!H300","v":0},{"$f":"Levures!I300","v":""},{"$f":"Levures!J300","v":0},{"$f":"Levures!K300","v":0},{"$f":"Levures!F300","v":0}]
[null,null,null,null,null,null,null,null,null,{"$f":"Levures!A301","v":" "},{"$f":"Levures!E301","v":0},{"$f":"Levures!G301","v":0},{"$f":"Levures!H301","v":0},{"$f":"Levures!I301","v":""},{"$f":"Levures!J301","v":0},{"$f":"Levures!K301","v":0},{"$f":"Levures!F301","v":0}]
[null,null,null,null,null,null,null,null,null,{"$f":"Levures!A302","v":" "},{"$f":"Levures!E302","v":0},{"$f":"Levures!G302","v":0},{"$f":"Levures!H302","v":0},{"$f":"Levures!I302","v":""},{"$f":"Levures!J302","v":0},{"$f":"Levures!K302","v":0},{"$f":"Levures!F302","v":0}]
[null,null,null,null,null,null,null,null,null,{"$f":"Levures!A303","v":" "},{"$f":"Levures!E303","v":0},{"$f":"Levures!G303","v":0},{"$f":"Levures!H303","v":0},{"$f":"Levures!I303","v":""},{"$f":"Levures!J303","v":0},{"$f":"Levures!K303","v":0},{"$f":"Levures!F303","v":0}]
[null,null,null,null,null,null,null,null,null,{"$f":"Levures!A304","v":" "},{"$f":"Levures!E304","v":0},{"$f":"Levures!G304","v":0},{"$f":"Levures!H304","v":0},{"$f":"Levures!I304","v":""},{"$f":"Levures!J304","v":0},{"$f":"Levures!K304","v":0},{"$f":"Levures!F304","v":0}]
[null,null,null,null,null,null,null,null,null,{"$f":"Levures!A305","v":" "},{"$f":"Levures!E305","v":0},{"$f":"Levures!G305","v":0},{"$f":"Levures!H305","v":0},{"$f":"Levures!I305","v":""},{"$f":"Levures!J305","v":0},{"$f":"Levures!K305","v":0},{"$f":"Levures!F305","v":0}]
[null,null,null,null,null,null,null,null,null,{"$f":"Levures!A306","v":" "},{"$f":"Levures!E306","v":0},{"$f":"Levures!G306","v":0},{"$f":"Levures!H306","v":0},{"$f":"Levures!I306","v":""},{"$f":"Levures!J306","v":0},{"$f":"Levures!K306","v":0},{"$f":"Levures!F306","v":0}]
[null,null,null,null,null,null,null,null,null,{"$f":"Levures!A307","v":" "},{"$f":"Levures!E307","v":0},{"$f":"Levures!G307","v":0},{"$f":"Levures!H307","v":0},{"$f":"Levures!I307","v":""},{"$f":"Levures!J307","v":0},{"$f":"Levures!K307","v":0},{"$f":"Levures!F307","v":0}]
[null,null,null,null,null,null,null,null,null,{"$f":"Levures!A308","v":" "},{"$f":"Levures!E308","v":0},{"$f":"Levures!G308","v":0},{"$f":"Levures!H308","v":0},{"$f":"Levures!I308","v":""},{"$f":"Levures!J308","v":0},{"$f":"Levures!K308","v":0},{"$f":"Levures!F308","v":0}]
[null,null,null,null,null,null,null,null,null,{"$f":"Levures!A309","v":" "},{"$f":"Levures!E309","v":0},{"$f":"Levures!G309","v":0},{"$f":"Levures!H309","v":0},{"$f":"Levures!I309","v":""},{"$f":"Levures!J309","v":0},{"$f":"Levures!K309","v":0},{"$f":"Levures!F309","v":0}]
[null,null,null,null,null,null,null,null,null,{"$f":"Levures!A310","v":" "},{"$f":"Levures!E310","v":0},{"$f":"Levures!G310","v":0},{"$f":"Levures!H310","v":0},{"$f":"Levures!I310","v":""},{"$f":"Levures!J310","v":0},{"$f":"Levures!K310","v":0},{"$f":"Levures!F310","v":0}]
[null,null,null,null,null,null,null,null,null,{"$f":"Levures!A311","v":" "},{"$f":"Levures!E311","v":0},{"$f":"Levures!G311","v":0},{"$f":"Levures!H311","v":0},{"$f":"Levures!I311","v":""},{"$f":"Levures!J311","v":0},{"$f":"Levures!K311","v":0},{"$f":"Levures!F311","v":0}]
[null,null,null,null,null,null,null,null,null,{"$f":"Levures!A312","v":" "},{"$f":"Levures!E312","v":0},{"$f":"Levures!G312","v":0},{"$f":"Levures!H312","v":0},{"$f":"Levures!I312","v":""},{"$f":"Levures!J312","v":0},{"$f":"Levures!K312","v":0},{"$f":"Levures!F312","v":0}]
[null,null,null,null,null,null,null,null,null,{"$f":"Levures!A313","v":" "},{"$f":"Levures!E313","v":0},{"$f":"Levures!G313","v":0},{"$f":"Levures!H313","v":0},{"$f":"Levures!I313","v":""},{"$f":"Levures!J313","v":0},{"$f":"Levures!K313","v":0},{"$f":"Levures!F313","v":0}]
[null,null,null,null,null,null,null,null,null,{"$f":"Levures!A314","v":" "},{"$f":"Levures!E314","v":0},{"$f":"Levures!G314","v":0},{"$f":"Levures!H314","v":0},{"$f":"Levures!I314","v":""},{"$f":"Levures!J314","v":0},{"$f":"Levures!K314","v":0},{"$f":"Levures!F314","v":0}]
[null,null,null,null,null,null,null,null,null,{"$f":"Levures!A315","v":" "},{"$f":"Levures!E315","v":0},{"$f":"Levures!G315","v":0},{"$f":"Levures!H315","v":0},{"$f":"Levures!I315","v":""},{"$f":"Levures!J315","v":0},{"$f":"Levures!K315","v":0},{"$f":"Levures!F315","v":0}]
[null,null,null,null,null,null,null,null,null,{"$f":"Levures!A316","v":" "},{"$f":"Levures!E316","v":0},{"$f":"Levures!G316","v":0},{"$f":"Levures!H316","v":0},{"$f":"Levures!I316","v":""},{"$f":"Levures!J316","v":0},{"$f":"Levures!K316","v":0},{"$f":"Levures!F316","v":0}]
[null,null,null,null,null,null,null,null,null,{"$f":"Levures!A317","v":" "},{"$f":"Levures!E317","v":0},{"$f":"Levures!G317","v":0},{"$f":"Levures!H317","v":0},{"$f":"Levures!I317","v":""},{"$f":"Levures!J317","v":0},{"$f":"Levures!K317","v":0},{"$f":"Levures!F317","v":0}]
[null,null,null,null,null,null,null,null,null,{"$f":"Levures!A318","v":" "},{"$f":"Levures!E318","v":0},{"$f":"Levures!G318","v":0},{"$f":"Levures!H318","v":0},{"$f":"Levures!I318","v":""},{"$f":"Levures!J318","v":0},{"$f":"Levures!K318","v":0},{"$f":"Levures!F318","v":0}]
[null,null,null,null,null,null,null,null,null,{"$f":"Levures!A319","v":" "},{"$f":"Levures!E319","v":0},{"$f":"Levures!G319","v":0},{"$f":"Levures!H319","v":0},{"$f":"Levures!I319","v":""},{"$f":"Levures!J319","v":0},{"$f":"Levures!K319","v":0},{"$f":"Levures!F319","v":0}]
[null,null,null,null,null,null,null,null,null,{"$f":"Levures!A320","v":" "},{"$f":"Levures!E320","v":0},{"$f":"Levures!G320","v":0},{"$f":"Levures!H320","v":0},{"$f":"Levures!I320","v":""},{"$f":"Levures!J320","v":0},{"$f":"Levures!K320","v":0},{"$f":"Levures!F320","v":0}]
[null,null,null,null,null,null,null,null,null,{"$f":"Levures!A321","v":" "},{"$f":"Levures!E321","v":0},{"$f":"Levures!G321","v":0},{"$f":"Levures!H321","v":0},{"$f":"Levures!I321","v":""},{"$f":"Levures!J321","v":0},{"$f":"Levures!K321","v":0},{"$f":"Levures!F321","v":0}]
[null,null,null,null,null,null,null,null,null,{"$f":"Levures!A322","v":" "},{"$f":"Levures!E322","v":0},{"$f":"Levures!G322","v":0},{"$f":"Levures!H322","v":0},{"$f":"Levures!I322","v":""},{"$f":"Levures!J322","v":0},{"$f":"Levures!K322","v":0},{"$f":"Levures!F322","v":0}]
[null,null,null,null,null,null,null,null,null,{"$f":"Levures!A323","v":" "},{"$f":"Levures!E323","v":0},{"$f":"Levures!G323","v":0},{"$f":"Levures!H323","v":0},{"$f":"Levures!I323","v":""},{"$f":"Levures!J323","v":0},{"$f":"Levures!K323","v":0},{"$f":"Levures!F323","v":0}]
[null,null,null,null,null,null,null,null,null,{"$f":"Levures!A324","v":" "},{"$f":"Levures!E324","v":0},{"$f":"Levures!G324","v":0},{"$f":"Levures!H324","v":0},{"$f":"Levures!I324","v":""},{"$f":"Levures!J324","v":0},{"$f":"Levures!K324","v":0},{"$f":"Levures!F324","v":0}]
[null,null,null,null,null,null,null,null,null,{"$f":"Levures!A325","v":" "},{"$f":"Levures!E325","v":0},{"$f":"Levures!G325","v":0},{"$f":"Levures!H325","v":0},{"$f":"Levures!I325","v":""},{"$f":"Levures!J325","v":0},{"$f":"Levures!K325","v":0},{"$f":"Levures!F325","v":0}]
[null,null,null,null,null,null,null,null,null,{"$f":"Levures!A326","v":" "},{"$f":"Levures!E326","v":0},{"$f":"Levures!G326","v":0},{"$f":"Levures!H326","v":0},{"$f":"Levures!I326","v":""},{"$f":"Levures!J326","v":0},{"$f":"Levures!K326","v":0},{"$f":"Levures!F326","v":0}]
[null,null,null,null,null,null,null,null,null,{"$f":"Levures!A327","v":" "},{"$f":"Levures!E327","v":0},{"$f":"Levures!G327","v":0},{"$f":"Levures!H327","v":0},{"$f":"Levures!I327","v":""},{"$f":"Levures!J327","v":0},{"$f":"Levures!K327","v":0},{"$f":"Levures!F327","v":0}]
[null,null,null,null,null,null,null,null,null,{"$f":"Levures!A328","v":" "},{"$f":"Levures!E328","v":0},{"$f":"Levures!G328","v":0},{"$f":"Levures!H328","v":0},{"$f":"Levures!I328","v":""},{"$f":"Levures!J328","v":0},{"$f":"Levures!K328","v":0},{"$f":"Levures!F328","v":0}]
[null,null,null,null,null,null,null,null,null,{"$f":"Levures!A329","v":" "},{"$f":"Levures!E329","v":0},{"$f":"Levures!G329","v":0},{"$f":"Levures!H329","v":0},{"$f":"Levures!I329","v":""},{"$f":"Levures!J329","v":0},{"$f":"Levures!K329","v":0},{"$f":"Levures!F329","v":0}]
[null,null,null,null,null,null,null,null,null,{"$f":"Levures!A330","v":" "},{"$f":"Levures!E330","v":0},{"$f":"Levures!G330","v":0},{"$f":"Levures!H330","v":0},{"$f":"Levures!I330","v":""},{"$f":"Levures!J330","v":0},{"$f":"Levures!K330","v":0},{"$f":"Levures!F330","v":0}]
[null,null,null,null,null,null,null,null,null,{"$f":"Levures!A331","v":" "},{"$f":"Levures!E331","v":0},{"$f":"Levures!G331","v":0},{"$f":"Levures!H331","v":0},{"$f":"Levures!I331","v":""},{"$f":"Levures!J331","v":0},{"$f":"Levures!K331","v":0},{"$f":"Levures!F331","v":0}]
[null,null,null,null,null,null,null,null,null,{"$f":"Levures!A332","v":" "},{"$f":"Levures!E332","v":0},{"$f":"Levures!G332","v":0},{"$f":"Levures!H332","v":0},{"$f":"Levures!I332","v":""},{"$f":"Levures!J332","v":0},{"$f":"Levures!K332","v":0},{"$f":"Levures!F332","v":0}]
[null,null,null,null,null,null,null,null,null,{"$f":"Levures!A333","v":" "},{"$f":"Levures!E333","v":0},{"$f":"Levures!G333","v":0},{"$f":"Levures!H333","v":0},{"$f":"Levures!I333","v":""},{"$f":"Levures!J333","v":0},{"$f":"Levures!K333","v":0},{"$f":"Levures!F333","v":0}]
[null,null,null,null,null,null,null,null,null,{"$f":"Levures!A334","v":" "},{"$f":"Levures!E334","v":0},{"$f":"Levures!G334","v":0},{"$f":"Levures!H334","v":0},{"$f":"Levures!I334","v":""},{"$f":"Levures!J334","v":0},{"$f":"Levures!K334","v":0},{"$f":"Levures!F334","v":0}]
[null,null,null,null,null,null,null,null,null,{"$f":"Levures!A335","v":" "},{"$f":"Levures!E335","v":0},{"$f":"Levures!G335","v":0},{"$f":"Levures!H335","v":0},{"$f":"Levures!I335","v":""},{"$f":"Levures!J335","v":0},{"$f":"Levures!K335","v":0},{"$f":"Levures!F335","v":0}]
[null,null,null,null,null,null,null,null,null,{"$f":"Levures!A336","v":" "},{"$f":"Levures!E336","v":0},{"$f":"Levures!G336","v":0},{"$f":"Levures!H336","v":0},{"$f":"Levures!I336","v":""},{"$f":"Levures!J336","v":0},{"$f":"Levures!K336","v":0},{"$f":"Levures!F336","v":0}]
[null,null,null,null,null,null,null,null,null,{"$f":"Levures!A337","v":" "},{"$f":"Levures!E337","v":0},{"$f":"Levures!G337","v":0},{"$f":"Levures!H337","v":0},{"$f":"Levures!I337","v":""},{"$f":"Levures!J337","v":0},{"$f":"Levures!K337","v":0},{"$f":"Levures!F337","v":0}]
[null,null,null,null,null,null,null,null,null,{"$f":"Levures!A338","v":" "},{"$f":"Levures!E338","v":0},{"$f":"Levures!G338","v":0},{"$f":"Levures!H338","v":0},{"$f":"Levures!I338","v":""},{"$f":"Levures!J338","v":0},{"$f":"Levures!K338","v":0},{"$f":"Levures!F338","v":0}]
[null,null,null,null,null,null,null,null,null,{"$f":"Levures!A339","v":" "},{"$f":"Levures!E339","v":0},{"$f":"Levures!G339","v":0},{"$f":"Levures!H339","v":0},{"$f":"Levures!I339","v":""},{"$f":"Levures!J339","v":0},{"$f":"Levures!K339","v":0},{"$f":"Levures!F339","v":0}]
[null,null,null,null,null,null,null,null,null,{"$f":"Levures!A340","v":" "},{"$f":"Levures!E340","v":0},{"$f":"Levures!G340","v":0},{"$f":"Levures!H340","v":0},{"$f":"Levures!I340","v":""},{"$f":"Levures!J340","v":0},{"$f":"Levures!K340","v":0},{"$f":"Levures!F340","v":0}]
[null,null,null,null,null,null,null,null,null,{"$f":"Levures!A341","v":" "},{"$f":"Levures!E341","v":0},{"$f":"Levures!G341","v":0},{"$f":"Levures!H341","v":0},{"$f":"Levures!I341","v":""},{"$f":"Levures!J341","v":0},{"$f":"Levures!K341","v":0},{"$f":"Levures!F341","v":0}]
[null,null,null,null,null,null,null,null,null,{"$f":"Levures!A342","v":" "},{"$f":"Levures!E342","v":0},{"$f":"Levures!G342","v":0},{"$f":"Levures!H342","v":0},{"$f":"Levures!I342","v":""},{"$f":"Levures!J342","v":0},{"$f":"Levures!K342","v":0},{"$f":"Levures!F342","v":0}]
[null,null,null,null,null,null,null,null,null,{"$f":"Levures!A343","v":" "},{"$f":"Levures!E343","v":0},{"$f":"Levures!G343","v":0},{"$f":"Levures!H343","v":0},{"$f":"Levures!I343","v":""},{"$f":"Levures!J343","v":0},{"$f":"Levures!K343","v":0},{"$f":"Levures!F343","v":0}]
[null,null,null,null,null,null,null,null,null,{"$f":"Levures!A344","v":" "},{"$f":"Levures!E344","v":0},{"$f":"Levures!G344","v":0},{"$f":"Levures!H344","v":0},{"$f":"Levures!I344","v":""},{"$f":"Levures!J344","v":0},{"$f":"Levures!K344","v":0},{"$f":"Levures!F344","v":0}]
[null,null,null,null,null,null,null,null,null,{"$f":"Levures!A345","v":" "},{"$f":"Levures!E345","v":0},{"$f":"Levures!G345","v":0},{"$f":"Levures!H345","v":0},{"$f":"Levures!I345","v":""},{"$f":"Levures!J345","v":0},{"$f":"Levures!K345","v":0},{"$f":"Levures!F345","v":0}]
[null,null,null,null,null,null,null,null,null,{"$f":"Levures!A346","v":" "},{"$f":"Levures!E346","v":0},{"$f":"Levures!G346","v":0},{"$f":"Levures!H346","v":0},{"$f":"Levures!I346","v":""},{"$f":"Levures!J346","v":0},{"$f":"Levures!K346","v":0},{"$f":"Levures!F346","v":0}]
[null,null,null,null,null,null,null,null,null,{"$f":"Levures!A347","v":" "},{"$f":"Levures!E347","v":0},{"$f":"Levures!G347","v":0},{"$f":"Levures!H347","v":0},{"$f":"Levures!I347","v":""},{"$f":"Levures!J347","v":0},{"$f":"Levures!K347","v":0},{"$f":"Levures!F347","v":0}]
[null,null,null,null,null,null,null,null,null,{"$f":"Levures!A348","v":" "},{"$f":"Levures!E348","v":0},{"$f":"Levures!G348","v":0},{"$f":"Levures!H348","v":0},{"$f":"Levures!I348","v":""},{"$f":"Levures!J348","v":0},{"$f":"Levures!K348","v":0},{"$f":"Levures!F348","v":0}]
[null,null,null,null,null,null,null,null,null,{"$f":"Levures!A349","v":" "},{"$f":"Levures!E349","v":0},{"$f":"Levures!G349","v":0},{"$f":"Levures!H349","v":0},{"$f":"Levures!I349","v":""},{"$f":"Levures!J349","v":0},{"$f":"Levures!K349","v":0},{"$f":"Levures!F349","v":0}]
[null,null,null,null,null,null,null,null,null,{"$f":"Levures!A350","v":" "},{"$f":"Levures!E350","v":0},{"$f":"Levures!G350","v":0},{"$f":"Levures!H350","v":0},{"$f":"Levures!I350","v":""},{"$f":"Levures!J350","v":0},{"$f":"Levures!K350","v":0},{"$f":"Levures!F350","v":0}]
[null,null,null,null,null,null,null,null,null,{"$f":"Levures!A351","v":" "},{"$f":"Levures!E351","v":0},{"$f":"Levures!G351","v":0},{"$f":"Levures!H351","v":0},{"$f":"Levures!I351","v":""},{"$f":"Levures!J351","v":0},{"$f":"Levures!K351","v":0},{"$f":"Levures!F351","v":0}]
[null,null,null,null,null,null,null,null,null,{"$f":"Levures!A352","v":" "},{"$f":"Levures!E352","v":0},{"$f":"Levures!G352","v":0},{"$f":"Levures!H352","v":0},{"$f":"Levures!I352","v":""},{"$f":"Levures!J352","v":0},{"$f":"Levures!K352","v":0},{"$f":"Levures!F352","v":0}]
[null,null,null,null,null,null,null,null,null,{"$f":"Levures!A353","v":" "},{"$f":"Levures!E353","v":0},{"$f":"Levures!G353","v":0},{"$f":"Levures!H353","v":0},{"$f":"Levures!I353","v":""},{"$f":"Levures!J353","v":0},{"$f":"Levures!K353","v":0},{"$f":"Levures!F353","v":0}]
[null,null,null,null,null,null,null,null,null,{"$f":"Levures!A354","v":" "},{"$f":"Levures!E354","v":0},{"$f":"Levures!G354","v":0},{"$f":"Levures!H354","v":0},{"$f":"Levures!I354","v":""},{"$f":"Levures!J354","v":0},{"$f":"Levures!K354","v":0},{"$f":"Levures!F354","v":0}]
[null,null,null,null,null,null,null,null,null,{"$f":"Levures!A355","v":" "},{"$f":"Levures!E355","v":0},{"$f":"Levures!G355","v":0},{"$f":"Levures!H355","v":0},{"$f":"Levures!I355","v":""},{"$f":"Levures!J355","v":0},{"$f":"Levures!K355","v":0},{"$f":"Levures!F355","v":0}]
[null,null,null,null,null,null,null,null,null,{"$f":"Levures!A356","v":" "},{"$f":"Levures!E356","v":0},{"$f":"Levures!G356","v":0},{"$f":"Levures!H356","v":0},{"$f":"Levures!I356","v":""},{"$f":"Levures!J356","v":0},{"$f":"Levures!K356","v":0},{"$f":"Levures!F356","v":0}]
[null,null,null,null,null,null,null,null,null,{"$f":"Levures!A357","v":" "},{"$f":"Levures!E357","v":0},{"$f":"Levures!G357","v":0},{"$f":"Levures!H357","v":0},{"$f":"Levures!I357","v":""},{"$f":"Levures!J357","v":0},{"$f":"Levures!K357","v":0},{"$f":"Levures!F357","v":0}]
[null,null,null,null,null,null,null,null,null,{"$f":"Levures!A358","v":" "},{"$f":"Levures!E358","v":0},{"$f":"Levures!G358","v":0},{"$f":"Levures!H358","v":0},{"$f":"Levures!I358","v":""},{"$f":"Levures!J358","v":0},{"$f":"Levures!K358","v":0},{"$f":"Levures!F358","v":0}]
[null,null,null,null,null,null,null,null,null,{"$f":"Levures!A359","v":" "},{"$f":"Levures!E359","v":0},{"$f":"Levures!G359","v":0},{"$f":"Levures!H359","v":0},{"$f":"Levures!I359","v":""},{"$f":"Levures!J359","v":0},{"$f":"Levures!K359","v":0},{"$f":"Levures!F359","v":0}]
[null,null,null,null,null,null,null,null,null,{"$f":"Levures!A360","v":" "},{"$f":"Levures!E360","v":0},{"$f":"Levures!G360","v":0},{"$f":"Levures!H360","v":0},{"$f":"Levures!I360","v":""},{"$f":"Levures!J360","v":0},{"$f":"Levures!K360","v":0},{"$f":"Levures!F360","v":0}]
[null,null,null,null,null,null,null,null,null,{"$f":"Levures!A361","v":" "},{"$f":"Levures!E361","v":0},{"$f":"Levures!G361","v":0},{"$f":"Levures!H361","v":0},{"$f":"Levures!I361","v":""},{"$f":"Levures!J361","v":0},{"$f":"Levures!K361","v":0},{"$f":"Levures!F361","v":0}]
[null,null,null,null,null,null,null,null,null,{"$f":"Levures!A362","v":" "},{"$f":"Levures!E362","v":0},{"$f":"Levures!G362","v":0},{"$f":"Levures!H362","v":0},{"$f":"Levures!I362","v":""},{"$f":"Levures!J362","v":0},{"$f":"Levures!K362","v":0},{"$f":"Levures!F362","v":0}]
[null,null,null,null,null,null,null,null,null,{"$f":"Levures!A363","v":" "},{"$f":"Levures!E363","v":0},{"$f":"Levures!G363","v":0},{"$f":"Levures!H363","v":0},{"$f":"Levures!I363","v":""},{"$f":"Levures!J363","v":0},{"$f":"Levures!K363","v":0},{"$f":"Levures!F363","v":0}]
[null,null,null,null,null,null,null,null,null,{"$f":"Levures!A364","v":" "},{"$f":"Levures!E364","v":0},{"$f":"Levures!G364","v":0},{"$f":"Levures!H364","v":0},{"$f":"Levures!I364","v":""},{"$f":"Levures!J364","v":0},{"$f":"Levures!K364","v":0},{"$f":"Levures!F364","v":0}]
[null,null,null,null,null,null,null,null,null,{"$f":"Levures!A365","v":" "},{"$f":"Levures!E365","v":0},{"$f":"Levures!G365","v":0},{"$f":"Levures!H365","v":0},{"$f":"Levures!I365","v":""},{"$f":"Levures!J365","v":0},{"$f":"Levures!K365","v":0},{"$f":"Levures!F365","v":0}]
[null,null,null,null,null,null,null,null,null,{"$f":"Levures!A366","v":" "},{"$f":"Levures!E366","v":0},{"$f":"Levures!G366","v":0},{"$f":"Levures!H366","v":0},{"$f":"Levures!I366","v":""},{"$f":"Levures!J366","v":0},{"$f":"Levures!K366","v":0},{"$f":"Levures!F366","v":0}]
[null,null,null,null,null,null,null,null,null,{"$f":"Levures!A367","v":" "},{"$f":"Levures!E367","v":0},{"$f":"Levures!G367","v":0},{"$f":"Levures!H367","v":0},{"$f":"Levures!I367","v":""},{"$f":"Levures!J367","v":0},{"$f":"Levures!K367","v":0},{"$f":"Levures!F367","v":0}]
[null,null,null,null,null,null,null,null,null,{"$f":"Levures!A368","v":" "},{"$f":"Levures!E368","v":0},{"$f":"Levures!G368","v":0},{"$f":"Levures!H368","v":0},{"$f":"Levures!I368","v":""},{"$f":"Levures!J368","v":0},{"$f":"Levures!K368","v":0},{"$f":"Levures!F368","v":0}]
[null,null,null,null,null,null,null,null,null,{"$f":"Levures!A369","v":" "},{"$f":"Levures!E369","v":0},{"$f":"Levures!G369","v":0},{"$f":"Levures!H369","v":0},{"$f":"Levures!I369","v":""},{"$f":"Levures!J369","v":0},{"$f":"Levures!K369","v":0},{"$f":"Levures!F369","v":0}]
[null,null,null,null,null,null,null,null,null,{"$f":"Levures!A370","v":" "},{"$f":"Levures!E370","v":0},{"$f":"Levures!G370","v":0},{"$f":"Levures!H370","v":0},{"$f":"Levures!I370","v":""},{"$f":"Levures!J370","v":0},{"$f":"Levures!K370","v":0},{"$f":"Levures!F370","v":0}]
[null,null,null,null,null,null,null,null,null,{"$f":"Levures!A371","v":" "},{"$f":"Levures!E371","v":0},{"$f":"Levures!G371","v":0},{"$f":"Levures!H371","v":0},{"$f":"Levures!I371","v":""},{"$f":"Levures!J371","v":0},{"$f":"Levures!K371","v":0},{"$f":"Levures!F371","v":0}]
[null,null,null,null,null,null,null,null,null,{"$f":"Levures!A372","v":" "},{"$f":"Levures!E372","v":0},{"$f":"Levures!G372","v":0},{"$f":"Levures!H372","v":0},{"$f":"Levures!I372","v":""},{"$f":"Levures!J372","v":0},{"$f":"Levures!K372","v":0},{"$f":"Levures!F372","v":0}]
[null,null,null,null,null,null,null,null,null,{"$f":"Levures!A373","v":" "},{"$f":"Levures!E373","v":0},{"$f":"Levures!G373","v":0},{"$f":"Levures!H373","v":0},{"$f":"Levures!I373","v":""},{"$f":"Levures!J373","v":0},{"$f":"Levures!K373","v":0},{"$f":"Levures!F373","v":0}]
[null,null,null,null,null,null,null,null,null,{"$f":"Levures!A374","v":" "},{"$f":"Levures!E374","v":0},{"$f":"Levures!G374","v":0},{"$f":"Levures!H374","v":0},{"$f":"Levures!I374","v":""},{"$f":"Levures!J374","v":0},{"$f":"Levures!K374","v":0},{"$f":"Levures!F374","v":0}]
[null,null,null,null,null,null,null,null,null,{"$f":"Levures!A375","v":" "},{"$f":"Levures!E375","v":0},{"$f":"Levures!G375","v":0},{"$f":"Levures!H375","v":0},{"$f":"Levures!I375","v":""},{"$f":"Levures!J375","v":0},{"$f":"Levures!K375","v":0},{"$f":"Levures!F375","v":0}]
[null,null,null,null,null,null,null,null,null,{"$f":"Levures!A376","v":" "},{"$f":"Levures!E376","v":0},{"$f":"Levures!G376","v":0},{"$f":"Levures!H376","v":0},{"$f":"Levures!I376","v":""},{"$f":"Levures!J376","v":0},{"$f":"Levures!K376","v":0},{"$f":"Levures!F376","v":0}]
[null,null,null,null,null,null,null,null,null,{"$f":"Levures!A377","v":" "},{"$f":"Levures!E377","v":0},{"$f":"Levures!G377","v":0},{"$f":"Levures!H377","v":0},{"$f":"Levures!I377","v":""},{"$f":"Levures!J377","v":0},{"$f":"Levures!K377","v":0},{"$f":"Levures!F377","v":0}]
[null,null,null,null,null,null,null,null,null,{"$f":"Levures!A378","v":" "},{"$f":"Levures!E378","v":0},{"$f":"Levures!G378","v":0},{"$f":"Levures!H378","v":0},{"$f":"Levures!I378","v":""},{"$f":"Levures!J378","v":0},{"$f":"Levures!K378","v":0},{"$f":"Levures!F378","v":0}]
[null,null,null,null,null,null,null,null,null,{"$f":"Levures!A379","v":" "},{"$f":"Levures!E379","v":0},{"$f":"Levures!G379","v":0},{"$f":"Levures!H379","v":0},{"$f":"Levures!I379","v":""},{"$f":"Levures!J379","v":0},{"$f":"Levures!K379","v":0},{"$f":"Levures!F379","v":0}]
[null,null,null,null,null,null,null,null,null,{"$f":"Levures!A380","v":" "},{"$f":"Levures!E380","v":0},{"$f":"Levures!G380","v":0},{"$f":"Levures!H380","v":0},{"$f":"Levures!I380","v":""},{"$f":"Levures!J380","v":0},{"$f":"Levures!K380","v":0},{"$f":"Levures!F380","v":0}]
[null,null,null,null,null,null,null,null,null,{"$f":"Levures!A381","v":" "},{"$f":"Levures!E381","v":0},{"$f":"Levures!G381","v":0},{"$f":"Levures!H381","v":0},{"$f":"Levures!I381","v":""},{"$f":"Levures!J381","v":0},{"$f":"Levures!K381","v":0},{"$f":"Levures!F381","v":0}]
[null,null,null,null,null,null,null,null,null,{"$f":"Levures!A382","v":" "},{"$f":"Levures!E382","v":0},{"$f":"Levures!G382","v":0},{"$f":"Levures!H382","v":0},{"$f":"Levures!I382","v":""},{"$f":"Levures!J382","v":0},{"$f":"Levures!K382","v":0},{"$f":"Levures!F382","v":0}]
[null,null,null,null,null,null,null,null,null,{"$f":"Levures!A383","v":" "},{"$f":"Levures!E383","v":0},{"$f":"Levures!G383","v":0},{"$f":"Levures!H383","v":0},{"$f":"Levures!I383","v":""},{"$f":"Levures!J383","v":0},{"$f":"Levures!K383","v":0},{"$f":"Levures!F383","v":0}]
[null,null,null,null,null,null,null,null,null,{"$f":"Levures!A384","v":" "},{"$f":"Levures!E384","v":0},{"$f":"Levures!G384","v":0},{"$f":"Levures!H384","v":0},{"$f":"Levures!I384","v":""},{"$f":"Levures!J384","v":0},{"$f":"Levures!K384","v":0},{"$f":"Levures!F384","v":0}]
[null,null,null,null,null,null,null,null,null,{"$f":"Levures!A385","v":" "},{"$f":"Levures!E385","v":0},{"$f":"Levures!G385","v":0},{"$f":"Levures!H385","v":0},{"$f":"Levures!I385","v":""},{"$f":"Levures!J385","v":0},{"$f":"Levures!K385","v":0},{"$f":"Levures!F385","v":0}]
[null,null,null,null,null,null,null,null,null,{"$f":"Levures!A386","v":" "},{"$f":"Levures!E386","v":0},{"$f":"Levures!G386","v":0},{"$f":"Levures!H386","v":0},{"$f":"Levures!I386","v":""},{"$f":"Levures!J386","v":0},{"$f":"Levures!K386","v":0},{"$f":"Levures!F386","v":0}]
[null,null,null,null,null,null,null,null,null,{"$f":"Levures!A387","v":" "},{"$f":"Levures!E387","v":0},{"$f":"Levures!G387","v":0},{"$f":"Levures!H387","v":0},{"$f":"Levures!I387","v":""},{"$f":"Levures!J387","v":0},{"$f":"Levures!K387","v":0},{"$f":"Levures!F387","v":0}]
[null,null,null,null,null,null,null,null,null,{"$f":"Levures!A388","v":" "},{"$f":"Levures!E388","v":0},{"$f":"Levures!G388","v":0},{"$f":"Levures!H388","v":0},{"$f":"Levures!I388","v":""},{"$f":"Levures!J388","v":0},{"$f":"Levures!K388","v":0},{"$f":"Levures!F388","v":0}]
[null,null,null,null,null,null,null,null,null,{"$f":"Levures!A389","v":" "},{"$f":"Levures!E389","v":0},{"$f":"Levures!G389","v":0},{"$f":"Levures!H389","v":0},{"$f":"Levures!I389","v":""},{"$f":"Levures!J389","v":0},{"$f":"Levures!K389","v":0},{"$f":"Levures!F389","v":0}]
[null,null,null,null,null,null,null,null,null,{"$f":"Levures!A390","v":" "},{"$f":"Levures!E390","v":0},{"$f":"Levures!G390","v":0},{"$f":"Levures!H390","v":0},{"$f":"Levures!I390","v":""},{"$f":"Levures!J390","v":0},{"$f":"Levures!K390","v":0},{"$f":"Levures!F390","v":0}]
[null,null,null,null,null,null,null,null,null,{"$f":"Levures!A391","v":" "},{"$f":"Levures!E391","v":0},{"$f":"Levures!G391","v":0},{"$f":"Levures!H391","v":0},{"$f":"Levures!I391","v":""},{"$f":"Levures!J391","v":0},{"$f":"Levures!K391","v":0},{"$f":"Levures!F391","v":0}]
[null,null,null,null,null,null,null,null,null,{"$f":"Levures!A392","v":" "},{"$f":"Levures!E392","v":0},{"$f":"Levures!G392","v":0},{"$f":"Levures!H392","v":0},{"$f":"Levures!I392","v":""},{"$f":"Levures!J392","v":0},{"$f":"Levures!K392","v":0},{"$f":"Levures!F392","v":0}]
[null,null,null,null,null,null,null,null,null,{"$f":"Levures!A393","v":" "},{"$f":"Levures!E393","v":0},{"$f":"Levures!G393","v":0},{"$f":"Levures!H393","v":0},{"$f":"Levures!I393","v":""},{"$f":"Levures!J393","v":0},{"$f":"Levures!K393","v":0},{"$f":"Levures!F393","v":0}]
[null,null,null,null,null,null,null,null,null,{"$f":"Levures!A394","v":" "},{"$f":"Levures!E394","v":0},{"$f":"Levures!G394","v":0},{"$f":"Levures!H394","v":0},{"$f":"Levures!I394","v":""},{"$f":"Levures!J394","v":0},{"$f":"Levures!K394","v":0},{"$f":"Levures!F394","v":0}]
[null,null,null,null,null,null,null,null,null,{"$f":"Levures!A395","v":" "},{"$f":"Levures!E395","v":0},{"$f":"Levures!G395","v":0},{"$f":"Levures!H395","v":0},{"$f":"Levures!I395","v":""},{"$f":"Levures!J395","v":0},{"$f":"Levures!K395","v":0},{"$f":"Levures!F395","v":0}]
[null,null,null,null,null,null,null,null,null,{"$f":"Levures!A396","v":" "},{"$f":"Levures!E396","v":0},{"$f":"Levures!G396","v":0},{"$f":"Levures!H396","v":0},{"$f":"Levures!I396","v":""},{"$f":"Levures!J396","v":0},{"$f":"Levures!K396","v":0},{"$f":"Levures!F396","v":0}]
[null,null,null,null,null,null,null,null,null,{"$f":"Levures!A397","v":" "},{"$f":"Levures!E397","v":0},{"$f":"Levures!G397","v":0},{"$f":"Levures!H397","v":0},{"$f":"Levures!I397","v":""},{"$f":"Levures!J397","v":0},{"$f":"Levures!K397","v":0},{"$f":"Levures!F397","v":0}]
[null,null,null,null,null,null,null,null,null,{"$f":"Levures!A398","v":" "},{"$f":"Levures!E398","v":0},{"$f":"Levures!G398","v":0},{"$f":"Levures!H398","v":0},{"$f":"Levures!I398","v":""},{"$f":"Levures!J398","v":0},{"$f":"Levures!K398","v":0},{"$f":"Levures!F398","v":0}]
[null,null,null,null,null,null,null,null,null,{"$f":"Levures!A399","v":" "},{"$f":"Levures!E399","v":0},{"$f":"Levures!G399","v":0},{"$f":"Levures!H399","v":0},{"$f":"Levures!I399","v":""},{"$f":"Levures!J399","v":0},{"$f":"Levures!K399","v":0},{"$f":"Levures!F399","v":0}]

{"sheet":"Feuil2","index":11,"n_rows":74,"n_cols":11,"rows_kept":74,"cut":false,"hidden":true,"merged":[[0,9,1,9],[0,10,1,10],[0,0,1,0],[0,8,1,8],[0,3,1,3],[0,1,1,1],[0,2,1,2],[0,4,1,4],[0,5,1,5],[0,6,1,6],[0,7,1,7]]}
["BJCP 2015","Calcium (ppm)","Magnésium (ppm)","Alcalinité en CaCO3","Sulfate (ppm)","Chloride (ppm)","Sodium (ppm)","Alcalinité Résiduelle","BJCP Style Name","CODE","BJCP 2015"]
[]
["01A - American Light Lager","50-60","0-30","0-40","0-50","50-100","<100","-60-0","1A Lite American Lager","01A",{"$f":"VLOOKUP(J3,'BJCCP (2)'!$A$1:$R$119,2)","v":"01A - American Light Lager"}]
["01B - American Lager","50-75","0-30","0-40","50-150","50-100","<100",{"$f":"-60-0","v":-60},"1C Premium American","01B ",{"$f":"VLOOKUP(J4,'BJCCP (2)'!$A$1:$R$119,2)","v":"01B - American Lager"}]
["01B - American Lager","50-75","0-30","0-40","50-150","50-100","<100","-60-0","2C Classic American Pilsner","01B ",{"$f":"VLOOKUP(J5,'BJCCP (2)'!$A$1:$R$119,2)","v":"01B - American Lager"}]
["01C - Cream Ale","50-100","0-30","0-80","0-50","0-100","<100","-30-30","6A Cream Ale","01C",{"$f":"VLOOKUP(J6,'BJCCP (2)'!$A$1:$R$119,2)","v":"01C - Cream Ale"}]
["01D - American Wheat Beer","50-100","0-30","0-80","100-200","50-100","<100","-60-0","60 American Wheat /Rye","01D",{"$f":"VLOOKUP(J7,'BJCCP (2)'!$A$1:$R$119,2)","v":"01D - American Wheat Beer"}]
["02C - International Dark Lager","50-75","0-30","80-120","0-50","50-150","<100","40 - 80","4A Dark American Lager","02C",{"$f":"VLOOKUP(J8,'BJCCP (2)'!$A$1:$R$119,2)","v":"02C - International Dark Lager"}]
["03D - Czech Dark Lager","50-60","0-30","0-40","0-50","50-100","<100","-60-0","2B Bohemian Pilsner","03D",{"$f":"VLOOKUP(J9,'BJCCP (2)'!$A$1:$R$119,2)","v":"03D - Czech Dark Lager"}]
["04A - Munich Helles","50-60","0-30","0-40","0-50","50-100","<100","-60-0","1D Munich Helles","04A",{"$f":"VLOOKUP(J10,'BJCCP (2)'!$A$1:$R$119,2)","v":"04A - Munich Helles"}]
["04C - Helles Bock","50-75","0-30","40-80","0-100","50-150","<100","0-60 ","5A Helles Bock","04C",{"$f":"VLOOKUP(J11,'BJCCP (2)'!$A$1:$R$119,2)","v":"04C - Helles Bock"}]
["05B - Kölsch","50-100","0-30","0-80","0-50","0-100","<100","-30-30","6C Kölsch","05B",{"$f":"VLOOKUP(J12,'BJCCP (2)'!$A$1:$R$119,2)","v":"05B - Kölsch"}]
["05C - German Helles Exportbier","75-150","0-30","40-80","50-150","50-100","<100","-30-30","1E Dortmund et Export","05C",{"$f":"VLOOKUP(J13,'BJCCP (2)'!$A$1:$R$119,2)","v":"05C - German Helles Exportbier"}]
["05D - German Pils","50-75","0-30","0-40","50-150","50-100","<100","-60-0","2A German Pilsner (Plis)","05D",{"$f":"VLOOKUP(J14,'BJCCP (2)'!$A$1:$R$119,2)","v":"05D - German Pils"}]
["06A - Märzen","50-75","0-30","40-120","0-100","50-150","<100","0-60 ","3B Oktoberfest/Marzen","06A",{"$f":"VLOOKUP(J15,'BJCCP (2)'!$A$1:$R$119,2)","v":"06A - Märzen"}]
["06C - Dunkles Bock","50-75","0-30","40-80","0-100","50-150","<100","0-60 ","5B Traditionel Bock","06C",{"$f":"VLOOKUP(J16,'BJCCP (2)'!$A$1:$R$119,2)","v":"06C - Dunkles Bock"}]
["07A - Vienna Lager","50-75","0-30","40-120","0-100","50-150","<100","0-60 ","3A Vienne Lager","07A",{"$f":"VLOOKUP(J17,'BJCCP (2)'!$A$1:$R$119,2)","v":"07A - Vienna Lager"}]
["07B - Altbier","50-150","0-30","40-120","100-300","50-100","<100","0-60 ","7A N. German Altbier","07B",{"$f":"VLOOKUP(J18,'BJCCP (2)'!$A$1:$R$119,2)","v":"07B - Altbier"}]
["07B - Altbier","50-150","0-30","40-120","100-300","50-100","<100","0-60 ","7C Düsseldorf Altbier","07B",{"$f":"VLOOKUP(J19,'BJCCP (2)'!$A$1:$R$119,2)","v":"07B - Altbier"}]
["08A - Munich Dunkel","50-75","0-30","80-120","0-50","50-150","<100","40 - 80","4B Munich Dunkel","08A",{"$f":"VLOOKUP(J20,'BJCCP (2)'!$A$1:$R$119,2)","v":"08A - Munich Dunkel"}]
["08B - Schwarzbier","50-75","0-30","80-120","0-50","50-150","<100","40 - 80","4C Schwarzbier","08B",{"$f":"VLOOKUP(J21,'BJCCP (2)'!$A$1:$R$119,2)","v":"08B - Schwarzbier"}]
["09A - Doppelbock","50-100","0-30","80-150","0-100","50-100","<100","60 - 120","5C Doppelbock","09A",{"$f":"VLOOKUP(J22,'BJCCP (2)'!$A$1:$R$119,2)","v":"09A - Doppelbock"}]
["09B - Eisbock","50-100","0-30","80-150","0-100","50-100","<100","60 - 120","50 Eisbock","09B",{"$f":"VLOOKUP(J23,'BJCCP (2)'!$A$1:$R$119,2)","v":"09B - Eisbock"}]
["09C - Baltic Porter","50-75","0-30","80-160","50-150","50-150","<100","60 -120","12C Baltic Porter","09C",{"$f":"VLOOKUP(J24,'BJCCP (2)'!$A$1:$R$119,2)","v":"09C - Baltic Porter"}]
["10A - Weissbier","50-100","0-30","0-80","0-50","0-100","<100","30 - 30","15A Weizen","10A",{"$f":"VLOOKUP(J25,'BJCCP (2)'!$A$1:$R$119,2)","v":"10A - Weissbier"}]
["10B - Dunkles Weissbier","50-75","0-30","80-160","50-150","50-150","<100","60 - 120","15B Dunkelweizen","10B",{"$f":"VLOOKUP(J26,'BJCCP (2)'!$A$1:$R$119,2)","v":"10B - Dunkles Weissbier"}]
["10C - Weizenbock","50-75","0-30","120-200","50-150","50-150","<100","120 - 200","15C Weizenbock","10C",{"$f":"VLOOKUP(J27,'BJCCP (2)'!$A$1:$R$119,2)","v":"10C - Weizenbock"}]
["11A - Ordinary Bitter","50-100","0-30","0-80","100-200","50-100","<100","-60-0","8A Ordinary Bitter","11A",{"$f":"VLOOKUP(J28,'BJCCP (2)'!$A$1:$R$119,2)","v":"11A - Ordinary Bitter"}]
["11B - Best Bitter","50-150","0-30","40-120","100-200","50-100","<100","0-60 ","8B Special Bitter","11B",{"$f":"VLOOKUP(J29,'BJCCP (2)'!$A$1:$R$119,2)","v":"11B - Best Bitter"}]
["11C - Strong Bitter","50-150","0-30","40-120","100-300","50-100","<100","0-60 ","8C Strong Bitter","11C",{"$f":"VLOOKUP(J30,'BJCCP (2)'!$A$1:$R$119,2)","v":"11C - Strong Bitter"}]
["12C - English IPA","50-150","0-30","40-120","100-300","50-100","<100","0-60 ","14A English IPA","12C",{"$f":"VLOOKUP(J31,'BJCCP (2)'!$A$1:$R$119,2)","v":"12C - English IPA"}]
["13A - Dark Mild","50-150","0-30","40-120","100-200","50-100","<100","0-60 ","11A Mild Ale","13A",{"$f":"VLOOKUP(J32,'BJCCP (2)'!$A$1:$R$119,2)","v":"13A - Dark Mild"}]
["13B - British Brown Ale","50-75","0-30","80-150","50-150","50-100","<100","30-90","11B S. English Brown","13B ?",{"$f":"VLOOKUP(J33,'BJCCP (2)'!$A$1:$R$119,2)","v":"13B - British Brown Ale"}]
["13B - British Brown Ale","50-75","0-30","80-150","50-150","50-100","<100","30-90","11C N. English Brown","13B ?",{"$f":"VLOOKUP(J34,'BJCCP (2)'!$A$1:$R$119,2)","v":"13B - British Brown Ale"}]
["13C - English Porter","50-75","0-30","80-150","50-150","50-100","<100","30-90","12A Brown Porter","13C",{"$f":"VLOOKUP(J35,'BJCCP (2)'!$A$1:$R$119,2)","v":"13C - English Porter"}]
["14A - Scottish Light","50-150","0-30","40-120","100-200","50-100","<100","0-60 ","9A Scotish 604","14A",{"$f":"VLOOKUP(J36,'BJCCP (2)'!$A$1:$R$119,2)","v":"14A - Scottish Light"}]
["14B - Scottish Heavy","50-150","0-30","40-120","100-200","50-100","<100","0-60 ","9B Scotish 704","14B",{"$f":"VLOOKUP(J37,'BJCCP (2)'!$A$1:$R$119,2)","v":"14B - Scottish Heavy"}]
["14C - Scottish Export","50-150","0-30","40-120","100-200","50-100","<100","0-60 ","9C Scotish 804","14C",{"$f":"VLOOKUP(J38,'BJCCP (2)'!$A$1:$R$119,2)","v":"14C - Scottish Export"}]
["15A - Irish Red Ale","50-150","0-30","40-120","100-300","50-100","<100","0-60 ","90 Irish Red Ale","15A",{"$f":"VLOOKUP(J39,'BJCCP (2)'!$A$1:$R$119,2)","v":"15A - Irish Red Ale"}]
["15B - Irish Stout","50-75","0-30","80-150","50-150","50-100","<100","30-90","13A Dry Stout","15b",{"$f":"VLOOKUP(J40,'BJCCP (2)'!$A$1:$R$119,2)","v":"15B - Irish Stout"}]
["16A - Sweet Stout","50-75","0-30","80-160","50-150","50-150","<100","60 - 120","13B Sweet Stout","16A",{"$f":"VLOOKUP(J41,'BJCCP (2)'!$A$1:$R$119,2)","v":"16A - Sweet Stout"}]
["16B - Oatmeal Stout","50-75","0-30","80-160","50-150","50-150","<100","60 - 120","13C Oatmeal Stout","16B",{"$f":"VLOOKUP(J42,'BJCCP (2)'!$A$1:$R$119,2)","v":"16B - Oatmeal Stout"}]
["16D - Foreign Extra Stout","50-75","0-30","80-160","50-150","50-150","<100","60 - 120","130 Foreign Extra Stout","16D",{"$f":"VLOOKUP(J43,'BJCCP (2)'!$A$1:$R$119,2)","v":"16D - Foreign Extra Stout"}]
["17B - Old Ale","50-100","0-30","40-120","50-100","50-150","<100","0-60 ","19A Old Ale","17B",{"$f":"VLOOKUP(J44,'BJCCP (2)'!$A$1:$R$119,2)","v":"17B - Old Ale"}]
["17C - Wee Heavy","50-100","0-30","40-120","50-100","50-150","<100","0-60 ","9E Strong Scotch Ale","17C",{"$f":"VLOOKUP(J45,'BJCCP (2)'!$A$1:$R$119,2)","v":"17C - Wee Heavy"}]
["17D - English Barleywine","50-100","0-30","40-120","50-100","50-150","<100","0-60 ","19B English Barleywine","17D",{"$f":"VLOOKUP(J46,'BJCCP (2)'!$A$1:$R$119,2)","v":"17D - English Barleywine"}]
["18A - Blonde Ale","50-60","0-30","0-40","0-50","50-100","<100","-60-0","1B Standard American","18A",{"$f":"VLOOKUP(J47,'BJCCP (2)'!$A$1:$R$119,2)","v":"18A - Blonde Ale"}]
["18A - Blonde Ale","50-100","0-30","0-80","100-200","50-100","<100","-60-0","6B Blonde Ale","18A",{"$f":"VLOOKUP(J48,'BJCCP (2)'!$A$1:$R$119,2)","v":"18A - Blonde Ale"}]
["18B - American Pale Ale","50-150","0-30","40-120","100-400","0-100","<100","-30-30","10A American Pale Ale","18B",{"$f":"VLOOKUP(J49,'BJCCP (2)'!$A$1:$R$119,2)","v":"18B - American Pale Ale"}]
["19A - American Amber Ale","50-150","0-30","40-120","100-300","50-100","<100","0 -60","10B American Amber Ale","19A",{"$f":"VLOOKUP(J50,'BJCCP (2)'!$A$1:$R$119,2)","v":"19A - American Amber Ale"}]
["19B - California Common ","50-150","0-30","40-120","100-300","50-100","<100","0-60 ","7B California Common Beer","19B",{"$f":"VLOOKUP(J51,'BJCCP (2)'!$A$1:$R$119,2)","v":"19B - California Common "}]
["19C - American Brown Ale","50-75","0-30","80-160","50-150","50-150","<100","60 -120","10C American Brown Ale","19C",{"$f":"VLOOKUP(J52,'BJCCP (2)'!$A$1:$R$119,2)","v":"19C - American Brown Ale"}]
["20A - American Porter","50-75","0-30","80-160","50-150","50-150","<100","60 -120","12B Robust Porter","20A",{"$f":"VLOOKUP(J53,'BJCCP (2)'!$A$1:$R$119,2)","v":"20A - American Porter"}]
["20B - American Stout","50-75","0-30","80-160","50-150","50-150","<100","60 - 120","13E American Stout","20B",{"$f":"VLOOKUP(J54,'BJCCP (2)'!$A$1:$R$119,2)","v":"20B - American Stout"}]
["20C - Imperial Stout","50-75","0-30","120-200","50-150","50-150","<100","120 - 200","13F Imperial Stout","20C",{"$f":"VLOOKUP(J55,'BJCCP (2)'!$A$1:$R$119,2)","v":"20C - Imperial Stout"}]
["21A - American IPA","50-150","0-30","40-120","100-400","0-100","<100","-30-30","14B American IPA","21A",{"$f":"VLOOKUP(J56,'BJCCP (2)'!$A$1:$R$119,2)","v":"21A - American IPA"}]
["22A - Double IPA","50-150","0-30","40-120","100-400","0-100","<100","30 - 30","14C Imperial IPA","22A",{"$f":"VLOOKUP(J57,'BJCCP (2)'!$A$1:$R$119,2)","v":"22A - Double IPA"}]
["22C - American Barleywine","50-100","0-30","40-120","50-100","50-150","<100","0-60","19C American Barleywine","22C",{"$f":"VLOOKUP(J58,'BJCCP (2)'!$A$1:$R$119,2)","v":"22C - American Barleywine"}]
["23A - Berliner Weisse","50-100","0-30","0-80","0-50","0-100","<100","-100--30","17A Berliner Weisse","23A",{"$f":"VLOOKUP(J59,'BJCCP (2)'!$A$1:$R$119,2)","v":"23A - Berliner Weisse"}]
["23B - Flanders Red Ale","50-100","0-30","0-120","0-50","0-100","<100","0-60 ","17B Flanders Red Ale","23B",{"$f":"VLOOKUP(J60,'BJCCP (2)'!$A$1:$R$119,2)","v":"23B - Flanders Red Ale"}]
["23C - Oud Bruin","50-100","0-30","0-100","0-50","0-100","<100","0-60 ","17C Oud Bruin","23C",{"$f":"VLOOKUP(J61,'BJCCP (2)'!$A$1:$R$119,2)","v":"23C - Oud Bruin"}]
["23D - Lambic","50-100","0-30","0-80","0-50","0-100","<100","-100--30","170 Staright Lambic","23D",{"$f":"VLOOKUP(J62,'BJCCP (2)'!$A$1:$R$119,2)","v":"23D - Lambic"}]
["23E - Gueuze ","50-100","0-30","0-80","0-50","0-100","<100","-100--30","17E Gueuze","23E",{"$f":"VLOOKUP(J63,'BJCCP (2)'!$A$1:$R$119,2)","v":"23E - Gueuze "}]
["23F - Fruit Lambic","50-100","0-30","0-80","0-50","0-100","<100","-100--30","17F Fruit Lambic","23F",{"$f":"VLOOKUP(J64,'BJCCP (2)'!$A$1:$R$119,2)","v":"23F - Fruit Lambic"}]
["24A - Witbier","50-100","0-30","0-80","0-50","0-100","<100","-60-0","16A Witbier","24A",{"$f":"VLOOKUP(J65,'BJCCP (2)'!$A$1:$R$119,2)","v":"24A - Witbier"}]
["24B - Belgian Pale Ale","50-150","0-30","40-120","100-300","50-100","<100","0-60 ","16B Belgian Pale Ale","24B",{"$f":"VLOOKUP(J66,'BJCCP (2)'!$A$1:$R$119,2)","v":"24B - Belgian Pale Ale"}]
["24C - Bière de Garde","50-100","0-30","40-120","50-100","50-150","<100","0-60 ","160 Bière de Garde","24C",{"$f":"VLOOKUP(J67,'BJCCP (2)'!$A$1:$R$119,2)","v":"24C - Bière de Garde"}]
["25A - Belgian Blond Ale","50-100","0-30","0-80","0-50","0-100","<100","-30-30","18A Belgian Blond Ale","25A",{"$f":"VLOOKUP(J68,'BJCCP (2)'!$A$1:$R$119,2)","v":"25A - Belgian Blond Ale"}]
["25B - Saison","50-150","0-30","40-120","100-400","0-100","<100","-60-0","16C Saison","25B",{"$f":"VLOOKUP(J69,'BJCCP (2)'!$A$1:$R$119,2)","v":"25B - Saison"}]
["25C - Belgian Golden Strong Ale","50-100","0-30","0-40","50-100","50-100","<100","-30-30","180 Golden Strong Ale","25C",{"$f":"VLOOKUP(J70,'BJCCP (2)'!$A$1:$R$119,2)","v":"25C - Belgian Golden Strong Ale"}]
["26B - Belgian Dubbel","50-100","0-30","40-120","50-100","50-150","<100","0-60","18B Belgian Dubbel","26B",{"$f":"VLOOKUP(J71,'BJCCP (2)'!$A$1:$R$119,2)","v":"26B - Belgian Dubbel"}]
["26C - Belgian Tripel","50-100","0-30","0-40","50-100","50-100","<100","-30-30","18C Belgian Tripel","26C",{"$f":"VLOOKUP(J72,'BJCCP (2)'!$A$1:$R$119,2)","v":"26C - Belgian Tripel"}]
["26D - Belgian Dark Strong Ale","50-75","0-30","120-200","50-150","50-150","<100","120 - 200","18E Dark Strong Ale","26D",{"$f":"VLOOKUP(J73,'BJCCP (2)'!$A$1:$R$119,2)","v":"26D - Belgian Dark Strong Ale"}]
["27A - Roggenbier","50-150","0-30","40-120","100-300","50-100","<100","0-60 ","150 Roggenbier","27A","27A - Roggenbier"]

{"sheet":"Feuil1","index":12,"n_rows":74,"n_cols":8,"rows_kept":74,"cut":false,"hidden":true,"merged":[[0,0,1,0],[0,3,1,3]]}
["BJCP Style Name","Calcium","Magnésium","Alcalinité en CaCO3","Sulfate","Chloride","Sodium","Alcalinité"]
[null,"(ppm)","(ppm)",null,"(ppm)","(ppm)","(ppm)","Résiduelle"]
["1A Lite American Lager","50-60","0-30","0-40","0-50","50-100","<100",{"$f":"-60-0","v":-60}]
["1B Standard American","50-60","0-30","0-40","0-50","50-100","<100",{"$f":"-60-0","v":-60}]
["1C Premium American","50-75","0-30","0-40","50-150","50-100","<100",{"$f":"-60-0","v":-60}]
["10 Munch Helles","50-60","0-30","0-40","0-50","50-100","<100",{"$f":"-60-0","v":-60}]
["1E Dortmund er Export","75-150","0-30","40-80","50-150","50-100","<100",{"$f":"-30-30","v":-60}]
["2A German Pilsner (Plis)","50-75","0-30","0-40","50-150","50-100","<100",{"$f":"-60-0","v":-60}]
["2B Bohemian Pilsner","50-60","0-30","0-40","0-50","50-100","<100",{"$f":"-60-0","v":-60}]
["2C Classic American Pilsner","50-75","0-30","0-40","50-150","50-100","<100",{"$f":"-60-0","v":-60}]
["3A Vienne Lager","50-75","0-30","40-120","0-100","50-150","<100","0-60 "]
["3B Oktoberfest/Marzen","50-75","0-30","40-120","0-100","50-150","<100","0-60 "]
["4A Dark American Lager","50-75","0-30","80-120","0-50","50-150","<100","40 - 80"]
["4B Munch Dunkel","50-75","0-30","80-120","0-50","50-150","<100","40 - 80"]
["4C Schwarzbier","50-75","0-30","80-120","0-50","50-150","<100","40 - 80"]
["5A Helles Bock","50-75","0-30","40-80","0-100","50-150","<100","0-60 "]
["5B Traditional Bock","50-75","0-30","40-80","0-100","50-150","<100","0-60 "]
["5C Doppelbock","50-100","0-30","80-150","0-100","50-100","<100","60 - 120"]
["50 Eisbock","50-100","0-30","80-150","0-100","50-100","<100","60 - 120"]
["6A Cream Ale","50-100","0-30","0-80","0-50","0-100","<100",{"$f":"-30-30","v":-60}]
["6B Blonde Ale","50-100","0-30","0-80","100-200","50-100","<100",{"$f":"-60-0","v":-60}]
["6C Kölsch","50-100","0-30","0-80","0-50","0-100","<100",{"$f":"-30-30","v":-60}]
["60 American Wheat /Rye","50-100","0-30","0-80","100-200","50-100","<100",{"$f":"-60-0","v":-60}]
["7A N. German Altbier","50-150","0-30","40-120","100-300","50-100","<100","0-60 "]
["7B California Common Beer","50-150","0-30","40-120","100-300","50-100","<100","0-60 "]
["7C Düsseldorf Altbier","50-150","0-30","40-120","100-300","50-100","<100","0-60 "]
["8A Ordinary Bitter","50-100","0-30","0-80","100-200","50-100","<100",{"$f":"-60-0","v":-60}]
["8B Special Bitter","50-150","0-30","40-120","100-200","50-100","<100","0-60 "]
["8C Strong Bitter","50-150","0-30","40-120","100-300","50-100","<100","0-60 "]
["9A Scotish 604","50-150","0-30","40-120","100-200","50-100","<100","0-60 "]
["9B Scotish 704","50-150","0-30","40-120","100-200","50-100","<100","0-60 "]
["9C Scotish 804","50-150","0-30","40-120","100-200","50-100","<100","0-60 "]
["90 Irish Red Ale","50-150","0-30","40-120","100-300","50-100","<100","0-60 "]
["9E Strong Scotch Ale","50-100","0-30","40-120","50-100","50-150","<100","0-60 "]
["10A American Pale Ale","50-150","0-30","40-120","100-400","0-100","<100",{"$f":"-30-30","v":-60}]
["10B American Amber Ale","50-150","0-30","40-120","100-300","50-100","<100","0 -60"]
["10C American Brown Ale","50-75","0-30","80-160","50-150","50-150","<100","60 -120"]
["11A Mild Ale","50-150","0-30","40-120","100-200","50-100","<100","0-60 "]
["11B S. English Brown","50-75","0-30","80-150","50-150","50-100","<100","30-90"]
["11C N. English Brown","50-75","0-30","80-150","50-150","50-100","<100","30-90"]
["12A Brown Porter","50-75","0-30","80-150","50-150","50-100","<100","30-90"]
["12B Robust Porter","50-75","0-30","80-160","50-150","50-150","<100","60 -120"]
["12C Baltic Porter","50-75","0-30","80-160","50-150","50-150","<100","60 -120"]
["13A Dry Stout","50-75","0-30","80-150","50-150","50-100","<100","30-90"]
["13B Sweet Stout","50-75","0-30","80-160","50-150","50-150","<100","60 - 120"]
["13C Oatmeal Stout","50-75","0-30","80-160","50-150","50-150","<100","60 - 120"]
["130 Foreign Extra Stout","50-75","0-30","80-160","50-150","50-150","<100","60 - 120"]
["13E American Stout","50-75","0-30","80-160","50-150","50-150","<100","60 - 120"]
["13F Imperial Stout","50-75","0-30","120-200","50-150","50-150","<100","120 - 201)"]
["14A English IPA","50-150","0-30","40-120","100-300","50-100","<100","0-60 "]
["14B American IPA","50-150","0-30","40-120","100-400","0-100","<100",{"$f":"-30-30","v":-60}]
["14C Imperial IPA","50-150","0-30","40-120","100-400","0-100","<100","30 - 30"]
["15A Weizen","50-100","0-30","0-80","0-50","0-100","<100","30 - 30"]
["15B Dunkelweizen","50-75","0-30","80-160","50-150","50-150","<100","60 - 120"]
["15C Weizenbock","50-75","0-30","120-200","50-150","50-150","<100","120 - 201)"]
["150 Roggenbier","50-150","0-30","40-120","100-300","50-100","<100","0-60 "]
["16A Witbier","50-100","0-30","0-80","0-50","0-100","<100",{"$f":"-60-0","v":-60}]
["16B Belgian Pale Ale","50-150","0-30","40-120","100-300","50-100","<100","0-60 "]
["16C Saison","50-150","0-30","40-120","100-400","0-100","<100",{"$f":"-60-0","v":-60}]
["160 Bière de Garde","50-100","0-30","40-120","50-100","50-150","<100","0-60 "]
["17A Berliner Weisse","50-100","0-30","0-80","0-50","0-100","<100",{"$f":"-100--30","v":-70}]
["17B Flanders Red Ale","50-100","0-30","0-120","0-50","0-100","<100","0-60 "]
["17C Oud Bruin","50-100","0-30","0-100","0-50","0-100","<100","0-60 "]
["170 Staright Lambic","50-100","0-30","0-80","0-50","0-100","<100",{"$f":"-100--30","v":-70}]
["17E Gueuze","50-100","0-30","0-80","0-50","0-100","<100",{"$f":"-100--30","v":-70}]
["17F Fruit Lambic","50-100","0-30","0-80","0-50","0-100","<100",{"$f":"-100--30","v":-70}]
["18A Belgian Blond Ale","50-100","0-30","0-80","0-50","0-100","<100",{"$f":"-30-30","v":-60}]
["18B Belgian Dubbel","50-100","0-30","40-120","50-100","50-150","<100","0-60"]
["18C Belgian Tripel","50-100","0-30","0-40","50-100","50-100","<100",{"$f":"-30-30","v":-60}]
["180 Golden Strong Ale","50-100","0-30","0-40","50-100","50-100","<100",{"$f":"-30-30","v":-60}]
["18E Dark Strong Ale","50-75","0-30","120-200","50-150","50-150","<100","120 - 201)"]
["19A Old Ale","50-100","0-30","40-120","50-100","50-150","<100","0-60 "]
["19B English Barleywine","50-100","0-30","40-120","50-100","50-150","<100","0-60 "]
["19C American Barleywine","50-100","0-30","40-120","50-100","50-150","<100","0-60"]

{"sheet":"BJCCP (2)","index":13,"n_rows":119,"n_cols":41,"rows_kept":119,"cut":false,"hidden":true,"merged":[]}
["#",null,"OG min","OG max","FG min","FG max","EBC min","EBC max","IBUs min","IBUs max","ABV min","ABV max","SRM min","SRM max","OG min","OG max","FG min","FG max","Styles","vol CO2 min","vol CO2 max","BJCP Categories","Style Family","Style History","Origin","FG min","FG max","Overall Impression","Aroma","Appearance","Flavor","Mouthfell","Comments","History","Characteristic Ingredients","Style Comparison","Commercial Examples","Notes"]
["01A",{"$f":"A2&\" - \"&S2","v":"01A - American Light Lager"},{"$f":"O2/1000","v":1.028},1.04,0.998,1.008,3.94,5.91,8,12,2.8,4.2,2,3,1028,1040,998,1008,"American Light Lager",2.5,2.9,"Standard American Beer","Pale Lager","Mass Market Pale Lager","United States",998,1008,"Highly carbonated, very light-bodied, nearly flavorless lager designed to be consumed very cold. Very refreshing and thirst quenching.","Low to no malt aroma, although it can be perceived as grainy, sweet, or corn-like if present. Hop aroma is light to none, with a spicy or floral hop character if present. While a clean fermentation character is desirable, a light amount of yeast character (particularly a light apple fruitiness) is not a fault. Light DMS is not a fault.","Very pale straw to pale yellow color. White, frothy head seldom persists. Very clear.","Relatively neutral palate with a crisp and dry finish and a low to very low grainy or corn-like flavor that might be perceived as sweetness due to the low bitterness. Hop flavor ranges from none to low levels, and can have a floral, spicy, or herbal quality (although rarely strong enough to detect). Low to very low hop bitterness. Balance may vary from slightly malty to slightly bitter, but is relatively close to even. High levels of carbonation may accentuate the crispness of the dry finish. Clean lager fermentation character.","Very light (sometimes watery) body. Very highly carbonated with slight carbonic bite on the tongue.","Designed to appeal to as broad a range of the general public as possible. Strong flavors are a fault.","Coors briefly made a light lager in the early 1940s. Modern versions were first produced by Rheingold in 1967 to appeal to diet-conscious drinkers, but only became popular starting in 1973 after Miller Brewing acquired the recipe and marketed the beer heavily to sports fans with the “tastes great, less filling” campaign. Beers of this genre became the largest sellers in the United States in the 1990s.","Two- or six-row barley with high percentage (up to 40%) of rice or corn as adjuncts. Additional enzymes can further lighten the body and lower carbohydrates.","A lighter-bodied, lower-alcohol, lower calorie version of an American Lager. Less hop character and bitterness than a Leichtbier. ","Bud Light, Coors Light, Keystone Light, Michelob Light, Miller Lite, Old Milwaukee Light"]
["01B","01B - American Lager",1.04,1.05,1.004,1.01,3.94,7.88,8,18,4.2,5.3,2,4,1040,1050,1004,1010,"American Lager",2.5,2.9,"Standard American Beer","Pale Lager","Mass Market Pale Lager","United States",1004,1010,"A very pale, highly-carbonated, light-bodied, well-attenuated lager with a very neutral flavor profile and low bitterness. Served very cold, it can be a very refreshing and thirst quenching drink.","Low to no malt aroma, although it can be perceived as grainy, sweet or corn-like if present. Hop aroma may range from none to a light, spicy or floral hop presence. While a clean fermentation character is desirable, a light amount of yeast character (particularly a light apple character) is not a fault. Light DMS is also not a fault.","Very pale straw to medium yellow color. White, frothy head seldom persists. Very clear.","Relatively neutral palate with a crisp and dry finish and a moderately-low to low grainy or corn-like flavor that might be perceived as sweetness due to the low bitterness. Hop flavor ranges from none to moderately-low levels, and can have a floral, spicy, or herbal quality (although often not strong enough to distinguish). Hop bitterness at low to medium-low level. Balance may vary from slightly malty to slightly bitter, but is relatively close to even. High levels of carbonation may accentuate the crispness of the dry finish. Clean lager fermentation character.","Low to medium-low body. Very highly carbonated with slight carbonic bite on the tongue.","Strong flavors are a fault. Often what non-craft beer drinkers expect to be served if they order beer in the United States. May be marketed as Pilsner beers outside of Europe, but should not be confused with traditional examples.","Although German immigrants had brewed traditional Pilsner-inspired lager beer in the United States since the mid-late 1800s, the modern American lager style was heavily influenced by Prohibition and World War II. Surviving breweries consolidated, expanded distribution, and heavily promoted a beer style that was appealing to a broad range of the population. Became the dominant beer style for many decades, and spawning many international rivals who would develop similarly bland products for the mass market supported by heavy advertising.","Two- or six-row barley with high percentage (up to 40%) of rice or corn as adjuncts.","Stronger, more flavor and body than a Light American Lager. Less bitterness and flavor than an International Lager. Significantly less flavor, hops, and bitterness than traditional European Pilsners.","Budweiser, Coors Original, Grain Belt Premium Lager, Miller High Life, Pabst Blue Ribbon, Special Export"]
["01C","01C - Cream Ale",1.042,1.0549999999999999,1.006,1.012,4.9249999999999998,9.85,8,20,4.2,5.6,2.5,5,1042,1055,1006,1012,"Cream Ale",2.5,2.9,"Standard American Beer","Pale Ale","Indigenous American Beer","United States",1006,1012,"A clean, well-attenuated, flavorful American “lawnmower” beer. Easily drinkable and refreshing, with more character than typical American lagers.","Medium-low to low malt notes, with a sweet, corn-like aroma. Low levels of DMS are allowable, but are not required. Hop aroma medium low to none, and can be of any variety although floral, spicy, or herbal notes are most common. Overall, a subtle aroma with neither hops nor malt dominating. Low fruity esters are optional.","Pale straw to moderate gold color, although usually on the pale side. Low to medium head with medium to high carbonation. Fair head retention. Brilliant, sparkling clarity.","Low to medium-low hop bitterness. Low to moderate maltiness and sweetness, varying with gravity and attenuation. Usually well-attenuated. Neither malt nor hops dominate the palate. A low to moderate corny flavor is commonly found, as is light DMS (optional). Finish can vary from somewhat dry to faintly sweet. Low fruity esters are optional. Low to medium-low hop flavor (any variety, but typically floral, spicy, or herbal).","Generally light and crisp, although body can reach medium. Smooth mouthfeel with medium to high attenuation; higher attenuation levels can lend a “thirst quenching” quality. High carbonation. ","Pre-prohibition Cream Ales were slightly stronger, hoppier (including some dry hopping) and more bitter (25-30+ IBUs). These versions should be entered in the historical category. Most commercial examples are in the 1.050–1.053 OG range, and bitterness rarely rises above 20 IBUs.","A sparkling or present-use ale that existed in the 1800s and survived prohibition. An ale version of the American lager style. Produced by ale brewers to compete with lager brewers in Canada and the Northeast, Mid-Atlantic, and Midwest states. Originally known as sparkling or present use ales, lager strains were (and sometimes still are) used by some brewers, but were not historically mixed with ale strains. Many examples are kräusened to achieve carbonation. Cold conditioning isn’t traditional, although modern brewers sometimes use it.","American ingredients most commonly used. A grain bill of six-row malt, or a combination of six-row and North American two-row, is common. Adjuncts can include up to 20% maize in the mash, and up to 20% glucose or other sugars in the boil. Any variety of hops can be used for bittering and finishing.","Similar to a Standard American Lager, but with more character.","Genesee Cream Ale, Liebotschaner Cream Ale, Little Kings Cream Ale, New Glarus Spotted Cow, Old Style, Sleeman Cream Ale"]
["01D","01D - American Wheat Beer",1.04,1.0549999999999999,1.008,1.0129999999999999,5.91,11.82,15,30,4,5.5,3,6,1040,1055,1008,1013,"American Wheat Beer",2.5,2.9,"Standard American Beer","Wheat Beer","Wheat Beer","United States",1008,1013,"Refreshing wheat beers that can display more hop character and less yeast character than their German cousins. A clean fermentation character allows bready, doughy, or grainy wheat flavors to be complemented by hop flavor and bitterness rather than yeast qualities.","Low to moderate grainy, bready, or doughy wheat character. A light to moderate malty sweetness is acceptable. Esters can be moderate to none, although should reflect relatively neutral yeast strains; banana is inappropriate. Hop aroma may be low to moderate, and can have a citrusy, spicy, floral, or fruity character. No clove phenols.","Usually pale yellow to gold. Clarity may range from brilliant to hazy with yeast approximating the German weissbier style of beer. Big, long-lasting white head.","Light to moderately-strong bready, doughy, or grainy wheat flavor, which can linger into the finish. May have a moderate malty sweetness or finish quite dry. Low to moderate hop bitterness, which sometimes lasts into the finish. Balance is usually even, but may be slightly bitter. Low to moderate hop flavor (citrusy, spicy, floral, or fruity). Esters can be moderate to none, but should not include banana. No clove phenols. May have a slightly crisp finish.","Medium-light to medium body. Medium-high to high carbonation. Slight creaminess is optional; wheat beers sometimes have a soft, ‘fluffy’ impression.","Different variations exist, from an easy-drinking fairly sweet beer to a dry, aggressively-hopped beer with a strong wheat flavor. American rye beers should be entered in the Alternative Fermentables specialty category.","An American craft beer adaptation of the German weissbier style using a cleaner yeast and more hops, first widely popularized by Widmer in the mid-1980s.","Clean American ale or lager yeast (German weissbier yeast is inappropriate). Large proportion of wheat malt (often 30–50%, which is lower than is typical in German weissbiers). American, German, or New World hops are typical.","More hop character and less yeast character than German weissbier. Never with the banana and clove character of German weissbier. Generally can have the same range and balance as Blonde Ales, but with a wheat character as the primary malt flavor.","Bell’s Oberon, Boulevard Unfiltered Wheat Beer, Goose Island 312 Urban Wheat Ale, Widmer Hefeweizen"]
["02A","02A - International Pale Lager",1.042,1.05,1.008,1.012,3.94,11.82,18,25,4.5999999999999996,6,2,6,1042,1050,1008,1012,"International Pale Lager",2.2000000000000002,2.7,"International Lager","Pale Lager","Mass Market Pale Lager","International",1008,1012,"A highly-attenuated pale lager without strong flavors, typically well-balanced and highly carbonated. Served cold, it is refreshing and thirst-quenching.","Low to medium-low malt aroma, which can be grainy-malty or slightly corny-sweet. Hop aroma may range from very low to a medium, spicy or floral hop presence. While a clean fermentation profile is generally most desirable, low levels of yeast character (such as a light apple fruitiness) are not a fault. A light amount of DMS or corn aroma is not a fault.","Pale straw to gold color. White, frothy head may not be long lasting. Very clear.","Low to moderate levels of grainy-malt flavor, with a crisp, dry, well-attenuated finish. The grain character can be somewhat neutral, or show a light bready-crackery quality or up to moderate corny or malty sweetness. Hop flavor ranges from none to medium levels, and often showing a floral, spicy, or herbal character if detected. Hop bitterness at medium-low to medium level. Balance may vary from slightly malty to slightly bitter, but is relatively close to even. Neutral aftertaste with light malt and sometimes hop flavors. A light amount of DMS is not a fault.","Light to medium body. Moderately high to highly carbonated. Can have a slight carbonic bite on the tongue.","International lagers tend to have fewer adjuncts than standard American lagers. They may be all-malt, although strong flavors are still a fault. A broad category of international mass-market lagers ranging from up-scale American lagers to the typical “import” or “green bottle” international beers found in America and many export markets. Often confusingly labeled as a “Pilsner.” Any skunkiness in commercial beers from being lightstruck in a green bottle is a mishandling fault, not a characteristic of the style.","In the United States, developed as a premium version of the standard American lager, with a similar history. Outside the United States, developed either as an imitation of American style lagers, or as a more accessible (and often drier and less bitter) version of a Pilsner-type beer. Often heavily marketed and exported by large industrial or multi-national breweries.","Two- or six-row barley. May use rice, corn, or sugar as adjuncts, or may be all malt.","Generally more bitter and filling than American lager. Less hoppy and bitter than a German Pils. Less body, malt flavor, and hop character than a Czech Premium Pale Lager. More robust versions can approach a Munich Helles in flavor, although with more of an adjunct quality.","Asahi Super Dry, Birra Moretti, Corona Extra, Devils Backbone Gold Leaf Lager, Full Sail Session Premium Lager, Heineken, Red Stripe, Singha"]
["02B","02B - International Amber Lager",1.042,1.0549999999999999,1.008,1.014,13.79,27.58,8,25,4.5999999999999996,6,7,14,1042,1055,1008,1014,"International Amber Lager",2.2000000000000002,2.7,"International Lager","Amber Lager","Amber Lager","International",1008,1014,"A well-attenuated malty amber lager with an interesting caramel or toast quality and restrained bitterness. Usually fairly well-attenuated, often with an adjunct quality. Smooth, easily-drinkable lager character.","Low to moderate malt aroma which can be grainy, with a very low to moderate caramel-sweet to toasty-malty aroma. Hop aroma can range from low to none with a mildly floral or spicy character. Clean lager profile. A slight DMS or corny aroma is acceptable.","Golden-amber to reddish-copper color. Bright clarity. White to off-white foam stand which may not last.","Low to moderate malt profile which can vary from dry to grainy-sweet. Low to moderate levels of caramel and toasty-bready notes can be evident. Low to medium-low corny sweetness is optional, but not a fault. Hop bitterness is low to moderate, and hop flavor is low to moderate with a spicy, herbal, or floral character. The balance can be fairly malty to nearly even, with the bitterness becoming more noticeable but not objectionable. The bitterness level can increase if the malt character increases to match. Clean fermentation profile. Finish is moderately dry with a moderately malty aftertaste.","Light to medium body. Medium to high carbonation. Smooth; some examples can be creamy.","A wide spectrum of mass-market Amber lagers developed either independently in various countries, or describing rather generic amber beers that may have had more historical relevance but who eventually changed into an indistinguishable product in modern times.","Varies by country, but generally represents an adaptation of the mass-market International Lager or an evolution of indigenous styles into a more generic product.","Two-row or six-row base malt. Color malts such as victory, amber, etc. Caramel malt adjuncts. European or American hops or a combination of both.","Less well-developed malt flavor than a Vienna lager, often with an adjunct taste.","Brooklyn Lager, Capital Winter Skål, Dos Equis Amber, Schell’s Oktoberfest, Yuengling Lager"]
["02C","02C - International Dark Lager",1.044,1.056,1.008,1.012,27.58,43.339999999999996,8,20,4.2,6,14,22,1044,1056,1008,1012,"International Dark Lager",2.2000000000000002,2.7,"International Lager","Dark Lager","Dark Lager","International",1008,1012,"A darker and somewhat sweeter version of international pale lager with a little more body and flavor, but equally restrained in bitterness. The low bitterness leaves the malt as the primary flavor element, and the low hop levels provide very little in the way of balance.","Little to no malt aroma; may have a light corn character. Medium-low to no roast and caramel malt aroma. Hop aroma may range from none to light spicy or floral hop presence. While a clean fermentation profile is generally most desirable, low levels of yeast character (such as a light apple fruitiness) are not a fault. A light amount of DMS or corn aroma is not a fault.","Deep amber to dark brown with bright clarity and ruby highlights. Foam stand may not be long lasting, and is beige to light tan in color.","Low to medium malty sweetness with medium-low to no caramel and/or roasted malt flavors (and may include hints of coffee, molasses or cocoa). Hop flavor ranges from none to low levels, and is typically floral, spicy, or herbal. Low to medium hop bitterness. May have a very light fruitiness. Moderately crisp finish. The balance is typically somewhat malty. Burnt or moderately strong roasted malt flavors are a defect. ","Light to medium-light body. Smooth with a light creaminess. Medium to high carbonation.","A broad range of international lagers that are darker than pale, and not assertively bitter and/or roasted. ","Darker versions of International Pale Lagers often created by the same large, industrial breweries and meant to appeal to a broad audience. Often either a colored or sweetened adaptation of the standard pale industrial lager, or a more broadly accessible (and inexpensive) version of more traditional dark lagers.","Two- or six-row barley, corn, rice, or sugars as adjuncts. Light use of caramel and darker malts. Commercial versions may use coloring agents.","Less flavor and richness than Munich Dunkel, Schwarzbier, or other dark lagers. Frequently uses adjuncts, as is typical of other International Lagers.","Baltika #4 Original, Devils Backbone Old Virginia Dark, Dixie Blackened Voodoo, Saint Pauli Girl Dark, San Miguel Dark, Session Black Dark Lager, Shiner Bock"]
["03A","03A - Czech Pale Lager",1.028,1.044,1.008,1.014,5.91,11.82,20,35,3,4.0999999999999996,3,6,1028,1044,1008,1014,"Czech Pale Lager",2.2000000000000002,2.7,"Czech Lager","Pale Lager","Pilsner","Czech Republic",1008,1014,"A lighter-bodied, rich, refreshing, hoppy, bitter pale Czech lager having the familiar flavors of the stronger Czech Premium Pale Lager (Pilsner-type) beer but in a lower alcohol, lighter-bodied, and slightly less intense format.","Light to moderate bready-rich malt combined with light to moderate spicy or herbal hop bouquet; the balance between the malt and hops may vary. Faint hint of caramel is acceptable. Light (but never intrusive) diacetyl and light, fruity hop-derived esters are acceptable, but need not be present. No sulfur.","Light gold to deep gold color. Brilliant to very clear, with a long-lasting, creamy white head. ","Medium-low to medium bready-rich malt flavor with a rounded, hoppy finish. Low to medium-high spicy or herbal hop flavor. Bitterness is prominent but never harsh. Flavorful and refreshing. Diacetyl or fruity esters are acceptable at low levels, but need not be present and should never be overbearing.","Medium-light to medium body. Moderate carbonation. ","The Czech name of the style is světlé výčepní pivo. ","Josef Groll initially brewed two types of beer in 1842–3, a výčepní and a ležák, with the smaller beer having twice the production; Evan Rail speculates that these were probably 10 °P and 12 °P beers, but that the výčepní could have been weaker. This is the most consumed type of beer in the Czech Republic at present.","Soft water with low sulfate and carbonate content, Saazer-type hops, Czech Pilsner malt, Czech lager yeast. Low ion water provides a distinctively soft, rounded hop profile despite high hopping rates. ","A lighter-bodied, lower-intensity, refreshing, everyday version of Czech Premium Pale Lager.","Březňák Světlé výčepní pivo, Notch Session Pils, Pivovar Kout na Šumavě Koutská 10°, Únětické pivo 10°"]
["03B","03B - Czech Premium Pale Lager",1.044,1.06,1.0129999999999999,1.0169999999999999,6.8949999999999996,11.82,30,45,4.2,5.8,3.5,6,1044,1060,1013,1017,"Czech Premium Pale Lager",2.2000000000000002,2.7,"Czech Lager","Pilsner","Pilsner","Czech Republic",1013,1017,"Rich, characterful, pale Czech lager, with considerable malt and hop character and a long, rounded finish. Complex yet well-balanced and refreshing. The malt flavors are complex for a Pilsner-type beer, and the bitterness is strong but clean and without harshness, which gives a rounded impression that enhances drinkability.","Medium to medium-high bready-rich malt and medium-low to medium-high spicy, floral, or herbal hop bouquet; though the balance between the malt and hops may vary, the interplay is rich and complex. Light diacetyl, or very low fruity hop-derived esters are acceptable, but need not be present. ","Gold to deep gold color. Brilliant to very clear clarity. Dense, long-lasting, creamy white head. ","Rich, complex, bready maltiness combined with a pronounced yet soft and rounded bitterness and floral and spicy hop flavor. Malt and hop flavors are medium to medium-high, and the malt may contain a slight impression of caramel. Bitterness is prominent but never harsh. The long finish can be balanced towards hops or malt but is never aggressively tilted either way. Light to moderate diacetyl and low hop-derived esters are acceptable, but need not be present.","Medium body. Moderate to low carbonation. ","Generally a group of pivo Plzeňského typu, or Pilsner-type beers. This style is a combination of the Czech styles světlý ležák (11–12.9 °P) and světlé speciální pivo (13–14.9 °P). In the Czech Republic, only Pilsner Urquell is called a Pilsner, despite how widely adopted this name is worldwide. Kvasnicové (“yeast beer”) versions are popular in the Czech Republic, and may be either kräusened with yeasted wort or given a fresh dose of pure yeast after fermentation. These beers are sometimes cloudy, with subtle yeastiness and enhanced hop character. Modern examples vary in their malt to hop balance and many are not as hop-forward as Pilsner Urquell.","Commonly associated with Pilsner Urquell, which was first brewed in 1842 after construction of a new brewhouse by burghers dissatisfied with the standard of beer brewed in Plzeň. Bavarian brewer Josef Groll is credited with first brewing the beer.","Soft water with low sulfate and carbonate content, Saazer-type hops, Czech malt, Czech lager yeast. Low ion water provides a distinctively soft, rounded hop profile despite high hopping rates. The bitterness level of some larger commercial examples has dropped in recent years, although not as much as in many contemporary German examples.","More color, malt richness, and body than a German Pils, with a fuller finish and a cleaner, softer impression. Stronger than a Czech Pale Lager.","Bernard Sváteční ležák, Gambrinus Premium, Kout na Šumavě Koutská 12°, Pilsner Urquell, Pivovar Jihlava Ježek 11°, Primátor Premium, Únětická 12°"]
["03C","03C - Czech Amber Lager",1.044,1.06,1.0129999999999999,1.0169999999999999,19.7,31.52,20,35,4.4000000000000004,5.8,10,16,1044,1060,1013,1017,"Czech Amber Lager",2.2000000000000002,2.7,"Czech Lager","Amber Lager","Amber Lager","Czech Republic",1013,1017,"Malt-driven amber Czech lager with hop character that can vary from low to quite significant. The malt flavors can vary quite a bit, leading to different interpretations ranging from drier, bready, and slightly biscuity to sweeter and somewhat caramelly.","Moderate intensity, rich malt aroma that can be either bready and Maillard product-dominant or slightly caramelly and candy-like. Spicy, floral or herbal hop character may be moderate to none. Clean lager character, though low fruity esters (stone fruit or berries) may be present. Diacetyl is optional and can range from low to none.","Deep amber to copper color. Clear to bright clarity. Large, off-white, persistent head. ","Complex malt flavor is dominant (medium to medium-high), though its nature may vary from dry and Maillard product-dominant to caramelly and almost sweet. Some examples have a candy-like to graham-cracker malt character. Low to moderate spicy hop flavor. Prominent but clean hop bitterness provides a balanced finish. Subtle plum or berry esters optional. Low diacetyl optional. No roasted malt flavor. Finish may vary from dry and hoppy to relatively sweet.","Medium-full to medium body. Soft and round, often with a gentle creaminess. Moderate to low carbonation.","The Czech name of the style is polotmavé pivo, which translates as half dark. This style is a combination of the Czech styles polotmavý ležák (11–12.9 °P) and polotmavé speciální pivo (13–14.9 °P).","A Vienna-style lager which has continued to be brewed in the Czech Republic. A resurgence of small breweries opening in the Czech Republic has increased the number of examples of this style. ","Pilsner and caramel malts, but Vienna and Munich malts may also be used. Low mineral content water, Saazer-type hops, Czech lager yeast. ","The style can be similar to a Vienna lager but with Saazer-type hop character, or that approaching an English bitter but significantly richer with more of a deep caramel character. Large brewery versions are generally similar to Czech Premium Pale Lager with slightly darker malt flavors and less hop, while smaller breweries often make versions with considerable hop character, malt complexity, or residual sweetness.","Bernard Jantarový ležák, Pivovar Vysoký Chlumec Démon, Primátor polotmavý 13°, Strakonický Dudák Klostermann polotmavý ležák 13°"]
["03D","03D - Czech Dark Lager",1.044,1.06,1.0129999999999999,1.0169999999999999,27.58,68.95,18,34,4.4000000000000004,5.8,14,35,1044,1060,1013,1017,"Czech Dark Lager",2.2000000000000002,2.7,"Czech Lager","Dark Lager","Dark Lager","Czech Republic",1013,1017,"A rich, dark, malty Czech lager with a roast character that can vary from almost absent to quite prominent. Malty with an interesting and complex flavor profile, with variable levels of hopping providing a range of possible interpretations.","Medium to medium-high rich, deep, sometimes sweet maltiness, with optional qualities such as bread crusts, toast, nuts, cola, dark fruit, or caramel. Roasted malt characters such as chocolate or sweetened coffee can vary from moderate to none but should not overwhelm the base malt character. Low, spicy hop aroma is optional. Low diacetyl and low fruity esters (plums or berries) may be present.","Dark copper to almost black color, often with a red or garnet tint. Clear to bright clarity. Large, off-white to tan, persistent head.","Medium to medium-high deep, complex maltiness dominates, typically with malty-rich Maillard products and a light to moderate residual malt sweetness. Malt flavors such as caramel, toast, nuts, licorice, dried dark fruit, chocolate and coffee may also be present, with very low to moderate roast character. Spicy hop flavor can be moderately-low to none. Hop bitterness may be moderate to medium-low but should be perceptible. Balance can vary from malty to relatively well-balanced to gently hop-forward. Low to moderate diacetyl and light plum or berry esters may be present. ","Medium to medium-full body, considerable mouthfeel without being heavy or cloying. Moderately creamy in texture. Smooth. Moderate to low carbonation. Can have a slight alcohol warmth in stronger versions.","This style is a combination of the Czech styles tmavý ležák (11–12.9 °P) and tmavé speciální pivo (13–14.9 °P). More modern examples are drier and have higher bitterness while traditional versions often have IBUs in the 18–20 range with a sweeter balance.","The U Fleků brewery has been operating in Prague since 1499. Many small, new breweries are brewing this style.","Pilsner and dark caramel malts with the addition of debittered roasted malts are most common, but additions of Vienna or Munich malt are also appropriate. Low mineral content water, Saazer-type hops, Czech lager yeast. Any fruity esters are typically from malt, not yeast.","The beer is the Czech equivalent of a dark lager ranging in character from Munich Dunkel to Schwarzbier, but typically with greater malt richness and hop character (aroma, flavor, and/or bitterness).","Bohemian Brewery Cherny Bock 4%, Budweiser Budvar B:Dark tmavý ležák, Devils Backbone Morana, Kout na Šumavě Koutský tmavý speciál 14°, Notch Černé Pivo, Pivovar Březnice Herold, U Fleků Flekovský tmavý 13° ležák"]
["04A","04A - Munich Helles",1.044,1.048,1.006,1.012,5.91,9.85,16,22,4.7,5.4,3,5,1044,1048,1006,1012,"Munich Helles",2.2000000000000002,2.7,"Pale Malty European Lager","Pale Lager","European Pale Lager","Germany",1006,1012,"A clean, malty, gold-colored German lager with a smooth grainy-sweet malty flavor and a soft, dry finish. Subtle spicy, floral, or herbal hops and restrained bitterness help keep the balance malty but not sweet, which helps make this beer a refreshing, everyday drink.","Moderate grainy-sweet malt aroma. Low to moderately-low spicy, floral, or herbal hop aroma. While a clean aroma is most desirable, a very low background note of DMS is not a fault. Pleasant, clean fermentation profile, with malt dominating the balance. The freshest examples will have more of a malty-sweet aroma.","Medium yellow to pale gold. Clear. Persistent creamy white head.","Moderately malty start with the suggestion of sweetness, moderate grainy-sweet malt flavor with a soft, rounded palate impression, supported by a low to medium-low hop bitterness. The finish is soft and dry, not crisp and biting. Low to moderately-low spicy, floral or herbal hop flavor. The malt dominates the hops in the palate, finish, and aftertaste, but the hops should be noticeable. There should not be any residual sweetness, simply the impression of maltiness with restrained bitterness. Very fresh examples will seem sweeter due to the fresh, rich malt character that can fade with time. Clean fermentation profile.","Medium body. Medium carbonation. Smooth, well-lagered character.","A fully-attenuated Pils malt showcase, Helles is a malt-accentuated beer that is not overly sweet, but rather focuses on malt flavor with underlying hop bitterness in a supporting role. Export examples can quickly lose some of the rich malt character that often suggests sweetness. Helles in Munich tends to be lighter in all aspects than those outside the city, which can be more assertive with more body, flavor, and hop character.","Created in Munich in 1894 at the Spaten brewery to compete with pale Pilsner-type beers. Currently the most popular style in Southern Germany.","Continental Pilsner malt, traditional German Saazer-type hop varieties, clean German lager yeast.","Similar in malt balance and bitterness to Munich Dunkel, but less malty-sweet in nature and pale rather than dark. More body and malt presence than a German Pils, with less hop character throughout. Similar malt profile as a German Exportbier, but with less hops in the balance. ","Augustiner Lagerbier Hell, Bürgerbräu Wolznacher Hell Naturtrüb, Hacker-Pschorr Münchner Gold, Löwenbraü Original, Paulaner Premium Lager, Spaten Premium Lager, Weihenstephaner Original"]
["04B","04B - Festbier",1.054,1.0569999999999999,1.01,1.012,7.88,13.79,18,25,5.8,6.3,4,7,1054,1057,1010,1012,"Festbier",2.2000000000000002,2.7,"Pale Malty European Lager","Pale Lager","European Pale Lager","Germany",1010,1012,"A smooth, clean, pale German lager with a moderately strong malty flavor and a light hop character. Deftly balances strength and drinkability, with a palate impression and finish that encourages drinking. Showcases elegant German malt flavors without becoming too heavy or filling.","Moderate malty richness, with an emphasis on toasty-doughy aromatics and an impression of sweetness. Low to medium-low floral, herbal, or spicy hops. The malt should not have a deeply toasted, caramel, or biscuity quality. Clean lager fermentation character.","Deep yellow to deep gold color; should not have amber hues. Bright clarity. Persistent white to off-white foam stand. Most commercial examples are medium gold in color.","Medium to medium-high malty flavor initially, with a lightly toasty, bread dough quality and an impression of soft sweetness. Medium to medium-low bitterness, definitely malty in the balance. Well-attenuated and crisp, but not dry. Medium-low to medium floral, herbal, or spicy hop flavor. Clean lager fermentation character. The taste is mostly of Pils malt, but with slightly toasty hints. The bitterness is supportive, but still should yield a malty, flavorful finish.","Medium body, with a smooth, somewhat creamy texture. Medium carbonation. Alcohol strength barely noticeable as warming, if at all. ","This style represents the modern German beer served at Oktoberfest (although it is not solely reserved for Oktoberfest; it can be found at many other ‘fests’), and is sometimes called Wiesn (“the meadow” or local name for the Oktoberfest festival). We chose to call this style Festbier since by German and EU regulations, Oktoberfestbier is a protected appellation for beer produced at large breweries within the Munich city limits for consumption at Oktoberfest. Other countries are not bound by these rules, so many craft breweries in the US produce beer called Oktoberfest, but based on the traditional style described in these guidelines as Märzen.","Since 1990, the majority of beer served at Oktoberfest in Munich has been this style. Export beer specifically made for the United States is still mainly of the traditional amber style, as are US-produced interpretations. Paulaner first created the golden version in the mid-1970s because they thought the traditional Oktoberfest was too filling. So they developed a lighter, more drinkable but still malty version that they wanted to be “more poundable” (according to the head brewer at Paulaner). But the actual type of beer served at Oktoberfest is set by a Munich city committee.","Majority Pils malt, but with some Vienna and/or Munich malt to increase maltiness. Differences in commercial examples are mostly due to different maltsters and yeast, not major grist differences.","Less intense and less richly toasted than a Märzen. More rich-heavy in body than a Helles, with more hop flavor and higher alcohol. Less rich in malt intensity than a Maibock. The malt complexity is similar to a higher-gravity Czech Premium Pale Lager, although without the associated hops.","Augustiner Oktoberfest, Hacker-Pschorr Superior Festbier, Hofbräu Festbier, Löwenbräu Oktoberfestbier, Paulaner Wiesn, Schönramer Gold, Weihenstephaner Festbier"]
["04C","04C - Helles Bock",1.0640000000000001,1.0720000000000001,1.0109999999999999,1.018,11.82,21.669999999999998,23,35,6.3,7.4,6,11,1064,1072,1011,1018,"Helles Bock",2.2000000000000002,2.7,"Pale Malty European Lager","Bock","European Pale Lager","Germany",1011,1018,"A relatively pale, strong, malty German lager beer with a nicely attenuated finish that enhances drinkability. The hop character is generally more apparent than in other bocks.","Moderate to strong grainy-sweet malt aroma, often with a lightly toasted quality and low Maillard products. Moderately-low to no hop aroma, often with a spicy, herbal, or floral quality. Clean fermentation profile. Fruity esters should be low to none. Very light alcohol may be noticeable. May have a light DMS aroma.","Deep gold to light amber in color. Bright to clear clarity. Large, creamy, persistent, white head.","Moderately to moderately strong grainy-sweet malt flavor dominates with some toasty notes and/or Maillard products providing added interest. Little to no caramel flavors. May have a light DMS flavor. Moderate to no hop flavor (spicy, herbal, floral, peppery). Moderate hop bitterness (more so in the balance than in other bocks). Clean fermentation profile. Well-attenuated, not cloying, with a moderately-dry finish that may taste of both malt and hops.","Medium-bodied. Moderate to moderately-high carbonation. Smooth and clean with no harshness or astringency, despite the increased hop bitterness. A light alcohol warming may be present.","Also known as Mai Bock, but there is some dispute whether Helles (“pale”) Bock and Mai (“May”) Bock are synonymous. Most agree that they are identical, but some believe that Maibock is a “fest” type beer hitting the upper limits of hopping and color for the range. Any fruitiness is due to Munich and other specialty malts, not yeast-derived esters developed during fermentation. The hops compensate for the lower level of Maillard products.","A fairly recent development in comparison to the other members of the bock family. The serving of Maibock is specifically associated with springtime and the month of May.","Base of Pils and/or Vienna malt with some Munich malt to add character (although much less than in a traditional bock). No non-malt adjuncts. Saazer-type hops. Clean lager yeast. Decoction mash is typical, but boiling is less than in Dunkles Bock to restrain color development.","Can be thought of as either a pale version of a Dunkles Bock, or a Munich Helles brewed to bock strength. While quite malty, this beer typically has less dark and rich malt flavors, and can be drier, hoppier, and more bitter than a Dunkles Bock. Has more of a rich malt character and more alcohol than a Festbier.","Altenmünster Maibock, Ayinger Maibock, Capital Maibock, Blind Tiger Maibock, Einbecker Mai-Urbock, Hacker-Pschorr Hubertus Bock, Mahr’s Bock"]
["05A","05A - German Leichtbier",1.026,1.034,1.006,1.01,3.94,9.85,15,28,2.4,3.6,2,5,1026,1034,1006,1010,"German Leichtbier",2.2000000000000002,2.7,"Pale Bitter European beer","Pale Lager","Pilsner","Germany",1006,1010,"A pale, highly-attenuated, light-bodied German lager with lower alcohol and calories than normal-strength beers. Moderately bitter with noticeable malt and hop flavors, the beer is still interesting to drink.","Low to medium hop aroma, with a spicy, herbal, or floral character. Low to medium-low grainy-sweet or slightly crackery malt aroma. Clean fermentation profile. ","Straw to pale gold in color. Brilliant clarity. Moderate white head with average to below average persistence.","Low to medium grainy-sweet malt flavor initially. Medium hop bitterness. Low to medium hop flavor, with a spicy, herbal, or floral quality. Clean fermentation character, well-lagered. Dry finish with a light malty and hoppy aftertaste.","Light to very light body. Medium to high carbonation. Smooth, well-attenuated.","Marketed primarily as a diet-oriented beer with lower carbohydrates, alcohol, and calories. Pronounced “LYESHT-beer.” May also be known as a Diat Pils or Helles, this style is in the schankbier gravity class. Other variations of Leicht class beers can be made from Weissbier, Kölsch, and Altbier; those beers are best entered in the Mixed-Style Beer category.","Traditional versions existed as drinks for physical laborers in factories or fields, but modern versions are more based on popular American products in the same class.","Similar to a German Pils or Helles, continental Pils malt, German lager yeast, Saazer-type hops.","Like a lower-alcohol, lighter-bodied, slightly less aggressive German Pils or Helles.","Beck’s Light, Bitburger Light, Mahr’s Leicht, Paulaner Münchner Hell Leicht, Paulaner Premium Leicht"]
["05B","05B - Kölsch",1.044,1.05,1.0069999999999999,1.0109999999999999,6.8949999999999996,9.85,18,30,4.4000000000000004,5.2,3.5,5,1044,1050,1007,1011,"Kölsch",2.2000000000000002,2.7,"Pale Bitter European beer","Pale Ale","Top-Fermented German Lagers","Germany",1007,1011,"A clean, crisp, delicately-balanced beer usually with a very subtle fruit and hop character. Subdued maltiness throughout leads into a pleasantly well-attenuated and refreshing finish. Freshness makes a huge difference with this beer, as the delicate character can fade quickly with age. Brilliant clarity is characteristic.","Low to very low malt aroma, with a grainy-sweet character. A pleasant, subtle fruit aroma from fermentation (apple, cherry or pear) is acceptable, but not always present. A low floral, spicy or herbal hop aroma is optional but not out of style. Some yeast strains may give a slight winy or sulfury character (this characteristic is also optional, but not a fault). Overall, the intensity of aromatics is fairly subtle but generally balanced, clean, and fresh.","Very pale gold to light gold. Very clear (authentic commercial versions are filtered to a brilliant clarity). Has a delicate white head that may not persist.","Soft, rounded palate comprised of a delicate flavor balance between soft yet attenuated malt, an almost imperceptible fruity sweetness from fermentation, and a medium-low to medium bitterness with a delicate dryness and slight crispness in the finish (but no harsh aftertaste). The malt tends to be grainy-sweet, possibly with a very light bready or honey quality. The hop flavor is variable, and can range from low to moderately-high; most are medium-low to medium intensity and have a floral, spicy, or herbal character. May have a malty-sweet impression at the start, but this is not required. No noticeable residual sweetness. May have a slightly winy, minerally, or sulfury accent that accentuates the dryness and flavor balance. A slight wheat taste is rare but not a fault. Otherwise, very clean.","Medium-light to medium body (most are medium-light). Medium to medium-high carbonation. Smooth and generally crisp and well-attenuated.","Characterized in Germany as a top-fermented, lagered beer. Each Köln brewery produces a beer of different character, and each interprets the Kölsch Konvention slightly differently. Allow for a range of variation within the style when judging. Note that drier versions may seem hoppier or more bitter than the IBU specifications might suggest. Due to its delicate flavor profile, Kölsch tends to have a relatively short shelf-life; older examples and imports can easily show some oxidation defects. Served in Köln in a tall, narrow 200ml glass called a Stange.","Cologne, Germany (Köln) has a top-fermenting brewing tradition since the Middle Ages, but developed the beer now known as Kölsch in the late 1800s to combat encroaching bottom-fermented pale lagers. Kölsch is an appellation protected by the Kölsch Konvention (1986), and is restricted to the 20 or so breweries in and around Köln. The Konvention simply defines the beer as a “light, highly attenuated, hop-accentuated, clear, top-fermenting Vollbier.” ","Traditional German hops (Hallertau, Tettnang, Spalt or Hersbrucker). German Pils or pale malt. Attenuative, clean ale yeast. Up to 20% wheat malt may be used, but this is quite rare in authentic versions. Current commercial practice is to ferment warm, cold condition for a short period of time, and serve young.","To the untrained taster, easily mistaken for a cream ale or somewhat subtle Pils.","Früh Kölsch, Gaffel Kölsch, Mühlen Kölsch, Reissdorf Kölsch, Sion Kölsch, Sünner Kölsch"]
["05C","05C - German Helles Exportbier",1.048,1.056,1.01,1.0149999999999999,7.88,13.79,20,30,4.8,6,4,7,1048,1056,1010,1015,"German Helles Exportbier",2.2000000000000002,2.7,"Pale Bitter European beer","Pale Lager","European Pale Lager","Germany",1010,1015,"A pale, well-balanced, smooth German lager that is slightly stronger than the average beer with a moderate body and a mild, aromatic hop and malt character. ","Low to medium hop aroma, typically floral, spicy, or herbal in character. Moderate grainy-sweet malt aroma. Clean fermentation profile. A slight sulfury note at the start that dissipates is not a fault, neither is a low background note of DMS.","Light gold to deep gold. Clear. Persistent white head.","Neither grainy-sweet malt nor floral, spicy, or herbal hops dominate, but both are in good balance with a touch of malty sweetness, providing a smooth yet crisply refreshing beer. Balance continues through the finish and the hop bitterness lingers in aftertaste (although some examples may finish slightly sweet). Clean fermentation character. Some mineral character might be noted from the water, although it usually does not come across as an overt minerally flavor.","Medium body, medium carbonation. Smooth but crisp.","Sometimes known as Dortmunder or Dortmunder Export. Brewed to a slightly higher starting gravity than other light lagers, providing a firm malty body and underlying maltiness to complement the sulfate-accentuated hop bitterness. The term “Export” is a beer strength descriptor under German brewing tradition, and is not strictly synonymous with the “Dortmunder” style; beer from other cities or regions can be brewed to Export strength, and labeled as such (even if not necessarily exported).","The Dortmunder style developed in the Dortmund industrial region in the 1870s in response to pale Pilsner-type beers, it became very popular after World War II but declined in the 1970s. Other Export-class beers developed independently, and reflected a slightly stronger version of existing beers. The modern German style is typically 12-13 °P.","Minerally water with high levels of sulfates, carbonates and chlorides, German or Czech noble hops, Pilsner malt, German lager yeast. Newer commercial versions can contain adjuncts and hop extract.","Less finishing hops and more body than a Pils but more bitter than a Helles.","DAB Original, Dortmunder Kronen, Dortmunder Union Export, Flensburger Gold, Gordon Biersch Golden Export, Great Lakes Dortmunder Gold"]
["05D","05D - German Pils",1.044,1.05,1.008,1.0129999999999999,3.94,9.85,22,40,4.4000000000000004,5.2,2,5,1044,1050,1008,1013,"German Pils",2.2000000000000002,2.7,"Pale Bitter European beer","Pilsner","Pilsner","Germany",1008,1013,"A light-bodied, highly-attenuated, gold-colored, bottom-fermented bitter German beer showing excellent head retention and an elegant, floral hop aroma. Crisp, clean, and refreshing, a German Pils showcases the finest quality German malt and hops.","Medium-low to low grainy-sweet-rich malt character (often with a light honey and slightly toasted cracker quality) and distinctive flowery, spicy, or herbal hops. Clean fermentation profile. May optionally have a very light sulfury note that comes from water as much as yeast. The hops are moderately-low to moderately-high, but should not totally dominate the malt presence. One-dimensional examples are inferior to the more complex qualities when all ingredients are sensed. May have a very low background note of DMS.","Straw to light gold, brilliant to very clear, with a creamy, long-lasting white head.","Medium to high hop bitterness dominates the palate and lingers into the aftertaste. Moderate to moderately-low grainy-sweet malt character supports the hop bitterness. Low to high floral, spicy, or herbal hop flavor. Clean fermentation profile. Dry to medium-dry, crisp, well-attenuated finish with a bitter aftertaste and light malt flavor. Examples made with water with higher sulfate levels often will have a low sulfury flavor that accentuates the dryness and lengthens the finish; this is acceptable but not mandatory. Some versions have a soft finish with more of a malt flavor, but still with noticeable hop bitterness and flavor, with the balance still towards bitterness.","Medium-light body. Medium to high carbonation.","Modern examples of Pils tend to become paler in color, drier in finish, and more bitter as you move from South to North in Germany, often mirroring the increase in sulfate in the water. The Pils found in Bavaria tend to be a bit softer in bitterness with more malt flavor and late hop character, yet still with sufficient hops and crispness of finish to differentiate itself from a Helles. The use of the term ‘Pils’ is more common in Germany than ‘Pilsner’ to differentiate it from the Czech style, and (some say) to show respect.","Adapted from Czech Pilsner to suit brewing conditions in Germany, particularly water with higher mineral content and domestic hop varieties. First brewed in Germany in the early 1870s. Became more popular after WWII as German brewing schools emphasized modern techniques. Along with its sister beer, Czech Pilsner, is the ancestor of the most widely produced beer styles today. Average IBUs of many well-regarded commercial examples have dropped over time.","Continental Pilsner malt, German hop varieties (especially Saazer-type varieties such as Tettnanger, Hallertauer, and Spalt for taste and aroma; Saaz is less common), German lager yeast.","Lighter in body and color, drier, crisper, and more fully attenuated, with more of a lingering bitterness, and with higher carbonation than a Czech Premium Pale Lager. More hop character, malt flavor, and bitterness than International Pale Lagers. More hop character and bitterness with a drier, crisper finish than a Munich Helles; the Helles has more malt flavor, but of the same character as the Pils.","König Pilsener, Left Hand Polestar Pils, Paulaner Premium Pils, Schönramer Pils, Stoudt Pils, Tröegs Sunshine Pils, Trumer Pils"]
["06A","06A - Märzen",1.054,1.06,1.01,1.014,15.76,33.49,18,24,5.8,6.3,8,17,1054,1060,1010,1014,"Märzen",2.6,2.7,"Amber Malty European Lager","Amber Lager","Amber Lager","Germany",1010,1014,"An elegant, malty German amber lager with a clean, rich, toasty and bready malt flavor, restrained bitterness, and a dry finish that encourages another drink. The overall malt impression is soft, elegant, and complex, with a rich aftertaste that is never cloying or heavy. ","Moderate intensity aroma of German malt, typically rich, bready, somewhat toasty, with light bread crust notes. Clean lager fermentation character. No hop aroma. Caramel, dry-biscuity, or roasted malt aromas inappropriate. Very light alcohol might be detected, but should never be sharp. Clean, elegant malt richness should be the primary aroma.","Amber-orange to deep reddish-copper color; should not be golden. Bright clarity, with persistent, off-white foam stand.","Initial malt flavor often suggests sweetness, but finish is moderately-dry to dry. Distinctive and complex maltiness often includes a bready, toasty aspect. Hop bitterness is moderate, and the hop flavor is low to none (German types: complex, floral, herbal, or spicy). Hops provide sufficient balance that the malty palate and finish do not seem sweet. The aftertaste is malty, with the same elegant, rich malt flavors lingering. Noticeable caramel, biscuit, or roasted flavors are inappropriate. Clean lager fermentation profile.","Medium body, with a smooth, creamy texture that often suggests a fuller mouthfeel. Medium carbonation. Fully attenuated, without a sweet or cloying impression. May be slightly warming, but the strength should be relatively hidden.","Modern domestic German Oktoberfest versions are golden – see the Festbier style for this version. Export German versions (to the United States, at least) are typically orange-amber in color, have a distinctive toasty malt character, and are most often labeled Oktoberfest. American craft versions of Oktoberfest are generally based on this style, and most Americans will recognize this beer as Oktoberfest. Historic versions of the beer tended to be darker, towards the brown color range, but there have been many ‘shades’ of Märzen (when the name is used as a strength); this style description specifically refers to the stronger amber lager version. The modern Festbier can be thought of as a pale Märzen by these terms.","As the name suggests, brewed as a stronger “March beer” in March and lagered in cold caves over the summer. Modern versions trace back to the lager developed by Spaten in 1841, contemporaneous to the development of Vienna lager. However, the Märzen name is much older than 1841; the early ones were dark brown, and in Austria the name implied a strength band (14 °P) rather than a style. The German amber lager version (in the Viennese style of the time) was first served at Oktoberfest in 1872, a tradition that lasted until 1990 when the golden Festbier was adopted as the standard festival beer. ","Grist varies, although traditional German versions emphasized Munich malt. The notion of elegance is derived from the finest quality ingredients, particularly the base malts. A decoction mash was traditionally used to develop the rich malt profile.","Not as strong and rich as a Dunkles Bock. More malt depth and richness than a Festbier, with a heavier body and slightly less hops. Less hoppy and equally malty as a Czech Amber Lager.","Buergerliches Ur-Saalfelder, Hacker-Pschorr Original Oktoberfest, Paulaner Oktoberfest, Weltenburg Kloster Anno 1050"]
["06B","06B - Rauchbier",1.05,1.0569999999999999,1.012,1.016,23.64,43.339999999999996,20,30,4.8,6,12,22,1050,1057,1012,1016,"Rauchbier",2.2000000000000002,2.7,"Amber Malty European Lager","Amber Lager","European Smoked Beer","Germany",1012,1016,"An elegant, malty German amber lager with a balanced, complementary beechwood smoke character. Toasty-rich malt in aroma and flavor, restrained bitterness, low to high smoke flavor, clean fermentation profile, and an attenuated finish are characteristic. ","Blend of smoke and malt, with a varying balance and intensity. The beechwood smoke character can range from subtle to fairly strong, and can seem smoky, woody, or bacon-like. The malt character can be low to moderate, and be somewhat rich, toasty, or malty-sweet. The malt and smoke components are often inversely proportional (i.e., when smoke increases, malt decreases, and vice versa). Hop aroma may be very low to none. Clean lager fermentation character.","This should be a very clear beer, with a large, creamy, rich, tan- to cream-colored head. Medium amber/light copper to dark brown color.","Generally follows the aroma profile, with a blend of smoke and malt in varying balance and intensity, yet always complementary. Märzen-like qualities should be noticeable, particularly a malty, toasty richness, but the beechwood smoke flavor can be low to high. At higher levels, the smoke can take on a ham- or bacon-like character, which is acceptable as long as it doesn’t veer into the greasy range. The palate can be somewhat malty, rich, and sweet, yet the finish tends to be medium-dry to dry with the smoke character sometimes enhancing the dryness of the finish. The aftertaste can reflect both malt richness and smoke flavors, with a balanced presentation desirable. Moderate, balanced, hop bitterness. Moderate to none hop flavor with spicy, floral, or herbal notes. Clean lager fermentation character. Harsh, bitter, burnt, charred, rubbery, sulfury or phenolic smoky characteristics are inappropriate.","Medium body. Medium to medium-high carbonation. Smooth lager character. Significant astringent, phenolic harshness is inappropriate.","Literally “smoke beer” in German. The intensity of smoke character can vary widely; not all examples are highly smoked. Allow for variation in the style when judging. Other examples of smoked beers are available in Germany based on styles such as Dunkles Bock, Weissbier, Dunkel, Schwarzbier, and Helles, including examples such as Spezial Lager; these should be entered in the Classic Style Smoked Beer category. This description specifically refers to the smoked Märzen version.","A historical specialty of the city of Bamberg, in the Franconian region of Bavaria in Germany. Beechwood-smoked malt is used to make a Märzen-style amber lager. The smoke character of the malt varies by maltster; some breweries produce their own smoked malt (rauchmalz).","German Rauchmalz (beechwood-smoked Vienna-type malt) typically makes up 20-100% of the grain bill, with the remainder being German malts typically used in a Märzen. Some breweries adjust the color slightly with a bit of roasted malt. German lager yeast. German or Czech hops.","Like a Märzen with but with a balanced, sweet, smoky aroma and flavor and a somewhat darker color.","Eisenbahn Rauchbier, Kaiserdom Rauchbier, Schlenkerla Rauchbier Märzen, Spezial Rauchbier Märzen Victory Scarlet Fire Rauchbier"]
["06C","06C - Dunkles Bock",1.0640000000000001,1.0720000000000001,1.0129999999999999,1.0189999999999999,27.58,43.339999999999996,20,27,6.3,7.2,14,22,1064,1072,1013,1019,"Dunkles Bock",2.2000000000000002,2.7,"Amber Malty European Lager","Bock","Bock","Germany",1013,1019,"A dark, strong, malty German lager beer that emphasizes the malty-rich and somewhat toasty qualities of continental malts without being sweet in the finish.","Medium to medium-high bready-malty-rich aroma, often with moderate amounts of rich Maillard products and/or toasty overtones. Virtually no hop aroma. Some alcohol may be noticeable. Clean lager character, although the malts can provide a slight (low to none) dark fruit character, particularly in aged examples. ","Light copper to brown color, often with attractive garnet highlights. Lagering should provide good clarity despite the dark color. Large, creamy, persistent, off-white head.","Complex, rich maltiness is dominated by the toasty-rich Maillard products. Some caramel notes may be present. Hop bitterness is generally only high enough to support the malt flavors, allowing a bit of sweetness to linger into the finish. Well-attenuated, not cloying. Clean fermentation profile, although the malt can provide a slight dark fruit character. No hop flavor. No roasted or burnt character.","Medium to medium-full bodied. Moderate to moderately low carbonation. Some alcohol warmth may be found, but should never be hot. Smooth, without harshness or astringency.","Decoction mashing and long boiling plays an important part of flavor development, as it enhances the caramel and Maillard flavor aspects of the malt. Any fruitiness is due to Munich and other specialty malts, not yeast-derived esters developed during fermentation.","Originated in the Northern German city of Einbeck, which was a brewing center and popular exporter in the days of the Hanseatic League (14th to 17th century). Recreated in Munich starting in the 17th century. The name “bock” is based on a corruption of the name “Einbeck” in the Bavarian dialect, and was thus only used after the beer came to Munich. “Bock” also means “Ram” in German, and is often used in logos and advertisements.","Munich and Vienna malts, rarely a tiny bit of dark roasted malts for color adjustment, never any non-malt adjuncts. Continental European hop varieties are used. Clean German lager yeast. ","Darker, with a richer malty flavor and less apparent bitterness than a Helles Bock. Less alcohol and malty richness than a Doppelbock. Stronger malt flavors and higher alcohol than a Märzen. Richer, less attenuated, and less hoppy than a Czech Amber Lager.","Aass Bock, Einbecker Ur-Bock Dunkel, Great Lakes Rockefeller Bock, Kneitinger Bock, New Glarus Uff-da Bock, Penn Brewery St. Nikolaus Bock"]
["07A","07A - Vienna Lager",1.048,1.0549999999999999,1.01,1.014,17.73,29.55,18,30,4.7,5.5,9,15,1048,1055,1010,1014,"Vienna Lager",2.4,2.6,"Amber Bitter European Beer","Amber Lager","Amber Lager","Austria",1010,1014,"A moderate-strength amber lager with a soft, smooth maltiness and moderate bitterness, yet finishing relatively dry. The malt flavor is clean, bready-rich, and somewhat toasty, with an elegant impression derived from quality base malts and process, not specialty malts and adjuncts.","Moderately-intense malt aroma, with toasty and malty-rich aromatics. Clean lager character. Floral, spicy hop aroma may be low to none. A significant caramel or roasted aroma is inappropriate.","Light reddish amber to copper color. Bright clarity. Large, off-white, persistent head.","Soft, elegant malt complexity is in the forefront, with a firm enough hop bitterness to provide a balanced finish. The malt flavor tends towards a rich, toasty character, without significant caramel or roast flavors. Fairly dry, crisp finish, with both rich malt and hop bitterness present in the aftertaste. Floral, spicy hop flavor may be low to none. Clean lager fermentation character.","Medium-light to medium body, with a gentle creaminess. Moderate carbonation. Smooth. ","A standard-strength everyday beer, not a beer brewed for festivals. American versions can be a bit stronger, drier and more bitter, while modern European versions tend to be sweeter. Many Mexican amber and dark lagers used to be more authentic, but unfortunately are now more like sweet, adjunct-laden Amber/Dark International Lagers. Regrettably, many modern examples use adjuncts which lessen the rich malt complexity characteristic of the best examples of this style. This style is on the watch list to move to the Historical category in future guidelines; that would allow the classic style to be described while moving the sweeter modern versions to the International Amber or Dark Lager styles.","Developed by Anton Dreher in Vienna in 1841, became popular in the mid-late 1800s. Now nearly extinct in its area of origin, the style continues in Mexico where it was brought by Santiago Graf and other Austrian immigrant brewers in the late 1800s. Authentic examples are increasingly hard to find (except perhaps in the craft beer industry) as formerly good examples become sweeter and use more adjuncts.","Vienna malt provides a lightly toasty and complex, Maillard-rich malt profile. As with Märzens, only the finest quality malt should be used, along with Continental hops (preferably Saazer types or Styrians). Can use some caramel malts and/or darker malts to add color and sweetness, but caramel malts shouldn’t add significant aroma and flavor and dark malts shouldn’t provide any roasted character.","Lighter malt character, slightly less body, and slightly more bitter in the balance than a Märzen, yet with many of the same malt-derived flavors. The malt character is similar to a Märzen, but less intense and more balanced. Lower in alcohol than Märzen or Festbier. Less rich, less malty and less hop-centered compared to Czech Amber Lager.","Cuauhtémoc Noche Buena, Chuckanut Vienna Lager, Devils Backbone Vienna Lager, Figueroa Mountain Danish-style Red Lager, Heavy Seas Cutlass Amber Lager, Schell’s Firebrick"]
["07B","07B - Altbier",1.044,1.052,1.008,1.014,21.669999999999998,33.49,25,50,4.3,5.5,11,17,1044,1052,1008,1014,"Altbier",2.1,3.1,"Amber Bitter European Beer","Amber Ale","Top-Fermented German Lagers","Germany",1008,1014,"A well-balanced, well-attenuated, bitter yet malty, clean, and smooth, amber- to copper-colored German beer. The bitterness is balanced by the malt richness, but the malt intensity and character can range from moderate to high (the bitterness increases with the malt richness). ","Clean yet robust and complex aroma of grainy-rich malt and spicy hops with restrained (low to medium-low) fruity esters. The malt character reflects German base malt varieties, with rich baked bread and nutty-toasty bread crust notes. The hop aroma may vary from moderate to low, and can have a peppery, spicy, floral, herbal or perfumy character associated with Saazer-type hops. ","The color ranges from light amber to deep copper color, stopping short of brown; bronze-orange is most common. Brilliant clarity. Thick, creamy, long-lasting off-white head.","Assertive hop bitterness well balanced by a sturdy yet clean and crisp malt character. The malt presence is moderated by medium-high to high attenuation, but considerable rich, complex, and somewhat grainy malt flavors can remain. Some fruity esters (especially cherry-like) may survive the lagering period. A long-lasting, medium-dry to dry, bittersweet or nutty finish reflects both the hop bitterness and malt complexity. Spicy, peppery or floral hop flavor can be moderate to low. No roasted malt flavors or harshness. The apparent bitterness level is sometimes masked by the malt character; the bitterness can seem as low as moderate if the finish is not very dry. Light sulfury or minerally character optional.","Medium-bodied. Smooth. Medium to medium-high carbonation, although can be lower when served from the cask. Astringency low to none. Despite being very full of flavor, is light-bodied enough to be consumed as a gravity-fed session beer in its home brewpubs in Düsseldorf.","A top-fermented lagered beer, fermented at cool ale temperature (59–68 °F), often conditioned at bottom-fermentation temperatures (about 50 °F) and then lagered at cold temperatures to produce a cleaner, smoother palate than is typical for most ales. Zum Uerige is a wonderful beer, but much more aggressively bitter and complex than most other German examples. It may be like the Fuller’s ESB of the strong bitter category – well-known but somewhat of a stylistic outlier. Do not judge all Altbiers as if they were Zum Uerige clones; allow for a more balanced bitterness in the beer (25–35 IBUs is more typical for most other German examples). Stronger sticke and doppelsticke beers should not be entered here.","The traditional style of beer from Düsseldorf. “Alt” refers to the “old” style of brewing (i.e., using top-fermenting yeast) that was common before bottom-fermenting lager brewing became popular. Predates the isolation of bottom-fermenting yeast strains, though it approximates many characteristics of bottom-fermenting lager beers. Many of the classic examples can be found in brewpubs in the Altstadt (“old town”) section of Düsseldorf.","Grists vary, but usually consist of German base malts (usually Pils, sometimes Munich) with small amounts of crystal, chocolate, and/or black malts used to adjust color. Occasionally will include some wheat, including roasted wheat. Spalt hops are traditional, but other Saazer-type hops can also be used. Clean, highly attenuative ale yeast. A step mash or decoction mash program is traditional.","More bitter and malty than international amber lagers. Somewhat similar to California Common, both in production technique and finished flavor and color, though not in ingredients.","Bolten Alt, Diebels Alt, Füchschen Alt, Original Schlüssel Alt, Schlösser Alt, Schumacher Alt, Uerige Altbier"]
["07C","07C - Pale Kellerbier",1.0449999999999999,1.0509999999999999,1.008,1.012,5.91,13.79,20,35,4.7,5.4,3,7,1045,1051,1008,1012,"Pale Kellerbier",2.2000000000000002,2.7,"Amber Bitter European Beer","Pale Lager","Pilsner","Germany",1008,1012,"A young, fresh Helles, so while still a malty, fully-attenuated Pils malt showcase, the hop character (aroma, flavor and bitterness) is more pronounced, and the beer is cloudy, often with some level of diacetyl, and possibly has some green apple and/or other yeast-derived notes. As with the traditional Helles, the Keller version is still a beer intended to be drunk by the liter, so overall it should remain a light, refreshing, easy drinking golden lager.","Moderately-low to moderately-high spicy, floral, or herbal hop aroma. Very low to moderate diacetyl, possible very low green apple or other yeast derived notes. Pleasantly grainy-sweet, clean malt aroma, with possible low background note of DMS.","Slight haze to moderately cloudy, but never extremely cloudy or murky. Medium yellow to pale gold color. Creamy white head with good persistence. When served on cask, can have low carbonation and very low head.","Moderately malty with a rounded, grainy-sweet profile. Low to moderately-high spicy, floral, or herbal hop flavor, with a moderate hop bitterness that can linger. Finish is crisp and dry, but the aftertaste remains malty. Very low to moderate diacetyl, which should always remain at a pleasant, drinkable level that balances somewhat with the other characteristics of the beer; overwhelming diacetyl is not appropriate. Possible very low green apple or other yeast derived notes, and possible low background note of DMS. ","Medium body. Low to medium carbonation. Depending on the level of yeast in suspension, it may assist in creating a slightly creamy texture. A slight slickness on the tongue may be present from the diacetyl.","Most Pale Kellerbiers are young, unfiltered, unpasteurized versions of Munich Helles beer, although Pils or a different, custom golden lager beer designed specifically for serving young could also be used. The best examples are served only on tap at many of the Munich area breweries. Bottled versions are not likely to have the freshness, hop character and young beer notes exhibited by the draft versions.","Modern adaptation from the traditional Franconian style, using Helles instead of Märzen. Today, a popular summer seasonal beer. Originally, Kellerbier referred to any Lager beer being matured in the caves or cellars under the brewery. In the 19th century, Kellerbier was a strong, aged beer meant to last the summer (Sommerbier), stored in rock cellars and served straight from them. But when refrigeration began to be used, the term shifted to describing special beers that were served young, directly from the cellar or lagering vessel. Today some breweries use the term purely for marketing purposes to make their beers appear special. While a kellerbier is sometimes considered more of a serving style than a beer style, the serving technique is still predominately used with certain styles in certain regions (such as Helles around the Munich area, or a Märzen in the Franconia region).","Pilsner malt, German hops, German lager yeast; same as a Munich Helles.","Most commonly, a young, unfiltered and unpasteurized version of a Munich Helles, though it can be a young, unfiltered and unpasteurized version of other golden German lagers, such as a Pilsner or a seasonal golden lager made specifically for serving young.","(local) Paulaner, Paulaner Brauhaus, Hofbrau, Tegernseer Tal. (bottled) Ayinger Kellerbier, Hacker-Pschorr Munchner Kellerbier Anno 1417, Hofbrau Munchner Sommer Naturtrub, Wolnzacher Hell Naturtrüb","A very common seasonal summer beer brewed by many of the Munich area breweries and served in the beer gardens, where they are very popular."]
["07C","07C - Amber Kellerbier",1.048,1.054,1.012,1.016,13.79,33.49,25,40,4.8,5.4,7,17,1048,1054,1012,1016,"Amber Kellerbier",2.2000000000000002,2.7,"Amber Bitter European Beer","Amber Lager","Amber Lager","Germany",1012,1016,"A young, unfiltered, and unpasteurized beer that is between a Helles and Märzen in color, spicier in the hops with greater attenuation. Interpretations range in color and balance, but remain in the drinkable 4.8% ABV neighborhood. Balance ranges from the dry, spicy and pale-colored interpretations by St. Georgen and Löwenbräu of Buttenheim, to darker and maltier interpretations in the Fränkische Schweiz. This style is above all a method of producing simple drinkable beers for neighbors out of local ingredients to be served fresh. Balance with a focus on drinkability and digestibility is important.","Moderate intensity of German malt, typically rich, bready, somewhat toasty, with light bread crust notes. Moderately-low to moderate spicy peppery hop aroma. Very low to low diacetyl, occasionally low to moderately-low sulfur and very low green apple or other yeast-derived notes. Caramel, biscuity, or roasted malt aroma is inappropriate.","Moderately cloudy to clear depending on age, but never extremely cloudy or murky. Gold to deep reddish-amber color. Off-white, creamy head. When served on cask, can have low carbonation and very low head.","Initial malt flavor may suggest sweetness, but finish is moderately dry to dry, and slightly bitter. Distinctive and complex maltiness often includes a bready-toasty aspect. Hop bitterness is moderate to moderately high, and spicy or herbal hop flavor is low to moderately high. Balance can be either on the malt or hop side, but the finish is not sweet. Noticeable caramel or roasted malt flavors are inappropriate. Very low to low diacetyl. Possible very low green apple or other yeast-derived notes. Smooth, malty aftertaste.","Medium body, with a creamy texture and medium carbonation. Fully fermented, without a sweet or cloying impression.","The best examples of Amber Kellerbier are served only on tap at many of the small Franconia area breweries (as this is a beer best served fresh and the serving style being an important part of the style). Bottled versions are not likely to have the freshness, hop character and young beer notes exhibited by the draft versions.","This was the classic, historical style before it was adapted in other areas. This original, older style of Kellerbier would have simply been beer served from local taverns that did not lager long enough to drop bright. Many breweries in Franconia would use some of this young beer during the summer months, for festivals such as the Annafest (est. 1840) in July in Forchheim, where it was traditional to drink directly from the lagering vessels. Originally, Kellerbier referred to any Lager beer being matured in the caves or cellars under the brewery. In the 19th century, Kellerbier was a strong, aged beer meant to last the summer (Sommerbier), stored in rock cellars and served straight from them. But when refrigeration began to be used, the term shifted to describing special beers that were served young, directly from the cellar or lagering vessel. Today some breweries use the term purely for marketing purposes to make their beers appear special. While a kellerbier is sometimes considered more of a serving style than a beer style, the serving technique is still predominately used with certain styles in certain regions (such as Helles around the Munich area, or a Märzen in the Franconia region).","Grist varies, although traditional German versions emphasized Franconian pale and color malt. The notion of elegance is derived from the high-quality local ingredients, particularly the malts. Spalt or other typically spicy local hops are most common. Frugal Franconian brewers rarely used decoction brewing due to the cost of energy.","Most commonly, this style is a young, unfiltered, unpasteurized, hoppier version of Munich Helles or Märzen. Fränkische Schweiz versions can edge up to dark amber or brown.","(local) Greif, Eichhorn, Nederkeller, Hebendanz (bottled) Buttenheimer Kaiserdom Kellerbier, Kulmbacher Monchshof Kellerbier, Leikeim Kellerbier, Löwenbräu Kellerbier, Mahr’s Kellerbier, St. Georgen Kellerbier, Tucher Kellerbier Naturtrub","The original style of Kellerbier from the Franconia area of Germany. A much older style compared to the relatively more recent pale Helles-Style Kellerbier that is popular in the Munich area today."]
["08A","08A - Munich Dunkel",1.048,1.056,1.01,1.016,27.58,55.16,18,28,4.5,5.6,14,28,1048,1056,1010,1016,"Munich Dunkel",2.2000000000000002,2.7,"Dark European Lager","Dark Lager","Dark Lager","Germany",1010,1016,"Characterized by depth, richness and complexity typical of darker Munich malts with the accompanying Maillard products. Deeply bready-toasty, often with chocolate-like flavors in the freshest examples, but never harsh, roasty, or astringent; a decidedly malt-balanced beer, yet still easily drinkable.","Rich, elegant, deep malt sweetness, typically like bread crusts (often toasted bread crusts). Hints of chocolate, nuts, caramel, and/or toffee are also acceptable, with fresh traditional versions often showing higher levels of chocolate. Clean fermentation profile. A slight spicy, floral, or herbal hop aroma is acceptable.","Deep copper to dark brown, often with a red or garnet tint. Creamy, light to medium tan head. Usually clear, although murky unfiltered versions exist.","Dominated by the soft, rich, and complex flavor of darker Munich malts, usually with overtones reminiscent of toasted bread crusts, but without a burnt-harsh-grainy toastiness. The palate can be moderately malty, although it should not be overwhelming or cloyingly sweet. Mild caramel, toast or nuttiness may be present. Very fresh examples often have a pleasant malty-chocolate character that isn’t roasty or sweet. Burnt or bitter flavors from roasted malts are inappropriate, as are pronounced caramel flavors from crystal malt. Hop bitterness is moderately low but perceptible, with the balance tipped firmly towards maltiness. Hop flavor is low to none; if noted, should reflect floral, spicy, or herbal German-type varieties. Aftertaste remains malty, although the hop bitterness may become more apparent in the medium-dry finish. Clean fermentation profile and lager character.","Medium to medium-full body, providing a soft and dextrinous mouthfeel without being heavy or cloying. Moderate carbonation. The use of continental Munich-type malts should provide a richness, not a harsh or biting astringency.","Unfiltered versions from Germany can taste like liquid bread, with a yeasty, earthy richness not found in exported filtered examples.","The classic brown lager style of Munich which developed as a darker, more malt-accented beer than other regional lagers. While originating in Munich, the style became popular throughout Bavaria (especially Franconia). Franconian versions are often darker and more bitter.","Grist is traditionally made up of German Munich malt (up to 100% in some cases) with the remainder German Pilsner malt. Small amounts of crystal malt can add dextrins and color but should not introduce excessive residual sweetness. Slight additions of roasted malts (such as Carafa or chocolate) may be used to improve color but should not add strong flavors. Traditional German hop varieties and German lager yeast strains should be used. Often decoction mashed (up to a triple decoction) to enhance the malt flavors and create the depth of color.","Not as intense in maltiness as a bock (and thus more drinkable in quantity). Lacking the more roasted flavors (and often hop bitterness) of a schwarzbier. Richer, more malt-centric, and less hoppy than a Czech Dark Lager.","Ayinger Altbairisch Dunkel, Chuckanut Dunkel Lager, Ettaler Kloster Dunkel, Hacker-Pschorr Alt Munich Dark, Weltenburger Kloster Barock-Dunkel"]
["08B","08B - Schwarzbier",1.046,1.052,1.01,1.016,33.49,59.1,20,30,4.4000000000000004,5.4,17,30,1046,1052,1010,1016,"Schwarzbier",2.2000000000000002,2.7,"Dark European Lager","Dark Lager","Dark Lager","Germany",1010,1016,"A dark German lager that balances roasted yet smooth malt flavors with moderate hop bitterness. The lighter body, dryness, and lack of a harsh, burnt, or heavy aftertaste helps make this beer quite drinkable.","Low to moderate malt, with low aromatic malty sweetness and/or hints of roast malt often apparent. The malt can be clean and neutral or moderately rich and bready, and may have a hint of dark caramel. The roast character can be somewhat dark chocolate- or coffee-like but should never be burnt. A low spicy, floral, or herbal hop aroma is optional. Clean lager yeast character, although a light sulfur is possible.","Medium to very dark brown in color, often with deep ruby to garnet highlights, yet almost never truly black. Very clear. Large, persistent, tan-colored head.","Light to moderate malt flavor, which can have a clean, neutral character to a moderately rich, bread-malty quality. Light to moderate roasted malt flavors can give a bitter-chocolate palate that lasts into the finish, but which are never burnt. Medium-low to medium bitterness, which can last into the finish. Light to moderate spicy, floral, or herbal hop flavor. Clean lager character. Aftertaste tends to dry out slowly and linger, featuring hop bitterness with a complementary but subtle roastiness in the background. Some residual sweetness is acceptable but not required.","Medium-light to medium body. Moderate to moderately-high carbonation. Smooth. No harshness or astringency, despite the use of dark, roasted malts.","Literally means “black beer” in German. While sometimes called a “black Pils,” the beer is rarely as dark as black or as bitter as a Pils; don’t expect strongly roasted, porter-like flavors. ","A regional specialty from Thuringia, Saxony and Franconia in Germany. History is a bit sketchy, but is suspected of being originally a top-fermented beer. Popularity grew after German reunification. Served as the inspiration for black lagers brewed in Japan.","German Munich malt and/or Pilsner malts for the base, supplemented by a judicious use of roasted malts (such as Carafa types) for the dark color and subtle roast flavors. Huskless dark roasted malts can add roast flavors without burnt flavors. German hop varieties and clean German lager yeasts are traditional.","In comparison with a Munich Dunkel, usually darker in color, drier on the palate, lighter in body, and with a noticeable (but not high) roasted malt edge to balance the malt base. Should not taste like an American Porter made with lager yeast. Drier, less malty, with less hop character than a Czech Dark Lager.","Devils Backbone Schwartz Bier, Einbecker Schwarzbier, Eisenbahn Dunkel, Köstritzer Schwarzbier, Mönchshof Schwarzbier, Nuezeller Original Badebier"]
["09A","09A - Doppelbock",1.0720000000000001,1.1120000000000001,1.016,1.024,11.82,49.25,16,26,7,10,6,25,1072,1112,1016,1024,"Doppelbock",2.2000000000000002,2.7,"Strong European Beer","Bock","Bock","Germany",1016,1024,"A strong, rich, and very malty German lager that can have both pale and dark variants. The darker versions have more richly-developed, deeper malt flavors, while the paler versions have slightly more hops and dryness.","Very strong maltiness. Darker versions will have significant Maillard products and often some toasty aromas. A light caramel aroma is acceptable. Lighter versions will have a strong malt presence with some Maillard products and toasty notes. Virtually no hop aroma, although a light noble hop aroma is acceptable in pale versions. A moderately low malt-derived dark fruit character may be present (but is optional) in dark versions. A very slight chocolate-like aroma may be present in darker versions, but no roasted or burned aromatics should ever be present. Moderate alcohol aroma may be present.","Deep gold to dark brown in color. Darker versions often have ruby highlights. Lagering should provide good clarity. Large, creamy, persistent head (color varies with base style: white for pale versions, off-white for dark varieties). Stronger versions might have impaired head retention, and can display noticeable legs.","Very rich and malty. Darker versions will have significant Maillard products and often some toasty flavors. Lighter versions will have a strong malt flavor with some Maillard products and toasty notes. A very slight chocolate flavor is optional in darker versions, but should never be perceived as roasty or burnt. Clean lager character. A moderately low malt-derived dark fruit character is optional in darker versions. Invariably there will be an impression of alcoholic strength, but this should be smooth and warming rather than harsh or burning. Little to no hop flavor (more is acceptable in pale versions). Hop bitterness varies from moderate to moderately low but always allows malt to dominate the flavor. Most versions are fairly malty-sweet, but should have an impression of attenuation. The sweetness comes from low hopping, not from incomplete fermentation. Paler versions generally have a drier finish.","Medium-full to full body. Moderate to moderately-low carbonation. Very smooth without harshness, astringency. A light alcohol warmth may be noted, but it should never burn.","Most versions are dark colored and may display the caramelizing and Maillard products of decoction mashing, but excellent pale versions also exist. The pale versions will not have the same richness and darker malt flavors of the dark versions, and may be a bit drier, hoppier and more bitter. While most traditional examples are in the lower end of the ranges cited, the style can be considered to have no upper limit for gravity, alcohol and bitterness (thus providing a home for very strong lagers). ","A Bavarian specialty first brewed in Munich by the monks of St. Francis of Paula. Historical versions were less well-attenuated than modern interpretations, with consequently higher sweetness and lower alcohol levels (and hence was considered “liquid bread” by the monks). The term “doppel (double) bock” was coined by Munich consumers. Many commercial doppelbocks have names ending in “-ator,” either as a tribute to the prototypical Salvator or to take advantage of the beer’s popularity. Traditionally dark brown in color; paler examples are a more recent development.","Pils and/or Vienna malt for pale versions (with some Munich), Munich and Vienna malts for darker ones and occasionally a tiny bit of darker color malts (such as Carafa). Saazer-type hops. Clean lager yeast. Decoction mashing is traditional.","A stronger, richer, more full-bodied version of either a Dunkles Bock or a Helles Bock. Pale versions will show higher attenuation and less dark fruity character than the darker versions.","Dark Versions –Andechser Doppelbock Dunkel, Ayinger Celebrator, Paulaner Salvator, Spaten Optimator, Tröegs Troegenator, Weihenstephaner Korbinian,; Pale Versions – Eggenberg Urbock 23º, EKU 28, Plank Bavarian Heller Doppelbock"]
["09B","09B - Eisbock",1.0780000000000001,1.1200000000000001,1.02,1.0349999999999999,35.46,59.1,25,35,9,14,18,30,1078,1120,1020,1035,"Eisbock",2.2000000000000002,2.7,"Strong European Beer","Bock","Bock","Germany",1020,1035,"A strong, full-bodied, rich, and malty dark German lager often with a viscous quality and strong flavors. Even though flavors are concentrated, the alcohol should be smooth and warming, not burning. ","Dominated by a balance of rich, intense malt and a definite alcohol presence. No hop aroma. May have significant malt-derived dark fruit esters. Alcohol aromas should not be harsh or solventy.","Deep copper to dark brown in color, often with attractive ruby highlights. Lagering should provide good clarity. Head retention may be moderate to poor. Off-white to deep ivory colored head. Pronounced legs are often evident.","Rich, sweet malt balanced by a significant alcohol presence. The malt can have Maillard products, toasty qualities, some caramel, and occasionally a slight chocolate flavor. No hop flavor. Hop bitterness just offsets the malt sweetness enough to avoid a cloying character. May have significant malt-derived dark fruit esters. The alcohol should be smooth, not harsh or hot, and should help the hop bitterness balance the strong malt presence. The finish should be of malt and alcohol, and can have a certain dryness from the alcohol. It should not by sticky, syrupy or cloyingly sweet. Clean lager character.","Full to very full-bodied. Low carbonation. Significant alcohol warmth without sharp hotness. Very smooth without harsh edges from alcohol, bitterness, fusels, or other concentrated flavors.","Extended lagering is often needed post-freezing to smooth the alcohol and enhance the malt and alcohol balance. Pronounced “ICE-bock.”","A traditional Kulmbach specialty brewed by freezing a doppelbock and removing the ice to concentrate the flavor and alcohol content (as well as any defects).","Same as doppelbock. Commercial eisbocks are generally concentrated anywhere from 7% to 33% (by volume).","Eisbocks are not simply stronger doppelbocks; the name refers to the process of freezing and concentrating the beer and is not a statement on alcohol; some doppelbocks are stronger than Eisbocks. Not as thick, rich, or sweet as a Wheatwine.","Kulmbacher Eisbock"]
["09C","09C - Baltic Porter",1.06,1.0900000000000001,1.016,1.024,33.49,59.1,20,40,6.5,9.5,17,30,1060,1090,1016,1024,"Baltic Porter",2.7,2.2999999999999998,"Strong European Beer","Porter","Porter","Scandinavia",1016,1024,"A Baltic Porter often has the malt flavors reminiscent of an English porter and the restrained roast of a schwarzbier, but with a higher OG and alcohol content than either. Very complex, with multi-layered malt and dark fruit flavors.","Rich malty sweetness often containing caramel, toffee, nutty to deep toast, and/or licorice notes. Complex alcohol and ester profile of moderate strength, and reminiscent of plums, prunes, raisins, cherries or currants, occasionally with a vinous Port-like quality. Some darker malt character that is deep chocolate, coffee or molasses but never burnt. No hops. No sourness. Very smooth.","Dark reddish-copper to opaque dark brown (not black). Thick, persistent tan-colored head. Clear, although darker versions can be opaque.","As with aroma, has a rich malty sweetness with a complex blend of deep malt, dried fruit esters, and alcohol. Has a prominent yet smooth schwarzbier-like roasted flavor that stops short of burnt. Mouth-filling and very smooth. Clean lager character. Starts sweet but darker malt flavors quickly dominates and persists through finish. Just a touch dry with a hint of roast coffee or licorice in the finish. Malt can have a caramel, toffee, nutty, molasses and/or licorice complexity. Light hints of black currant and dark fruits. Medium-low to medium bitterness from malt and hops, just to provide balance. Hop flavor from slightly spicy hops ranges from none to medium-low.","Generally quite full-bodied and smooth, with a well-aged alcohol warmth. Medium to medium-high carbonation, making it seem even more mouth-filling. Not heavy on the tongue due to carbonation level. ","May also be described today as an Imperial Porter, although heavily roasted or hopped versions are not appropriate for this style. Most versions are in the 7–8.5% ABV range. Danish breweries often refer to them as Stouts, which indicates their historic lineage from the days when Porter was used as a generic name for Porter and Stout.","Traditional beer from countries bordering the Baltic Sea, developed indigenously after higher-gravity export brown or imperial stouts from England were established. Historically top-fermented, many breweries adapted the recipes for bottom-fermenting yeast along with the rest of their production.","Generally lager yeast (cold fermented if using ale yeast, as is required when brewed in Russia). Debittered chocolate or black malt. Munich or Vienna base malt. Continental hops (Saazer-type, typically). May contain crystal malts and/or adjuncts. Brown or amber malt common in historical recipes.","Much less roasted and smoother than an Imperial Stout, typically with less alcohol. Lacks the roasty qualities of stouts in general, more taking on the roasted-but-not-burnt characteristics of a schwarzbier. Quite fruity compared to other porters. Higher alcohol than other porters.","Aldaris Porteris, Baltika #6 Porter, Devils Backbone Danzig, Okocim Porter, Sinebrychoff Porter, Zywiec Porter"]
["10A","10A - Weissbier",1.044,1.052,1.01,1.014,3.94,11.82,8,15,4.3,5.6,2,6,1044,1052,1010,1014,"Weissbier",3.3,4.3,"German Wheat Beer","Wheat Beer","Wheat Beer","Germany",1010,1014,"A pale, refreshing German wheat beer with high carbonation, dry finish, a fluffy mouthfeel, and a distinctive banana-and-clove yeast character.","Moderate to strong phenols (usually clove) and fruity esters (typically banana). The balance and intensity of the phenol and ester components can vary but the best examples are reasonably balanced and fairly prominent. The hop character ranges from low to none. A light to moderate wheat aroma (which might be perceived as bready or grainy) may be present but other malt characteristics should not. Optional, but acceptable, aromatics can include a light to moderate vanilla character, and/or a faint bubblegum aroma. None of these optional characteristics should be high or dominant, but often can add to the complexity and balance.","Pale straw to gold in color. A very thick, moussy, long-lasting white head is characteristic. The high protein content of wheat impairs clarity in an unfiltered beer, although the level of haze is somewhat variable. ","Low to moderately strong banana and clove flavor. The balance and intensity of the phenol and ester components can vary but the best examples are reasonably balanced and fairly prominent. Optionally, a very light to moderate vanilla character and/or faint bubblegum notes can accentuate the banana flavor, sweetness and roundness; neither should be dominant if present. The soft, somewhat bready or grainy flavor of wheat is complementary, as is a slightly grainy-sweet malt character. Hop flavor is very low to none, and hop bitterness is very low to moderately low. Well-rounded, flavorful palate with a relatively dry finish. The perception of sweetness is more due to the absence of hop bitterness than actual residual sweetness; a sweet or heavy finish would significantly impair drinkability.","Medium-light to medium body; never heavy. Suspended yeast may increase the perception of body. The texture of wheat imparts the sensation of a fluffy, creamy fullness that may progress to a light, spritzy finish aided by high to very high carbonation. Always effervescent.","These are refreshing, fast-maturing beers that are lightly hopped and show a unique banana-and-clove yeast character. These beers often don’t age well and are best enjoyed while young and fresh. The version mit hefe is served with suspended yeast; the krystal version is filtered for excellent clarity. The character of a krystal weizen is generally fruitier and less phenolic than that of the weissbier mit hefe. May be known as hefeweizen, particularly in the United States. ","While Bavaria has a wheat beer tradition dating back hundreds of years, brewing wheat beer used to be a monopoly reserved for Bavarian royalty. Modern weissbier dates from 1872 when Schneider began production. However, pale weissbier only became popular since the 1960s. It is quite popular today, particularly in southern Germany.","By German brewing tradition, at least 50% of the grist must be malted wheat, although some versions use up to 70%; the remainder is typically Pilsner malt. A decoction mash is traditional, although modern brewers typically don’t follow this practice. Weizen ale yeast produces the typical spicy and fruity character, although high fermentation temperatures can affect the balance and produce off-flavors. ",null,"Ayinger Bräu Weisse, Hacker-Pschorr Weisse, Paulaner Hefe-Weizen Naturtrüb, Schneider Weisse Unser Original, Weihenstephaner Hefeweissbier"]
["10B","10B - Dunkles Weissbier",1.044,1.056,1.01,1.014,27.58,45.31,10,18,4.3,5.6,14,23,1044,1056,1010,1014,"Dunkles Weissbier",3.3,4.3,"German Wheat Beer","Wheat Beer","Wheat Beer","Germany",1010,1014,"A moderately dark German wheat beer with a distinctive banana-and-clove yeast character, supported by a toasted bread or caramel malt flavor. Highly carbonated and refreshing, with a creamy, fluffy texture and light finish that encourages drinking.","Moderate phenols (usually clove) and fruity esters (usually banana). The balance and intensity of the phenol and ester components can vary but the best examples are reasonably balanced. Optionally, a low to moderate vanilla character and/or faint bubblegum notes may be present, but should not dominate. Hop aroma ranges from low to none, and may be lightly floral, spicy, or herbal. A light to moderate wheat aroma (which might be perceived as bready, doughy or grainy) may be present and is often accompanied by a caramel, bread crust, or richer malt aroma. The malt aroma may moderate the phenols and esters somewhat.","Light copper to mahogany brown in color. A very thick, moussy, long-lasting off-white head is characteristic. The high protein content of wheat impairs clarity in this traditionally unfiltered style, although the level of haze is somewhat variable. Suspended yeast sediment can contribute to cloudiness.","Low to moderately strong banana and clove flavor. The balance and intensity of the phenol and ester components can vary but the best examples are reasonably balanced and fairly prominent. Optionally, a very light to moderate vanilla character and/or faint bubblegum notes can accentuate the banana flavor, sweetness and roundness; neither should be dominant if present. The soft, somewhat bready, doughy, or grainy flavor of wheat is complementary, as is a richer caramel, toast, or bread crust flavor. The malty richness can be low to medium-high, and supports the yeast character. A roasted malt character is inappropriate. A spicy, herbal, or floral hop flavor is very low to none, and hop bitterness is very low to low. Well-rounded, flavorful, often somewhat malty palate with a relatively dry finish.","Medium-light to medium-full body. The texture of wheat as well as yeast in suspension imparts the sensation of a fluffy, creamy fullness that may progress to a lighter finish, aided by moderate to high carbonation. Effervescent. ","The presence of Munich and/or Vienna-type barley malts gives this style a deep, rich barley malt character not found in a weissbier. Often known as dunkelweizen, particularly in the United States.","Bavaria has a wheat beer brewing traditional hundreds of years old, but the brewing right was reserved for Bavarian royalty until the late 1700s. Old-fashioned Bavarian wheat beer was often dark, as were most beer of the day. Pale weissbier started to become popular in the 1960s, but traditional dark wheat beer remained somewhat of an old person’s drink.","By German brewing tradition, at least 50% of the grist must be malted wheat, although some versions use up to 70%; the remainder is usually Munich, Vienna, or dark or caramel wheat malts, or Pilsner malt with color malt. A decoction mash is traditional, but infrequently used today. Weizen ale yeasts produce the typical spicy and fruity character, although extreme fermentation temperatures can affect the balance and produce off-flavors. ","Reflecting the best yeast and wheat character of a weissbier blended with the malty richness of a Munich dunkel. The banana and clove character is often less apparent than in a weissbier due to the increased maltiness.","Ayinger Ur-Weisse, Ettaler Weissbier Dunkel, Franziskaner Hefe-Weisse Dunkel, Hacker-Pschorr Weisse Dark, Tucher Dunkles Hefe Weizen, Weihenstephaner Hefeweissbier Dunkel"]
["10C",{"$f":"A34&\" - \"&S34","v":"10C - Weizenbock"},{"$f":"O34/1000","v":1.0640000000000001},1.0900000000000001,1.0149999999999999,1.022,11.82,49.25,15,30,6.5,9,6,25,1064,1090,1015,1022,"Weizenbock",3.3,4.3,"German Wheat Beer","Wheat Beer","Wheat Beer","Germany",1015,1022,"A strong, malty, fruity, wheat-based ale combining the best malt and yeast flavors of a weissbier (pale or dark) with the malty-rich flavor, strength, and body of a Dunkles Bock or Doppelbock.","Medium-high to high malty-rich character with a significant bready-grainy wheat component. Paler versions will have a bready-toasty malty richness, while darker versions will have a deeper, richer malt presence with significant Maillard products. The malt component is similar to a helles bock for pale versions (grainy-sweet-rich, lightly toasted) or a dunkles bock for dark versions (bready-malty-rich, highly toasted, optional caramel). The yeast contributes a typical weizen character of banana and spice (clove, vanilla), which can be medium-low to medium-high. Darker versions can have some dark fruit aroma (plums, prunes, grapes, raisins), particularly as they age. A low to moderate alcohol aroma is acceptable, but shouldn’t be hot or solventy. No hop aroma. The malt, yeast, and alcohol intertwine to produce a complex, inviting, prominent bouquet.","Pale and dark versions exist, with pale versions being light gold to light amber, and dark versions being dark amber to dark ruby-brown in color. A very thick, moussy, long-lasting white to off-white (pale versions) or light tan (dark versions) head is characteristic. The high protein content of wheat impairs clarity in this traditionally unfiltered style, although the level of haze is somewhat variable. Suspended yeast sediment can contribute to the cloudiness.","Similar to the aroma, a medium-high to high malty-rich flavor together with a significant bready-grainy wheat flavor. Paler versions will have a bready, toasty, grainy-sweet malt richness, while darker versions will have deeper, bready-rich or toasted malt flavors with significant Maillard products, optional caramel. Low to moderate banana and spice (clove, vanilla) yeast character. Darker versions can have some dark fruit flavor (plums, prunes, grapes, raisins), particularly as they age. A light chocolate character (but not roast) is optional in darker versions. No hop flavor. A low hop bitterness can give a slightly sweet palate impression, but the beer typically finishes dry (sometimes enhanced by a light alcohol character). The interplay between the malt, yeast, and alcohol adds complexity and interest, which is often enhanced with age. ","Medium-full to full body. A fluffy or creamy texture is typical, as is the mild warming sensation of substantial alcohol content. Moderate to high carbonation.","A Weissbier brewed to bock or doppelbock strength. Schneider also produces an Eisbock version. Pale and dark versions exist, although dark are more common. Pale versions have less rich malt complexity and often more hops, as with doppelbocks. Lightly oxidized Maillard products can produce some rich, intense flavors and aromas that are often seen in aged imported commercial products; fresher versions will not have this character. Well-aged examples might also take on a slight sherry-like complexity.","Aventinus, the world’s oldest top-fermented wheat doppelbock, was created in 1907 at the Schneider Weisse Brauhaus in Munich. ","A high percentage of malted wheat is used (by German brewing tradition must be at least 50%, although it may contain up to 70%), with the remainder being Munich- and/or Vienna-type barley malts in darker versions, and more Pils malt in paler versions. Some color malts may be used sparingly. A traditional decoction mash can give the appropriate body without cloying sweetness. Weizen ale yeasts produce the typical spicy and fruity character. Too warm or too cold fermentation will cause the phenols and esters to be out of balance and may create off-flavors. Hop choice is essentially irrelevant, but German varieties are most traditional.","Stronger and richer than a Weissbier or Dunkles Weissbier, but with similar yeast character. More directly comparable to the Doppelbock style, with the pale and dark variations. Can vary widely in strength, but most are in the bock to doppelbock range. ","Dark –Eisenbahn Weizenbock, Plank Bavarian Dunkler Weizenbock, Penn Weizenbock, Schneider Unser Aventinus; Pale –Plank Bavarian Heller Weizenbock, Weihenstephaner Vitus"]
["11A","11A - Ordinary Bitter",1.03,1.0389999999999999,1.0069999999999999,1.0109999999999999,15.76,27.58,25,35,3.2,3.8,8,14,1030,1039,1007,1011,"Ordinary Bitter",1.5,2,"British Bitter","Amber Ale","English Pale Ale","England",1007,1011,"Low gravity, low alcohol levels, and low carbonation make this an easy-drinking session beer. The malt profile can vary in flavor and intensity, but should never override the overall bitter impression. Drinkability is a critical component of the style ","Low to moderate malt aroma, often (but not always) with a light caramel quality. Bready, biscuity, or lightly toasty malt complexity is common. Mild to moderate fruitiness. Hop aroma can range from moderate to none, typically with a floral, earthy, resiny, and/or fruity character. Generally no diacetyl, although very low levels are allowed. ","Pale amber to light copper color. Good to brilliant clarity. Low to moderate white to off-white head. May have very little head due to low carbonation.","Medium to moderately high bitterness. Moderately low to moderately high fruity esters. Moderate to low hop flavor, typically with an earthy, resiny, fruity, and/or floral character. Low to medium maltiness with a dry finish. The malt profile is typically bready, biscuity, or lightly toasty. Low to moderate caramel or toffee flavors are optional. Balance is often decidedly bitter, although the bitterness should not completely overpower the malt flavor, esters and hop flavor. Generally no diacetyl, although very low levels are allowed.","Light to medium-light body. Low carbonation, although bottled examples can have moderate carbonation.","The lowest gravity member of the British Bitter family, typically known to consumers simply as “bitter” (although brewers tend to refer to it as Ordinary Bitter to distinguish it from other members of the family). ","See comments in category introduction.","Pale ale, amber, and/or crystal malts. May use a touch of dark malt for color adjustment. May use sugar adjuncts, corn, or wheat. English finishing hops are most traditional, but any hops are fair game; if American hops are used, a light touch is required. Characterful British yeast. ","Some modern variants are brewed exclusively with pale malt and are known as golden ales, summer ales, or golden bitters. Emphasis is on the bittering hop addition as opposed to the aggressive middle and late hopping seen in American ales.","Adnams Southwold Bitter, Brains Bitter, Fuller's Chiswick Bitter, Greene King IPA, Tetley’s Original Bitter, Young's Bitter"]
["11B","11B - Best Bitter",1.04,1.048,1.008,1.012,15.76,31.52,25,40,3.8,4.5999999999999996,8,16,1040,1048,1008,1012,"Best Bitter",1.5,2,"British Bitter","Amber Ale","English Pale Ale","England",1008,1012,"A flavorful, yet refreshing, session beer. Some examples can be more malt balanced, but this should not override the overall bitter impression. Drinkability is a critical component of the style.","Low to moderate malt aroma, often (but not always) with a low to medium-low caramel quality. Bready, biscuit, or lightly toasty malt complexity is common. Mild to moderate fruitiness. Hop aroma can range from moderate to none, typically with a floral, earthy, resiny, and/or fruity character. Generally no diacetyl, although very low levels are allowed.","Pale amber to medium copper color. Good to brilliant clarity. Low to moderate white to off-white head. May have very little head due to low carbonation.","Medium to moderately high bitterness. Moderately low to moderately high fruity esters. Moderate to low hop flavor, typically with an earthy, resiny, fruity, and/or floral character. Low to medium maltiness with a dry finish. The malt profile is typically bready, biscuity, or lightly toasty. Low to moderate caramel or toffee flavors are optional. Balance is often decidedly bitter, although the bitterness should not completely overpower the malt flavor, esters and hop flavor. Generally no diacetyl, although very low levels are allowed.","Medium-light to medium body. Low carbonation, although bottled examples can have moderate carbonation.","More evident malt flavor than in an ordinary bitter, this is a stronger, session-strength ale. ","See comments in category introduction.","Pale ale, amber, and/or crystal malts. May use a touch of dark malt for color adjustment. May use sugar adjuncts, corn or wheat. English finishing hops are most traditional, but any hops are fair game; if American hops are used, a light touch is required. Characterful British yeast.","More alcohol than an ordinary bitter, and often using higher-quality ingredients. Less alcohol than a strong bitter. More caramel or base malt character and color than a British Golden Ale. Emphasis is on the bittering hop addition as opposed to the aggressive middle and late hopping seen in American ales.","Adnams SSB, Coniston Bluebird Bitter, Fuller's London Pride, Harvey’s Sussex Best Bitter, Shepherd Neame Master Brew Kentish Ale, Timothy Taylor Landlord,  Young’s Special"]
["11C","11C - Strong Bitter",1.048,1.06,1.01,1.016,15.76,35.46,30,50,4.5999999999999996,6.2,8,18,1048,1060,1010,1016,"Strong Bitter",1.5,2,"British Bitter","Amber Ale","English Pale Ale","England",1010,1016,"An average-strength to moderately-strong British bitter ale. The balance may be fairly even between malt and hops to somewhat bitter. Drinkability is a critical component of the style. A rather broad style that allows for considerable interpretation by the brewer.","Hop aroma moderately-high to moderately-low, typically with a floral, earthy, resiny, and/or fruity character. Medium to medium-high malt aroma, optionally with a low to moderate caramel component. Medium-low to medium-high fruity esters. Generally no diacetyl, although very low levels are allowed. ","Light amber to deep copper color. Good to brilliant clarity. Low to moderate white to off-white head. A low head is acceptable when carbonation is also low.","Medium to medium-high bitterness with supporting malt flavors evident. The malt profile is typically bready, biscuity, nutty, or lightly toasty, and optionally has a moderately low to moderate caramel or toffee flavor. Hop flavor moderate to moderately high, typically with a floral, earthy, resiny, and/or fruity character. Hop bitterness and flavor should be noticeable, but should not totally dominate malt flavors. Moderately-low to high fruity esters. Optionally may have low amounts of alcohol. Medium-dry to dry finish. Generally no diacetyl, although very low levels are allowed.","Medium-light to medium-full body. Low to moderate carbonation, although bottled versions will be higher. Stronger versions may have a slight alcohol warmth but this character should not be too high.","In England today, “ESB” is a Fullers trademark, and no one thinks of it as a generic class of beer. It is a unique (but very well-known) beer that has a very strong, complex malt profile not found in other examples, often leading judges to overly penalize traditional English strong bitters. In America, ESB has been co-opted to describe a malty, bitter, reddish, standard-strength (for the US) British-type ale, and is a popular craft beer style. This may cause some judges to think of US brewpub ESBs as representative of this style. ","See comments in category introduction. Strong bitters can be seen as a higher-gravity version of best bitters (although not necessarily “more premium” since best bitters are traditionally the brewer’s finest product). British pale ales are generally considered a premium, export-strength pale, bitter beer that roughly approximates a strong bitter, although reformulated for bottling (including increasing carbonation levels). While modern British pale ale is considered a bottled bitter, historically the styles were different.","Pale ale, amber, and/or crystal malts, may use a touch of black malt for color adjustment. May use sugar adjuncts, corn or wheat. English finishing hops are most traditional, but any hops are fair game; if American hops are used, a light touch is required. Characterful British yeast. Burton versions use medium to high sulfate water, which can increase the perception of dryness and add a minerally or sulfury aroma and flavor.","More evident malt and hop flavors than in a special or best bitter, as well as more alcohol. Stronger versions may overlap somewhat with British strong ales, although strong bitters will tend to be paler and more bitter. More malt flavor (particularly caramel) and esters than an American Pale Ale, with different finishing hop character.","Bass Ale, Highland Orkney Blast, Samuel Smith’s Old Brewery Pale Ale, Shepherd Neame Bishop's Finger, Shepherd Neame Spitfire, West Berkshire Dr. Hexter’s Healer, Whitbread Pale Ale, Young’s Ram Rod"]
["12A","12A - British Golden Ale",1.038,1.0529999999999999,1.006,1.012,3.94,11.82,20,45,3.8,5,2,6,1038,1053,1006,1012,"British Golden Ale",1.5,2.2999999999999998,"Pale Commonwealth Beer","Pale Ale","Pale Ales","England",1006,1012,"A hop-forward, average-strength to moderately-strong pale bitter. Drinkability and a refreshing quality are critical components of the style. ","Hop aroma is moderately low to moderately high, and can use any variety of hops – floral, herbal, or earthy English hops and citrusy American hops are most common. Frequently a single hop varietal will be showcased. Little to no malt aroma; no caramel. Medium-low to low fruity aroma from the hops rather than esters. Little to no diacetyl.","Straw to golden in color. Good to brilliant clarity. Low to moderate white head. A low head is acceptable when carbonation is also low.","Medium to medium-high bitterness. Hop flavor is moderate to moderately high of any hop variety, although citrus flavors are increasingly common. Medium-low to low malt character, generally bready with perhaps a little biscuity flavor. Caramel flavors are typically absent. Little to no diacetyl. Hop bitterness and flavor should be pronounced. Moderately-low to low esters. Medium-dry to dry finish. Bitterness increases with alcohol level, but is always balanced.","Light to medium body. Low to moderate carbonation on draught, although bottled commercial versions will be higher. Stronger versions may have a slight alcohol warmth, but this character should not be too high.","Well-hopped, quenching beer with an emphasis on showcasing hops. Served colder than traditional bitters, this style was originally positioned as a refreshing summer beer, but is now often brewed year-round. Although early on the beers were brewed with English hops, increasingly American citrus-flavored hops are used. Golden Ales are also called Golden Bitters, Summer Ales, or British Blonde Ales. Can be found in cask, keg, and bottle.","Modern golden ales were developed in England to take on strongly-marketed lagers. While it is difficult to identify the first, Hop Back's Summer Lightning, first brewed in 1986, is thought by many to have got the style off the ground.","Low-color pale or lager malt acting as a blank canvas for the hop character. May use sugar adjuncts, corn or wheat. English hops frequently used, although citrusy American varietals are becoming more common. Somewhat clean-fermenting British yeast.","More similar to an American Pale Ale than anything else, although it is often lower in alcohol and usually features British ingredients. Has no caramel and fewer esters compared to British bitters and pale ales. Dry as bitters but with less malt character to support the hops, giving a different balance. Often uses (and features) American hops, more so than most other modern British styles.","Crouch Vale Brewers Gold, Fuller's Discovery, Golden Hill Exmoor Gold, Hop Back Summer Lightning, Kelham Island Pale Rider, Morland Old Golden Hen, Oakham JHB"]
["12B","12B - Australian Sparkling Ale",1.038,1.05,1.004,1.006,7.88,13.79,20,35,4.5,6,4,7,1038,1050,1004,1006,"Australian Sparkling Ale",1.5,2.2999999999999998,"Pale Commonwealth Beer","Pale Ale","Pale Ales","Australian",1004,1006,"Smooth and balanced, all components merge together with similar intensities. Moderate flavors showcasing Australian ingredients. Large flavor dimension. Very drinkable, suited to a hot climate. Relies on yeast character.","Fairly soft, clean aroma with a balanced mix of esters, hops, malt, and yeast – all moderate to low in intensity. The esters are frequently pears and apples, possibly with a very light touch of banana (optional). The hops are earthy, herbaceous, or might show the characteristic iron-like Pride of Ringwood nose. The malt can range from neutral grainy to moderately sweet to lightly bready; no caramel should be evident. Very fresh examples can have a lightly yeasty, sulfury nose.","Deep yellow to light amber in color, often medium gold. Tall, frothy, persistent white head with tiny bubbles. Noticeable effervescence due to high carbonation. Brilliant clarity if decanted, but typically poured with yeast to have a cloudy appearance. Not typically cloudy unless yeast roused during the pour.","Medium to low rounded, grainy to bready malt flavor, initially mild to malty-sweet but a medium to medium-high bitterness rises mid-palate to balance the malt. Caramel flavors typically absent. Highly attenuated, giving a dry finish with lingering bitterness, although the body gives an impression of fullness. Medium to medium-high hop flavor, somewhat earthy and possibly herbal, resinous, peppery, or iron-like but not floral, lasting into aftertaste. Medium-high to medium-low esters, often pears and apples. Banana is optional, but should never dominate. May be lightly minerally or sulfury, especially if yeast is present. Should not be bland.","High to very high carbonation, giving mouth-filling bubbles and a crisp, spritzy carbonic bite. Medium to medium-full body, tending to the higher side if poured with yeast. Smooth but gassy. Stronger versions may have a light alcohol warmth, but lower alcohol versions will not. Very well-attenuated; should not have any residual sweetness.","Coopers has been making their flagship Sparkling Ale since 1862, although the formulation has changed over the years. Presently the beer will have brilliant clarity if decanted, but publicans often pour most of the beer into a glass then swirl the bottle and dump in all the yeast. In some bars, the bottle is rolled along the bar! When served on draught, the brewery instructs publicans to invert the keg to rouse the yeast. A cloudy appearance for the style seems to be a modern consumer preference. Always naturally carbonated, even in the keg. A present-use ale, best enjoyed fresh.","Brewing records show that the majority of Australian beer brewed in the 19th century was draught XXX (Mild) and porter. Ale in bottle was originally developed to compete with imported bottled pale ales from British breweries, such as Bass and Wm Younger’ Monk. By the early 20th century, bottled pale ale went out of fashion and “lighter” lager beers were in vogue. Many Australian Sparkling and Pale Ales were labeled as ales, but were actually bottom-fermented lagers with very similar grists to the ales that they replaced. Coopers of Adelaide, South Australia is the only surviving brewer producing the Sparkling Ale style.","Lightly kilned Australian 2-row pale malt, lager varieties may be used. Small amounts of crystal malt for color adjustment only. Modern examples use no adjuncts, cane sugar for priming only. Historical examples using 45% 2 row, 30% higher protein malt (6 row) would use around 25% sugar to dilute the nitrogen content. Traditionally used Australian hops, Cluster, and Goldings until replaced from mid-1960s by Pride of Ringwood. Highly attenuative Burton-type yeast (Australian-type strain typical). Variable water profile, typically with low carbonate and moderate sulfate.","Superficially similar to English Pale Ales, although much more highly carbonated, with less caramel, less late hops, and showcasing the signature yeast strain and hop variety. More bitter than IBUs might suggest due to high attenuation, low final gravity, and somewhat coarse hops. ","Coopers Original Pale Ale, Coopers Sparkling Ale"]
["12C","12C - English IPA",1.05,1.075,1.01,1.018,11.82,27.58,40,60,5,7.5,6,14,1050,1075,1010,1018,"English IPA",1.5,2.2999999999999998,"Pale Commonwealth Beer","IPA","English Pale Ale","England",1010,1018,"A hoppy, moderately-strong, very well-attenuated pale British ale with a dry finish and a hoppy aroma and flavor. Classic British ingredients provide the best flavor profile. ","A moderate to moderately-high hop aroma of floral, spicy-peppery or citrus-orange in nature is typical. A slightly grassy dry-hop aroma is acceptable, but not required. A moderately-low caramel-like or toasty malt presence is optional. Low to moderate fruitiness is acceptable. Some versions may have a sulfury note, although this character is not mandatory.","Color ranges from golden to deep amber, but most are fairly pale. Should be clear, although unfiltered dry-hopped versions may be a bit hazy. Moderate-sized, persistent head stand with off-white color.","Hop flavor is medium to high, with a moderate to assertive hop bitterness. The hop flavor should be similar to the aroma (floral, spicy-peppery, citrus-orange, and/or slightly grassy). Malt flavor should be medium-low to medium, and be somewhat bready, optionally with light to medium-light biscuit-like, toasty, toffee-like and/or caramelly aspects. Medium-low to medium fruitiness. Finish is medium-dry to very dry, and the bitterness may linger into the aftertaste but should not be harsh. The balance is toward the hops, but the malt should still be noticeable in support. If high sulfate water is used, a distinctively minerally, dry finish, some sulfur flavor, and a lingering bitterness are usually present. Some clean alcohol flavor can be noted in stronger versions. Oak is inappropriate in this style.","Smooth, medium-light to medium-bodied mouthfeel without hop-derived astringency, although moderate to medium-high carbonation can combine to render an overall dry sensation despite a supportive malt presence. A low, smooth alcohol warming can and should be sensed in stronger (but not all) versions.","The attributes of IPA that were important to its arrival in good condition in India were that it was very well-attenuated, and heavily hopped. Simply because this is how IPA was shipped, doesn’t mean that other beers such as Porter weren’t also sent to India, that IPA was invented to be sent to India, that IPA was more heavily hopped than other keeping beers, or that the alcohol level was unusual for the time. Many modern examples labeled IPA are quite weak in strength. According to CAMRA, “so-called IPAs with strengths of around 3.5% are not true to style.” English beer historian Martyn Cornell has commented that beers like this are “not really distinguishable from an ordinary bitter.” So we choose to agree with these sources for our guidelines rather than what some modern British breweries are calling an IPA; just be aware of these two main types of IPAs in the British market today.","Accounts of its origins vary, but most agree that what became later known as IPA was pale ale prepared for shipment to India in the late 1700s and early 1800s. George Hodgson of the Bow Brewery became well-known as an exporter of IPA during the early 1800s, and is the first name frequently mentioned with its popularity. As with all English beers with a long history, the popularity and formulation of the product changed over time. Burton breweries with their high-sulfate water were able to successfully brew IPA and began their domination of this market by the 1830s, around the time the name India Pale Ale was first used. Strength and popularity declined over time, and the style virtually disappeared in the second half of the 20th century. The name was often used to describe pale ales and bitters, not anything special (a trend that continues in some modern British examples). The style underwent a craft beer rediscovery in the 1980s, and is what is described in these guidelines. Modern examples are inspired by classic versions, but shouldn’t be assumed to have an unbroken lineage with the exact same profile. White Shield is probably the example with the longest lineage, tracing to the strong Burton IPAs of old and first brewed in 1829.","Pale ale malt. English hops are traditional, particularly as finishing hops. Attenuative British ale yeast. Refined sugar may be used in some versions. Some versions may show a sulfate character from Burton-type water, but this is not essential to the style.","Generally will have more finish hops and less fruitiness and/or caramel than British pale ales and bitters. Has less hop intensity and a more pronounced malt flavor than typical American versions.","Freeminer Trafalgar IPA, Fuller's Bengal Lancer IPA, Meantime India Pale Ale, Ridgeway IPA, Summit True Brit IPA, Thornbridge Jaipur, Worthington White Shield"]
["13A","13A - Dark Mild",1.03,1.038,1.008,1.0129999999999999,23.64,49.25,10,25,3,3.8,12,25,1030,1038,1008,1013,"Dark Mild",1.5,2,"Brown British Beer","Brown Ale","English Mild","England",1008,1013,"A dark, low-gravity, malt-focused British session ale readily suited to drinking in quantity. Refreshing, yet flavorful, with a wide range of dark malt or dark sugar expression.","Low to moderate malt aroma, and may have some fruitiness. The malt expression can take on a wide range of character, which can include caramel, toffee, grainy, toasted, nutty, chocolate, or lightly roasted. Little to no hop aroma, earthy or floral if present. Very low to no diacetyl.","Copper to dark brown or mahogany color. A few paler examples (medium amber to light brown) exist. Generally clear, although is traditionally unfiltered. Low to moderate off-white to tan head; retention may be poor.","Generally a malty beer, although may have a very wide range of malt- and yeast-based flavors (e.g., malty, sweet, caramel, toffee, toast, nutty, chocolate, coffee, roast, fruit, licorice, plum, raisin). Can finish sweet to dry. Versions with darker malts may have a dry, roasted finish. Low to moderate bitterness, enough to provide some balance but not enough to overpower the malt. Fruity esters moderate to none. Diacetyl and hop flavor low to none.","Light to medium body. Generally low to medium-low carbonation. Roast-based versions may have a light astringency. Sweeter versions may seem to have a rather full mouthfeel for the gravity.","Most are low-gravity session beers around 3.2%, although some versions may be made in the stronger (4%+) range for export, festivals, seasonal and/or special occasions. Generally served on cask; session-strength bottled versions don’t often travel well. A wide range of interpretations are possible. Pale versions exist, but these are even more rare than dark milds; these guidelines only describe the modern dark version.","Historically, ‘mild’ was simply an unaged beer, and could be used as an adjective to distinguish between aged or more highly hopped keeping beers. Modern milds trace their roots to the weaker X-type ales of the 1800s, although dark milds did not appear until the 20th century. In current usage, the term implies a lower-strength beer with less hop bitterness than bitters. The guidelines describe the modern British version. The term ‘mild’ is currently somewhat out of favor with consumers, and many breweries no longer use it. Increasingly rare. There is no historic connection or relationship between Mild and Porter.","Style Comparison: Some versions may seem like lower-gravity modern English porters. Much less sweet than London Brown Ale.","Characteristic Ingredients: Pale British base malts (often fairly dextrinous), crystal malt, dark malts or dark sugar adjuncts, may also include adjuncts such as flaked maize, and may be colored with brewer’s caramel. Characterful British ale yeast. Any type of hops, since their character is muted and rarely is noticeable.","Banks's Mild, Cain's Dark Mild, Highgate Dark Mild, Brain’s Dark, Moorhouse Black Cat, Rudgate Ruby Mild, Theakston Traditional Mild"]
["13B","13B - British Brown Ale",1.04,1.052,1.008,1.0129999999999999,23.64,43.339999999999996,20,30,4.2,5.4,12,22,1040,1052,1008,1013,"British Brown Ale",1.5,2,"Brown British Beer","Brown Ale",null,"England",1008,1013,"A malty, brown caramel-centric British ale without the roasted flavors of a Porter. ","Light, sweet malt aroma with toffee, nutty, or light chocolate notes, and a light to heavy caramel quality. A light but appealing floral or earthy hop aroma may also be noticed. A light fruity aroma may be evident, but should not dominate. ","Dark amber to dark reddish-brown color. Clear. Low to moderate off-white to light tan head.","Gentle to moderate malt sweetness, with a light to heavy caramel character and a medium to dry finish. Malt may also have a nutty, toasted, biscuity, toffee, or light chocolate character. Medium to medium-low bitterness. Malt-hop balance ranges from even to malt-focused; hop flavor low to none (floral or earthy qualities). Low to moderate fruity esters can be present.","Medium-light to medium body. Medium to medium-high carbonation.","A wide-ranging category with different interpretations possible, ranging from lighter-colored to hoppy to deeper, darker, and caramel-focused; however, none of the versions have strongly roasted flavors. A stronger Double Brown Ale was more popular in the past, but is very hard to find now. While London Brown Ales are marketed using the name Brown Ale, we list those as a different judging style due to the significant difference in balance (especially sweetness) and alcohol strength; that doesn’t mean that they aren’t in the same family, though.","Brown ale has a long history in Great Britain, although several different types of products used that name at various times. Modern brown ale is a 20th century creation as a bottled product; it is not the same as historical products of the same name. A wide range of gravities were brewed, but modern brown ales are generally of the stronger (by current UK standards) interpretation. This style is based on the modern stronger British brown ales, not historical versions or the sweeter London Brown Ale. Predominately but not exclusively a bottled product currently.","British mild ale or pale ale malt base with caramel malts. May also have small amounts darker malts (e.g., chocolate) to provide color and the nutty character. English hop varieties are most authentic. ","More malty balance than British Bitters, with more malt flavors from darker grains. Stronger than a Dark Mild. Less roast than an English Porter. Stronger and much less sweet than London Brown Ale.","Maxim Double Maxim, Newcastle Brown Ale, Riggwelter Yorkshire Ale, Samuel Smith’s Nut Brown Ale, Wychwood Hobgoblin"]
["13C","13C - English Porter",1.04,1.052,1.008,1.014,39.4,59.1,18,35,4,5.4,20,30,1040,1052,1008,1014,"English Porter",1.7,2.2999999999999998,"Brown British Beer","Porter","Porter","England",1008,1014,"A moderate-strength brown beer with a restrained roasty character and bitterness. May have a range of roasted flavors, generally without burnt qualities, and often has a chocolate-caramel-malty profile.","Moderate to moderately low bready, biscuity, and toasty malt aroma with mild roastiness, and may have a chocolate quality. May also show some non-roasted malt character in support (caramelly, nutty, toffee-like and/or sweet). May have up to a moderate level of floral or earthy hops. Fruity esters moderate to none. Diacetyl low to none.","Light brown to dark brown in color, often with ruby highlights when held up to light. Good clarity, although may approach being opaque. Moderate off-white to light tan head with good to fair retention.","Moderate bready, biscuity, and toasty malt flavor includes a mild to moderate roastiness (frequently with a chocolate character) and often a significant caramel, nutty, and/or toffee character. May have other secondary flavors such as coffee, licorice, biscuits or toast in support. Should not have a significant burnt or harsh roasted flavor, although small amounts may contribute a bitter chocolate complexity. Earthy or floral hop flavor moderate to none. Medium-low to medium hop bitterness will vary the balance from slightly malty to slightly bitter. Usually fairly well-attenuated, although can be somewhat sweet. Diacetyl moderately-low to none. Moderate to low fruity esters.","Medium-light to medium body. Moderately-low to moderately-high carbonation. Light to moderate creamy texture.","This style description describes the modern version of English porter, not every possible variation over time in every region where it existed. Historical re-creations should be entered in the Historical style category, with an appropriate description describing the profile of the beer. Modern craft examples in the UK are bigger and hoppier.","Originating in London around 300 years ago, porter evolved from earlier sweet, Brown Beer popular at the time. Evolved many times with various technological and ingredient developments and consumer preferences driving these changes. Became a highly-popular, widely-exported style in the 1800s before declining around WWI and disappearing in the 1950s. It was re-introduced in the mid-1970s with the start of the craft beer era. The name is said to have been derived from its popularity with the London working class performing various load-carrying tasks of the day. Parent of various regional interpretations over time, and a predecessor to all stouts (which were originally called “stout porters”). There is no historic connection or relationship between Mild and Porter.","Grists vary, but something producing a dark color is always involved. Chocolate or other dark-roasted malts, caramel malt, brewing sugars, and the like are common. London-type porters often use brown malt as a characteristic flavor. ","Differs from an American Porter in that it usually has softer, sweeter and more caramelly flavors, lower gravities, and usually less alcohol; the American Porter will also typically have more of a hop character. More substance and roast than a British Brown Ale. Higher in gravity than a dark mild.","Burton Bridge Burton Porter, Fuller's London Porter, Nethergate Old Growler Porter, RCH Old Slug Porter, Samuel Smith Taddy Porter","Simply called “Porter” in Britain, the name “English Porter” is used to differentiate it from other porters described in these guidelines. "]
["14A","14A - Scottish Light",1.03,1.0349999999999999,1.01,1.0129999999999999,33.49,43.339999999999996,10,20,2.5,3.2,17,22,1030,1035,1010,1013,"Scottish Light",1.5,2.2999999999999998,"Scottish Ale","Amber Ale",null,"Scotland",1010,1013,"A malt-focused, generally caramelly beer with perhaps a few esters and occasionally a butterscotch aftertaste. Hops only to balance and support the malt. The malt character can range from dry and grainy to rich, toasty, and caramelly, but is never roasty and especially never has a peat smoke character. Traditionally the darkest of the Scottish ales, sometimes nearly black but lacking any burnt, overtly roasted character.","Low to medium maltiness, often with flavors of toasted breadcrumbs, lady fingers, and English biscuits. Low to medium caramel and low butterscotch is allowable. Light pome fruitiness in best examples. May have low traditional English hop aroma (earthy, floral, orange-citrus, spicy, etc.). Peat smoke is inappropriate.","Pale copper to very dark brown. Clear. Low to moderate, creamy off-white.","Entirely malt-focused, with flavors ranging from pale, bready malt with caramel overtones to rich-toasty malt with roasted accents (but never roasty) or a combination thereof. Fruity esters are not required but add depth yet are never high. Hop bitterness to balance the malt. No to low hop flavor is also allowed and should of traditional English character (earthy, floral, orange-citrus, spicy, etc.). Finish ranges from rich and malty to dry and grainy. A subtle butterscotch character is acceptable; however, burnt sugars are not. The malt-hop balance tilts toward malt. Peat smoke is inappropriate.","Medium-low to medium body. Low to moderate carbonation. Can be relatively rich and creamy to dry and grainy.","Malt-focused ales that gain the vast majority of their character from specialty malts, never the process. Burning malt or wort sugars via ‘kettle caramelization’ is not traditional nor is any blatantly ‘butterscotch’ character. Most frequently a draught product. Smoke character is inappropriate as any found traditionally would have come from the peat in the source water. Scottish ales with smoke character should be entered as a Classic Style Smoked Beer.",null,"Originally used Scottish pale malt, grits or flaked maize, and brewers caramel for color. Later adapted to use additional ingredients, such as amber and brown malts, crystal and wheat malts, and roasted grains or dark sugars for color but not for the ‘roasty’ flavor. Sugar adjuncts are traditional. Clean or slightly fruity yeast. Peat-smoked malt is inauthentic and inappropriate.","Similar character to a Wee Heavy, but much smaller. Similar in color to a Dark Mild, but a little weaker in strength.","McEwan's 60"]
["14B","14B - Scottish Heavy",1.0349999999999999,1.04,1.01,1.0149999999999999,25.61,43.339999999999996,10,20,3.2,3.9,13,22,1035,1040,1010,1015,"Scottish Heavy",1.5,2.2999999999999998,"Scottish Ale","Amber Ale",null,"Scotland",1010,1015,"A malt-focused, generally caramelly beer with perhaps a few esters and occasionally a butterscotch aftertaste. Hops only to balance and support the malt. The malt character can range from dry and grainy to rich, toasty, and caramelly, but is never roasty and especially never has a peat smoke character.","Low to medium maltiness, often with flavors of toasted breadcrumbs, lady fingers, and English biscuits. Low to medium caramel and low butterscotch is allowable. Light pome fruitiness in best examples. May have low traditional English hop aroma (earthy, floral, orange-citrus, spicy, etc.). Peat smoke is inappropriate.","Pale copper to very dark brown. Clear. Low to moderate, creamy off-white.","Entirely malt-focused, with flavors ranging from pale, bready malt with caramel overtones to rich-toasty malt with roasted accents (but never roasty) or a combination thereof. Fruity esters are not required but add depth yet are never high. Hop bitterness to balance the malt. No to low hop flavor is also allowed and should of traditional English character (earthy, floral, orange-citrus, spicy, etc.). Finish ranges from rich and malty to dry and grainy. A subtle butterscotch character is acceptable; however, burnt sugars are not. The malt-hop balance tilts toward malt. Peat smoke is inappropriate.","Medium-low to medium body. Low to moderate carbonation. Can be relatively rich and creamy to dry and grainy. ","Malt-focused ales that gain the vast majority of their character from specialty malts, never the process. Burning malt or wort sugars via ‘kettle caramelization’ is not traditional nor is any blatantly ‘butterscotch’ character. Most frequently a draught product. Smoke character is inappropriate as any found traditionally would have come from the peat in the source water. Scottish ales with smoke character should be entered as a Classic Style Smoked Beer.",null,"Originally used Scottish pale malt, grits or flaked maize, and brewers caramel for color. Later adapted to use additional ingredients, such as amber and brown malts, crystal and wheat malts, and roasted grains or dark sugars for color but not for the ‘roasty’ flavor. Sugar adjuncts are traditional. Clean or slightly fruity yeast. Peat-smoked malt is inauthentic and inappropriate.","Similar character to a Wee Heavy, but much smaller.","Broughton Greenmantle Ale, Caledonia Smooth, McEwan's 70, Orkney Raven Ale, Tennent’s Special Ale"]
["14C","14C - Scottish Export",1.04,1.06,1.01,1.016,25.61,43.339999999999996,15,30,3.9,6,13,22,1040,1060,1010,1016,"Scottish Export",1.5,2.2999999999999998,"Scottish Ale","Amber Ale",null,"Scotland",1010,1016,"A malt-focused, generally caramelly beer with perhaps a few esters and occasionally a butterscotch aftertaste. Hops only to balance and support the malt. The malt character can range from dry and grainy to rich, toasty, and caramelly, but is never roasty and especially never has a peat smoke character.","Low to medium maltiness, often with flavors of toasted breadcrumbs, lady fingers, and English biscuits. Low to medium caramel and low butterscotch is allowable. Light pome fruitiness in best examples. May have low traditional English hop aroma (earthy, floral, orange-citrus, spicy, etc.). Peat smoke is inappropriate.","Pale copper to very dark brown. Clear. Low to moderate, creamy off-white.","Entirely malt-focused, with flavors ranging from pale, bready malt with caramel overtones to rich-toasty malt with roasted accents (but never roasty) or a combination thereof. Fruity esters are not required but add depth yet are never high. Hop bitterness to balance the malt. No to low hop flavor is also allowed and should of traditional English character (earthy, floral, orange-citrus, spicy, etc.). Finish ranges from rich and malty to dry and grainy. A subtle butterscotch character is acceptable; however, burnt sugars are not. The malt-hop balance tilts toward malt. Peat smoke is inappropriate.","Medium-low to medium body. Low to moderate carbonation. Can be relatively rich and creamy to dry and grainy. ","Malt-focused ales that gain the vast majority of their character from specialty malts, never the process. Burning malt or wort sugars via ‘kettle caramelization’ is not traditional nor is any blatantly ‘butterscotch’ character. Most frequently a draught product. Smoke character is inappropriate as any found traditionally would have come from the peat in the source water. Scottish ales with smoke character should be entered as a Classic Style Smoked Beer.",null,"Originally used Scottish pale malt, grits or flaked maize, and brewers caramel for color. Later adapted to use additional ingredients, such as amber and brown malts, crystal and wheat malts, and roasted grains or dark sugars for color but not for the ‘roasty’ flavor. Sugar adjuncts are traditional. Clean or slightly fruity yeast. Peat-smoked malt is inauthentic and inappropriate.","Similar character to a Wee Heavy, but much smaller.","Belhaven Scottish Ale, Broughton Exciseman’s Ale, Orkney Dark Island, Pelican MacPelican’s Scottish Style Ale, Weasel Boy Plaid Ferret Scottish Ale"]
["15A","15A - Irish Red Ale",1.036,1.046,1.01,1.014,17.73,27.58,18,28,3.8,5,9,14,1036,1046,1010,1014,"Irish Red Ale",1.5,2.2999999999999998,"Irish Beer","Amber Ale","Pale Ales","Ireland",1010,1014,"An easy-drinking pint, often with subtle flavors. Slightly malty in the balance sometimes with an initial soft toffee/caramel sweetness, a slightly grainy-biscuity palate, and a touch of roasted dryness in the finish. Some versions can emphasize the caramel and sweetness more, while others will favor the grainy palate and roasted dryness.","Low to moderate malt aroma, either neutral-grainy or with a lightly caramelly-toasty-toffee character. May have a very light buttery character (although this is not required). Hop aroma is low earthy or floral to none (usually not present). Quite clean.","Medium amber to medium reddish-copper color. Clear. Low off-white to tan colored head, average persistence.","Moderate to very little caramel malt flavor and sweetness, rarely with a light buttered toast or toffee-like quality. The palate often is fairly neutral and grainy, or can take on a lightly toasty or biscuity note as it finishes with a light taste of roasted grain, which lends a characteristic dryness to the finish. A light earthy or floral hop flavor is optional. Medium to medium-low hop bitterness. Medium-dry to dry finish. Clean and smooth. Little to no esters. The balance tends to be slightly towards the malt, although light use of roasted grains may increase the perception of bitterness slightly.","Medium-light to medium body, although examples containing low levels of diacetyl may have a slightly slick mouthfeel (not required). Moderate carbonation. Smooth. Moderately attenuated.","Several variations exist within the style, which causes the guidelines to be somewhat broad to accommodate them. Traditional Irish examples are relatively low in hops, are grainy with a slight roast dryness in the finish, fairly neutral in general. Modern export Irish examples are more caramelly and sweet, and might have more esters. American craft versions are often more alcoholic versions of the Irish export examples. An emerging Irish craft beer scene is exploring more bitter versions of traditional examples. Finally, there are some commercial examples that sound Irish but are essentially International Amber Lagers, with sweetish palates and little bitterness. These guidelines are written around the traditional Irish examples, with slight extensions for export Irish versions and modern craft Irish versions.","While Ireland has a long ale brewing heritage, the modern Irish Red Ale style is essentially an adaptation or interpretation of the popular English Bitter style with less hopping and a bit of roast to add color and dryness. Rediscovered as a craft beer style in Ireland, today it is an essential part of most brewery lineups, along with a pale ale and a stout.","Generally has a bit of roasted barley or black malt to provide reddish color and dry roasted finish. Pale base malt. Caramel malts were historically imported and more expensive, so not all brewers would use them. ","A less-bitter and hoppy Irish equivalent to an English Bitter, with a dryish finish due to roasted barley. More attenuated with less caramel flavor and body than equivalent-strength Scottish ales.","Caffrey’s Irish Ale, Franciscan Well Rebel Red, Kilkenny Irish Beer, O’Hara’s Irish Red Ale, Porterhouse Red Ale, Samuel Adams Irish Red, Smithwick’s Irish Ale"]
["15B","15B - Irish Stout",1.036,1.044,1.0069999999999999,1.0109999999999999,49.25,78.8,25,45,4,4.5,25,40,1036,1044,1007,1011,"Irish Stout",1.5,2.2999999999999998,"Irish Beer","Stout","Irish Stout","Ireland",1007,1011,"A black beer with a pronounced roasted flavor, often similar to coffee. The balance can range from fairly even to quite bitter, with the more balanced versions having a little malty sweetness and the bitter versions being quite dry. Draught versions typically are creamy from a nitro pour, but bottled versions will not have this dispense-derived character. The roasted flavor can be dry and coffee-like to somewhat chocolaty. ","Moderate coffee-like aroma typically dominates; may have slight dark chocolate, cocoa and/or roasted grain secondary notes. Esters medium-low to none. Hop aroma low to none, may be lightly earthy or floral, but is typically absent.","Jet black to very deep brown with garnet highlights in color. According to Guinness, “Guinness beer may appear black, but it is actually a very dark shade of ruby.” Opaque. A thick, creamy, long-lasting, tan- to brown-colored head is characteristic when served on nitro, but don’t expect the tight, creamy head on a bottled beer. ","Moderate roasted grain or malt flavor with a medium to high hop bitterness. The finish can be dry and coffee-like to moderately balanced with a touch of caramel or malty sweetness. Typically has coffee-like flavors, but also may have a bittersweet or unsweetened chocolate character in the palate, lasting into the finish. Balancing factors may include some creaminess, medium-low to no fruitiness, and medium to no hop flavor (often earthy). The level of bitterness is somewhat variable, as is the roasted character and the dryness of the finish; allow for interpretation by brewers.","Medium-light to medium-full body, with a somewhat creamy character (particularly when served with a nitro pour). Low to moderate carbonation. For the high hop bitterness and significant proportion of dark grains present, this beer is remarkably smooth. May have a light astringency from the roasted grains, although harshness is undesirable.","When a brewery offered a stout and a porter, the stout was always the stronger beer (it was originally called a “Stout Porter”). Modern versions are brewed from a lower OG and no longer necessarily reflect a higher strength than porters. This is typically a draught product today; bottled versions are typically brewed from a higher OG and are usually called Extra Stouts. Regional differences exist in Ireland, similar to variability in English Bitters. Dublin-type stouts use roasted barley, are more bitter, and are drier. Cork-type stouts are sweeter, less bitter, and have flavors from chocolate and specialty malts. Commercial examples of this style are almost always associated with a nitro pour. Do not expect traditional bottle-conditioned beers to have the full, creamy texture or very long-lasting head traditionally associated with nitrogen dispense. ","The style evolved from attempts to capitalize on the success of London porters, but originally reflected a fuller, creamier, more “stout” body and strength. Guinness began brewing only porter in 1799, and a “stouter kind of porter” around 1810. Irish stout diverged from London single stout (or simply porter) in the late 1800s, with an emphasis on darker malts. Guinness was among the first breweries to use black patent malt for porters and stouts in the 1820s. Guinness began using roasted barley after WWII, while London brewers continued to use brown malt. Guinness started using flaked barley in the 1950s, also increasing attenuation greatly. Guinness Draught was launched as a brand in 1959. Draught cans and bottles were developed in the late 1980s and 1990s. ","Guinness is made using roasted barley, flaked barley, and pale malt, but other breweries don’t necessarily use roasted barley; they can use chocolate or other dark and specialty malts. Whatever combination of malts or grains is used, the resulting product should be black. Cork-type stouts are perhaps closer to historical London-type stouts in composition with a varied grist not dominated by roasted barley.","Lower strength than an Irish Extra Stout, but with similar flavors. Darker in color (black) than an English porter (brown).","Beamish Irish Stout, Guinness Draught, Harpoon Boston Irish Stout, Murphy's Irish Stout, O’Hara’s Irish Stout, Porterhouse Wrasslers 4X"]
["15C","15C - Irish Extra Stout",1.052,1.0620000000000001,1.01,1.014,49.25,78.8,35,50,5.5,6.5,25,40,1052,1062,1010,1014,"Irish Extra Stout",1.7,2.2999999999999998,"Irish Beer","Stout","Irish Stout","Ireland",1010,1014,"A fuller-bodied black beer with a pronounced roasted flavor, often similar to coffee and dark chocolate with some malty complexity. The balance can range from moderately bittersweet to bitter, with the more balanced versions having up to moderate malty richness and the bitter versions being quite dry.","Moderate to moderately high coffee-like aroma, often with slight dark chocolate, cocoa, biscuit, vanilla and/or roasted grain secondary notes. Esters medium-low to none. Hop aroma low to none, may be lightly earthy or spicy, but is typically absent. Malt and roast dominate the aroma.","Jet black. Opaque. A thick, creamy, tan head is characteristic. ","Moderate to moderately high dark-roasted grain or malt flavor with a medium to medium-high hop bitterness. The finish can be dry and coffee-like to moderately balanced with up to moderate caramel or malty sweetness. Typically has roasted coffee-like flavors, but also often has a dark chocolate character in the palate, lasting into the finish. Background mocha, biscuit, or vanilla flavors are often present and add complexity. Medium-low to no fruitiness. Medium to no hop flavor (often earthy or spicy). The level of bitterness is somewhat variable, as is the roasted character and the dryness of the finish; allow for interpretation by brewers.","Medium-full to full body, with a somewhat creamy character. Moderate carbonation. Very smooth. May have a light astringency from the roasted grains, although harshness is undesirable. A slightly warming character may be detected.","Traditionally a bottled product. Consumers expect a stout to always have a black color; the flavor intensity from whatever made it black is what consumers expect in their beer. Not all breweries make a dry, roasty version typical of Guinness; a more balanced and chocolaty version is equally acceptable. ","Same roots as Irish stout, but as a stronger product. Guinness Extra Stout (Extra Superior Porter, later Double Stout) was first brewed in 1821, and was primarily a bottled product. Described by Guinness as a “more full-bodied beer with a deeper characteristic roasted bitterness and a rich, mature texture. Of all the types of Guinness available today, this is the closest to the porter originally brewed by Arthur Guinness.” Note that in modern times, Guinness Extra Stout has different strengths in different regions; the European version is around 4.2% and fits in the Irish Stout style.","Similar to Irish Stout.","Midway between an Irish Stout and a Foreign Extra Stout in strength and flavor intensity, although with a similar balance. More body, richness, and often malt complexity than an Irish Stout. Black in color, not brown like a porter.","Guinness Extra Stout (US version), O’Hara’s Leann Folláin, Sheaf Stout"]
["16A","16A - Sweet Stout",1.044,1.06,1.012,1.024,59.1,78.8,20,40,4,6,30,40,1044,1060,1012,1024,"Sweet Stout",1.7,2.2999999999999998,"Dark British Beer","Stout","English Stout","England",1012,1024,"A very dark, sweet, full-bodied, slightly roasty ale that can suggest coffee-and-cream, or sweetened espresso.","Mild roasted grain aroma, sometimes with coffee and/or chocolate notes. An impression of cream-like sweetness often exists. Fruitiness can be low to moderately high. Diacetyl low to none. Hop aroma low to none, with floral or earthy notes.","Very dark brown to black in color. Can be opaque (if not, it should be clear). Creamy tan to brown head.","Dark roasted grain/malt impression with coffee and/or chocolate flavors dominate the palate. Hop bitterness is moderate. Medium to high sweetness provides a counterpoint to the roasted character and hop bitterness, and lasts into the finish. Low to moderate fruity esters. Diacetyl low to none. The balance between dark grains/malts and sweetness can vary, from quite sweet to moderately dry and somewhat roasty.","Medium-full to full-bodied and creamy. Low to moderate carbonation. High residual sweetness from unfermented sugars enhances the full-tasting mouthfeel.","Gravities are low in England, higher in exported and US products. Variations exist, with the level of residual sweetness, the intensity of the roast character, and the balance between the two being the variables most subject to interpretation. Some versions in England are very sweet (low attenuation) and also low in ABV (Tennent’s Sweetheart Stout is 2%), but is an outlier compared to the other examples. These guidelines mostly describe the higher gravity, more balanced, export versions rather than the low alcohol, very sweet versions that many find quite difficult to drink.","An English style of stout developed in the early 1900s. Historically known as “Milk” or “Cream” stouts, legally this designation is no longer permitted in England (but is acceptable elsewhere). The “milk” name is derived from the use of lactose, or milk sugar, as a sweetener. Originally marketed as a tonic for invalids and nursing mothers.","The sweetness in most Sweet Stouts comes from a lower bitterness level than most other stouts and a high percentage of unfermentable dextrins. Lactose, an unfermentable sugar, is frequently added to provide additional residual sweetness. Base of pale malt, and may use roasted barley, black malt, chocolate malt, crystal malt, and adjuncts such as maize or brewing sugars.","Much sweeter and less bitter than other stouts (except the stronger tropical stout). The roast character is mild, not burnt like other stouts. Somewhat similar in balance to oatmeal stouts, albeit with more sweetness.","Bristol Beer Factory Milk Stout, Left Hand Milk Stout, Lancaster Milk Stout, Mackeson's XXX Stout, Marston’s Oyster Stout, Samuel Adams Cream Stout"]
["16B","16B - Oatmeal Stout",1.0449999999999999,1.0649999999999999,1.01,1.018,43.339999999999996,78.8,25,40,4.2,5.9,22,40,1045,1065,1010,1018,"Oatmeal Stout",1.7,2.2999999999999998,"Dark British Beer","Stout","English Stout","England",1010,1018,"A very dark, full-bodied, roasty, malty ale with a complementary oatmeal flavor. The sweetness, balance, and oatmeal impression can vary considerably.","Mild roasted grain aromas, generally with a coffee-like character. A light malty sweetness can suggest a coffee-and-cream impression. Fruitiness should be low to medium-high. Diacetyl medium-low to none. Hop aroma medium-low to none, earthy or floral. A light grainy-nutty oatmeal aroma is optional.","Medium brown to black in color. Thick, creamy, persistent tan- to brown-colored head. Can be opaque (if not, it should be clear).","Similar to the aroma, with a mild roasted coffee to coffee-and-cream flavor, and low to moderately-high fruitiness. Oats and dark roasted grains provide some flavor complexity; the oats can add a nutty, grainy or earthy flavor. Dark grains can combine with malt sweetness to give the impression of milk chocolate or coffee with cream. Medium hop bitterness with the balance toward malt. Medium-sweet to medium-dry finish. Diacetyl medium-low to none. Hop flavor medium-low to none, typically earthy or floral.","Medium-full to full body, with a smooth, silky, velvety, sometimes an almost oily slickness from the oatmeal. Creamy. Medium to medium-high carbonation. ","Generally between Sweet and Irish Stouts in sweetness. Variations exist, from fairly sweet to quite dry, as well as English and American versions (American versions tend to be more hoppy, less sweet, and less fruity). The level of bitterness also varies, as does the oatmeal impression. Light use of oatmeal may give a certain silkiness of body and richness of flavor, while heavy use of oatmeal can be fairly intense in flavor with an almost oily mouthfeel, dryish finish, and slight grainy astringency. When judging, allow for differences in interpretation.","A variant of nourishing or invalid stouts of the late 1800s using oatmeal in the grist, similar to the development of sweet stout that used lactose. An original Scottish version used a significant amount of oat malt. Later went through a shady phase where some English brewers would throw a handful of oats into their parti-gyled stouts in order to legally produce a ‘healthy’ Oatmeal Stout for marketing purposes. Most popular in England between the World Wars, was revived in the craft beer era for export, which helped lead to its adoption as a popular modern American craft beer style that uses a noticeable (not symbolic) quantity of oats.","Pale, caramel and dark roasted malts (often chocolate) and grains. Oatmeal or malted oats (5-20% or more) used to enhance fullness of body and complexity of flavor. Hops primarily for bittering. Can use brewing sugars or syrups. English ale yeast.","Most are like a cross between an Irish Extra Stout and a Sweet Stout with oatmeal added. Several variations exist, with the sweeter versions more like a Sweet Stout with oatmeal instead of lactose, and the drier versions more like a more nutty, flavorful Irish Extra Stout. Both tend to emphasize the body and mouthfeel.","Anderson Valley Barney Flats Oatmeal Stout, Broughton Scottish Oatmeal Stout, Figueroa Mountain Stagecoach Stout, St-Ambroise Oatmeal Stout, Samuel Smith Oatmeal Stout, Young's Oatmeal Stout"]
["16C","16C - Tropical Stout",1.056,1.075,1.01,1.018,59.1,78.8,30,50,5.5,8,30,40,1056,1075,1010,1018,"Tropical Stout",1.7,2.2999999999999998,"Dark British Beer","Stout","English Stout","England",1010,1018,"A very dark, sweet, fruity, moderately strong ale with smooth roasty flavors without a burnt harshness.","Sweetness evident, moderate to high intensity. Roasted grain aromas moderate to high, and can have coffee or chocolate notes. Fruitiness medium to high. May have a molasses, licorice, dried fruit, and/or vinous aromatics. Stronger versions can have a subtle clean aroma of alcohol. Hop aroma low to none. Diacetyl low to none.","Very deep brown to black in color. Clarity usually obscured by deep color (if not opaque, should be clear). Large tan to brown head with good retention.","Quite sweet with a smooth dark grain flavors, and restrained bitterness. Roasted grain and malt character can be moderate to high with a smooth coffee or chocolate flavor, although the roast character is moderated in the balance by the sweet finish. Moderate to high fruity esters. Can have a sweet, dark rum-like quality. Little to no hop flavor. Medium-low to no diacetyl.","Medium-full to full body, often with a smooth, creamy character. May give a warming (but never hot) impression from alcohol presence. Moderate to moderately-high carbonation.","Sweetness levels can vary significantly. Surprisingly refreshing in a hot climate.","Originally high-gravity stouts brewed for tropical markets, became popular and imitated by local brewers often using local sugars and ingredients.","Similar to a sweet stout, but with more gravity. Pale and dark roasted malts and grains. Hops mostly for bitterness. May use adjuncts and sugar to boost gravity. Typically made with warm-fermented lager yeast.","Tastes like a scaled-up sweet stout with higher fruitiness. Similar to some Imperial Stouts without the high bitterness, strong/burnt roastiness, and late hops, and with lower alcohol. Much more sweet and less hoppy than American Stouts. Much sweeter and less bitter than the similar-gravity Export Stouts.","ABC Extra Stout, Dragon Stout, Jamaica Stout, Lion Stout, Royal Extra Stout"]
["16D","16D - Foreign Extra Stout",1.056,1.075,1.01,1.018,59.1,78.8,50,70,6.3,8,30,40,1056,1075,1010,1018,"Foreign Extra Stout",1.7,2.2999999999999998,"Dark British Beer","Stout","Irish Stout","England",1010,1018,"A very dark, moderately strong, fairly dry, stout with prominent roast flavors.","Moderate to high roasted grain aromas, often with coffee, chocolate and/or lightly burnt notes. Low to medium fruitiness. May have a sweet aroma, or molasses, licorice, dried fruit, and/or vinous aromatics. Stronger versions can have a subtle, clean aroma of alcohol. Hop aroma moderately low to none, can be earthy, herbal or floral. Diacetyl low to none.","Very deep brown to black in color. Clarity usually obscured by deep color (if not opaque, should be clear). Large tan to brown head with good retention.","Moderate to high roasted grain and malt flavor with a coffee, chocolate, or lightly burnt grain character, although without a sharp bite. Moderately dry. Low to medium esters. Medium to high bitterness. Moderate to no hop flavor, can be earthy, herbal, or floral. Diacetyl medium-low to none.","Medium-full to full body, often with a smooth, sometimes creamy character. May give a warming (but never hot) impression from alcohol presence. Moderate to moderately-high carbonation.","Also known as Foreign Stout, Export Stout, Foreign Export Stout. Historic versions (before WWI, at least) had the same OG as domestic Extra Stouts, but had a higher ABV because it had a long secondary with Brettanomyces chewing away at it. The difference between domestic and foreign versions were the hopping and length of maturation. ","Stronger stouts brewed for the export market today, but with a history stretching back to the 18th and 19th centuries when they were more heavily-hopped versions of stronger export stouts. Guinness Foreign Extra Stout (originally, West India Porter, later Foreign Extra Double Stout) was first brewed in 1801 according to Guinness with “extra hops to give it a distinctive taste and a longer shelf life in hot weather, this is brewed [today] in Africa, Asia and the Caribbean. It [currently] makes up 40% of all the Guinness brewed around the world.” ","Pale and dark roasted malts and grains, historically also could have used brown and amber malts. Hops mostly for bitterness, typically English varieties. May use adjuncts and sugar to boost gravity.","Similar in balance to an Irish Extra Stout, but with more alcohol. Not as big or intense as a Russian Imperial Stout. Lacking the strong bitterness and high late hops of American Stouts. Similar gravity as Tropical Stout, but with a drier finish, higher bitterness, and less esters.","Coopers Best Extra Stout, Guinness Foreign Extra Stout, The Kernel Export Stout, Ridgeway Foreign Export Stout, Southwark Old Stout"]
["17A","17A - British Strong Ale",1.0549999999999999,1.08,1.0149999999999999,1.022,15.76,43.339999999999996,30,60,5.5,8,8,22,1055,1080,1015,1022,"British Strong Ale",1.5,2.2999999999999998,"Strong British Ale","Strong Ale","Strong Ale","England",1015,1022,"An ale of respectable alcoholic strength, traditionally bottled-conditioned and cellared. Can have a wide range of interpretations, but most will have varying degrees of malty richness, late hops and bitterness, fruity esters, and alcohol warmth. Judges should allow for a significant range in character, as long as the beer is within the alcohol strength range and has an interesting ‘British’ character, it likely fits the style. The malt and adjunct flavors and intensity can vary widely, but any combination should result in an agreeable palate experience.","Malty-sweet with fruity esters, often with a complex blend of dried-fruit, caramel, nuts, toffee, and/or other specialty malt aromas. Some alcohol notes are acceptable, but shouldn’t be hot or solventy. Hop aromas can vary widely, but typically have earthy, resiny, fruity, and/or floral notes. The balance can vary widely, but most examples will have a blend of malt, fruit, hops, and alcohol in varying intensities.","Deep gold to dark reddish-brown color (many are fairly dark). Generally clear, although darker versions may be almost opaque. Moderate to low cream- to light tan-colored head; average retention.","Medium to high malt character often rich with nutty, toffee, or caramel flavors. Light chocolate notes are sometimes found in darker beers. May have interesting flavor complexity from brewing sugars. Balance is often malty, but may be well hopped, which affects the impression of maltiness. Moderate fruity esters are common, often with a dark fruit or dried fruit character. The finish may vary from medium dry to somewhat sweet. Alcoholic strength should be evident, though not overwhelming. Diacetyl low to none, and is generally not desirable. ","Medium to full, chewy body. Alcohol warmth is often evident and always welcome. Low to moderate carbonation. Smooth texture.","As an entry category more than a style, the strength and character of examples can vary widely. Fits in the style space between normal gravity beers (strong bitters, brown ales, English porters) and barleywines. Can include pale malty-hoppy beers, English winter warmers, strong dark milds, smaller Burton ales, and other unique beers in the general gravity range that don’t fit other categories. Traditionally a bottle-conditioned product suitable for cellaring.","The heritage varies since this category generally reflects a grouping of unrelated minor styles with limited production. Some are historical recreations while others are modern. Some directly descend from older styles such as Burton ales, while others maintain a historical connection with older beers. As a grouping, the notion is relatively modern since beers of this strength category would not have been abnormal in past centuries. Do not use this category grouping to infer historical relationships between examples; this is almost a modern British specialty category where the ‘special’ attribute is alcohol level. ","Grists vary, often based on pale malt with caramel and specialty malts. Some darker examples suggest that dark malts (e.g., chocolate, black malt) may be appropriate, though sparingly so as to avoid an overly roasted character. Sugary adjuncts are common, as are starchy adjuncts (maize, flaked barley, wheat). Finishing hops are traditionally English. ","Significant overlap in gravity with old ales, but not having a stale or aged character. A wide range of interpretations is possible. Should not be as rich or strong as an English Barleywine. Stronger than the stronger everyday beers (strong bitters, brown ales, porters). More specialty malt and/or sugar character than American Strong Ales.","Fuller’s 1845, Harvey’s Elizabethan Ale, J.W. Lees Manchester Star, Samuel Smith’s Winter Welcome, Young's Winter Warmer"]
["17B","17B - Old Ale",1.0549999999999999,1.0880000000000001,1.0149999999999999,1.022,19.7,43.339999999999996,30,60,5.5,9,10,22,1055,1088,1015,1022,"Old Ale",1.5,2.2999999999999998,"Strong British Ale","Strong Ale","Strong Ale","England",1015,1022,"An ale of moderate to fairly significant alcoholic strength, bigger than standard beers, though usually not as strong or rich as barleywine. Often tilted towards a maltier balance. “It should be a warming beer of the type that is best drunk in half pints by a warm fire on a cold winter’s night” – Michael Jackson.","Malty-sweet with fruity esters, often with a complex blend of dried-fruit, vinous, caramelly, molasses, nutty, toffee, light treacle, and/or other specialty malt aromas. Some alcohol and oxidative notes are acceptable, akin to those found in Sherry or Port. Hop aromas not usually present due to extended aging.","Light amber to very dark reddish-brown color (most are fairly dark). Age and oxidation may darken the beer further. May be almost opaque (if not, should be clear). Moderate to low cream- to light tan-colored head; may be adversely affected by alcohol and age.","Medium to high malt character with a luscious malt complexity, often with nutty, caramelly and/or molasses-like flavors. Light chocolate or roasted malt flavors are optional, but should never be prominent. Balance is often malty-sweet, but may be well hopped (the impression of bitterness often depends on amount of aging). Moderate to high fruity esters are common, and may take on a dried-fruit or vinous character. The finish may vary from dry to somewhat sweet. Extended aging may contribute oxidative flavors similar to a fine old Sherry, Port or Madeira. Alcoholic strength should be evident, though not overwhelming. Diacetyl low to none. Some wood-aged or blended versions may have a lactic or Brettanomyces character; but this is optional and should not be too strong. Any acidity or tannin from age should be well-integrated and contribute to complexity in the flavor profile, not be a dominant experience.","Medium to full, chewy body, although older examples may be lower in body due to continued attenuation during conditioning. Alcohol warmth is often evident and always welcome. Low to moderate carbonation, depending on age and conditioning. Light acidity may be present, as well as some tannin if wood-aged; both are optional.","Strength and character varies widely. The predominant defining quality for this style is the impression of age, which can manifest itself in different ways (complexity, lactic, Brett, oxidation, leather, vinous qualities, etc.). Even if these qualities are otherwise faults, if the resulting character of the beer is still pleasantly drinkable and complex, then those characteristics are acceptable. In no way should those allowable characteristics be interpreted as making an undrinkably off beer as somehow in style. Old Peculier is a fairly unique type of beer that is quite different than other Old Ales.","Historically, an aged ale used as stock ales for blending or enjoyed at full strength (stale or stock refers to beers that were aged or stored for a significant period of time). There are at least two definite types in Britain today, weaker draught ones that are similar aged milds of around 4.5%, and stronger ones that are often 6-8% or more.","Composition varies, although generally similar to British Strong Ales. The age character is the biggest driver of the final style profile, which is more handling than brewing. May be aged in wood, but should not have a strong wood character.","Roughly overlapping the British Strong Ale and the lower end of the English Barleywine styles, but always having an aged quality. The distinction between an Old Ale and a Barleywine is somewhat arbitrary above 7% ABV, and generally means having a more significant aged quality (particularly from wood). Barleywines tend to develop more of a ‘mature’ quality, while Old Ales can show more of the barrel qualities (lactic, Brett, vinous, etc.).","Burton Bridge Olde Expensive, Gale’s Prize Old Ale, Greene King Strong Suffolk Ale, Marston Owd Roger, Theakston Old Peculier"]
["17C","17C - Wee Heavy",1.07,1.1299999999999999,1.018,1.04,27.58,49.25,17,35,6.5,10,14,25,1070,1130,1018,1040,"Wee Heavy",1.5,2.2999999999999998,"Strong British Ale","Strong Ale",null,"Scotland",1018,1040,"Rich, malty, dextrinous, and usually caramel-sweet, these beers can give an impression that is suggestive of a dessert. Complex secondary malt and alcohol flavors prevent a one-dimensional quality. Strength and maltiness can vary, but should not be cloying or syrupy.","Deeply malty, with a strong caramel component. Lightly smoky secondary aromas may also be present, adding complexity; peat smoke is inappropriate. Diacetyl should be low to none. Low to moderate esters and alcohol are often present in stronger versions. Hops are very low to none, and can be slightly earthy or floral.","Light copper to dark brown color, often with deep ruby highlights. Clear. Usually has a large tan head, which may not persist. Legs may be evident in stronger versions.","Richly malty with significant caramel (particularly in stronger versions). Hints of roasted malt may be present (sometimes perceived as a faint smoke character), as may some nutty character, all of which may last into the finish. Peat smoke is inappropriate. Hop flavors and bitterness are low to medium-low, so the malt presence should dominate the balance. Diacetyl should be low to none. Low to moderate esters and alcohol are usually present. Esters may suggest plums, raisins or dried fruit. The palate is usually full and sweet, but the finish may be sweet to medium-dry, sometimes with a light roasty-grainy note.","Medium-full to full-bodied, with some versions (but not all) having a thick, chewy viscosity. A smooth, alcoholic warmth is usually present and is quite welcome since it balances the malty sweetness. Moderate carbonation.","Also known as “strong Scotch ale.” The term “wee heavy” means “small strong” and traces to the beer that made the term famous, Fowler’s Wee Heavy, a 12 Guinea Ale. Historically, the strongest beer from a Scottish ale parti-gyle.","More related to historical brews than modern lower-strength Scottish ales, these beers have their roots in the strong ales of the 1700s and 1800s, although formulations and methods have changed. A premium product, often produced for export. Modern versions have lower starting and finishing gravities than their historical ancestors.","Well-modified pale malt, with roasted barley for color. May use some crystal malt for color adjustment. Slight smoke character may be present in some versions, but derives from roasted grains or from the boil. Peated malt is absolutely not traditional.","Somewhat similar to an English Barleywine.","Belhaven Wee Heavy, Gordon Highland Scotch Ale, Inveralmond Blackfriar, McEwan's Scotch Ale, Orkney Skull Splitter, Traquair House Ale"]
["17D","17D - English Barleywine",1.08,1.1200000000000001,1.018,1.03,15.76,43.339999999999996,35,70,8,12,8,22,1080,1120,1018,1030,"English Barleywine",1.5,2.2999999999999998,"Strong British Ale","Strong Ale","Barleywine","England",1018,1030,"A showcase of malty richness and complex, intense flavors. Chewy and rich in body, with warming alcohol and a pleasant fruity or hoppy interest. When aged, it can take on port-like flavors. A wintertime sipper.","Very rich and strongly malty, often with a caramel-like aroma in darker versions or a light toffee character in paler versions. May have moderate to strong fruitiness, often with a dark- or dried-fruit character, particularly in dark versions. The hop aroma may range from mild to assertive, and is typically floral, earthy, or marmalade-like. Alcohol aromatics may be low to moderate, but are soft and rounded. The intensity of these aromatics often subsides with age. The aroma may have a rich character including bready, toasty, toffee, and/or molasses notes. Aged versions may have a sherry-like quality, possibly vinous or port-like aromatics, and generally more muted malt aromas.","Color may range from rich gold to very dark amber or even dark brown (often has ruby highlights, but should not be opaque). Low to moderate off-white head; may have low head retention. May be cloudy with chill haze at cooler temperatures, but generally clears to good to brilliant clarity as it warms. The color may appear to have great depth, as if viewed through a thick glass lens. High alcohol and viscosity may be visible in “legs” when beer is swirled in a glass.","Strong, intense, complex, multi-layered malt flavors ranging from bready, toffee, and biscuity in paler versions through nutty, deep toast, dark caramel, and/or molasses in darker versions. Moderate to high malty sweetness on the palate, although the finish may be moderately sweet to moderately dry (depending on aging). Some oxidative or vinous flavors may be present, and often complex alcohol flavors should be evident. Moderate to fairly high fruitiness, often with a dark- or dried-fruit character. Hop bitterness may range from just enough for balance to a firm presence; balance therefore ranges from malty to somewhat bitter. Pale versions are often more bitter, better attenuated, and might show more hop character than darker versions; however, all versions are malty in the balance. Low to moderately high hop flavor, often floral, earthy, or marmalade-like English varieties.","Full-bodied and chewy, with a velvety, luscious texture (although the body may decline with long conditioning). A smooth warmth from aged alcohol should be present. Carbonation may be low to moderate, depending on age and conditioning.","The richest and strongest of modern English Ales. The character of these ales can change significantly over time; both young and old versions should be appreciated for what they are. The malt profile can vary widely; not all examples will have all possible flavors or aromas. Paler varieties won’t have the caramel and richer malt flavors, nor will they typically have the darker dried fruits – don’t expect flavors and aromatics that are impossible from a beer of that color. Typically written as “Barley Wine” in the UK, and “Barleywine” in the US.","Strong ales of various formulations have long been brewed in England, and were known by several names. The modern barleywine traces back to Bass No. 1, which was first called a barleywine in 1872. Barleywines were darker beers until Tennant (now Whitbread) first produced Gold Label, a gold-colored barleywine in 1951. Usually the strongest ale offered by a brewery, and in recent years many commercial examples are now vintage-dated and offered as a limited-release winter seasonal specialty. The original barleywine style that inspired derivative variations in Belgium, the United States, and elsewhere in the world.","High-quality, well-modified pale malt should form the backbone of the grist, with judicious amounts of caramel malts. Dark malts should be used with great restraint, if at all, as most of the color arises from a lengthy boil. English hops such as Northdown, Target, East Kent Goldings and Fuggles are typical. Characterful British yeast.","Although often a hoppy beer, the English Barleywine places less emphasis on hop character than the American Barleywine and features English hops. English versions can be darker, maltier, fruitier, and feature richer specialty malt flavors than American Barleywines. Has some overlap British Old Ale on the lower end, but generally does not have the vinous qualities of age; rather, it tends to display the mature, elegant signs of age. ","Adnams Tally-Ho, Burton Bridge Thomas Sykes Old Ale, Coniston No. 9 Barley Wine, Fuller’s Golden Pride, J.W. Lee’s Vintage Harvest Ale, Robinson’s Old Tom"]
["18A","18A - Blonde Ale",1.038,1.054,1.008,1.0129999999999999,5.91,11.82,15,28,3.8,5.5,3,6,1038,1054,1008,1013,"Blonde Ale",2.2999999999999998,2.8,"Pale American Ale","Pale Ale","Indigenous American Beer","United States",1008,1013,"Easy-drinking, approachable, malt-oriented American craft beer, often with interesting fruit, hop, or character malt notes. Well-balanced and clean, is a refreshing pint without aggressive flavors.","Light to moderate sweet malty aroma, possibly with a light bready or caramelly note. Low to moderate fruitiness is optional, but acceptable. May have a low to medium hop aroma, and can reflect almost any hop variety although citrusy, floral, fruity, and spicy notes are common.","Light yellow to deep gold in color. Clear to brilliant. Low to medium white head with fair to good retention.","Initial soft malty sweetness, but optionally some light character malt flavor (e.g., bread, toast, biscuit, wheat) can also be present. Caramel flavors typically absent; if present, they are typically low-color caramel notes. Low to medium fruity esters optional, but are welcome. Light to moderate hop flavor (any variety), but shouldn’t be overly aggressive. Medium-low to medium bitterness, but the balance is normally towards the malt or even between malt and hops. Finishes medium-dry to slightly malty-sweet; impression of sweetness is often an expression of lower bitterness than actual residual sweetness.","Medium-light to medium body. Medium to high carbonation. Smooth without being heavy.","Brewpub alternative to standard American lagers, typically offered as an entry-level craft beer.","An American craft beer style produced by many microbreweries and brewpubs, particularly those who cannot produce lagers. Regional variations exist (many US West Coast brewpub examples are more assertive, like pale ales) but in most areas this beer is designed as the least challenging beer in their lineup.","Generally all malt, but can include up to 25% wheat malt and some sugar adjuncts. Any hop variety can be used. Clean American, lightly fruity English, or Kölsch yeast. May also be made with lager yeast, or cold-conditioned. Some versions may have honey, spices and/or fruit added, although if any of these ingredients are stronger than a background flavor they should be entered in those specialty categories instead. ","Typically has more flavor than American Lagers and Cream Ales. Less bitterness than an American Pale Ale.","Kona Big Wave Golden Ale, Pelican Kiwanda Cream Ale, Russian River Aud Blonde, Victory Summer Love, Widmer Citra Summer Blonde Brew"]
["18B","18B - American Pale Ale",1.0449999999999999,1.06,1.01,1.0149999999999999,9.85,19.7,30,50,4.5,6.2,5,10,1045,1060,1010,1015,"American Pale Ale",2.2999999999999998,2.8,"Pale American Ale","Pale Ale","American Pale Beer","United States",1010,1015,"A pale, refreshing and hoppy ale, yet with sufficient supporting malt to make the beer balanced and drinkable. The clean hop presence can reflect classic or modern American or New World hop varieties with a wide range of characteristics. An average-strength hop-forward pale American craft beer, generally balanced to be more accessible than modern American IPAs.","Moderate to strong hop aroma from American or New World hop varieties with a wide range of possible characteristics, including citrus, floral, pine, resinous, spicy, tropical fruit, stone fruit, berry, or melon. None of these specific characteristics are required, but hops should be apparent. Low to moderate maltiness supports the hop presentation, and may optionally show small amounts of specialty malt character (bready, toasty, biscuit, caramelly). Fruity esters vary from moderate to none. Dry hopping (if used) may add grassy notes, although this character should not be excessive.","Pale golden to light amber. Moderately large white to off-white head with good retention. Generally quite clear, although dry-hopped versions may be slightly hazy.","Moderate to high hop flavor, typically showing an American or New World hop character (citrus, floral, pine, resinous, spicy, tropical fruit, stone fruit, berry, melon, etc.). Low to moderate clean grainy-malt character supports the hop presentation, and may optionally show small amounts of specialty malt character (bready, toasty, biscuity). The balance is typically towards the late hops and bitterness, but the malt presence should be supportive, not distracting. Caramel flavors are often absent or fairly restrained (but are acceptable as long as they don’t clash with the hops). Fruity yeast esters can be moderate to none, although many hop varieties are quite fruity. Moderate to high hop bitterness with a medium to dry finish. Hop flavor and bitterness often lingers into the finish, but the aftertaste should generally be clean and not harsh. Dry hopping (if used) may add grassy notes, although this character should not be excessive.","Medium-light to medium body. Moderate to high carbonation. Overall smooth finish without astringency and harshness.","New hop varieties and usage methods continue to be developed. Judges should allow for characteristics of modern hops in this style, as well as classic varieties. Becoming more of an international craft style, with local adaptations appearing in many countries with an emerging craft beer market. Hopping styles can vary from the classic large bitterness addition, to more modern late hop-bursted examples; all variations are allowable.","A modern American craft beer era adaptation of English pale ale, reflecting indigenous ingredients (hops, malt, yeast, and water). Prior to the explosion in popularity of IPAs, was traditionally the most well-known and popular of American craft beers.","Pale ale malt, typically North American two-row. American or New World hops, with a wide range of allowable characteristics. American or English ale yeast (neutral to lightly fruity). Specialty grains may add character and complexity, but generally make up a relatively small portion of the grist. Grains that add malt flavor and richness, light sweetness, and toasty or bready notes are often used (along with late hops) to differentiate brands.","Typically lighter in color, cleaner in fermentation by-products, and having less caramel flavors than English counterparts. There can be some overlap in color between American pale ale and American amber ale. The American pale ale will generally be cleaner, have a less caramelly malt profile, less body, and often more finishing hops. Less bitterness in the balance and alcohol strength than an American IPA. More balanced and drinkable, and less intensely hop-focused and bitter than session-strength American IPAs (aka Session IPAs).","Ballast Point Grunion Pale Ale, Firestone Walker Pale 31, Great Lakes Burning River, Sierra Nevada Pale Ale, Stone Pale Ale, Tröegs Pale Ale"]
["19A","19A - American Amber Ale",1.0449999999999999,1.06,1.01,1.0149999999999999,19.7,33.49,25,40,4.5,6.2,10,17,1045,1060,1010,1015,"American Amber Ale",1.5,2.5,"Amber and Brown American Beer","Amber Ale","American Pale Beer","United States",1010,1015,"An amber, hoppy, moderate-strength American craft beer with a caramel malty flavor. The balance can vary quite a bit, with some versions being fairly malty and others being aggressively hoppy. Hoppy and bitter versions should not have clashing flavors with the caramel malt profile.","Low to moderate hop aroma with characteristics typical of American or New World hop varieties (citrus, floral, pine, resinous, spicy, tropical fruit, stone fruit, berry, or melon). A citrusy hop character is common, but not required. Moderately-low to moderately-high maltiness (usually with a moderate caramel character), which can either support, balance, or sometimes mask the hop presentation. Esters vary from moderate to none.","Amber to coppery-brown in color. Moderately large off-white head with good retention. Generally quite clear, although dry-hopped versions may be slightly hazy.","Moderate to high hop flavor with characteristics typical of American or New World hop varieties (citrus, floral, pine, resinous, spicy, tropical fruit, stone fruit, berry, or melon). A citrusy hop character is common, but not required. Malt flavors are moderate to strong, and usually show an initial malty sweetness followed by a moderate caramel flavor (and sometimes other character malts in lesser amounts). Malt and hop bitterness are usually balanced and mutually supportive, but can vary either way. Fruity esters can be moderate to none. Caramel sweetness and hop flavor/bitterness can linger somewhat into the medium to full finish.","Medium to medium-full body. Medium to high carbonation. Overall smooth finish without astringency. Stronger versions may have a slight alcohol warmth.","Can overlap in color with darker American pale ales, but with a different malt flavor and balance. Regional variations exist with some being fairly mainstream and others being quite aggressive in hopping. Stronger and more bitter versions are now split into the Red IPA style.","A modern American craft beer style developed as a variation from American Pale Ales. Known simply as Red Ales in some regions, these beers were popularized in the hop-loving Northern California and the Pacific Northwest areas before spreading nationwide.","Pale ale malt, typically North American two-row. Medium to dark crystal malts. May also contain specialty grains which add additional character and uniqueness. American or New World hops, often with citrusy flavors, are common but others may also be used.","Darker, more caramelly, more body, and generally less bitter in the balance than American Pale Ales. Less alcohol, bitterness, and hop character than Red IPAs. Less strength, malt, and hop character than American Strong Ales. Should not have a strong chocolate or roast character that might suggest an American brown ale (although small amounts are OK).","Deschutes Cinder Cone Red, Full Sail Amber, Kona Lavaman Red Ale, North Coast Ruedrich's Red Seal Ale, Rogue American Amber Ale, Tröegs HopBack Amber Ale"]
["19B","19B - California Common ",1.048,1.054,1.0109999999999999,1.014,19.7,27.58,30,45,4.5,5.5,10,14,1048,1054,1011,1014,"California Common ",1.5,2.5,"Amber and Brown American Beer","Amber Lager","Indigenous American Beer","United States",1011,1014,"A lightly fruity beer with firm, grainy maltiness, interesting toasty and caramel flavors, and showcasing rustic, traditional American hop characteristics.","Typically showcases rustic, traditional American hops (often with woody, rustic or minty qualities) in moderate to high strength. Light fruitiness acceptable. Low to moderate caramel and/or toasty malt aromatics support the hops.","Medium amber to light copper color. Generally clear. Moderate off-white head with good retention.","Moderately malty with a pronounced hop bitterness. The malt character is usually toasty (not roasted) and caramelly. Low to moderately high hop flavor, usually showing rustic, traditional American hop qualities (often woody, rustic, minty). Finish fairly dry and crisp, with a lingering hop bitterness and a firm, grainy malt flavor. Light fruity esters are acceptable, but otherwise clean.","Medium-bodied. Medium to medium-high carbonation.","This style is narrowly defined around the prototypical Anchor Steam example, although allowing other typical ingredients of the era. Northern Brewer hops are not a strict requirement for the style; modern American and New World-type hops (especially citrusy ones) are inappropriate, however.","American West Coast original, brewed originally as Steam Beer in the Gold Rush era. Large shallow open fermenters (coolships) were traditionally used to compensate for the absence of refrigeration and to take advantage of the cool ambient temperatures in the San Francisco Bay area. Fermented with a lager yeast, but one that was selected to ferment relatively clean beer at warmer temperatures. Modern versions are based on Anchor Brewing re-launching the style in the 1970s.","Pale ale malt, non-citrusy hops (often Northern Brewer), small amounts of toasted malt and/or crystal malts. Lager yeast; however, some strains (often with the mention of “California” in the name) work better than others at the warmer fermentation temperatures (55 to 60 °F) typically used. Note that some German yeast strains produce inappropriate sulfury character. ","Superficially similar to an American Amber Ale, but with specific choices for malt and hopping – the hop flavor/aroma is traditional (not modern) American hops, malt flavors are more toasty, the hopping is always assertive, and a warm-fermented lager yeast is used. Less attenuated, less carbonated and less fruity than Australian Sparkling ale.","Anchor Steam, Flying Dog Old Scratch Amber Lager, Schlafly Pi Common, Steamworks Steam Engine Lager"]
["19C","19C - American Brown Ale",1.0449999999999999,1.06,1.01,1.016,35.46,68.95,20,30,4.3,6.2,18,35,1045,1060,1010,1016,"American Brown Ale",1.5,2.5,"Amber and Brown American Beer","Brown Ale","Dark American Beer","United States",1010,1016,"A malty but hoppy beer frequently with chocolate and caramel flavors. The hop flavor and aroma complements and enhances the malt rather than clashing with it.","Moderate malty-sweet to malty-rich aroma with chocolate, caramel, nutty, and/or toasty qualities. Hop aroma is typically low to moderate, of almost any variety that complements the malt. Some interpretations of the style may feature a stronger hop aroma, an American or New World hop character (citrusy, fruity, tropical, etc.), and/or a fresh dry-hopped aroma (all are optional). Fruity esters are moderate to very low. The dark malt character is more robust than other brown ales, yet stops short of being overly porter-like. The malt and hops are generally balanced.","Light to very dark brown color. Clear. Low to moderate off-white to light tan head.","Medium to moderately-high malty-sweet or malty-rich flavor with chocolate, caramel, nutty, and/or toasty malt complexity, with medium to medium-high bitterness. The medium to medium-dry finish provides an aftertaste having both malt and hops. Hop flavor can be light to moderate, and may optionally have a citrusy, fruity, or tropical character, although any hop flavor that complements the malt is acceptable. Very low to moderate fruity esters. ","Medium to medium-full body. More bitter versions may have a dry, resiny impression. Moderate to moderately-high carbonation.","Most commercial American Browns are not as aggressive as the original homebrewed versions, and some modern craft-brewed examples. This style reflects the current commercial offerings typically marketed as American Brown Ales rather than the hoppier, stronger homebrew versions from the early days of homebrewing. These IPA-strength brown ales should be entered in the Specialty IPA as Brown IPAs.","An American style from the modern craft beer era. Derived from English Brown Ales, but with more hops. Pete’s Wicked Ale was one of the first and best known examples, and inspired many imitations. Popular with homebrewers, where very hoppy versions were sometimes called Texas Brown Ales (this is now more appropriately a Brown IPA).","Well-modified pale malt, plus crystal and darker malts (typically chocolate). American hops are typical, but continental or New World hops can also be used. ","More chocolate and caramel type flavors than American Pale or Amber Ales, typically with less prominent bitterness in the balance. Less bitterness, alcohol, and hop character than Brown IPAs. More bitter and generally hoppier than English Brown Ales, with a richer malt presence, usually higher alcohol, and American/New World hop character.","Anchor Brekle’s Brown, Big Sky Moose Drool Brown Ale, Brooklyn Brown Ale, Bell’s Best Brown, Cigar City Maduro Brown Ale, Smuttynose Old Brown Dog Ale, Telluride Face Down Brown"]
["20A","20A - American Porter",1.05,1.07,1.012,1.018,43.339999999999996,78.8,25,50,4.8,6.5,22,40,1050,1070,1012,1018,"American Porter",1.7,2.2999999999999998,"American Porter and Stout","Porter","Dark American Beer","United States",1012,1018,"A substantial, malty dark beer with a complex and flavorful dark malt character.","Medium-light to medium-strong dark malt aroma, often with a lightly burnt character. Optionally may also show some additional malt character in support (grainy, bready, toffee-like, caramelly, chocolate, coffee, rich, and/or sweet). Hop aroma low to high, often with a resiny, earthy, or floral character. May be dry-hopped. Fruity esters are moderate to none.","Medium brown to very dark brown, often with ruby- or garnet-like highlights. Can approach black in color. Clarity may be difficult to discern in such a dark beer, but when not opaque will be clear (particularly when held up to the light). Full, tan-colored head with moderately good head retention. ","Moderately strong malt flavor usually features a lightly burnt malt character (and sometimes chocolate and/or coffee flavors) with a bit of grainy, dark malt dryness in the finish. Overall flavor may finish from dry to medium-sweet. May have a sharp character from dark roasted grains, but should not be overly acrid, burnt or harsh. Medium to high bitterness, which can be accentuated by the dark malt. Hop flavor can vary from low to high with a resiny, earthy, or floral character, and balances the dark malt flavors. The dark malt and hops should not clash. Dry-hopped versions may have a resiny flavor. Fruity esters moderate to none.","Medium to medium-full body. Moderately low to moderately high carbonation. Stronger versions may have a slight alcohol warmth. May have a slight astringency from dark malts, although this character should not be strong. ","Although a rather broad style open to brewer interpretation. Dark malt intensity and flavor can vary significantly. May or may not have a strong hop character, and may or may not have significant fermentation by-products; thus may seem to have an “American” or “British” character.","A stronger, more aggressive version of pre-prohibition porters and/or English porters developed in the modern craft beer era. Historical versions existed, particularly on the US East Coast, some of which are still being produced (see the Historical Beer, Pre-Prohibition Porter). This style describes the modern craft version.","May contain several malts, prominently dark malts, which often include black malt (chocolate malt is also often used). American hops typically used for bittering, but US or UK finishing hops can be used; a clashing citrus quality is generally undesirable. Ale yeast can either be clean US versions or characterful English varieties.","More bitter and often stronger with more dark malt qualities and dryness than English Porters or Pre-Prohibition Porters. Less strong and assertive than American Stouts.","Anchor Porter, Boulevard Bully! Porter, Deschutes Black Butte Porter, Founders Porter, Great Lakes Edmund Fitzgerald Porter, Smuttynose Robust Porter, Sierra Nevada Porter"]
["20B","20B - American Stout",1.05,1.075,1.01,1.022,59.1,78.8,35,75,5,7,30,40,1050,1075,1010,1022,"American Stout",1.7,2.2999999999999998,"American Porter and Stout","Stout","Dark American Beer","United States",1010,1022,"A fairly strong, highly roasted, bitter, hoppy dark stout. Has the body and dark flavors typical of stouts with a more aggressive American hop character and bitterness.","Moderate to strong aroma of roasted malts, often having a roasted coffee or dark chocolate quality. Burnt or charcoal aromas are acceptable at low levels. Medium to very low hop aroma, often with a citrusy or resiny character. Medium to no esters. Light alcohol-derived aromatics are also optional.","Generally a jet black color, although some may appear very dark brown. Large, persistent head of light tan to light brown in color. Usually opaque.","Moderate to very high roasted malt flavors, often tasting of coffee, roasted coffee beans, dark or bittersweet chocolate. May have the flavor of slightly burnt coffee grounds, but this character should not be prominent. Low to medium malt sweetness, often with rich chocolate or caramel flavors. Medium to high bitterness. Low to high hop flavor, generally citrusy or resiny. Low to no esters. Medium to dry finish, occasionally with a lightly burnt quality. Alcohol flavors can be present up to medium levels, but smooth.","Medium to full body. Can be somewhat creamy, particularly if a small amount of oats have been used to enhance mouthfeel. Can have a bit of roast-derived astringency, but this character should not be excessive. Medium-high to high carbonation. Light to moderately strong alcohol warmth, but smooth and not excessively hot.","Breweries express individuality through varying the roasted malt profile, malt sweetness and flavor, and the amount of finishing hops used. Generally has bolder roasted malt flavors and hopping than other traditional stouts (except Imperial Stouts).","A modern craft beer and homebrew style that applied an aggressive American hoping regime to a strong traditional English or Irish stout. The homebrew version was previously known as West Coast Stout, which is a common naming scheme for a more highly-hopped beer.","Common American base malts and yeast. Varied use of dark and roasted malts, as well as caramel-type malts. Adjuncts such as oatmeal may be present in low quantities. American hop varieties.","Like a hoppy, bitter, strongly roasted Extra or Export Stout. Much more roast and body than a Black IPA. Bigger, stronger versions belong in the Russian Imperial Stout style. Stronger and more assertive, particularly in the dark malt/grain additions and hop character, than American Porter.","Avery Out of Bounds Stout, Deschutes Obsidian Stout, North Coast Old No. 38, Rogue Shakespeare Stout, Sierra Nevada Stout"]
["20C","20C - Imperial Stout",1.075,1.115,1.018,1.03,59.1,78.8,50,90,8,12,30,40,1075,1115,1018,1030,"Imperial Stout",1.7,2.2999999999999998,"American Porter and Stout","Stout","English Stout","England",1018,1030,"An intensely-flavored, big, dark ale with a wide range of flavor balances and regional interpretations. Roasty-burnt malt with deep dark or dried fruit flavors, and a warming, bittersweet finish. Despite the intense flavors, the components need to meld together to create a complex, harmonious beer, not a hot mess.","Rich and complex, with variable amounts of roasted grains, maltiness, fruity esters, hops, and alcohol. The roasted malt character can take on coffee, dark chocolate, or slightly burnt tones and can be light to moderately strong. The malt aroma can be subtle to rich and barleywine-like. May optionally show a slight specialty malt character (e.g., caramel), but this should only add complexity and not dominate. Fruity esters may be low to moderately strong, and may take on a complex, dark fruit (e.g., plums, prunes, raisins) character. Hop aroma can be very low to quite aggressive, and may contain any hop variety. An alcohol character may be present, but shouldn’t be sharp, hot, or solventy. Aged versions may have a slight vinous or port-like quality, but shouldn’t be sour. The balance can vary with any of the aroma elements taking center stage. Not all possible aromas described need be present; many interpretations are possible. Aging affects the intensity, balance and smoothness of aromatics.","Color may range from very dark reddish-brown to jet black. Opaque. Deep tan to dark brown head. Generally has a well-formed head, although head retention may be low to moderate. High alcohol and viscosity may be visible in “legs” when beer is swirled in a glass.","Rich, deep, complex and frequently quite intense, with variable amounts of roasted malt/grains, maltiness, fruity esters, hop bitterness and flavor, and alcohol. Medium to aggressively high bitterness. Medium-low to high hop flavor (any variety). Moderate to aggressively high roasted malt/grain flavors can suggest bittersweet or unsweetened chocolate, cocoa, and/or strong coffee. A slightly burnt grain, burnt currant or tarry character may be evident. Fruity esters may be low to intense, and can take on a dark fruit character (raisins, plums, or prunes). Malt backbone can be balanced and supportive to rich and barleywine-like, and may optionally show some supporting caramel, bready or toasty flavors. The palate and finish can vary from relatively dry to moderately sweet, usually with some lingering roastiness, hop bitterness and warming character. The balance and intensity of flavors can be affected by aging, with some flavors becoming more subdued over time and some aged, vinous or port-like qualities developing.","Full to very full-bodied and chewy, with a velvety, luscious texture (although the body may decline with long conditioning). Gentle smooth warmth from alcohol should be present and noticeable, but not a primary characteristic; in well-conditioned versions, the alcohol can be deceptive. Should not be syrupy or under-attenuated. Carbonation may be low to moderate, depending on age and conditioning.","Traditionally an English style, but it is currently much more popular and widely available in America where it is a craft beer favorite, not a curiosity. Variations exist, with English and American interpretations (predictably, the American versions have more bitterness, roasted character, and finishing hops, while the English varieties reflect a more complex specialty malt character and a more forward ester profile). Not all Imperial Stouts have a clearly ‘English’ or ‘American’ character; anything in between the two variants are allowable as well, which is why it is counter-productive to designate a sub-type when entering a competition. The wide range of allowable characteristics allow for maximum brewer creativity. Judges must be aware of the broad range of the style, and not try to judge all examples as clones of a specific commercial beer.","A style with a long, although not necessarily continuous, heritage. Traces roots to strong English porters brewed for export in the 1700s, and said to have been popular with the Russian Imperial Court. After the Napoleonic wars interrupted trade, these beers were increasingly sold in England. The style eventually all but died out, until being popularly embraced in the modern craft beer era, both in England as a revival and in the United States as a reinterpretation or re-imagination by extending the style with American characteristics. ","Well-modified pale malt, with generous quantities of roasted malts and/or grain. May have a complex grain bill using virtually any variety of malt. Any type of hops may be used. American or English ale yeast.","Like a black barleywine with every dimension of flavor coming into play. More complex, with a broader range of possible flavors than lower-gravity stouts. ","American –Bell’s Expedition Stout, Cigar City Marshal Zhukov’s Imperial Stout, Great Divide Yeti Imperial Stout, North Coast Old Rasputin Imperial Stout, Sierra Nevada Narwhal Imperial Stout; English – Courage Imperial Russian Stout, Le Coq Imperial Extra Double Stout, Samuel Smith Imperial Stout"]
["21A",{"$f":"A66&\" - \"&S66","v":"21A - American IPA"},{"$f":"O66/1000","v":1.056},1.07,1.008,1.014,11.82,27.58,40,70,5.5,7.5,6,14,1056,1070,1008,1014,"American IPA",2.2999999999999998,2.8,"IPA","IPA","American Pale Beer","United States",1008,1014,"A decidedly hoppy and bitter, moderately strong American pale ale, showcasing modern American or New World hop varieties. The balance is hop-forward, with a clean fermentation profile, dryish finish, and clean, supporting malt allowing a creative range of hop character to shine through.","A prominent to intense hop aroma featuring one or more characteristics of American or New World hops, such as citrus, floral, pine, resinous, spicy, tropical fruit, stone fruit, berry, melon, etc. Many versions are dry hopped and can have an additional fresh hop aroma; this is desirable but not required. Grassiness should be minimal, if present. A low to medium-low clean, grainy-malty aroma may be found in the background. Fruitiness from yeast may also be detected in some versions, although a neutral fermentation character is also acceptable. A restrained alcohol note may be present, but this character should be minimal at best. Any American or New World hop character is acceptable; new hop varieties continue to be released and should not constrain this style.","Color ranges from medium gold to light reddish-amber. Should be clear, although unfiltered dry-hopped versions may be a bit hazy. Medium-sized, white to off-white head with good persistence.","Hop flavor is medium to very high, and should reflect an American or New World hop character, such as citrus, floral, pine, resinous, spicy, tropical fruit, stone fruit, berry, melon, etc. Medium-high to very high hop bitterness. Malt flavor should be low to medium-low, and is generally clean and grainy-malty although some light caramel or toasty flavors are acceptable. Low yeast-derived fruitiness is acceptable but not required. Dry to medium-dry finish; residual sweetness should be low to none. The bitterness and hop flavor may linger into the aftertaste but should not be harsh. A very light, clean alcohol flavor may be noted in stronger versions. May be slightly sulfury, but most examples do not exhibit this character.","Medium-light to medium body, with a smooth texture. Medium to medium-high carbonation. No harsh hop-derived astringency. Very light, smooth alcohol warming not a fault if it does not intrude into overall balance.","A modern American craft beer interpretation of the historical English style, brewed using American ingredients and attitude. The basis for many modern variations, including the stronger Double IPA as well as IPAs with various other ingredients. Those other IPAs should generally be entered in the Specialty IPA style. Oak is inappropriate in this style; if noticeably oaked, enter in wood-aged category.","The first modern American craft beer example is generally believed to be Anchor Liberty Ale, first brewed in 1975 and using whole Cascade hops; the style has pushed beyond that original beer, which now tastes more like an American Pale Ale in comparison. American-made IPAs from earlier eras were not unknown (particularly the well-regarded Ballantine’s IPA, an oak-aged beer using an old English recipe). This style is based on the modern craft beer examples.","Pale ale or 2-row brewers malt as the base, American or New World hops, American or English yeast with a clean or slightly fruity profile. Generally all-malt, but mashed at lower temperatures for high attenuation. Sugar additions to aid attenuation are acceptable. Restrained use of crystal malts, if any, as high amounts can lead to a sweet finish and clash with the hop character.","Stronger and more highly hopped than an American Pale Ale. Compared to an English IPA, has less of the “English” character from malt, hops, and yeast (less caramel, bread, and toast; more American/New World hops than English; less yeast-derived esters), less body, and often has a more hoppy balance and is slightly stronger than most examples. Less alcohol than a Double IPA, but with a similar balance.","Alpine Duet, Bell’s Two-Hearted Ale, Fat Heads Head Hunter IPA, Firestone Walker Union Jack, Lagunitas IPA, Russian River Blind Pig IPA, Stone IPA"]
["21B","21B - Specialty IPA - Belgian IPA",1.0580000000000001,1.08,1.008,1.016,9.85,29.55,50,100,6.2,9.5,5,15,1058,1080,1008,1016,"Specialty IPA - Belgian IPA",2.2999999999999998,2.8,"IPA","IPA","American Bitter Beer","United States",1008,1016,"An IPA with the fruitiness and spiciness derived from the use of Belgian yeast. The examples from Belgium tend to be lighter in color and more attenuated, similar to a tripel that has been brewed with more hops. This beer has a more complex flavor profile and may be higher in alcohol than a typical IPA.","Moderate to high hop aroma, often tropical, stone fruit, citrus or pine-like typical of American or New World hop varieties. Floral and spicy aromas are also found indicating European hops. Grassy aroma due to dry hopping may be present. Gentle, grainy-sweet malt aroma, with little to no caramel. Fruity esters are moderate to high and may include aromas of bananas, pears and apples. Light clove-like phenols may be noticeable. Belgian candi sugar-like aromas are sometimes present.","Light golden to amber in color. Off-white head is moderate to large in size and has good retention. Clarity is fair to quite hazy in dry hopped examples.","Initial flavor is moderately spicy and estery associated with Belgian yeast strains. Clove-like and peppery flavors are common. Banana, pear and apple flavors are also typical. Hop flavors are moderate to high in intensity and may reflect tropical, stone fruit, melon, citrusy, or piney American/New World varieties or floral and spicy Saazer-type hop flavors. Malt flavor is light and grainy-sweet, sometimes with low toasted or caramel malt flavor but not required. Bitterness is high and may be accentuated by spicy yeast-derived flavors. The finish is dry to medium-dry although some examples have a slight sweetness mixed with the lingering bitterness.","The body is medium to light and varies due to carbonation level and adjunct use. Carbonation level is medium to high. Some higher alcohol versions may be warming although this may not be readily apparent.","The choice of yeast strain and hop varieties is critical since many choices will horribly clash.","A relatively new style, started showing up in the mid 2000s. Homebrewers and microbreweries simply substituted Belgian yeast in their American IPA recipes. Belgian breweries added more hops to their tripel and pale ale recipes.","Belgian yeast strains used in making tripels and golden strong ales. American examples tend to use American or New World hops while Belgian versions tend to use European hops and only pale malt.","A cross between an American IPA/Imperial IPA with a Belgian Golden Strong Ale or Tripel. This style is may be spicier, stronger, drier and more fruity than an American IPA.","Brewery Vivant Triomphe, Houblon Chouffe, Epic Brainless IPA, Green Flash Le Freak, Stone Cali-Belgique, Urthel Hop It","Specialty IPA isn’t a distinct style, but is more appropriately thought of as a competition entry category. Beers entered as this style are not experimental beers; they are a collection of currently produced types of beer that may or may not have any market longevity. This category also allows for expansion, so potential future IPA variants (St. Patrick’s Day Green IPA, Romulan Blue IPA, Zima Clear IPA, etc.) have a place to be entered without redoing the style guidelines. The only common element is that they have the balance and overall impression of an IPA (typically, an American IPA) but with some minor tweak.\nThe term ‘IPA’ is used as a singular descriptor of a type of hoppy, bitter beer. It is not meant to be spelled out as ‘India Pale Ale’ when used in the context of a Specialty IPA. None of these beers ever historically went to India, and many aren’t pale. But the craft beer market knows what to expect in balance when a beer is described as an ‘IPA’ – so the modifiers used to differentiate them are based on that concept alone."]
["21B","21B - Specialty IPA - Black IPA",1.05,1.085,1.01,1.018,49.25,78.8,50,90,5.5,9,25,40,1050,1085,1010,1018,"Specialty IPA - Black IPA",2.2999999999999998,2.8,"IPA","IPA","American Bitter Beer","United States",1010,1018,"A beer with the dryness, hop-forward balance, and flavor characteristics of an American IPA, only darker in color – but without strongly roasted or burnt flavors. The flavor of darker malts is gentle and supportive, not a major flavor component. Drinkability is a key characteristic.","A moderate to high hop aroma, often with a stone fruit, tropical, citrusy, resinous, piney, berry, or melon character. If dry hopped, can have an additional floral, herbal, or grassy aroma, although this is not required. Very low to moderate dark malt aroma, which can optionally include light chocolate, coffee, or toast notes. Some clean or lightly caramelly malty sweetness may be found in the background. Fruitiness, either from esters or from hops, may also be detected in some versions, although a neutral fermentation character is also acceptable.","Color ranges from dark brown to black. Should be clear, although unfiltered dry-hopped versions may be a bit hazy; if opaque, should not be murky. Good head stand with light tan to tan color should persist. ","Medium-low to high hop flavor with tropical, stone fruit, melon, citrusy, berry, piney or resinous aspects. Medium-high to very high hop bitterness, although dark malts may contribute to the perceived bitterness. The base malt flavor is generally clean and of low to medium intensity, and can optionally have low caramel or toffee flavors. Dark malt flavors are low to medium-low; restrained chocolate or coffee flavors may be present, but the roasted notes should not be intense, ashy, or burnt, and should not clash with the hops. Low to moderate fruitiness (from yeast or hops) is acceptable but not required. Dry to slightly off-dry finish. The finish may include a light roast character that contributes to perceived dryness, although this is not required. The bitterness may linger into the aftertaste but should not be harsh. Some clean alcohol flavor can be noted in stronger versions. ","Smooth, medium-light to medium-bodied mouthfeel without significant hop- or (especially) roasted malt-derived astringency. Dry-hopped versions may be a bit resiny. Medium carbonation. A bit of creaminess may be present but is not required. Some smooth alcohol warming can and should be sensed in stronger (but not all) versions. ","Most examples are standard strength. Strong examples can sometimes seem like big, hoppy porters if made too extreme, which hurts their drinkability. The hops and malt can combine to produce interesting interactions.","A variation of the American IPA style first commercially produced by Greg Noonan as Blackwatch IPA around 1990. Popularized in the Pacific Northwest and Southern California of the US starting in the early-mid 2000s. This style is sometimes known as Cascadian Dark Ale (CDA), mainly in the Pacific Northwest. ","Debittered roast malts for color and some flavor without harshness and burnt qualities; American or New World hop varieties that don’t clash with roasted malts. Hop characteristics cited are typical of these type of hops; others characteristics are possible, particularly if derived from newer varietals.","Balance and overall impression of an American or Double IPA with restrained roast similar to the type found in Schwarzbiers. Not as roasty-burnt as American stouts and porters, and with less body and increased smoothness and drinkability. ","21st Amendment Back in Black (standard), Deschutes Hop in the Dark CDA (standard), Rogue Dad’s Little Helper (standard), Southern Tier Iniquity (double), Widmer Pitch Black IPA (standard)","Specialty IPA isn’t a distinct style, but is more appropriately thought of as a competition entry category. Beers entered as this style are not experimental beers; they are a collection of currently produced types of beer that may or may not have any market longevity. This category also allows for expansion, so potential future IPA variants (St. Patrick’s Day Green IPA, Romulan Blue IPA, Zima Clear IPA, etc.) have a place to be entered without redoing the style guidelines. The only common element is that they have the balance and overall impression of an IPA (typically, an American IPA) but with some minor tweak.\nThe term ‘IPA’ is used as a singular descriptor of a type of hoppy, bitter beer. It is not meant to be spelled out as ‘India Pale Ale’ when used in the context of a Specialty IPA. None of these beers ever historically went to India, and many aren’t pale. But the craft beer market knows what to expect in balance when a beer is described as an ‘IPA’ – so the modifiers used to differentiate them are based on that concept alone."]
["21B","21B - Specialty IPA - Brown IPA",1.056,1.07,1.008,1.016,21.669999999999998,37.43,40,70,5.5,7.5,11,19,1056,1070,1008,1016,"Specialty IPA - Brown IPA",2.2999999999999998,2.8,"IPA","IPA","American Bitter Beer","United States",1008,1016,"Hoppy, bitter, and moderately strong like an American IPA, but with some caramel, chocolate, toffee, and/or dark fruit malt character as in an American Brown Ale. Retaining the dryish finish and lean body that makes IPAs so drinkable, a Brown IPA is a little more flavorful and malty than an American IPA without being sweet or heavy.","A moderate to moderately-strong fresh hop aroma featuring one or more characteristics of American or New World hops, such as tropical fruit, stone fruit, citrus, floral, spicy, berry, melon, pine, resinous, etc. Many versions are dry hopped and can have an additional fresh hop aroma; this is desirable but not required. Grassiness should be minimal, if present. A medium-low to medium malty-sweet aroma mixes in well with the hop selection, and often features chocolate, nuts, dark caramel, toffee, toasted bread, and/or dark fruit character. Fruitiness from yeast may also be detected in some versions, although a neutral fermentation character is also acceptable. A restrained alcohol note may be present, but this character should be minimal at best. Any American or New World hop character is acceptable; new hop varieties continue to be released and should not constrain this style.","Color ranges from reddish-brown to dark brown but not black. Frequently opaque, but should be clear if visible. Unfiltered dry-hopped versions may be a bit hazy. Medium-sized, cream-colored to tan head with good persistence.","Hop flavor is medium to high, and should reflect an American or New World hop character, such as citrus, floral, pine, resinous, spicy, tropical fruit, stone fruit, berry, melon, etc. Medium-high to high hop bitterness. Malt flavor should be medium-low to medium, and is generally clean but malty-sweet up front with milk chocolate, cocoa, toffee, nutty, biscuity, dark caramel, toasted bread and/or dark fruit malt flavors. The character malt choices and the hop selections should complement and enhance each other, not clash. The level of malt flavor should nearly balance the hop bitterness and flavor presentation. Low yeast-derived fruitiness is acceptable but not required. Dry to medium finish; residual sweetness should be medium-low to none. The bitterness and hop flavor may linger into the aftertaste but should not be harsh. A very light, clean alcohol flavor may be noted in stronger versions. No roasted, burnt, or harsh-bitter malt character.","Medium-light to medium body, with a smooth texture. Medium to medium-high carbonation. No harsh hop-derived astringency. Very light, smooth alcohol warming not a fault if it does not intrude into overall balance.","Previously might have been a sub-genre of American Brown Ales, hoppier and stronger than the normal products, but still maintaining the essential drinkability by avoiding sweet flavors or a heavy body or finish. The hops and malt can combine to produce interesting interactions.","A more modern craft beer name for a style that has long been popular with US homebrewers, when it was known as a hoppier American Brown Ale or sometimes Texas Brown Ale (despite origins in California).","Similar to an American IPA, but with medium or dark crystal malts, lightly roasted chocolate-type malts, or other intermediate color character malts. May use sugar adjuncts, including brown sugar. American or New World finishing hops with tropical, fruity, citrusy, piney, berry, or melon aspects; the choice of hops and character malts is synergistic – they very much have to complement each other and not clash.","A stronger and more bitter version of an American Brown Ale, with the balance of an American IPA.","Dogfish Head Indian Brown Ale, Grand Teton Bitch Creek, Harpoon Brown IPA, Russian River Janet’s Brown Ale","Specialty IPA isn’t a distinct style, but is more appropriately thought of as a competition entry category. Beers entered as this style are not experimental beers; they are a collection of currently produced types of beer that may or may not have any market longevity. This category also allows for expansion, so potential future IPA variants (St. Patrick’s Day Green IPA, Romulan Blue IPA, Zima Clear IPA, etc.) have a place to be entered without redoing the style guidelines. The only common element is that they have the balance and overall impression of an IPA (typically, an American IPA) but with some minor tweak.\nThe term ‘IPA’ is used as a singular descriptor of a type of hoppy, bitter beer. It is not meant to be spelled out as ‘India Pale Ale’ when used in the context of a Specialty IPA. None of these beers ever historically went to India, and many aren’t pale. But the craft beer market knows what to expect in balance when a beer is described as an ‘IPA’ – so the modifiers used to differentiate them are based on that concept alone."]
["21B","21B - Specialty IPA - Red IPA",1.056,1.07,1.008,1.016,21.669999999999998,37.43,40,70,5.5,7.5,11,19,1056,1070,1008,1016,"Specialty IPA - Red IPA",2.2999999999999998,2.8,"IPA","IPA","American Bitter Beer","United States",1008,1016,"Hoppy, bitter, and moderately strong like an American IPA, but with some caramel, toffee, and/or dark fruit malt character. Retaining the dryish finish and lean body that makes IPAs so drinkable, a Red IPA is a little more flavorful and malty than an American IPA without being sweet or heavy.","A moderate to strong fresh hop aroma featuring one or more characteristics of American or New World hops, such as tropical fruit, stone fruit, citrus, floral, spicy, berry, melon, pine, resinous, etc. Many versions are dry hopped and can have an additional fresh hop aroma; this is desirable but not required. Grassiness should be minimal, if present. A medium-low to medium malty-sweet aroma mixes in well with the hop selection, and often features caramel, toffee, toasty, and/or dark fruit character. Fruitiness from yeast may also be detected in some versions, although a neutral fermentation character is also acceptable. A restrained alcohol note may be present, but this character should be minimal at best. Any American or New World hop character is acceptable; new hop varieties continue to be released and should not constrain this style.","Color ranges from light reddish-amber to dark reddish-copper. Should be clear, although unfiltered dry-hopped versions may be a bit hazy. Medium-sized, off-white to cream-colored head with good persistence.","Hop flavor is medium to very high, and should reflect an American or New World hop character, such as citrus, floral, pine, resinous, spicy, tropical fruit, stone fruit, berry, melon, etc. Medium-high to very high hop bitterness. Malt flavor should be medium-low to medium, and is generally clean but malty-sweet up front with medium-dark caramel, toffee, toasty and/or dark fruit malt flavors. The character malt choices and the hop selections should complement and enhance each other, not clash. The level of malt flavor should not adversely constrain the hop bitterness and flavor presentation. Low yeast-derived fruitiness is acceptable but not required. Dry to medium-dry finish; residual sweetness should be medium-low to none. The bitterness and hop flavor may linger into the aftertaste but should not be harsh. A very light, clean alcohol flavor may be noted in stronger versions. ","Medium-light to medium body, with a smooth texture. Medium to medium-high carbonation. No harsh hop-derived astringency. Very light, smooth alcohol warming not a fault if it does not intrude into overall balance.","Previously might have been a sub-genre of American Amber Ales or Double Red Ales, hoppier and stronger than the normal products, but still maintaining the essential drinkability by avoiding sweet flavors or a heavy body or finish.","A modern American craft beer style, based on American IPA but with the malt flavors of an American Amber Ale.","Similar to an American IPA, but with medium or dark crystal malts, possibly some character malts with a light toasty aspect. May use sugar adjuncts. American or New World finishing hops with tropical, fruity, citrusy, piney, berry, or melon aspects; the choice of hops and character malts is synergistic – they very much have to complement each other and not clash.","Similar to the difference between an American Amber Ale and an American Pale Ale, a Red IPA will differ from an American IPA with the addition of some darker crystal malts giving a slightly sweeter, more caramelly and dark fruit-based balance. A Red IPA differs from an American Strong Ale in that the malt profile is less intense and there is less body; a Red IPA still has an IPA balance and doesn’t trend towards a barleywine-like malt character. A Red IPA is like a stronger, hoppier American Amber Ale, with the characteristic dry finish, medium-light body, and strong late hop character.","Green Flash Hop Head Red Double Red IPA (double), Midnight Sun Sockeye Red, Sierra Nevada Flipside Red IPA, Summit Horizon Red IPA, Odell Runoff Red IPA","Specialty IPA isn’t a distinct style, but is more appropriately thought of as a competition entry category. Beers entered as this style are not experimental beers; they are a collection of currently produced types of beer that may or may not have any market longevity. This category also allows for expansion, so potential future IPA variants (St. Patrick’s Day Green IPA, Romulan Blue IPA, Zima Clear IPA, etc.) have a place to be entered without redoing the style guidelines. The only common element is that they have the balance and overall impression of an IPA (typically, an American IPA) but with some minor tweak.\nThe term ‘IPA’ is used as a singular descriptor of a type of hoppy, bitter beer. It is not meant to be spelled out as ‘India Pale Ale’ when used in the context of a Specialty IPA. None of these beers ever historically went to India, and many aren’t pale. But the craft beer market knows what to expect in balance when a beer is described as an ‘IPA’ – so the modifiers used to differentiate them are based on that concept alone."]
["21B","21B - Specialty IPA - Rye IPA",1.056,1.075,1.008,1.014,11.82,27.58,50,75,5.5,8,6,14,1056,1075,1008,1014,"Specialty IPA - Rye IPA",2.2999999999999998,2.8,"IPA","IPA","American Bitter Beer","United States",1008,1014,"A decidedly hoppy and bitter, moderately strong American pale ale, showcasing modern American and New World hop varieties and rye malt. The balance is hop-forward, with a clean fermentation profile, dry finish, and clean, supporting malt allowing a creative range of hop character to shine through.","A prominent to intense hop aroma featuring one or more characteristics of American or New World hops, such as citrus, floral, pine, resinous, spicy, tropical fruit, stone fruit, berry, melon, etc. Many versions are dry hopped and can have an additional fresh hop aroma; this is desirable but not required. Grassiness should be minimal, if present. It may have low peppery rye malt aroma. A low to medium-low clean grainy-malty aroma may be found in the background. Fruitiness from yeast may also be detected in some versions, although a neutral fermentation character is also acceptable. A restrained alcohol note may be present, but this character should be minimal at best. Any American or New World hop character is acceptable; new hop varieties continue to be released and should not constrain this style.","Color ranges from medium gold to light reddish-amber. Should be clear, although unfiltered dry-hopped versions may be a bit hazy. Medium-sized, white to off-white head with good persistence.","Hop flavor is medium to very high, and should reflect an American or New World hop character, such as citrus, floral, pine, resinous, spicy, tropical fruit, stone fruit, berry, melon, etc. Medium-high to very high hop bitterness. Malt flavor should be low to medium-low, and is generally clean and grainy-malty although some light caramel or toasty flavors are acceptable. A light grainy spiciness from rye malt should be present. Low yeast-derived fruitiness is acceptable but not required. Rye malt contributes to a dry finish; residual sweetness should be low to none. The bitterness, hop flavor and dryness may linger into the aftertaste but should not be harsh. A very light, clean alcohol flavor may be noted in stronger versions. ","Medium-light to medium body, with a smooth texture. Medium to medium-high carbonation. No harsh hop-derived astringency. Very light, smooth alcohol warming not a fault if it does not intrude into overall balance.","A modern American craft beer variation of American IPA. Rye malt character should be noticeable, otherwise enter in American IPA. Oak is inappropriate in this style; if noticeably oaked, enter in wood-aged category.","Looking to add complexity and variety to their IPAs, craft brewers and homebrewers substituted rye malt for a portion of their base malt. Rye IPAs, RyePAs or RIPAs have found a place in many craft breweries seasonal rotations.","Pale ale or 2-row brewers malt as the base, 15-20% Rye malt, American or New World hops, American or English yeast with a clean or slightly fruity profile. Generally all-malt, but mashed at lower temperatures for high attenuation. Sugar additions to aid attenuation are acceptable. Water character varies from soft to moderately sulfate. Restrained use of crystal malts, if any, as high amounts can lead to a sweet finish and clash with the hop character.","Drier and slightly spicier than an American IPA. Bitterness and spiciness from rye lingers longer than an American IPA. Does not have the intense rye malt character of a Roggenbier. Some examples are stronger like a Double IPA.","Arcadia Sky High Rye, Bear Republic Hop Rod Rye, Founders Reds Rye, Great Lakes Rye of the Tiger, Sierra Nevada Ruthless Rye","Specialty IPA isn’t a distinct style, but is more appropriately thought of as a competition entry category. Beers entered as this style are not experimental beers; they are a collection of currently produced types of beer that may or may not have any market longevity. This category also allows for expansion, so potential future IPA variants (St. Patrick’s Day Green IPA, Romulan Blue IPA, Zima Clear IPA, etc.) have a place to be entered without redoing the style guidelines. The only common element is that they have the balance and overall impression of an IPA (typically, an American IPA) but with some minor tweak.\nThe term ‘IPA’ is used as a singular descriptor of a type of hoppy, bitter beer. It is not meant to be spelled out as ‘India Pale Ale’ when used in the context of a Specialty IPA. None of these beers ever historically went to India, and many aren’t pale. But the craft beer market knows what to expect in balance when a beer is described as an ‘IPA’ – so the modifiers used to differentiate them are based on that concept alone."]
["21B","21B - Specialty IPA - White IPA",1.056,1.0649999999999999,1.01,1.016,9.85,15.76,40,70,5.5,7,5,8,1056,1065,1010,1016,"Specialty IPA - White IPA",2.2999999999999998,2.8,"IPA","IPA","American Bitter Beer","United States",1010,1016,"A fruity, spicy, refreshing version of an American IPA, but with a lighter color, less body, and featuring either the distinctive yeast and/or spice additions typical of a Belgian witbier.","Moderate fruity esters – banana, citrus, perhaps apricot. May have light to moderate spice aroma such as coriander or pepper from actual spice additions and/or Belgian yeast. Hop aroma is moderately-low to medium, usually American or New World type with stone fruit, citrus and tropical aromas. Esters and spices may reduce hop aroma perception. Light clove-like phenolics may be present.","Pale to deep golden color, typically hazy. Moderate to large, dense white head that persists.","Light malt flavor, perhaps a bit bready. Fruity esters are moderate to high, with citrus flavors similar to grapefruit and orange, or stone fruit like apricot. Sometimes banana-like flavors are present. Hop flavor is medium-low to medium-high with citrusy or fruity aspects. Some spicy clove-like flavors from Belgian yeast may be present. Coriander and orange peel flavors may be found as well. Bitterness is high which leads to a moderately dry, refreshing finish.","Medium-light body with medium to medium-high carbonation. Typically no astringency, although highly spiced examples may exhibit a light astringency which is not distracting. ","A craft beer interpretation of American IPA crossed with a witbier.","American craft brewers developed the style as a late winter/spring seasonal beer to appeal to Wit and IPA drinkers alike.","Pale and wheat malts, Belgian yeast, citrusy American type hops.","Similar to a Belgian Wit style except highly hopped to the level of an American IPA. Bitter and hoppy like the IPA but fruity, spicy and light like the Wit. Typically the hop aroma and flavor are not as prominent as in an American IPA.","Blue Point White IPA, Deschutes Chainbreaker IPA, Harpoon The Long Thaw, New Belgium Accumulation","Specialty IPA isn’t a distinct style, but is more appropriately thought of as a competition entry category. Beers entered as this style are not experimental beers; they are a collection of currently produced types of beer that may or may not have any market longevity. This category also allows for expansion, so potential future IPA variants (St. Patrick’s Day Green IPA, Romulan Blue IPA, Zima Clear IPA, etc.) have a place to be entered without redoing the style guidelines. The only common element is that they have the balance and overall impression of an IPA (typically, an American IPA) but with some minor tweak.\nThe term ‘IPA’ is used as a singular descriptor of a type of hoppy, bitter beer. It is not meant to be spelled out as ‘India Pale Ale’ when used in the context of a Specialty IPA. None of these beers ever historically went to India, and many aren’t pale. But the craft beer market knows what to expect in balance when a beer is described as an ‘IPA’ – so the modifiers used to differentiate them are based on that concept alone."]
["22A","22A - Double IPA",1.0649999999999999,1.085,1.008,1.018,11.82,27.58,60,120,7.5,10,6,14,1065,1085,1008,1018,"Double IPA",2.2999999999999998,2.8,"Strong American Ale","IPA","American Bitter Beer","United States",1008,1018,"An intensely hoppy, fairly strong pale ale without the big, rich, complex maltiness and residual sweetness and body of an American barleywine. Strongly hopped, but clean, dry, and lacking harshness. Drinkability is an important characteristic; this should not be a heavy, sipping beer.","A prominent to intense hop aroma that typically showcases American or New World hop characteristics (citrus, floral, pine, resinous, spicy, tropical fruit, stone fruit, berry, melon, etc.). Most versions are dry hopped and can have an additional resinous or grassy aroma, although this is not absolutely required. Some clean malty sweetness may be found in the background. Fruitiness, either from esters or hops, may also be detected in some versions, although a neutral fermentation character is typical. Some alcohol can usually be noted, but it should not have a “hot” character.","Color ranges from golden to light orange-copper; most modern versions are fairly pale. Good clarity, although unfiltered dry-hopped versions may be a bit hazy. Moderate-sized, persistent, white to off-white head.","Hop flavor is strong and complex, and can reflect the characteristics of modern American or New World hop varieties (citrus, floral, pine, resinous, spicy, tropical fruit, stone fruit, berry, melon, etc.). High to absurdly high hop bitterness. Low to medium malt flavor, generally clean and grainy-malty although low levels of caramel or toasty flavors are acceptable. Low to medium fruitiness is acceptable but not required. A long, lingering bitterness is usually present in the aftertaste but should not be harsh. Dry to medium-dry finish; should not finish sweet or heavy. A light, clean, smooth alcohol flavor is not a fault. Oak is inappropriate in this style. May be slightly sulfury, but most examples do not exhibit this character. ","Medium-light to medium body, with a smooth texture. Medium to medium-high carbonation. No harsh hop-derived astringency. Restrained, smooth alcohol warming acceptable.","A showcase for hops, yet remaining quite drinkable. The adjective “double\" is arbitrary and simply implies a stronger version of an IPA; “imperial,” “extra,” “extreme,” or any other variety of adjectives would be equally valid, although the modern American market seems to have now coalesced around the “double” term.","An American craft beer innovation first developed in the mid-late 1990s reflecting the trend of American craft brewers “pushing the envelope” to satisfy the need of hop aficionados for increasingly intense products. Became more mainstream and popular throughout the 2000s, and inspired additional IPA creativity.","Clean 2-row malt is typical as a base grain; an excessively complex grist can be distracting. Crystal-type malts often muddy the hop flavors, and are generally considered undesirable in significant quantities. Sugar or other highly fermentable adjuncts are often used to increase attenuation, as are lower-temperature mash rests. Can use a complex variety of hops, typically American or New World, often with cutting-edge profiles providing distinctive differences. Modern hops with unusual characteristics are not out of style. American yeast that can give a clean or slightly fruity profile.","Bigger than either an English or American IPA in both alcohol strength and overall hop level (bittering and finish). Less malty, lower body, less rich and a greater overall hop intensity than an American Barleywine. Typically not as high in gravity/alcohol as a barleywine, since high alcohol and malt tend to limit drinkability.","Avery Maharaja, Fat Heads Hop Juju, Firestone Walker Double Jack, Port Brewing Hop 15, Russian River Pliny the Elder, Stone Ruination IPA, Three Floyds Dreadnaught"]
["22B","22B - American Strong Ale",1.0620000000000001,1.0900000000000001,1.014,1.024,13.79,37.43,50,100,6.3,10,7,19,1062,1090,1014,1024,"American Strong Ale",2.2999999999999998,2.8,"Strong American Ale","Strong Ale","Strong Ale","United States",1014,1024,"A strong, full-flavored American ale that challenges and rewards the palate with full malty and hoppy flavors and substantial bitterness. The flavors are bold but complementary, and are stronger and richer than average-strength pale and amber American ales.","Medium to high hop aroma, most often presenting citrusy or resiny notes although characteristics associated with other American or New World varieties may be found (tropical, stone fruit, melon, etc.). Moderate to bold maltiness supports hop profile, with medium to dark caramel a common presence, bready or toasty possible and background notes of light roast and/or chocolate noticeable in some examples. Generally exhibits clean to moderately fruity ester profile. Moderate alcohol aromatics may be noticeable, but should not be hot, harsh, or solventy.","Medium amber to deep copper or light brown. Moderate-low to medium-sized off-white to light tan head; may have low head retention. Good clarity. Alcohol level and viscosity may present “legs” when glass is swirled.","Medium to high dextrinous malt with a full range of caramel, toffee, dark fruit flavors. Low to medium toasty, bready, or Maillard-rich malty flavors are optional, and can add complexity. Medium-high to high hop bitterness. The malt gives a medium to high sweet impression on the palate, although the finish may be slightly sweet to somewhat dry. Moderate to high hop flavor. Low to moderate fruity esters. The hop flavors are similar to the aroma (citrusy, resiny, tropical, stone fruit, melon, etc.). Alcohol presence may be noticeable, but sharp or solventy alcohol flavors are undesirable. Roasted malt flavors are allowable but should be a background note; burnt malt flavors are inappropriate. While strongly malty on the palate, the finish should seem bitter to bittersweet. Should not be syrupy and under-attenuated. The aftertaste typically has malt, hops, and alcohol noticeable. ","Medium to full body. An alcohol warmth may be present, but not be excessively hot. Any astringency present should be attributable to bold hop bitterness and should not be objectionable on the palate. Medium-low to medium carbonation. ","A fairly broad style that can describe beers labeled in various ways, including modern Double/Imperial Red/Amber Ales and other strong, malty-but-hoppy beers that aren’t quite in the Barleywine class. Diverse enough to include what may be viewed as a strong American Amber Ale with room for more interpretations of other “Imperial” versions of lower gravity American Ale styles. Many “East Coast” type IPAs might fit better in this category if they have considerable crystal malt or otherwise more of a malty-sweet finish.","While modern craft versions were developed as “imperial” strength versions of American amber or red ales, the style has much in common with historic American stock ales. Strong, malty beers were highly hopped to keep as provision beers prior to prohibition. There is no continuous legacy of brewing stock ales in this manner, but the resemblance is considerable. Stone Arrogant Bastard was born out of a batch of pale ale that was mistakenly made with excess ingredients, thus creating what may have been the prototype for the imperial amber/red ale. Great Lakes first brewed Nosferatu in the early 1990s and called it a stock ale, although they now call it an imperial red ale. So whether by direct historical inspiration or by accident, the style developed independently in the craft beer era and has subsequently become quite popular.","Well-modified pale malt as a base; some character malts would be appropriate, medium to dark crystal malts are typical. Citrusy or piney American hops are common, although any American or New World varieties can be used in quantity, provided they do not clash with the malt character. Generally uses an attenuative American yeast.","Generally not as strong and as rich as an American Barleywine. More malt balanced than an American or Double IPA with more American hop intensity than an English Strong Ale style would tolerate. ","Bear Republic Red Rocket Ale, Great Lakes Nosferatu, Terrapin Big Hoppy Monster, Port Brewing Shark Attack Double Red, Stone Arrogant Bastard,"]
["22C","22C - American Barleywine",1.08,1.1200000000000001,1.016,1.03,19.7,37.43,50,100,8,12,10,19,1080,1120,1016,1030,"American Barleywine",1.5,2.2999999999999998,"Strong American Ale","Strong Ale","Barleywine","United States",1016,1030,"A well-hopped American interpretation of the richest and strongest of the English ales. The hop character should be evident throughout, but does not have to be unbalanced. The alcohol strength and hop bitterness often combine to leave a very long finish.","Hop character moderate to assertive and often showcases citrusy, fruity, or resiny New World varieties (although other varieties, such as floral, earthy or spicy English varieties or a blend of varieties, may be used). Rich maltiness, with a character that may be sweet, caramelly, bready, or fairly neutral. Low to moderately-strong fruity esters and alcohol aromatics. However, the intensity of aromatics often subsides with age. Hops tend to be nearly equal to malt in the aroma, with alcohol and esters far behind.","Color may range from light amber to medium copper; may rarely be as dark as light brown. Often has ruby highlights. Moderately-low to large off-white to light tan head; may have low head retention. May be cloudy with chill haze at cooler temperatures, but generally clears to good to brilliant clarity as it warms. The color may appear to have great depth, as if viewed through a thick glass lens. High alcohol and viscosity may be visible in “legs” when beer is swirled in a glass.","Strong, rich malt flavor with a noticeable hop flavor and bitterness in the balance. Moderately-low to moderately-high malty sweetness on the palate, although the finish may be somewhat sweet to quite dry (depending on aging). Hop bitterness may range from moderately strong to aggressive. While strongly malty, the balance should always seem bitter. Moderate to high hop flavor (any variety, but often showing a range of New World hop characteristics). Low to moderate fruity esters. Noticeable alcohol presence, but well-integrated. Flavors will smooth out and decline over time, but any oxidized character should be muted (and generally be masked by the hop character). May have some bready or caramelly malt flavors, but these should not be high; roasted or burnt malt flavors are inappropriate. ","Full-bodied and chewy, with a velvety, luscious texture (although the body may decline with long conditioning). Alcohol warmth should be noticeable but smooth. Should not be syrupy and under-attenuated. Carbonation may be low to moderate, depending on age and conditioning.","Sometimes known as “Barley Wine” or “Barleywine style ale” (the latter due to legal requirements, not brewery preference).","Usually the strongest ale offered by a brewery, often associated with the winter or holiday season and vintage-dated. As with many American craft beer styles, derived from English examples but using American ingredients and featuring a much more forward hop profile. One of the first American craft beer versions was Anchor Old Foghorn, first brewed in 1975. Sierra Nevada Bigfoot, first brewed in 1983, set the standard for the hop-forward style of today. The story goes that when Sierra Nevada first sent Bigfoot out for lab analysis, the lab called and said, “your barleywine is too bitter” – to which Sierra Nevada replied, “thank you.”","Well-modified pale malt should form the backbone of the grist. Some specialty or character malts may be used. Dark malts should be used with great restraint, if at all, as most of the color arises from a lengthy boil. New World hops are common, although any varieties can be used in quantity. Generally uses an attenuative American ale yeast.","The American version of the Barleywine tends to have a greater emphasis on hop bitterness, flavor and aroma than the English Barleywine, and often features American hop varieties. Typically paler than the darker English Barleywines (and lacking in the deeper malt flavors) but darker than the golden English Barleywines. Differs from a Double IPA in that the hops are not extreme, the malt is more forward, and the body is fuller and often richer. An American Barleywine typically has more residual sweetness than a Double IPA, which affects the overall drinkability (sipping vs. drinking).","Avery Hog Heaven Barleywine, Anchor Old Foghorn, Great Divide Old Ruffian, Rogue Old Crustacean, Sierra Nevada Bigfoot, Victory Old Horizontal"]
["22D","22D - Wheatwine",1.08,1.1200000000000001,1.016,1.03,15.76,29.55,30,60,8,12,8,15,1080,1120,1016,1030,"Wheatwine",1.5,2.2999999999999998,"Strong American Ale","Strong Ale","Barleywine","United States",1016,1030,"A richly textured, high alcohol sipping beer with a significant grainy, bready flavor and sleek body. The emphasis is first on the bready, wheaty flavors with interesting complexity from malt, hops, fruity yeast character and alcohol complexity.","Hop aroma is mild and can represent just about any late hop aromatic. Moderate to moderately-strong bready, wheaty malt character, often with additional malt complexity such as honey and caramel. A light, clean, alcohol aroma may noted. Low to medium fruity notes may be apparent. Very low levels of diacetyl are acceptable but not required. Weizen yeast character (banana/clove) is inappropriate.","Color ranges from gold to deep amber, often with garnet or ruby highlights. Low to medium off-white head. The head may have creamy texture, and good retention. Chill haze is allowable, but usually clears up as the beer gets warmer. High alcohol and viscosity may be visible in “legs” when beer is swirled in a glass.","Moderate to moderately-high wheaty malt flavor, dominant in the flavor balance over any hop character. Low to moderate bready, toasty, caramel, or honey malt notes are a welcome complexity note, although not required. Hop flavor is low to medium, and can reflect any variety. Moderate to moderately-high fruitiness, often with a dried-fruit character. Hop bitterness may range from low to moderate; balance therefore ranges from malty to evenly balanced. Should not be syrupy and under-attenuated. Some oxidative or vinous flavors may be present, as are light alcohol notes that are clean and smooth but complex. A complementary, supportive oak character is welcome, but not required.","Medium-full to full bodied and chewy, often with a luscious, velvety texture. Low to moderate carbonation. Light to moderate smooth alcohol warming may also be present.","Dark malts should be used with restraint. Much of the color arises from a lengthy boil. Some commercial examples may be larger than the Vital Statistics, and some may not be brewed every year.","A relatively recent American craft beer style that was first brewed at the Rubicon Brewing Company in 1988. Often a winter seasonal, vintage, or one-off release. Breweries frequently experiment with this style, leading to a range of interpretations.","Typically brewed with a combination of American two-row and American wheat. Style commonly uses 50% or more wheat malt. Any variety of hops may be used. May be oak-aged.","More than simply a wheat-based barleywine, many versions have very expressive fruity and hoppy notes, while others develop complexity through oak aging. Less emphasis on the hops than American Barleywine. Has roots in American Wheat Beer rather than any German wheat styles, so should not have any German weizen yeast character.","Rubicon Winter Wheat Wine, Two Brothers Bare Trees Weiss Wine, Smuttynose Wheat Wine, Portsmouth Wheat Wine"]
["23A","23A - Berliner Weisse",1.028,1.032,1.0029999999999999,1.006,3.94,5.91,3,8,2.8,3.8,2,3,1028,1032,1003,1006,"Berliner Weisse",2.5,4,"European Sour Ale","Wheat Beer","German Sour Ale","Germany",1003,1006,"A very pale, refreshing, low-alcohol German wheat beer with a clean lactic sourness and a very high carbonation level. A light bread dough malt flavor supports the sourness, which shouldn’t seem artificial. Any Brettanomyces funk is restrained.","A sharply sour character is dominant (moderate to moderately-high). Can have up to a moderately fruity character (often lemony or tart apple). The fruitiness may increase with age and a light flowery character may develop. No hop aroma. The wheat may present as uncooked bread dough in fresher versions; combined with the acidity, may suggest sourdough bread. May optionally have a restrained funky Brettanomyces character.","Very pale straw in color. Clarity ranges from clear to somewhat hazy. Large, dense, white head with poor retention. Always effervescent.","Clean lactic sourness dominates and can be quite strong. Some complementary doughy, bready or grainy wheat flavor is generally noticeable. Hop bitterness is undetectable; sourness provides the balance rather than hops. Never vinegary. A restrained citrusy-lemony or tart apple fruitiness may be detected. Very dry finish. Balance dominated by sourness, but some malt flavor should be present. No hop flavor. May optionally have a restrained funky Brettanomyces character. ","Light body. Very high carbonation. No sensation of alcohol. Crisp, juicy acidity.","In Germany, it is classified as a Schankbier denoting a small beer of starting gravity in the range 7-8 °P. Often served with the addition of a shot of sugar syrups (mit schuss) flavored with raspberry (himbeer), woodruff (waldmeister), or Caraway schnapps (Kümmel) to counter the substantial sourness. Has been described by some as the most purely refreshing beer in the world.","A regional specialty of Berlin; referred to by Napoleon's troops in 1809 as “the Champagne of the North” due to its lively and elegant character. At one point, it was smoked and there used to be Märzen-strength (14 °P) version. Increasingly rare in German, but some American craft breweries now regularly produce the style.","Wheat malt content is typically 50% of the grist (as is tradition with all German wheat beers) with the remainder typically being Pilsner malt. A symbiotic fermentation with top-fermenting yeast and Lactobacillus (various strains) provides the sharp sourness, which may be enhanced by blending of beers of different ages during fermentation and by extended cool aging. Hop bitterness is non-existent. Decoction mashing with mash hopping is traditional. German brewing scientists believe that Brettanomyces is essential to get the correct flavor profile, but this character is never strong.","Compared to a lambic, is generally not as acidic and has a clean lactic sourness with restrained to below sensory threshold funk. Also lower in alcohol content.","Bayerischer Bahnhof Berliner Style Weisse, Berliner Kindl Weisse, Nodding Head Berliner Weisse, The Bruery Hottenroth"]
["23B","23B - Flanders Red Ale",1.048,1.0569999999999999,1.002,1.012,19.7,31.52,10,25,4.5999999999999996,6.5,10,16,1048,1057,1002,1012,"Flanders Red Ale",1.5,2.5,"European Sour Ale","Sour Ale","Belgian Sour Ale","Belgium",1002,1012,"A sour, fruity, red wine-like Belgian-style ale with interesting supportive malt flavors and fruit complexity. The dry finish and tannin completes the mental image of a fine red wine.","Complex fruity-sour profile with supporting malt that often gives a wine-like impression. Fruitiness is high, and reminiscent of black cherries, oranges, plums or red currants. There are often low to medium-low vanilla and/or chocolate notes. Spicy phenols can be present in low amounts for complexity. The sour aroma ranges from balanced to intense. Prominent vinegary acetic character is inappropriate. No hop aroma. Diacetyl is perceived only in very minor quantities, if at all, as a complementary aroma.","Deep red, burgundy to reddish-brown in color. Good clarity. White to very pale tan head. Average to good head retention.","Intense fruitiness commonly includes plum, orange, black cherry or red currant flavors. A mild vanilla and/or chocolate character is often present. Spicy phenols can be present in low amounts for complexity. Sour flavor ranges from complementary to intense, and can have an acidic bite. Malty flavors range from complementary to prominent, and often have a soft toasty-rich quality. Generally as the sour character increases, the malt character blends to more of a background flavor (and vice versa). No hop flavor. Restrained hop bitterness. An acidic, tannic bitterness is often present in low to moderate amounts, and adds an aged red wine-like character and finish. Prominent vinegary acetic character is inappropriate. Diacetyl is perceived only in very minor quantities, if at all, as a complementary flavor. Balanced to the malt side, but dominated by the fruity, sour, wine-like impression.","Medium bodied. Low to medium carbonation. Low to medium astringency, like a well-aged red wine, often with a prickly acidity. Deceivingly light and crisp on the palate although a somewhat sweet finish is not uncommon.","Long aging and blending of young and well-aged beer often occurs, adding to the smoothness and complexity, though the aged product is sometimes released as a connoisseur’s beer. Known as the Burgundy of Belgium, it is more wine-like than any other beer style. The reddish color is a product of the malt although an extended, less-than-rolling portion of the boil may help add an attractive Burgundy hue. Aging will also darken the beer. The Flanders red is more acetic (but never vinegar-like) and the fruity flavors more reminiscent of a red wine than an Oud Bruin. Can have an apparent attenuation of up to 98%.","An indigenous beer of West Flanders, typified by the products of the Rodenbach brewery, established in 1820 in West Flanders but reflective of earlier brewing traditions. The beer is aged for up to two years, often in huge oaken barrels which contain the resident bacteria necessary to sour the beer. It was once common in Belgium and England to blend old beer with young to balance the sourness and acidity found in aged beer. While blending of batches for consistency is now common among larger breweries, this type of blending is a fading art.","A base of Vienna and/or Munich malts, light to medium cara-malts, and a small amount of Special B are used with up to 20% maize. Low alpha acid continental hops are commonly used (avoid high alpha or distinctive American hops). Saccharomyces, Lactobacillus and Brettanomyces (and acetobacter) contribute to the fermentation and eventual flavor.","Less malty-rich than an Oud Bruin, often with more of a fruity-tart profile.","Cuvée des Jacobins Rouge, Duchesse de Bourgogne, Rodenbach Grand Cru, Rodenbach Klassiek, Vichtenaar Flemish Ale"]
["23C","23C - Oud Bruin",1.04,1.0740000000000001,1.008,1.012,29.55,43.339999999999996,20,25,4,8,15,22,1040,1074,1008,1012,"Oud Bruin",3,4.5,"European Sour Ale","Sour Ale","Belgian Sour Ale","Belgium",1008,1012,"A malty, fruity, aged, somewhat sour Belgian-style brown ale.","Complex combination of fruity esters and rich malt character. Medium to medium-high esters commonly reminiscent of raisins, plums, figs, dates, black cherries or prunes. Medium low to medium high malt character of caramel, toffee, orange, treacle or chocolate. Spicy phenols can be present in low amounts for complexity. A sherry-like character may be present and generally denotes an aged example. A low sour aroma may be present, and can modestly increase with age but should not grow to a noticeable acetic/vinegary character. Hop aroma absent. Diacetyl is perceived only in very minor quantities, if at all, as a complementary aroma.","Dark reddish-brown to brown in color. Good clarity. Average to good head retention. Ivory to light tan head color.","Malty with fruity complexity and typically some caramel character. Medium to medium-high fruitiness commonly includes dark or dried fruit such as raisins, plums, figs, dates, black cherries or prunes. Medium low to medium high malt character of caramel, toffee, orange, treacle or chocolate. Spicy phenols can be present in low amounts for complexity. A slight sourness often becomes more pronounced in well-aged examples, along with some sherry-like character, producing a “sweet-and-sour” profile. The sourness should not grow to a notable acetic/vinegary character. Hop flavor absent. Restrained hop bitterness. Low oxidation is appropriate as a point of complexity. Diacetyl is perceived only in very minor quantities, if at all, as a complementary flavor. Balance is malty, but with fruitiness and sourness present. Sweet and tart finish","Medium to medium-full body. Low to moderate carbonation. No astringency.","Long aging and blending of young and aged beer may occur, adding smoothness and complexity and balancing any harsh, sour character. This style was designed to lay down so examples with a moderate aged character are considered superior to younger examples. As in fruit lambics, Oud Bruin can be used as a base for fruit-flavored beers such as kriek (cherries) or frambozen (raspberries), though these should be entered in the Classic-Style Fruit Beer category. ","An “old ale” tradition, indigenous to East Flanders, typified by the products of the Liefman brewery (now owned by Riva), which has roots back to the 1600s. Historically brewed as a “provision beer” that would develop some sourness as it aged. These beers were typically more sour than current commercial examples. While Flanders red beers are aged in oak, the brown beers are warm aged in stainless steel.","A base of Pils malt with judicious amounts of dark cara malts and a tiny bit of black or roast malt. Often includes maize. Low alpha acid continental hops are typical (avoid high alpha or distinctive American hops). Saccharomyces and Lactobacillus (and acetobacter) contribute to the fermentation and eventual flavor. Lactobacillus reacts poorly to elevated levels of alcohol. Water high in carbonates is typical of its home region and will buffer the acidity of darker malts and the lactic sourness. Magnesium in the water accentuates the sourness.","A deeper malt character distinguishes these beers from Flanders red ales. The Oud Bruin is less acetic and maltier than a Flanders Red, and the fruity flavors are more malt-oriented.","Ichtegem Oud Bruin, Liefmans Goudenband, Liefmans Liefmans Oud Bruin, Petrus Oud Bruin, Riva Vondel, Vanderghinste Bellegems Bruin"]
["23D","23D - Lambic",1.04,1.054,1.0009999999999999,1.01,5.91,13.79,0,10,5,6.5,3,7,1040,1054,1001,1010,"Lambic",0,1,"European Sour Ale","Wheat Beer","Belgian Sour Ale","Belgium",1001,1010,"A fairly sour, often moderately funky wild Belgian wheat beer with sourness taking the place of hop bitterness in the balance. Traditionally spontaneously fermented in the Brussels area and served uncarbonated, the refreshing acidity makes for a very pleasant café drink. ","A decidedly sour aroma is often dominant in young examples, but may become more subdued with age as it blends with aromas described as barnyard, earthy, goaty, hay, horsey, and horse blanket. A mild citrus-fruity aroma is considered favorable. An enteric, smoky, cigar-like, or cheesy aroma is unfavorable. Older versions are commonly fruity with aromas of apples or even honey. No hop aroma. ","Pale yellow to deep golden in color; age tends to darken the beer. Clarity is hazy to good. Younger versions are often cloudy, while older ones are generally clear. White colored head generally has poor retention.","Young examples are often noticeably lactic-sour, but aging can bring this character more in balance with the malt, wheat and barnyard characteristics. Fruity flavors are simpler in young lambics and more complex in the older examples, where they are reminiscent of apples or other light fruits, rhubarb, or honey. Some citrus flavor (often grapefruit) is occasionally noticeable, and is desirable. The malt and wheat character are typically low with some bready-grainy notes. An enteric, smoky or cigar-like character is undesirable. Hop bitterness is low to none, and generally undetectable; sourness provides the balance. Typically has a dry finish. No hop flavor.","Light to medium-light body. In spite of the low finishing gravity, the many mouth-filling flavors prevent the beer from feeling like water. As a rule of thumb, lambic dries with age, which makes dryness a reasonable indicator of age. Has a medium to high tart, puckering quality without being sharply astringent. Traditional versions are virtually to completely uncarbonated, but bottled examples can pick up moderate carbonation with age.","Straight lambics are single-batch, unblended beers. Since they are unblended, the straight lambic is often a true product of the “house character” of a brewery and will be more variable than a gueuze. They are generally served young (6 months) and on tap as cheap, easy-drinking beers without any filling carbonation. Younger versions tend to be one-dimensionally sour since a complex Brett character often takes upwards of a year to develop. An enteric character is often indicative of a lambic that is too young. A noticeable vinegary or cidery character is considered a fault by Belgian brewers. Since the wild yeast and bacteria will ferment ALL sugars, they are typically bottled only when they have completely fermented. ","Spontaneously fermented wild ales from the area in and around Brussels (the Senne Valley) stem from a farmhouse brewing tradition several centuries old. The number of producers is constantly dwindling.","Unmalted wheat (30-40%), Pilsner malt and aged hops (3 years) are used. The aged hops are used more for preservative effects than bitterness, and makes actual bitterness levels difficult to estimate. Traditionally these beers are spontaneously fermented with naturally occurring yeast and bacteria in predominately oaken barrels. The barrels used are neutral with little oak character, so don’t expect a fresh or forward oak character – more neutral is typical. Home-brewed and craft-brewed versions are more typically made with pure cultures of yeast commonly including Saccharomyces, Brettanomyces, Pediococcus and Lactobacillus in an attempt to recreate the effects of the dominant microbiota of Brussels and the surrounding countryside of the Senne River valley. Cultures taken from bottles are sometimes used but there is no simple way of knowing what organisms are still viable.","Generally has a more simple sourness and complexity than a gueuze. Traditionally served uncarbonated from pitchers, while gueuze is bottled and very highly carbonated. ","The only bottled version readily available is Cantillon Grand Cru Bruocsella of whatever single batch vintage the brewer deems worthy to bottle. De Cam sometimes bottles their very old (5 years) lambic. In and around Brussels there are specialty cafes that often have draught lambics from traditional brewers or blenders such as Boon, De Cam, Cantillon, Drie Fonteinen, Lindemans, Timmermans and Girardin."]
["23E","23E - Gueuze ",1.04,1.06,1,1.006,5.91,13.79,0,10,5,8,3,7,1040,1060,1000,1006,"Gueuze ",3,4.5,"European Sour Ale","Wheat Beer","Belgian Sour Ale","Belgium",1000,1006,"A complex, pleasantly sour but balanced wild Belgian wheat beer that is highly carbonated and very refreshing. The spontaneous fermentation character can provide a very interesting complexity, with a wide range of wild barnyard, horse blanket, or leather characteristics intermingling with citrusy-fruity flavors and acidity.","A moderately sour aroma blends with aromas described as barnyard, leather, earthy, goaty, hay, horsey, and horse blanket. While some may be more dominantly sour, balance is the key and denotes a better gueuze. Commonly fruity with aromas of citrus fruits (often grapefruit), apples or other light fruits, rhubarb, or honey. A very mild oak aroma is considered favorable. An enteric, smoky, cigar-like, or cheesy aroma is unfavorable. No hop aroma.","Golden color, with excellent clarity and a thick, rocky, mousse-like, white head that seems to last forever. Always effervescent.","A moderately sour character is classically in balance with the malt, wheat and barnyard characteristics. A low, complementary sweetness may be present but higher levels are not traditional. While some may be more dominantly sour, balance is the key and denotes a better gueuze. A varied fruit flavor is common, and can have a honey-like character. A mild vanilla and/or oak flavor is occasionally noticeable. The malt is generally low and bready-grainy. An enteric, smoky or cigar-like character is undesirable. Hop bitterness is generally absent but a very low hop bitterness may occasionally be perceived; sourness provides most of the balance. Crisp, dry, and tart finish. No hop flavor.","Light to medium-light body. In spite of the low finishing gravity, the many mouth-filling flavors prevent the beer from feeling like water. Has a low to high tart, puckering quality without being sharply astringent. Some versions have a light warming character. Highly carbonated.","Gueuze is traditionally produced by mixing one, two, and three-year old lambic. “Young” lambic contains fermentable sugars while old lambic has the characteristic “wild” taste of the Senne River valley. A noticeable vinegary or cidery character is considered a fault by Belgian brewers. A good gueuze is not the most pungent, but possesses a full and tantalizing bouquet, a sharp aroma, and a soft, velvety flavor. Lambic is served uncarbonated, while gueuze is served effervescent. Products marked oude or ville are considered most traditional.","Spontaneously fermented wild ales from the area in and around Brussels (the Senne Valley) stem from a farmhouse brewing and blending tradition several centuries old. The number of producers is constantly dwindling and some producers are untraditionally sweetening their products (post-fermentation) to make them more palatable to a wider audience. These guidelines describe the traditional dry product.","Unmalted wheat (30-40%), Pilsner malt and aged hops (3 years) are used. The aged hops are used more for preservative effects than bitterness, and makes actual bitterness levels difficult to estimate. Traditionally these beers are spontaneously fermented with naturally occurring yeast and bacteria in predominately oaken barrels. The barrels used are old and have little oak character, so don’t expect a fresh or forward oak character – more neutral is typical. Home-brewed and craft-brewed versions are more typically made with pure cultures of yeast commonly including Saccharomyces, Brettanomyces, Pediococcus and Lactobacillus in an attempt to recreate the effects of the dominant microbiota of Brussels and the surrounding countryside of the Senne River valley. Cultures taken from bottles are sometimes used but there is no simple way of knowing what organisms are still viable.","More complex and carbonated than a lambic. The sourness isn’t necessarily higher, but it tends to have more of a well-developed wild character.","Boon Oude Gueuze, Boon Oude Gueuze Mariage Parfait, Cantillon Gueuze, De Cam Gueuze, De Cam/Drei Fonteinen Millennium Gueuze, Drie Fonteinen Oud Gueuze, Girardin Gueuze (Black Label), Hanssens Oude Gueuze, Lindemans Gueuze Cuvée René, Mort Subite (Unfiltered) Gueuze, Oud Beersel Oude Gueuze"]
["23F","23F - Fruit Lambic",1.04,1.06,1,1.01,5.91,13.79,0,10,5,7,3,7,1040,1060,1000,1010,"Fruit Lambic",3,4.5,"European Sour Ale","Wheat Beer","Belgian Sour Ale","Belgium",1000,1010,"A complex, fruity, pleasantly sour, wild wheat ale fermented by a variety of Belgian microbiota, and showcasing the fruit contributions blended with the wild character. The type of fruit can sometimes be hard to identify as fermented and aged fruit characteristics can seem different from the more recognizable fresh fruit aromas and flavors.","The specified fruit should be the dominant aroma. A low to moderately sour character blends with aromas described as barnyard, earthy, goaty, hay, horsey, and horse blanket (and thus should be recognizable as a lambic). The fruit aroma commonly blends well with the other aromas. An enteric, smoky, cigar-like, or cheesy aroma is unfavorable. No hop aroma.","The variety of fruit generally determines the color, although lighter-colored fruit may have little effect on the color. The color intensity may fade with age. Clarity is often good, although some fruit will not drop bright. A thick rocky, mousse-like head, sometimes a shade of fruit, is generally long-lasting (carbonation-dependent). Carbonation is typically high, but must be specified.","The specified fruit should be evident. Low to moderately sour flavor, often with an acidic bite in the finish. The classic barnyard characteristics may be low to high. When young, the beer will present its full fruity taste. As it ages, the lambic taste will become dominant at the expense of the fruit character—thus fruit lambics are not intended for long aging. The finish is commonly dry and tart, but a low, complementary sweetness may be present; higher sweetness levels are not traditional but can be included for personal preference (sweetness level must be specified). A mild vanilla and/or oak flavor is occasionally noticeable. An enteric, smoky or cigar-like character is undesirable. Hop bitterness is generally absent; acidity provides the balance. No hop flavor. ","Light to medium-light body. In spite of the low finishing gravity, the many mouth-filling flavors prevent the beer from tasting like water. Has a low to high tart, puckering quality without being sharply astringent. Some versions have a light warming character. Carbonation can vary from sparkling to nearly still (must be specified).","Fruit-based lambics are often produced like gueuze by mixing one, two, and three-year old lambic. “Young” lambic contains fermentable sugars while old lambic has the characteristic “wild” taste of the Senne River valley. Fruit is commonly added halfway through aging and the yeast and bacteria will ferment all sugars from the fruit. Fruit may also be added to unblended lambic. The most traditional styles of fruit lambics include kriek (cherries), framboise (raspberries) and druivenlambik (muscat grapes). IBUs are approximate since aged hops are used; Belgians use hops for anti-bacterial properties more than bittering in lambics.","Spontaneously fermented wild ales from the area in and around Brussels (the Senne Valley) stem from a farmhouse brewing and blending tradition several centuries old. The number of producers is constantly dwindling and some are untraditionally sweetening their products (post-fermentation) with sugar or sweet fruit to make them more palatable to a wider audience. Fruit was traditionally added to lambic or gueuze, either by the blender or publican, to increase the variety of beers available in local cafes.","Unmalted wheat (30-40%), Pilsner malt and aged hops (3 years) are used. The aged hops are used more for preservative effects than bitterness, and makes actual bitterness levels difficult to estimate. Traditional products use 10-30% fruit (25%, if cherry). Fruits traditionally used include tart cherries (with pits), raspberries or Muscat grapes. More recent examples include peaches, apricots or merlot grapes. Tart or acidic fruit is traditionally used as its purpose is not to sweeten the beer but to add a new dimension. Traditionally these beers are spontaneously fermented with naturally occurring yeast and bacteria in predominately oaken barrels. The barrels used are old and have little oak character, so don’t expect a fresh or forward oak character – more neutral is typical. Home-brewed and craft-brewed versions are more typically made with pure cultures of yeast commonly including Saccharomyces, Brettanomyces, Pediococcus and Lactobacillus in an attempt to recreate the effects of the dominant microbiota of Brussels and the surrounding countryside of the Senne River valley. Cultures taken from bottles are sometimes used but there is no simple way of knowing what organisms are still viable.","A lambic with fruit, not just a fruit beer; the wild lambic character must be evident.","Boon Framboise Marriage Parfait, Boon Kriek Mariage Parfait, Boon Oude Kriek, Cantillon Fou’ Foune, Cantillon Kriek, Cantillon Lou Pepe Kriek, Cantillon Lou Pepe Framboise, Cantillon Rose de Gambrinus, Cantillon St. Lamvinus, Cantillon Vigneronne, De Cam Oude Kriek, Drie Fonteinen Kriek, Girardin Kriek, Hanssens Oude Kriek, Oud Beersel Kriek, Mort Subite Kriek"]
["24A","24A - Witbier",1.044,1.052,1.008,1.012,3.94,7.88,8,20,4.5,5.5,2,4,1044,1052,1008,1012,"Witbier",2.1,2.6,"Belgian Ale","Wheat Beer","Wheat Beer","Belgium",1008,1012,"A refreshing, elegant, tasty, moderate-strength wheat-based ale.","Moderate malty sweetness (often with light notes of honey and/or vanilla) with light, grainy, spicy wheat aromatics, often with a bit of tartness. Moderate perfumy coriander, often with a complex herbal, spicy, or peppery note in the background. Moderate zesty, citrusy-orangey fruitiness. A low spicy-herbal hop aroma is optional, but should never overpower the other characteristics. Vegetal, celery-like, or ham-like aromas are inappropriate. Spices should blend in with fruity, floral and sweet aromas and should not be overly strong.","Very pale straw to very light gold in color. The beer will be very cloudy from starch haze and/or yeast, which gives it a milky, whitish-yellow appearance. Dense, white, moussy head. Head retention should be quite good.","Pleasant malty-sweet grain flavor (often with a honey and/or vanilla character) and a zesty, orange-citrusy fruitiness. Refreshingly crisp with a dry, often tart, finish. Can have a low bready wheat flavor. Optionally has a very light lactic-tasting sourness. Herbal-spicy flavors, which may include coriander and other spices, are common should be subtle and balanced, not overpowering. A spicy-earthy hop flavor is low to none, and if noticeable, never gets in the way of the spices. Hop bitterness is low to medium-low, and doesn’t interfere with refreshing flavors of fruit and spice, nor does it persist into the finish. Bitterness from orange pith should not be present. Vegetal, celery-like, ham-like, or soapy flavors are inappropriate. ","Medium-light to medium body, often having a smoothness and light creaminess from unmalted wheat and the occasional oats. Despite body and creaminess, finishes dry and often a bit tart. Effervescent character from high carbonation. Refreshing, from carbonation, light acidity, and lack of bitterness in finish. No harshness or astringency from orange pith. Should not be overly dry and thin, nor should it be thick and heavy.","The presence, character and degree of spicing and lactic sourness varies. Overly spiced and/or sour beers are not good examples of the style. Coriander of certain origins might give an inappropriate ham or celery character. The beer tends to be fragile and does not age well, so younger, fresher, properly handled examples are most desirable. Most examples seem to be approximately 5% ABV.","A 400-year-old Belgian beer style that died out in the 1950s; it was later revived by Pierre Celis at Hoegaarden, and has grown steadily in popularity over time, both with modern craft brewers and mass-market producers who see it as a somewhat fruity summer seasonal beer. ","About 50% unmalted wheat and 50% pale barley malt (usually Pils malt) constitute the grist. In some versions, up to 5-10% raw oats may be used. Spices of freshly-ground coriander and Curaçao or sometimes sweet orange peel complement the sweet aroma and are quite characteristic. Other spices (e.g., chamomile, cumin, cinnamon, Grains of Paradise) may be used for complexity but are much less prominent. Ale yeast prone to the production of mild, spicy flavors is very characteristic. In some instances a very limited lactic fermentation, or the actual addition of lactic acid, is done.","Low bitterness level with a balance similar to a Weissbier, but with spice and citrus character coming from additions rather than the yeast.","Allagash White, Blanche de Bruxelles, Celis White, Hoegaarden Wit, Ommegang Witte, St. Bernardus Witbier, Wittekerke"]
["24B","24B - Belgian Pale Ale",1.048,1.054,1.01,1.014,15.76,27.58,20,30,4.8,5.5,8,14,1048,1054,1010,1014,"Belgian Pale Ale",1.9,2.4,"Belgian Ale","Pale Ale","Pale Ales","Belgium",1010,1014,"A moderately malty, somewhat fruity, easy-drinking, copper-colored Belgian ale that is somewhat less aggressive in flavor profile than many other Belgian beers. The malt character tends to be a bit biscuity with light toasty, honey-like, or caramelly components; the fruit character is noticeable and complementary to the malt. The bitterness level is generally moderate, but may not seem as high due to the flavorful malt profile.","Moderate malt aroma, which can be a combination of toasty, biscuity, or nutty, possibly with a touch of light caramel or honey. Moderate to moderately high fruitiness with an orange- or pear-like character. Low to moderate strength hop character (spicy, herbal, or floral) optionally blended with background level peppery, spicy phenols. The hop character is lower in balance than the malt and fruitiness. ","Amber to copper in color. Clarity is very good. Creamy, rocky, white head often fades more quickly than other Belgian beers.","Has an initial soft, smooth, moderately malty flavor with a variable profile of toasty, biscuity, nutty, light caramel and/or honey notes. Moderate to moderately high fruitiness, sometimes orange- or pear-like. Relatively light (medium-low to low) spicy, herbal, or floral hop character. The hop bitterness is medium-high to medium-low, and is optionally enhanced by low to very low amounts of peppery phenols. There is a dry to balanced finish, with hops becoming more pronounced in the aftertaste of those with a drier finish. Fairly well balanced overall, with no single component being high in intensity; malt and fruitiness are more forward initially with a supportive bitterness and drying character coming on late.","Medium to medium-light body. Smooth palate. Alcohol level is restrained, and any warming character should be low if present. Medium to medium-high carbonation.","Most commonly found in the Flemish provinces of Antwerp and Brabant. Considered “everyday” beers (Category I). Compared to their higher alcohol Category S cousins, they are Belgian “session beers” for ease of drinking. Nothing should be too pronounced or dominant; balance is the key. Yeast character generally more subtle than many Belgian beers, with some of the fruitiness being hop-driven.","Produced by breweries with roots as far back as the mid-1700s, the most well-known examples were perfected after the Second World War with some influence from Britain, including hops and yeast strains. ","Pilsner or pale ale malt contributes the bulk of the grist with (cara) Vienna and Munich malts adding color, body and complexity. Sugar is not commonly used as high gravity is not desired. Saazer-type hops, Styrian Goldings, East Kent Goldings or Fuggles are commonly used. Yeasts prone to moderate production of phenols are often used but fermentation temperatures should be kept moderate to limit this character.","Fairly similar to pale ales from England (Strong Bitter category), typically with a slightly different yeast character and a more varied malt profile. Less yeast character than many other Belgian beers, though.","De Koninck, De Ryck Special, Palm Dobble, Palm Speciale"]
["24C","24C - Bière de Garde",1.06,1.08,1.008,1.016,11.82,37.43,18,28,6,8.5,6,19,1060,1080,1008,1016,"Bière de Garde",1.5,2.2999999999999998,"Belgian Ale","Amber Ale","European Farmhouse Beer","France",1008,1016,"A fairly strong, malt-accentuated, lagered artisanal beer with a range of malt flavors appropriate for the color. All are malty yet dry, with clean flavors and a smooth character.","Prominent malty sweetness, often with a complex, light to moderate intensity toasty-bready-rich malt character. Low to moderate esters. Little to no hop aroma (may be a bit spicy, peppery, or herbal). Paler versions will still be malty but will lack richer, deeper aromatics and may have a bit more hops. Generally quite clean, although stronger versions may have a light, spicy alcohol note as it warms.","Three main variations exist (blond, amber and brown), so color can range from golden-blonde to reddish-bronze to chestnut brown. Clarity is brilliant to fair, although haze is not unexpected in this type of often unfiltered beer. Well-formed head, generally white to off-white (varies by beer color), average persistence. ","Medium to high malt flavor often with a toasty-rich, biscuity, toffee-like or light caramel-sweet character. Malt flavors and complexity tend to increase with beer color. Low to moderate esters and alcohol flavors. Medium-low hop bitterness provides some support, but the balance is always tilted toward the malt. Darker versions will have more of an initial malty-sweet impression than paler versions, but all should be malty in the palate and finish. The malt flavor lasts into the finish, which is medium-dry to dry, never cloying. Low to no hop flavor (spicy, peppery, or herbal), although paler versions can have slightly higher levels of herbal or spicy hop flavor (which can also come from the yeast). Smooth, well-lagered character, even if made with ale yeast. Aftertaste of malt (character appropriate for the color) with some dryness and light alcohol.","Medium to medium-light (lean) body, often with a smooth, creamy-silky character. Moderate to high carbonation. Moderate alcohol warming, but should be very smooth and never hot.","Three main variations are included in the style: the brown (brune), the blond (blonde), and the amber (ambrée). The darker versions will have more malt character, while the paler versions can have more hops (but still are malt-focused beers). A related style is Bière de Mars, which is brewed in March (Mars) for present use and will not age as well. Attenuation rates are in the 80-85% range. Some fuller-bodied examples exist, but these are somewhat rare. Age and oxidation in imports often increases fruitiness, caramel flavors, and adds corked and musty notes; these are all signs of mishandling, not characteristic elements of the style.","Name literally means “beer which has been kept or lagered.” A traditional artisanal ale from Northern France brewed in early spring and kept in cold cellars for consumption in warmer weather. It is now brewed year-round. ","The “cellar” character commonly described in literature is more of a feature of mishandled commercial exports than fresh, authentic products. The somewhat moldy character comes from the corks and/or oxidation in commercial versions, and is incorrectly identified as “musty” or “cellar-like.” Base malts vary by beer color, but usually include pale, Vienna and Munich types. Darker versions will have richer malt complexity and sweetness from crystal-type malts. Sugar may be used to add flavor and aid in the dry finish. Lager or ale yeast fermented at cool ale temperatures, followed by long cold conditioning. Floral, herbal or spicy continental hops.","Related to the Belgian Saison style, the main difference is that the Bière de Garde is rounder, richer, malt-focused, and lacks the spicy, bitter character of a Saison.","Ch’Ti (brown and blond), Jenlain (amber and blond), La Choulette (all 3 versions), St. Amand (brown), Saint Sylvestre 3 Monts (blond), Russian River Perdition"]
["25A","25A - Belgian Blond Ale",1.0620000000000001,1.075,1.008,1.018,7.88,13.79,15,30,6,7.5,4,7,1062,1075,1008,1018,"Belgian Blond Ale",1.9,2.4,"Strong Belgian Ale","Pale Ale","Belgian Ale","Belgium",1008,1018,"A moderate-strength golden ale that has a subtle fruity-spicy Belgian yeast complexity, slightly malty-sweet flavor, and dry finish.","Light earthy or spicy hop nose, along with a lightly grainy-sweet malt character. Shows a subtle yeast character that may include spicy phenolics, perfumy or honey-like alcohol, or yeasty, fruity esters (commonly orange-like or lemony). Light sweetness that may have a slightly sugar-like character. Subtle yet complex.","Light to deep gold color. Generally very clear. Large, dense, and creamy white to off-white head. Good head retention with Belgian lace.","Smooth, light to moderate grainy-sweet malt flavor initially, but finishes medium-dry to dry with some smooth alcohol becoming evident in the aftertaste. Medium hop and alcohol bitterness to balance. Light hop flavor, can be spicy or earthy. Very soft yeast character (esters and alcohols, which are sometimes perfumy or orange/lemon-like). Light spicy phenolics optional. Some lightly caramelized sugar or honey-like sweetness on palate.","Medium-high to high carbonation, can give mouth-filling bubbly sensation. Medium body. Light to moderate alcohol warmth, but smooth. Can be somewhat creamy.","Often has an almost lager-like character, which gives it a cleaner profile in comparison to many other Belgian styles. Belgians use the term Blond, while the French spell it Blonde. Most commercial examples are in the 6.5 – 7% ABV range. Many Trappist or artisanal Belgian beers are called Blond but those are not representative of this style.","Relatively recent development to further appeal to European Pils drinkers, becoming more popular as it is heavily marketed and widely distributed.","Belgian Pils malt, aromatic malts, sugar, Belgian yeast strains that produce complex alcohol, phenolics and perfumy esters, Saazer-type, Styrian Goldings, or East Kent Goldings hops. Spices are not traditionally used, although the ingredients and fermentation by-products may give an impression of spicing (often reminiscent of oranges or lemons). If spices are present, should be a background character only.","Similar strength as a Dubbel, similar character as a Belgian Strong Golden Ale or Tripel, although a bit sweeter and not as bitter.","Affligem Blond, Grimbergen Blond, La Trappe Blond, Leffe Blond, Val-Dieu Blond"]
["25B","25B - Saison",1.048,1.0649999999999999,1.002,1.008,9.85,43.339999999999996,20,35,3.5,9.5,5,22,1048,1065,1002,1008,"Saison",1.9,2.4,"Strong Belgian Ale","Pale Ale","European Farmhouse Beer","Belgium",1002,1008,"Most commonly, a pale, refreshing, highly-attenuated, moderately-bitter, moderate-strength Belgian ale with a very dry finish. Typically highly carbonated, and using non-barley cereal grains and optional spices for complexity, as complements the expressive yeast character that is fruity, spicy, and not overly phenolic. Less common variations include both lower-alcohol and higher-alcohol products, as well as darker versions with additional malt character.","Quite aromatic, with fruity, spicy, and hoppy characteristics evident. The esters can be fairly high (moderate to high), and are often reminiscent of citrus fruits such as oranges or lemons. The hops are low to moderate and are often spicy, floral, earthy, or fruity. Stronger versions can have a soft, spicy alcohol note (low intensity). Spicy notes are typically peppery rather than clove-like, and can be up to moderately-strong (typically yeast-derived). Subtle, complementary herb or spice additions are allowable, but should not dominate. The malt character is typically slightly grainy in character and low in intensity. Darker and stronger versions will have more noticeable malt, with darker versions taking characteristics associated with grains of that color (toasty, biscuity, caramelly, chocolate, etc.). In versions where sourness is present instead of bitterness, some of the sour character can be detected (low to moderate).","Pale versions are often a distinctive pale orange but may be pale golden to amber in color (gold to amber-gold is most common). Darker versions may run from copper to dark brown. Long-lasting, dense, rocky white to ivory head resulting in characteristic Belgian lace on the glass as it fades. Clarity is poor to good, though haze is not unexpected in this type of unfiltered beer. Effervescent.","Medium-low to medium-high fruity and spicy flavors, supported by a low to medium soft malt character, often with some grainy flavors. Bitterness is typically moderate to high, although sourness can be present in place of bitterness (both should not be strong flavors at the same time). Attenuation is extremely high, which gives a characteristic dry finish essential to the style; a Saison should never finish sweet. The fruity character is frequently citrusy (orange or lemon), and the spices are typically peppery. Allow for a range of balance in the fruity-spicy characteristics; this is often driven by the yeast selection. Hop flavor is low to moderate, and generally spicy or earthy in character. The balance is towards the fruity, spicy, hoppy character, with any bitterness or sourness not overwhelming these flavors. Darker versions will have more malt character, with a range of flavors derived from darker malts (toasty, bready, biscuity, chocolate, etc.) that support the fruity-spicy character of the beer (roasted flavors are not typical). Stronger versions will have more malt flavor in general, as well as a light alcohol impression. Herbs and spices are completely optional, but if present should be used in moderation and not detract from the yeast character. The finish is very dry and the aftertaste is typically bitter and spicy. The hop bitterness can be restrained, although it can seem accentuated due to the high attenuation levels.","Light to medium body. Alcohol sensation varies with strength, from none in table version to light in standard versions, to moderate in super versions. However, any warming character should be fairly low. Very high carbonation with an effervescent quality. There is enough prickly acidity on the tongue to balance the very dry finish. In versions with sourness, a low to moderate tart character can add a refreshing bite, but not be puckering (optional). ","Variations exist in strength and color, but they all have similar characteristics and balance, in particularly the refreshing, highly-attenuated, dry character with high carbonation. There is no correlation between strength and color. The balance can change somewhat with strength and color variations, but the family resemblance to the original artisanal ale should be evident. Pale versions are likely to be more bitter and have more hop character, while darker versions tend to have more malt character and sweetness, yielding a more balanced presentations. Stronger versions often will have more malt flavor, richness, and body simply due to their higher gravity. Although they tend to be very well-attenuated, they may not be perceived to be as dry as standard-strength saisons due to their strength. The Saison yeast character is a must, although maltier and richer versions will tend to mask this character more. Often called Farmhouse ales in the US, but this term is not common in Europe where they are simply part of a larger grouping of artisanal ales. ","A provision ale originally brewed in Wallonia, the French-speaking part of Belgium, for consumption during the active farming season. Originally a lower-alcohol product so as to not debilitate field workers, but tavern-strength products also existed. Higher-strength and different-colored products appeared after WWII. The best known modern saison, Saison Dupont, was first produced in the 1920s. Originally a rustic, artisanal ale made with local farm-produced ingredients, it is now brewed mostly in larger breweries yet retains the image of its humble origins.","Not typically spiced, with the yeast, hops and grain providing the character; but spices are allowed if they provide a complementary character. Continental base malts are typical, but the grist frequently contains other grains such as wheat, oats, rye, or spelt. Adjuncts such as sugar and honey can also serve to add complexity and dry out the beer. Darker versions will typically use richer, darker malts, but not typically roasted types. Saazer-type, Styrian or East Kent Golding hops are commonly used. A wide range of herbs or spices can add complexity and uniqueness, but should always meld well with the yeast and hop character. Brettanomyces is not typical for this style; Saisons with Brett should be entered in the American Wild Ale category.","At standard strengths and pale color (the most common variety), like a more highly-attenuated, hoppy, and bitter Belgian blond ale with a stronger yeast character. At super strength and pale color, similar to a Belgian tripel, but often with more of a grainy, rustic quality and sometimes with a spicier yeast character.","Ellezelloise Saison, Fantôme Saison, Lefebvre Saison 1900, Saison Dupont Vieille Provision, Saison de Pipaix, Saison Regal, Saison Voisin,  Boulevard Tank 7 Farmhouse Ale",null,null,null,"\n"]
["25C","25C - Belgian Golden Strong Ale",1.07,1.095,1.0049999999999999,1.016,5.91,11.82,22,35,7.5,10.5,3,6,1070,1095,1005,1016,"Belgian Golden Strong Ale",1.9,2.4,"Strong Belgian Ale","Strong Ale","Belgian Strong Ale","Belgium",1005,1016,"A pale, complex, effervescent, strong Belgian-style ale that is highly attenuated and features fruity and hoppy notes in preference to phenolics.","Complex with significant fruity esters, moderate spiciness and low to moderate alcohol and hop aromas. Esters are reminiscent of lighter fruits such as pears, oranges or apples. Moderate to moderately low spicy, peppery phenols. A low to moderate yet distinctive perfumy, floral hop character is often present. Alcohols are soft, spicy, perfumy and low-to-moderate in intensity. No hot alcohol or solventy aromas. The malt character is light and slightly grainy-sweet to nearly neutral.","Yellow to medium gold in color. Good clarity. Effervescent. Massive, long-lasting, rocky, often beady, white head resulting in characteristic Belgian lace on the glass as it fades.","Marriage of fruity, spicy and alcohol flavors supported by a soft malt character. Esters are reminiscent of pears, oranges or apples. Low to moderately low phenols are peppery in character. A low to moderate spicy hop character is often present. Alcohols are soft and spicy, and are low-to-moderate in intensity. Bitterness is typically medium to high from a combination of hop bitterness and yeast-produced phenolics. Substantial carbonation and bitterness leads to a dry finish with a low to moderately bitter aftertaste. ","Very highly carbonated; effervescent. Light to medium body, although lighter than the substantial gravity would suggest. Smooth but noticeable alcohol warmth. No hot alcohol or solventy character. ","References to the devil are included in the names of many commercial examples of this style, referring to their potent alcoholic strength and as a tribute to the original example (Duvel). The best examples are complex and delicate. High carbonation helps to bring out the many flavors and to increase the perception of a dry finish. Traditionally bottle-conditioned (or refermented in the bottle).","Originally developed by the Moortgat brewery after WWI as a response to the growing popularity of Pilsner beers.","Pilsner malt with substantial sugary adjuncts. Saazer-type hops or Styrian Goldings are commonly used. Belgian yeast strains are used – those that produce fruity esters, spicy phenolics and higher alcohols – often aided by slightly warmer fermentation temperatures. Fairly soft water. Spicing is not traditional; if present, should be a background character only.","Strongly resembles a Tripel, but may be even paler, lighter-bodied and even crisper and drier; the drier finish and lighter body also serves to make the assertive hopping and yeast character more prominent. Tends to use yeast that favor ester development (particularly pome fruit) over spiciness in the balance.","Brigand, Delirium Tremens, Dulle Teve, Duvel, Judas, Lucifer, Piraat, Russian River Damnation"]
["26A","26A - Trappist Single",1.044,1.054,1.004,1.01,5.91,9.85,25,45,4.8,6,3,5,1044,1054,1004,1010,"Trappist Single",1.9,2.4,"Trappist Ale","Pale Ale","Belgian Ale","Belgium",1004,1010,"A pale, bitter, highly attenuated and well carbonated Trappist ale, showing a fruity-spicy Trappist yeast character, a spicy-floral hop profile, and a soft, supportive grainy-sweet malt palate. ","Medium-low to medium-high Trappist yeast character, showing a fruity-spicy character along with medium-low to medium spicy or floral hops, occasionally enhanced by light herbal/citrusy spice additions. Low to medium-low grainy-sweet malt backdrop, which may have a light honey or sugar quality. Fruit expression can vary widely (citrus, pome fruit, stone fruit). Light spicy, yeast-driven phenolics found in the best examples. Bubblegum inappropriate.","Pale yellow to medium gold color. Generally good clarity, with a moderate-sized, persistent, billowy white head with characteristic lacing.","Fruity, hoppy, bitter, and dry. Initial malty-sweet impression, with a grainy-sweet soft malt palate, and a dry, hoppy finish. The malt may have a light honeyed biscuit or cracker impression. Moderate spicy or floral hop flavor. Esters can be citrus (orange, lemon, grapefruit), pome fruit (apple, pear), or stone fruit (apricot, peach). Light to moderate spicy, peppery, or clove phenolics. Bitterness rises towards the crisp, dry finish, with an aftertaste of light malt, moderate hops and yeast character.","Medium-light to medium body. Smooth. Medium-high to high carbonation, can be somewhat prickly. Should not have noticeable alcohol warmth.","Often not labeled or available outside the monastery, or infrequently brewed. Might also be called monk’s beer or Brother’s beer. Highly attenuated, generally 85% or higher.","While Trappist breweries have a tradition of brewing a lower-strength beer as a monk’s daily ration, the bitter, pale beer this style describes is a relatively modern invention reflecting current tastes. Westvleteren first brewed theirs in 1999, but replaced older lower-gravity products.","Pilsner malt, Belgian Trappist yeast, Saazer-type hops.","Like a top-fermented Belgian/Trappist interpretation of a German Pils – pale, hoppy, and well-attenuated, but showing prototypical Belgian yeast character. Has less sweetness, higher attenuation, less character malt, and is more hop-centered than a Belgian Pale Ale. More like a much smaller, more highly hopped tripel than a smaller Belgian Blond Ale.","Achel 5° Blond, St. Bernardus Extra 4, Westmalle Extra, Westvleteren Blond"]
["26B","26B - Belgian Dubbel",1.0620000000000001,1.075,1.008,1.018,19.7,33.49,15,25,6,7.6,10,17,1062,1075,1008,1018,"Belgian Dubbel",1.9,2.4,"Trappist Ale","Amber Ale","Belgian Ale","Belgium",1008,1018,"A deep reddish-copper, moderately strong, malty, complex Trappist ale with rich malty flavors, dark or dried fruit esters, and light alcohol blended together in a malty presentation that still finishes fairly dry.","Complex, rich-sweet malty aroma, possibly with hints of chocolate, caramel and/or toast (but never roasted or burnt aromas). Moderate fruity esters (usually including raisins and plums, sometimes also dried cherries). Esters sometimes include banana or apple. Spicy phenols and higher alcohols are common (may include light clove and spice, peppery, rose-like and/or perfumy notes). Spicy qualities can be moderate to very low. Alcohol, if present, is soft and never hot or solventy. Low to no spicy, herbal, or floral hop aroma, typically absent. The malt is most prominent in the balance with esters and a touch of alcohol in support, blending together for a harmonious presentation. ","Dark amber to copper in color, with an attractive reddish depth of color. Generally clear. Large, dense, and long-lasting creamy off-white head.","Similar qualities as aroma. Rich, complex medium to medium-full rich-sweet malt flavor on the palate yet finishes moderately dry. Complex malt, ester, alcohol and phenol interplay (raisiny flavors are common; dried fruit flavors are welcome; clove or pepper spiciness is optional). Balance is always toward the malt. Medium-low bitterness that doesn’t persist into the aftertaste. Low spicy, floral, or herbal hop flavor is optional and not usually present. ","Medium-full body. Medium-high carbonation, which can influence the perception of body. Low alcohol warmth. Smooth, never hot or solventy.","Most commercial examples are in the 6.5 – 7% ABV range. Traditionally bottle-conditioned (or refermented in the bottle).","Originated at monasteries in the Middle Ages, and was revived in the mid-1800s after the Napoleonic era.","Belgian yeast strains prone to production of higher alcohols, esters, and phenolics are commonly used. Impression of complex grain bill, although traditional versions are typically Belgian Pils malt with caramelized sugar syrup or other unrefined sugars providing much of the character. Saazer-type, English-type or Styrian Goldings hops commonly used. No spices are traditionally used, although restrained use is allowable (background strength only).","Should not be as malty as a bock and should not have crystal malt-type sweetness. Similar in strength and balance as a Belgian Blond, but with a richer malt and ester profile. Less strong and intense as a Belgian Dark Strong Ale.","Affligem Dubbel, Chimay Première, Corsendonk Pater, Grimbergen Double, La Trappe Dubbel, St. Bernardus Pater 6, Trappistes Rochefort 6, Westmalle Dubbel"]
["26C","26C - Belgian Tripel",1.075,1.085,1.008,1.014,8.8650000000000002,13.79,20,40,7.5,9.5,4.5,7,1075,1085,1008,1014,"Belgian Tripel",1.9,2.4,"Trappist Ale","Strong Ale","Belgian Strong Ale","Belgium",1008,1014,"A pale, somewhat spicy, dry, strong Trappist ale with a pleasant rounded malt flavor and firm bitterness. Quite aromatic, with spicy, fruity, and light alcohol notes combining with the supportive clean malt character to produce a surprisingly drinkable beverage considering the high alcohol level.","Complex bouquet with moderate to significant spiciness, moderate fruity esters and low alcohol and hop aromas. Generous spicy, peppery, sometimes clove-like phenols. Esters are often reminiscent of citrus fruits such as oranges, but may sometimes have a slight banana character. A low yet distinctive spicy, floral, sometimes perfumy hop character is usually found. Alcohols are soft, spicy and low in intensity. The malt character is light, with a soft, slightly grainy-sweet or slightly honey-like impression. The best examples have a seamless, harmonious interplay between the yeast character, hops, malt, and alcohol.","Deep yellow to deep gold in color. Good clarity. Effervescent. Long-lasting, creamy, rocky, white head resulting in characteristic Belgian lace on the glass as it fades.","Marriage of spicy, fruity and alcohol flavors supported by a soft, rounded grainy-sweet malt impression, occasionally with a very light honey note. Low to moderate phenols are peppery in character. Esters are reminiscent of citrus fruit such as orange or sometimes lemon, and are low to moderate. A low to moderate spicy hop character is usually found. Alcohols are soft, spicy, and low in intensity. Bitterness is typically medium to high from a combination of hop bitterness and yeast-produced phenolics. Substantial carbonation and bitterness lends a dry finish with a moderately bitter aftertaste with substantial spicy-fruity yeast character. The grainy-sweet malt flavor does not imply any residual sweetness.","Medium-light to medium body, although lighter than the substantial gravity would suggest. Highly carbonated. The alcohol content is deceptive, and has little to no obvious warming sensation. Always effervescent.","High in alcohol but does not taste strongly of alcohol. The best examples are sneaky, not obvious. High carbonation and attenuation helps to bring out the many flavors and to increase the perception of a dry finish. Most Trappist versions have at least 30 IBUs and are very dry. Traditionally bottle-conditioned (or refermented in the bottle).","Originally popularized by the Trappist monastery at Westmalle.","Pilsner malt, typically with pale sugar adjuncts. Saazer-type hops or Styrian Goldings are commonly used. Belgian yeast strains are used – those that produce fruity esters, spicy phenolics and higher alcohols – often aided by slightly warmer fermentation temperatures. Spice additions are generally not traditional, and if used, should be a background character only. Fairly soft water.","May resemble a Belgian Golden Strong Ale but slightly darker and somewhat fuller-bodied, with more emphasis on phenolics and less on esters. Usually has a more rounded malt flavor but should never be sweet.","Affligem Tripel, Chimay Cinq Cents, La Rulles Tripel, La Trappe Tripel, St. Bernardus Tripel, Unibroue La Fin Du Monde, Val-Dieu Triple, Watou Tripel, Westmalle Tripel"]
["26D","26D - Belgian Dark Strong Ale",1.075,1.1100000000000001,1.01,1.024,23.64,43.339999999999996,20,35,8,12,12,22,1075,1110,1010,1024,"Belgian Dark Strong Ale",1.9,2.4,"Trappist Ale","Strong Ale","Belgian Strong Ale","Belgium",1010,1024,"A dark, complex, very strong Belgian ale with a delicious blend of malt richness, dark fruit flavors, and spicy elements. Complex, rich, smooth and dangerous.","Complex, with a rich-sweet malty presence, significant esters and alcohol, and an optional light to moderate spiciness. The malt is rich and strong, and can have a deep bready-toasty quality often with a deep caramel complexity. The fruity esters are strong to moderately low, and can contain raisin, plum, dried cherry, fig or prune notes. Spicy phenols may be present, but usually have a peppery quality not clove-like; light vanilla is possible. Alcohols are soft, spicy, perfumy and/or rose-like, and are low to moderate in intensity. Hops are not usually present (but a very low spicy, floral, or herbal hop aroma is acceptable). No dark/roast malt aroma. No hot alcohols or solventy aromas.","Deep amber to deep coppery-brown in color (dark in this context implies more deeply colored than golden). Huge, dense, moussy, persistent cream- to light tan-colored head. Can be clear to somewhat hazy.","Similar to aroma (same malt, ester, phenol, alcohol, and hop comments apply to flavor as well). Moderately malty-rich on the palate, which can have a sweet impression if bitterness is low. Usually moderately dry to dry finish, although may be up to moderately sweet. Medium-low to moderate bitterness; alcohol provides some of the balance to the malt. Generally malty-rich balance, but can be fairly even with bitterness. The complex and varied flavors should blend smoothly and harmoniously. The finish should not be heavy or syrupy.","High carbonation but not sharp. Smooth but noticeable alcohol warmth. Body can range from medium-light to medium-full and creamy. Most are medium-bodied.","Authentic Trappist versions tend to be drier (Belgians would say more digestible) than Abbey versions, which can be rather sweet and full-bodied. Traditionally bottle-conditioned (or refermented in the bottle). Sometimes known as a Trappist Quadruple, most are simply known by their strength or color designation.","Most versions are unique in character reflecting characteristics of individual breweries, produced in limited quantities and often highly sought-after.","Belgian yeast strains prone to production of higher alcohols, esters, and sometimes phenolics are commonly used. Impression of a complex grain bill, although many traditional versions are quite simple, with caramelized sugar syrup or unrefined sugars and yeast providing much of the complexity. Saazer-type, English-type or Styrian Goldings hops commonly used. Spices generally not used; if used, keep subtle and in the background. ","Like a larger dubbel, with a fuller body and increased malt richness. Not as bitter or hoppy as a tripel, but of similar strength.","Achel Extra Brune, Boulevard The Sixth Glass, Chimay Grande Réserve, Gouden Carolus Grand Cru of the Emperor, Rochefort 8 & 10, St. Bernardus Abt 12, Westvleteren 12"]
["27A","27A - Gose",1.036,1.056,1.006,1.01,5.91,7.88,5,12,4.2,4.8,3,4,1036,1056,1006,1010,"Gose",2.5,4,"Historical Beer","Wheat Beer","German Sour Ale","Germany",1006,1010,"A highly-carbonated, tart and fruity wheat ale with a restrained coriander and salt character and low bitterness. Very refreshing, with bright flavors and high attenuation.","Light to moderately fruity aroma of pome fruit. Light sourness, slightly sharp. Noticeable coriander, which can have an aromatic lemony quality, and an intensity up to moderate. Light bready, doughy, yeasty character like uncooked sourdough bread. The acidity and coriander can give a bright, lively impression. The salt may be perceived as a very light, clean sea breeze character or just a general freshness, if noticeable at all.","Unfiltered, with a moderate to full haze. Moderate to tall sized white head with tight bubbles and good retention. Effervescent. Medium yellow color.","Moderate to restrained but noticeable sourness, like a squeeze of lemon in iced tea. Moderate bready/doughy malt flavor. Light to moderate fruity character of pome fruit, stone fruit, or lemons. Light to moderate salt character, up to the threshold of taste; the salt should be noticeable (particularly in the initial taste) but not taste overtly salty. Low bitterness, no hop flavor. Dry, fully-attenuated finish, with acidity not hops balancing the malt. Acidity can be more noticeable in the finish, and enhance the refreshing quality of the beer. The acidity should be balanced, not forward (although historical versions could be very sour).","High to very high carbonation, effervescent. Medium-light to medium-full body. Salt may give a slightly tingly, mouthwatering quality, if perceived at all. The yeast and wheat can give it a little body, but it shouldn’t have a heavy feel.","Served in traditional cylindrical glasses. Historical versions may have been more sour than modern examples due to spontaneous fermentation, and may be blended with syrups as is done with Berliner Weisse, or Kümmel, a liqueur flavored with caraway, cumin, and fennel. Modern examples are inoculated with lactobacillus, and are more balanced and generally don’t need sweetening. Pronounced GOH-zeh.","Minor style associated with Leipzig but originating in the Middle Ages in the town of Goslar on the Gose River. Documented to have been in Leipzig by 1740. Leipzig was said to have 80 Gose houses in 1900. Production declined significantly after WWII, and ceased entirely in 1966. Modern production was revived in the 1980s, but the beer is not widely available. ","Pilsner and wheat malt, restrained use of salt and coriander seed, lactobacillus. The coriander should have a fresh, citrusy (lemon or bitter orange), bright note, and not be vegetal, celery-like, or ham-like. The salt should have a sea salt or fresh salt character, not a metallic, iodine note.","Perceived acidity is not as intense as Berliner Weisse or Gueuze. Restrained use of salt, coriander, and lactobacillus – should not taste overtly salty. Coriander aroma can be similar to a witbier. Haziness similar to a Weissbier.","Anderson Valley Gose, Bayerisch Bahnhof Leipziger Gose, Döllnitzer Ritterguts Gose"]
["27A","27A - Kentucky Common",1.044,1.0549999999999999,1.01,1.018,21.669999999999998,39.4,15,30,4,5.5,11,20,1044,1055,1010,1018,"Kentucky Common",null,null,"Historical Beer","Amber Ale","Indigenous American Beer","United States",1010,1018,"A darker-colored, light-flavored, malt-accented beer with a dry finish and interesting character malt flavors. Refreshing due to its high carbonation and mild flavors, and highly sessionable due to being served very fresh and with restrained alcohol levels.","Low to medium grainy, corn-like or sweet maltiness with a low toast, biscuity-grainy, bready, or caramel malt accent. Medium to moderately-low hop aroma, usually floral or spicy in character. Clean fermentation character, with possible faint berry ester. Low levels of DMS are acceptable. No sourness. Malt-forward in the balance.","Amber-orange to light brown in color. Typically clear, but may have some light haze due to limited conditioning. Foam stand may not be long lasting, and is usually white to beige in color.","Moderate grainy-sweet maltiness with low to medium-low caramel, toffee, bready, and/or biscuity notes. Generally light palate flavors typical of adjunct beers; a low grainy, corn-like sweetness is common. Medium to low floral or spicy hop flavor. Medium to low hop bitterness, which should neither be coarse nor have a harsh aftertaste. May exhibit light fruitiness. Balance in the finish is towards the malt. May have a lightly flinty or minerally-sulfate flavor in the finish. The finish is fairly dry, including the contributions of roasted grains and minerals. No sourness.","Medium to medium-light body with a relatively soft mouthfeel. Highly carbonated. Can have a creamy texture.","Modern characterizations of the style often mention a lactic sourness or sour mashing, but extensive brewing records from the larger breweries at the turn of the century have no indication of long acid rests, sour mashing, or extensive conditioning. This is likely a modern homebrewer invention, based on the supposition that since indigenous Bourbon distillers used a sour mash, beer brewers must also have used this process. No contemporaneous records indicate sour mashing or that the beer had a sour profile; rather the opposite, that the beer was brewed as an inexpensive, present-use ale. Enter soured versions in American Wild Ale.","A true American original style, Kentucky Common was almost exclusively produced and sold around the Louisville Kentucky metropolitan area from some time after the Civil War up to Prohibition. Its hallmark was that it was inexpensive and quickly produced, typically 6 to 8 days from mash to delivery. The beer was racked into barrels while actively fermenting (1.020 – 1.022) and tightly bunged to allow carbonation in the saloon cellar. There is some speculation that it was a variant of the lighter common or cream ale produced throughout much of the East prior to the Civil War and that the darker grains were added by the mostly Germanic brewers to help acidify the typical carbonate water of the Louisville area, or that they had a preference for darker colored beers. Up until the late 19th century, Kentucky Common was not brewed in the summer months unless cellars, usually used for malting, were used for fermentation. With the advent of ice machines, the larger breweries were able to brew year round. In the period from 1900 to prohibition, about 75% of the beer sold in the Louisville area was Kentucky Common. With prohibition, the style died completely as the few larger breweries that survived were almost exclusively lager producers.","Six-row barley malt was used with 35% corn grits to dilute the excessive protein levels along with 1 to 2% each caramel and black malt. Native American hops, usually about .2 pounds per barrel of Western hops for bittering and a similar amount of New York hops (such as Clusters) for flavor (15 minutes prior to knock out). Imported continental Saazer-type hops (.1 pounds per barrel) were added at knock out for aroma. Water in the Louisville area was typically moderate to high in carbonates. Mash water was often pre-boiled to precipitate the carbonate and Gypsum was commonly added. Considering the time from mash in to kegging for delivery was typically 6 to 8 days, clearly aggressive top-fermenting yeasts was used.","Like a darker-colored cream ale emphasizing corn, but with some light character malt flavor. Malt flavors and balance are probably closest to modern adjunct-driven international amber or dark lagers, Irish red ales, or Belgian pale ales.","Apocalypse Brew Works Ortel’s 1912"]
["27A","27A - Lichtenhainer",1.032,1.04,1.004,1.008,5.91,11.82,5,12,3.5,4.7,3,6,1032,1040,1004,1008,"Lichtenhainer",null,null,"Historical Beer","Wheat Beer","European Smoked Beer","Germany",1004,1008,"A sour, smoked, lower-gravity historical German wheat beer. Complex yet refreshing character due to high attenuation and carbonation, along with low bitterness and moderate sourness. ","Moderately strong fresh smoky aroma, light hints of sourness, medium-low fruity esters, possibly apples or lemons, moderate bready-grainy malt. The smoke character is stronger than the bready notes, and the smoke has a ‘dry’ character, like the remnants of an old fire, not a ‘greasy’ smoke. ","Tall off-white head, rocky and persistent. Deep yellow to light gold color. Fair clarity, may be somewhat hazy.","Moderately strong fruity flavor, possibly lemons or apples. Moderate intensity, clean lactic tartness (no funk). Similar smoky character as aroma (dry wood fire), medium strength. Dry finish, with acidity and smoke in the aftertaste. Low bitterness; the acidity is providing the balance, not hops. Fresh, clean palate and slightly puckery aftertaste. The wheat character is on the low side; the smoke and acidity are more prominent in the balance. The lemony-tart/green apple flavor is strongest in the finish, with smoke a close second. Complex.","Tingly acidity. High carbonation. Medium to medium-light body.","Served young. Smoke and sour is an unusual combination that is not for everyone.","Originating in Lichtenhain, in Thüringen (central Germany). Height of popularity was towards the end of the 1800s, and was widely available throughout Thüringen. Like a pre-1840 Berliner Weisse.","Smoked barley malt, wheat malt, lactobacillus, top-fermenting yeast. Grists vary, but the wheat would typically be 30-50%.","In the same general historical lower-alcohol top-fermenting central European wheat beer family as Gose, Grodziskie, and Berliner weisse, has elements of all of them but having its own unique balance – sour and smoke is not found in any of the other beers. Not as acidic as Berliner weisse, probably more like a smoked Gose without coriander and salt, or a Grodziskie with Gose-like acidity.","none"]
["27A","27A - London Brown Ale",1.0329999999999999,1.038,1.012,1.0149999999999999,43.339999999999996,68.95,15,20,2.8,3.6,22,35,1033,1038,1012,1015,"London Brown Ale",null,null,"Historical Beer","Brown Ale",null,"England",1012,1015,"A luscious, sweet, malt-oriented dark brown ale, with caramel and toffee malt complexity and a sweet finish.","Moderate malty-sweet aroma, often with a rich, caramel or toffee-like character. Low to medium fruity esters, often dark fruit like plums. Very low to no hop aroma, earthy or floral qualities.","Medium to very dark brown color, but can be nearly black. Nearly opaque, although should be relatively clear if visible. Low to moderate off-white to tan head.","Deep, caramel or toffee-like malty and sweet flavor on the palate and lasting into the finish. Hints of biscuit and coffee are common. Some fruity esters can be present (typically dark fruit); relatively clean fermentation profile for an English ale. Low hop bitterness. Hop flavor is low to non-existent, possibly earthy or floral in character. Moderately-low to no perceivable roasty or bitter black malt flavor. Moderately sweet finish with a smooth, malty aftertaste. May have a sugary-sweet flavor. ","Medium body, but the residual sweetness may give a heavier impression. Medium-low to medium carbonation. Quite creamy and smooth in texture, particularly for its gravity.","Increasingly rare; Mann’s has over 90% market share in Britain, but in an increasingly small segment. Always bottled. Frequently used as a sweet mixer with cask mild and bitter in pubs. Commercial versions can be pasteurized and back-sweetened, which gives more of a sugary-sweet flavor.","Developed by Mann’s as a bottled product in 1902. Claimed at the time to be “the sweetest beer in London.” Pre-WWI versions were around 5% ABV, but same general balance. Declined in popularity in second half of 20th century, and now nearly extinct.","English pale ale malt as a base with a healthy proportion of darker caramel malts and often some roasted (black) malt and wheat malt (this is Mann’s traditional grist – others can rely on dark sugars for color and flavor). Moderate to high carbonate water. English hop varieties are most authentic, though with low flavor and bitterness almost any type could be used. Post-fermentation sweetening with lactose or artificial sweeteners, or sucrose (if pasteurized).","May seem somewhat like a less roasty version of a sweet stout (and lower-gravity, at least for US sweet stout examples) or a sweet version of a dark mild.","Harveys Bloomsbury Brown Ale, Mann's Brown Ale"]
["27A","27A - Piwo Grodziskie",1.028,1.032,1.006,1.012,5.91,11.82,20,35,2.5,3.3,3,6,1028,1032,1006,1012,"Piwo Grodziskie",null,null,"Historical Beer","Wheat Beer","European Smoked Beer","Poland",1006,1012,"A low-gravity, highly-carbonated, light-bodied ale combining an oak-smoked flavor with a clean hop bitterness. Highly sessionable.","Low to moderate oak wood smoke is the most prominent aroma component, but can be subtle and hard to detect. A low spicy, herbal, or floral hop aroma is typically present, and should be lower than or equal to the smoke in intensity. Hints of grainy wheat are also detected in the best examples. The aroma is otherwise clean, although light pome fruit esters (especially ripe red apple or pear) are welcome. No acidity. Slight water-derived sulfury notes may be present.","Pale yellow to medium gold in color with excellent clarity. A tall, billowy, white, tightly-knit head with excellent retention is distinctive. Murkiness is a fault.","Moderately-low to medium oak smoke flavor up front which carries into the finish; the smoke can be stronger in flavor than in aroma. The smoke character is gentle, should not be acrid, and can lend an impression of sweetness. A moderate to strong bitterness is readily evident which lingers through the finish. The overall balance is toward bitterness. Low but perceptible spicy, herbal, or floral hop flavor. Low grainy wheat character in the background. Light pome fruit esters (red apple or pear) may be present. Dry, crisp finish. No sourness.","Light in body, with a crisp and dry finish. Carbonation is quite high and can add a slight carbonic bite or prickly sensation. No noticeable alcohol warmth. ","Pronounced in English as “pivo grow-JEES-kee-uh” (meaning: Grodzisk beer). Known as Grätzer (pronounced “GRATE-sir”) in German-speaking countries, and in some beer literature. Traditionally made using a multi-step mash, a long boil (~2 hours), and multiple strains of ale yeast. The beer is never filtered but Isinglass is used to clarify before bottle conditioning. Traditionally served in tall conical glassware to accommodate the vigorous foam stand. ","Developed as a unique style centuries ago in the Polish city of Grodzisk (known as Grätz when ruled by Prussia and Germany). Its fame and popularity rapidly extended to other parts of the world in the late 19th and early 20th century. Regular commercial production declined after WWII and ceased altogether in the early-mid 1990s. This style description describes the traditional version during its period of greatest popularity.","Grain bill usually consists entirely of oak-smoked wheat malt. Oak-smoked wheat malt has a different (and less intense) smoke character than German beechwood-smoked barley malt; it has a drier, crisper, leaner quality – a bacon/ham smoke flavor is inappropriate. Saazer-type hops (Polish, Czech or German), moderate hardness sulfate water, and a relatively clean and attenuative continental ale yeast fermented at moderate ale temperatures are traditional. German hefeweizen yeast or other strains with a phenol or strong ester character are inappropriate.","Similar in strength to a Berliner Weisse, but never sour. Has a smoked character but less intense than in a Rauchbier.","none"]
["27A",{"$f":"A98&\" - \"&S98","v":"27A - Pre-Prohibition Lager"},1.044,1.06,1.01,1.0149999999999999,5.91,11.82,25,40,4.5,6,3,6,1044,1060,1010,1015,"Pre-Prohibition Lager",null,null,"Historical Beer","Pilsner","Pilsner","United States",1010,1015,"A clean, refreshing, but bitter pale lager, often showcasing a grainy-sweet corn flavor. All malt or rice-based versions have a crisper, more neutral character. The higher bitterness level is the largest differentiator between this style and most modern mass-market pale lagers, but the more robust flavor profile also sets it apart.","Low to medium grainy, corn-like or sweet maltiness may be evident (although rice-based beers are more neutral). Medium to moderately high hop aroma, with a range of character from rustic to floral to herbal/spicy; a fruity or citrusy modern hop character is inappropriate. Clean lager character. Low DMS is acceptable. May show some yeast character, as with modern American lagers; allow for a range of subtle supporting yeast notes.","Yellow to deep gold color. Substantial, long lasting white head. Bright clarity.","Medium to medium-high maltiness with a grainy flavor, and optionally a corn-like roundness and impression of sweetness. Substantial hop bitterness stands up to the malt and lingers through the dry finish. All malt and rice-based versions are often crisper, drier, and generally lack corn-like flavors. Medium to high hop flavor, with a rustic, floral, or herbal/spicy character. Medium to high hop bitterness, which should neither be overly coarse nor have a harsh aftertaste. Allow for a range of lager yeast character, as with modern American lagers, but generally fairly neutral.","Medium body with a moderately rich, creamy mouthfeel. Smooth and well-lagered. Medium to high carbonation levels.","The classic American Pilsner was brewed both pre-Prohibition and post-Prohibition with some differences. OGs of 1.050–1.060 would have been appropriate for pre-Prohibition beers while gravities dropped to 1.044–1.048 after Prohibition. Corresponding IBUs dropped from a pre-Prohibition level of 30–40 to 25–30 after Prohibition.","A version of Pilsner brewed in the USA by immigrant German brewers who brought the process and yeast with them, but who had to adapt their recipes to work with native hops and malt. This style died out after Prohibition but was resurrected by homebrewers in the 1990s. Few commercial versions are made, so the style still remains mostly a homebrew phenomenon.","Six-row barley with 20% to 30% flaked maize (corn) or rice to dilute the excessive protein levels; modern versions may be all malt. Native American hops such as Clusters, traditional continental hops, or modern noble-type crosses are also appropriate. Modern American hops such as Cascade are inappropriate. Water with a high mineral content can lead to an unpleasant coarseness in flavor and harshness in aftertaste. A wide range of lager yeast character can be exhibited, although modern versions tend to be fairly clean.","Similar balance and bitterness as modern Czech Premium Pale Lagers, but exhibiting native American grains and hops from the era before US Prohibition. More robust, bitter, and flavorful than modern American pale lagers, and often with higher alcohol.","Anchor California Lager, Coors Batch 19, Little Harpeth Chicken Scratch"]
["27A","27A - Pre-Prohibition Porter",1.046,1.06,1.01,1.016,35.46,59.1,20,30,4.5,6,18,30,1046,1060,1010,1016,"Pre-Prohibition Porter",null,null,"Historical Beer","Porter","Dark American Beer","United States",1010,1016,"An American adaptation of English Porter using American ingredients, including adjuncts.","Base grainy malt aroma with low levels of dark malt (slight burnt or chocolate notes). Low hop aroma. Low to moderate low levels of DMS acceptable. May show low levels of caramel and biscuit aroma. No to very low esters. Light adjunct (licorice, molasses) aroma acceptable. Diacetyl low to none. Clean lager profile acceptable.","Medium to dark brown, though some examples can be nearly black in color, with ruby or mahogany highlights. Relatively clear. Light to medium tan head which will persist in the glass.","Grainy base malt flavor, with low levels of chocolate or burnt black malt notes, along with low levels of caramel, biscuit, licorice, and toast notes. Corn/DMS flavor acceptable at low to moderate levels. American hop bitterness low to moderate and American hop flavor low to none. Balance is typically even between malt and hops, with a moderate dry finish.","Medium light to medium body, moderate carbonation, low to moderate creaminess. May have a slight astringency from the dark malts.","Also sometimes known as Pennsylvania Porter or East Coast Porter.","Commercially brewed in Philadelphia during the revolutionary period, the beer gained wide acceptance in the newly formed mid-Atlantic states, and was endorsed by President George Washington.","Two and six row malt (or a combination of both) are used, along with low percentages of dark malts including black, chocolate, and brown malt (roasted barley is not typically used). Adjuncts are acceptable, including corn, brewers licorice, molasses, and porterine. More historical versions will have up to twenty percent adjuncts. Lager or ale yeast. Emphasis on historical or traditional American bittering hops (Cluster, Willamette, Cascade), though finishing and flavor hops may vary.","Smoother and less hoppy-bitter than a (modern) American Porter, less caramelly than an English Porter with more of an adjunct/lager character.","Stegmaier Porter, Yuengling Porter"]
["27A","27A - Roggenbier",1.046,1.056,1.01,1.014,27.58,37.43,10,20,4.5,6,14,19,1046,1056,1010,1014,"Roggenbier",null,null,"Historical Beer","Wheat Beer","Wheat Beer","Germany",1010,1014,"A dunkelweizen made with rye rather than wheat, but with a greater body and light finishing hops.","Light to moderate spicy rye aroma intermingled with light to moderate weizen yeast aromatics (spicy clove and fruity esters, either banana or citrus). Light spicy, floral, or herbal hops are acceptable.","Light coppery-orange to very dark reddish or coppery-brown color. Large creamy off-white to tan head, quite dense and persistent (often thick and rocky). Cloudy, hazy appearance.","Grainy, moderately-low to moderately-strong spicy rye flavor, often having a hearty flavor reminiscent of rye or pumpernickel bread. Medium to medium-low bitterness allows an initial malt sweetness (sometimes with a bit of caramel) to be tasted before yeast and rye character takes over. Low to moderate weizen yeast character (banana, clove), although the balance can vary. Medium-dry, grainy finish with a lightly bitter (from rye) aftertaste. Low to moderate spicy, herbal, or floral hop flavor acceptable, and can persist into aftertaste.","Medium to medium-full body. High carbonation. Moderately creamy.","Rye is a huskless grain and is difficult to mash, often resulting in a gummy mash texture that is prone to sticking. Rye has been characterized as having the most assertive flavor of all cereal grains. It is inappropriate to add caraway seeds to a roggenbier (as some American brewers do); the rye character is traditionally from the rye grain only.","A specialty German rye beer originally brewed in Regensburg, Bavaria. Never a widely popular style, it has all but disappeared in modern times.","Malted rye typically constitutes 50% or greater of the grist (some versions have 60-65% rye). Remainder of grist can include pale malt, Munich malt, wheat malt, crystal malt and/or small amounts of debittered dark malts for color adjustment. Weizen yeast provides distinctive banana esters and clove phenols. Light usage of Saazer-type hops in bitterness, flavor and aroma. Lower fermentation temperatures accentuate the clove character by suppressing ester formation. Decoction mash traditionally used (as with weissbiers).","A more distinctive variant of a dunkelweizen using malted rye instead of malted wheat. American Rye Beers will not have the weizen yeast character, and likely more hops.","Thurn und Taxis Roggen"]
["27A","27A - Sahti",1.0760000000000001,1.1200000000000001,1.016,1.02,7.88,43.339999999999996,7,15,7,11,4,22,1076,1120,1016,1020,"Sahti",null,null,"Historical Beer","Wheat Beer","European Farmhouse Beer","Scandinavia",1016,1020,"A sweet, heavy, strong traditional Finnish beer with a rye, juniper, and juniper berry flavor and a strong banana-clove yeast character.","High banana esters with moderate to moderately-high clove-like phenolics. Not sour. May have a low to moderate juniper character. Grainy malt, caramel, and rye in background. Light alcohol aroma. Sweet malt impression.","Pale yellow to dark brown color; most are medium to dark amber. Generally quite cloudy (unfiltered). Little head, due to low carbonation.","Strong banana and moderate to moderately-high clove yeast character. Moderate grainy rye flavor. Low bitterness. Fairly sweet finish. Juniper can add a pine-like flavor; juniper berries can add a gin-like flavor; both should be complementary, not dominant. No noticeable hop flavor. Moderate caramel flavor but no roast. Multi-layered and complex, with kind of a wortiness that is unusual in other beer styles. Not sour.","Thick, viscous, and heavy with protein (no boil means no hot break). Nearly still to medium-low carbonation. Strongly warming from the alcohol level and young age, but often masked by sweetness.","The use of rye doesn’t mean that it should taste like caraway (a dominant flavor in rye bread). The use of juniper berries will give a flavor like gin (similarly flavored with juniper berries). The juniper acts a bit like hops in the balance and flavor, providing some counterpoint to the sweet malt.","An indigenous traditional style from Finland; a farmhouse tradition for at least 500 years, often brewed for festive occasions like summer weddings, and consumed within a week or two of brewing. A similar tradition exists in Estonia, where the beer is known as koduolu.","Malted barley along with malted and unmalted grains, often rye. Low hops. Juniper boughs used for lautering (traditionally in a hollowed-out log), but often producing a juniper/berry character. Often uses top-fermenting baker’s yeast in a fast, warm fermentation (German Weizen yeast is a good substitute). Not boiled; a long mash steep is used, with a separately added hop tea.","Strong resemblance to Weizenbocks, but sweet and thick with a rye and juniper character.","Now made year-round by several breweries in Finland."]
["28A","28A - Brett Beer",null,null,null,null,null,null,"Variable by base style","Variable by base style","Variable by base style","Variable by base style","Variable by base style","Variable by base style","Variable by base style","Variable by base style","Variable by base style","Variable by base style","Brett Beer",2,4,"American Wild Ale","Specialty Beer","Specialty Beer","Specialty Beer","Variable by base style","Variable by base style","Most often drier and fruitier than the base style suggests. Funky notes range from low to high, depending on the age of the beer and strain(s) of Brett used. Funkiness is generally restrained in younger 100% Brett examples, but tends to increase with age. May possess a light acidity, although this does not come from Brett.","Variable by base style. Young Brett-fermented beers will possess more fruity notes (e.g., tropical fruit, stone fruit, or citrus), but this is variable by the strain(s) of Brett used. For 100% Brett beers heavily hopped with American hop varieties, the fermentation-derived flavors are often difficult to tease from the hop aromatics. Older 100% Brett beers may start to develop a little funk (e.g., barnyard, wet hay, or slightly earthy or smoky notes), but this character should not dominate. If the beer is fermented with a brewer’s yeast in addition to Brett, some of the character of the primary yeast may remain. A faint sourness is acceptable but should not be a prominent character.","Variable by base style. Clarity can be variable, and depends on the base style and ingredients used. Some haze is not necessarily a fault.","Variable by base style. Brett character may range from minimal to aggressive. Can be quite fruity (e.g., tropical fruit, berry, stone fruit, citrus), or have some smoky, earthy, or barnyard character. Should not be unpleasantly funky, such as Band-Aid, fetid, nail polish remover, cheese, etc. Light sourness is acceptable with the beer being lightly tart, but should not be truly sour. Always fruitier when young, gaining more funk with age. May not be acetic or lactic. Malt flavors are often less pronounced than in the base style, leaving a beer most often dry and crisp due to high attenuation by the Brett.","Variable by base style. Generally a light body, lighter than what might be expected from the base style but an overly thin body is a fault. Generally moderate to high carbonation. Head retention is variable.","The base style describes most of the character of these beers, but the addition of Brett ensures a drier, thinner, and funkier product. Younger versions are brighter and fruitier, while older ones possess more depth of funk and may lose more of the base style character. Wood-aged versions should be entered in the Wild Specialty Beer style. The Brett character should always meld with the style; these beers should never be a ‘Brett bomb’. Note that Brett does not produce lactic acid.","Modern American craft beer interpretations of Belgian wild ales, or experimentations inspired by Belgian wild ales or historical English beers with Brett. 100% Brett beers gained popularity after the year 2000; Port Brewing Mo Betta Bretta was one of the first celebrated examples.","Virtually any style of beer, fermented in any manner, then finished with one or more strains of Brett. Alternatively, a beer made with Brett as the sole fermentation strain.","Compared to the same beer style without Brett, a Brett Beer will be drier, more highly attenuated, fruitier, lighter in body, and slightly funkier as it ages. Less sourness and depth than Belgian ‘wild’ ales. ","Boulevard Saison Brett, Hill Farmstead Arthur, Logsdon Seizoen Bretta, Russian River Sanctification, The Bruery Saison Rue, Victory Helios"]
["28B","28B - Mixed-Fermentation Sour Beer",null,null,null,null,null,null,"Variable by base style","Variable by base style","Variable by base style","Variable by base style","Variable by base style","Variable by base style","Variable by base style","Variable by base style","Variable by base style","Variable by base style","Mixed-Fermentation Sour Beer",1.5,3.5,"American Wild Ale","Specialty Beer","Specialty Beer","Specialty Beer","Variable by base style","Variable by base style","A sour and/or funky version of a base style of beer.","Variable by base style. The contribution of non-Saccharomyces microbes should be noticeable to strong, and often contribute a sour and/or funky, wild note. The best examples will display a range of aromatics, rather than a single dominant character. The aroma should be inviting, not harsh or unpleasant. ","Variable by base style. Clarity can be variable; some haze is not a fault. Head retention can be poor due to high levels of acid or anti-foam properties of some lactobacillus strains.","Variable by base style. Look for an agreeable balance between the base beer and the fermentation character. A range of results is possible from fairly high acidity/funk to a subtle, pleasant, harmonious beer. The best examples are pleasurable to drink with the esters and phenols complementing the malt and/or hops. The wild character can be prominent, but does not need to be dominating in a style with an otherwise strong malt/hop profile. Acidity should be firm yet enjoyable, but should not be biting or vinegary; prominent or objectionable/offensive acetic acid is a fault. Bitterness tends to be low, especially as sourness increases.","Variable by base style. Generally a light body, almost always lighter than what might be expected from the base style. Generally moderate to high carbonation, although often lower in higher alcohol examples.","These beers may be aged in wood, but any wood character should not be a primary or dominant flavor. Sour beers are typically not bitter as these flavors clash. The base beer style becomes less relevant because the various yeast and bacteria tend to dominate the profile. Inappropriate characteristics include diacetyl, solvent, ropy/viscous texture, and heavy oxidation.","Modern American craft beer interpretations of Belgian sour ales, or experimentations inspired by Belgian sour ales.","Virtually any style of beer. Usually fermented by Lactobacillus and/or Pediococcus, often in conjunction with Saccharomyces and/or Brettanomyces. Can also be a blend of styles. Wood or barrel aging is very common, but not required.","A sour and/or funky version of a base style.","Boulevard Love Child, Cascade Vlad the Imp Aler, Jester King Le Petit Prince, Jolly Pumpkin Calabaza Blanca, Russian River Temptation, The Bruery Rueuze, The Bruery Tart of Darkness"]
["28C","28C - Wild Specialty Beer",null,null,null,null,null,null,"Variable by base style","Variable by base style","Variable by base style","Variable by base style","Variable by base style","Variable by base style","Variable by base style","Variable by base style","Variable by base style","Variable by base style","Wild Specialty Beer",1.5,3.5,"American Wild Ale","Specialty Beer","Specialty Beer","Specialty Beer","Variable by base style","Variable by base style","A sour and/or funky version of a fruit, herb, or spice beer, or a wild beer aged in wood. If wood-aged, the wood should not be the primary or dominant character.","Variable by base style. Should show the fruit, sour and/or funk of a wild fermentation, as well as the characteristics of the special ingredients used. The best examples will blend the aromatics from the fermentation with the special ingredients, creating an aroma that may be difficult to attribute precisely. ","Variable by base style, generally showing a color, tint, or hue from any fruit (if used) in both the beer and the head. Clarity can be variable; some haze is not a fault. Head retention is often poor.","Variable by base style. Should show the fruit, sour and/or funk of a wild fermentation, as well as the characteristics of the special ingredients used. Any fruit sweetness is generally gone, so only the esters typically remain from the fruit. The sour character from the fruit and wild fermentation could be prominent, but should not be overwhelming. The acidity and tannin from any fruit can both enhance the dryness of the beer, so care must be taken with the balance. The acidity should enhance the perception of the fruit flavor, not detract from it. Wood notes, if present, add flavor but should be balanced.","Variable by base style. Generally a light body, lighter than what might be expected from the base style. Generally moderate to high carbonation; carbonation should balance the base style if one is declared. The presence of tannin from some fruit or wood can provide a slight astringency, enhance the body, or make the beer seem drier than it is.","A wild beer featuring fruit, herbs, spices, or wood based on a style other than lambic. Could be another Classic Style (normally sour or not), or something more generic. These beers may be aged in wood, but any wood character should not be a primary or dominant flavor.","Modern American craft beer interpretations of Belgian wild ales, or experimentations inspired by Belgian wild ales.","Virtually any style of beer. Any combination of Saccharomyces, Brettanomyces, Lactobacillus, Pediococcus, or other similar fermenters. Can also be a blend of styles. While cherries, raspberries, and peaches are most common, other fruits can be used as well. Vegetables with fruit-like characteristics (chile, rhubarb, pumpkin, etc.) may also be used. Wood or barrel aging is very common, but not required.","Like a fruit, herb, spice, or wood beer, but sour and/or funky.","Cascade Bourbonic Plague, Jester King Atrial Rubicite, New Belgium Eric’s Ale, New Glarus Belgian Red, Russian River Supplication, The Lost Abbey Cuvee de Tomme"]
["29A","29A - Fruit Beer",null,null,null,null,null,null,"Vary depending on the underlying base beer, but the fruit will often be reflected in the color","Vary depending on the underlying base beer, but the fruit will often be reflected in the color","Vary depending on the underlying base beer, but the fruit will often be reflected in the color","Vary depending on the underlying base beer, but the fruit will often be reflected in the color","Vary depending on the underlying base beer, but the fruit will often be reflected in the color","Vary depending on the underlying base beer, but the fruit will often be reflected in the color","Vary depending on the underlying base beer, but the fruit will often be reflected in the color","Vary depending on the underlying base beer, but the fruit will often be reflected in the color","Vary depending on the underlying base beer, but the fruit will often be reflected in the color","Vary depending on the underlying base beer, but the fruit will often be reflected in the color","Fruit Beer",null,null,"Fruit Beer","Specialty Beer","Specialty Beer","Specialty Beer","Vary depending on the underlying base beer, but the fruit will often be reflected in the color","Vary depending on the underlying base beer, but the fruit will often be reflected in the color","A harmonious marriage of fruit and beer, but still recognizable as a beer. The fruit character should be evident but in balance with the beer, not so forward as to suggest an artificial product.","The distinctive aromatics associated with the declared fruit should be noticeable in the aroma; however, note that some fruit (e.g., raspberries, cherries) have stronger aromas and are more distinctive than others (e.g., blueberries, strawberries) – allow for a range of fruit character and intensity from subtle to aggressive. The additional aromatics should blend well with whatever aromatics are appropriate for the declared base beer style.","Appearance should be appropriate for the declared base beer and declared fruit. For lighter-colored beers with fruits that exhibit distinctive colors, the color should be noticeable. Note that the color of fruit in beer is often lighter than the flesh of the fruit itself and may take on slightly different shades. Fruit beers may have some haze or be clear, although haze is a generally undesirable. The head may take on some of the color of the fruit.","As with aroma, the distinctive flavor character associated with the declared fruit should be noticeable, and may range in intensity from subtle to aggressive. The balance of fruit with the underlying beer is vital, and the fruit character should not be so artificial and/or inappropriately overpowering as to suggest a ‘fruit juice drink.’ Hop bitterness, flavor, malt flavors, alcohol content, and fermentation by-products, such as esters, should be appropriate to the base beer and be harmonious and balanced with the distinctive fruit flavors present. Remember that fruit generally add flavor not sweetness to fruit beers. The sugar found in fruit is usually fully fermented and contributes to lighter flavors and a drier finish than might be expected for the declared base style. However, residual sweetness is not necessarily a negative characteristic unless it has a raw, unfermented quality.","Mouthfeel may vary depending on the base beer selected and as appropriate to that base beer. Body and carbonation levels should be appropriate to the declared base beer style. Fruit generally adds fermentables that tend to thin out the beer; the resulting beer may seem lighter than expected for the declared base style. Smaller and darker fruit have a tendency to add a tannic depth that should overwhelm the base beer.","Overall balance is the key to presenting a well-made fruit beer. The fruit should complement the original style and not overwhelm it. The key attributes of the underlying style will be different with the addition of fruit; do not expect the base beer to taste the same as the unadulterated version. Judge the beer based on the pleasantness and balance of the resulting combination.",null,null,null,"Bell’s Cherry Stout, Dogfish Head Aprihop, Ebulum Elderberry Black Ale, Founders Rübæus"]
["29B","29B - Fruit and Spice Beer",null,null,null,null,null,null,"Vary depending on the underlying base beer, but the fruit will often be reflected in the color","Vary depending on the underlying base beer, but the fruit will often be reflected in the color","Vary depending on the underlying base beer, but the fruit will often be reflected in the color","Vary depending on the underlying base beer, but the fruit will often be reflected in the color","Vary depending on the underlying base beer, but the fruit will often be reflected in the color","Vary depending on the underlying base beer, but the fruit will often be reflected in the color","Vary depending on the underlying base beer, but the fruit will often be reflected in the color","Vary depending on the underlying base beer, but the fruit will often be reflected in the color","Vary depending on the underlying base beer, but the fruit will often be reflected in the color","Vary depending on the underlying base beer, but the fruit will often be reflected in the color","Fruit and Spice Beer",null,null,"Fruit Beer","Specialty Beer","Specialty Beer","Specialty Beer","Vary depending on the underlying base beer, but the fruit will often be reflected in the color","Vary depending on the underlying base beer, but the fruit will often be reflected in the color","A harmonious marriage of fruit, spice, and beer, but still recognizable as a beer. The fruit and spice character should each be evident but in balance with the beer, not so forward as to suggest an artificial product.","The distinctive aromatics associated with the declared fruit and spices should be noticeable in the aroma; however, note that some fruit (e.g., raspberries, cherries) and some spices (e.g., cinnamon, ginger) have stronger aromas and are more distinctive than others (e.g., blueberries, strawberries) – allow for a range of fruit and spice character and intensity from subtle to aggressive. The additional aromatics should blend well with whatever aromatics are appropriate for the declared base beer style. The hop aroma may be absent or balanced, depending on the declared base style.","Appearance should be appropriate for the declared base beer and declared fruit and spices. For lighter-colored beers with fruits or spices that exhibit distinctive colors, the color should be noticeable. Note that the color of fruit in beer is often lighter than the flesh of the fruit itself and may take on slightly different shades. May have some haze or be clear, although haze is a generally undesirable. The head may take on some of the color of the fruit or spice.","As with aroma, the distinctive flavor character associated with the declared fruits and spices should be noticeable, and may range in intensity from subtle to aggressive. The balance of fruit and spices with the underlying beer is vital, and the fruit character should not be so artificial and/or inappropriately overpowering as to suggest a spiced fruit juice drink. Hop bitterness, flavor, malt flavors, alcohol content, and fermentation by-products, such as esters, should be appropriate to the base beer and be harmonious and balanced with the distinctive fruit and spice flavors present. Remember that fruit generally add flavor not sweetness. The sugar found in fruit is usually fully fermented and contributes to lighter flavors and a drier finish than might be expected for the declared base style. However, residual sweetness is not necessarily a negative characteristic unless it has a raw, unfermented quality. Some SHV(s) are inherently bitter and may result in a beer more bitter than the declared base style.","Mouthfeel may vary depending on the base beer selected and as appropriate to that base beer. Body and carbonation levels should be appropriate to the declared base beer style. Fruit generally adds fermentables that tend to thin out the beer; the resulting beer may seem lighter than expected for the declared base style. Some SHV(s) may add additional body, although fermentable additions may thin out the beer. Some SHV(s) may add a bit of astringency, although a “raw” spice character is undesirable.","Overall balance is the key to presenting a well-made fruit and spice beer. The fruit and spice should each complement the original style and not overwhelm it. The key attributes of the underlying style will be different with the addition of fruit and spice; do not expect the base beer to taste the same as the unadulterated version. Judge the beer based on the pleasantness and balance of the resulting combination. The brewer should recognize that some combinations of base beer styles and fruits/spices work well together while others do not make for harmonious combinations. Whenever fruits, spices, herbs or vegetables are declared, each should be noticeable and distinctive in its own way (although not necessarily individually identifiable; balanced with the other ingredients is still critical) – in other words, the beer should read as a spiced fruit beer but without having to tell that specific fruits and spices are present (even if declared)."]
["29C","29C - Specialty Fruit Beer",null,null,null,null,null,null,"Vary depending on the underlying base beer, but the fruit will often be reflected in the color","Vary depending on the underlying base beer, but the fruit will often be reflected in the color","Vary depending on the underlying base beer, but the fruit will often be reflected in the color","Vary depending on the underlying base beer, but the fruit will often be reflected in the color","Vary depending on the underlying base beer, but the fruit will often be reflected in the color","Vary depending on the underlying base beer, but the fruit will often be reflected in the color","Vary depending on the underlying base beer, but the fruit will often be reflected in the color","Vary depending on the underlying base beer, but the fruit will often be reflected in the color","Vary depending on the underlying base beer, but the fruit will often be reflected in the color","Vary depending on the underlying base beer, but the fruit will often be reflected in the color","Specialty Fruit Beer",null,null,"Fruit Beer","Specialty Beer","Specialty Beer","Specialty Beer","Vary depending on the underlying base beer, but the fruit will often be reflected in the color","Vary depending on the underlying base beer, but the fruit will often be reflected in the color","A harmonious marriage of fruit, sugar, and beer, but still recognizable as a beer. The fruit and sugar character should both be evident but in balance with the beer, not so forward as to suggest an artificial product.","Same as fruit beer, except that some additional fermentables (honey, molasses, etc.) may add an aroma component. Whatever additional aroma component is present should be in balance with the fruit and the beer components, and be a pleasant combination.","Same as fruit beer.","Same as fruit beer, except that some additional fermentables (honey, molasses, etc.) may add a flavor component. Whatever additional flavor component is present should be in balance with the fruit and the beer components, and be a pleasant combination. Added sugars should not have a raw, unfermented flavor. Some added sugars will have unfermentable elements that may provide a fuller finish; fully fermentable sugars may thin out the finish.","Same as fruit beer, although depending on the type of sugar added, could increase or decrease the body.","If the additional fermentables or processes do not add a distinguishable character to the beer, enter it as a normal 29A Fruit Beer and omit a description of the extra ingredients or processes.",null,null,null,"New Planet Raspberry Ale","A Specialty Fruit Beer is a fruit beer with some additional ingredients or processes, such as fermentable sugars (honey, brown sugar, invert sugar, etc.) added."]
["30A","30A - Spice, Herb, or Vegetable Beer",null,null,null,null,null,null,"Vary depending on the underlying base beer","Vary depending on the underlying base beer","Vary depending on the underlying base beer","Vary depending on the underlying base beer","Vary depending on the underlying base beer","Vary depending on the underlying base beer","Vary depending on the underlying base beer","Vary depending on the underlying base beer","Vary depending on the underlying base beer","Vary depending on the underlying base beer","Spice, Herb, or Vegetable Beer",null,null,"Spiced Beer","Specialty Beer","Specialty Beer","Specialty Beer","Vary depending on the underlying base beer","Vary depending on the underlying base beer","A harmonious marriage of SHV and beer, but still recognizable as a beer. The SHV character should be evident but in balance with the beer, not so forward as to suggest an artificial product. ","The character of the particular spices, herbs and/or vegetables (SHV) should be noticeable in the aroma; however, note that some SHV (e.g., ginger, cinnamon) have stronger aromas and are more distinctive than others (e.g., some vegetables) – allow for a range of SHV character and intensity from subtle to aggressive. The individual character of each SHV(s) may not always be identifiable when used in combination. Hop aroma may be absent or balanced with SHV, depending on the style. The SHV(s) should add an extra complexity to the beer, but not be so prominent as to unbalance the resulting presentation.","Appearance should be appropriate to the declared base beer and declared special ingredients. For lighter-colored beers with spices, herbs or vegetables that exhibit distinctive colors, the colors may be noticeable in the beer and possibly the head. May have some haze or be clear. Head formation may be adversely affected by some ingredients, such as chocolate.","As with aroma, the distinctive flavor character associated with the particular SHV(s) should be noticeable, and may range in intensity from subtle to aggressive. The individual character of each SHV(s) may not always be identifiable when used in combination. The balance of SHV with the underlying beer is vital, and the SHV character should not be so artificial and/or overpowering as to overwhelm the beer. Hop bitterness, flavor, malt flavors, alcohol content, and fermentation by-products, such as esters, should be appropriate to the base beer and be harmonious and balanced with the distinctive SHV flavors present. Some SHV(s) are inherently bitter and may result in a beer more bitter than the declared base style.","Mouthfeel may vary depending on the base beer selected and as appropriate to that base beer. Body and carbonation levels should be appropriate to the base beer style being presented. Some SHV(s) may add additional body, although fermentable additions may thin out the beer. Some SHV(s) may add a bit of astringency, although a “raw” spice character is undesirable.","Overall balance is the key to presenting a well-made spice, herb or vegetable (SHV) beer. The SHV(s) should complement the original style and not overwhelm it. The key attributes of the declared base style will be different with the addition of spices, herbs and/or vegetables; do not expect the base beer to taste the same as the unadulterated version. Judge the beer based on the pleasantness and balance of the resulting combination. The individual character of each SHV may not always be individually identifiable when used in combination.",null,null,null,"Alesmith Speedway Stout, Bell’s Java Stout, Elysian Avatar Jasmine IPA, Founders Breakfast Stout, Rogue Chipotle Ale, Traquair Jacobite Ale, Young’s Double Chocolate Stout,"]
["30B","30B - Autumn Seasonal Beer",null,null,null,null,null,null,"Vary depending on the underlying base beer. ABV is generally above 5%, and most examples are somewhat amber-copper in color","Vary depending on the underlying base beer. ABV is generally above 5%, and most examples are somewhat amber-copper in color","Vary depending on the underlying base beer. ABV is generally above 5%, and most examples are somewhat amber-copper in color","Vary depending on the underlying base beer. ABV is generally above 5%, and most examples are somewhat amber-copper in color","Vary depending on the underlying base beer. ABV is generally above 5%, and most examples are somewhat amber-copper in color","Vary depending on the underlying base beer. ABV is generally above 5%, and most examples are somewhat amber-copper in color","Vary depending on the underlying base beer. ABV is generally above 5%, and most examples are somewhat amber-copper in color","Vary depending on the underlying base beer. ABV is generally above 5%, and most examples are somewhat amber-copper in color","Vary depending on the underlying base beer. ABV is generally above 5%, and most examples are somewhat amber-copper in color","Vary depending on the underlying base beer. ABV is generally above 5%, and most examples are somewhat amber-copper in color","Autumn Seasonal Beer",null,null,"Spiced Beer","Specialty Beer","Specialty Beer","Specialty Beer","Vary depending on the underlying base beer. ABV is generally above 5%, and most examples are somewhat amber-copper in color","Vary depending on the underlying base beer. ABV is generally above 5%, and most examples are somewhat amber-copper in color","An amber to copper, spiced beer that often has a moderately rich body and slightly warming finish suggesting a good accompaniment for the cool fall season, and often evocative of Thanksgiving traditions.","A wide range of aromatics is possible, although many examples are reminiscent of pumpkin pie, candied yams, or similar harvest or (US) Thanksgiving themed dishes. Any combination of aromatics that suggests the fall season is welcome. The base beer style often has a malty profile that supports the balanced presentation of the aromatics from spices and possibly other special ingredients. Additional fermentables (e.g., brown sugar, honey, molasses, maple syrup, etc.) may lend their own unique aromatics. Hop aromatics are often absent, subdued, or slightly spicy. Alcohol aromatics may be found in some examples, but this character should be restrained. The overall aroma should be balanced and harmonious, and is often fairly complex and inviting.","Generally medium amber to coppery-brown (lighter versions are more common). Usually clear, although darker versions may be virtually opaque. Some chill haze is acceptable. Generally has a well-formed head that is often off-white to tan. Some versions with squashes will take on an unusual hue for beer, with orange-like hints.","Many interpretations are possible; allow for brewer creativity as long as the resulting product is balanced and provides some spice (and optionally, sugar and vegetable) presentation. Spices associated with the fall season are typical (as mentioned in the Aroma section). The spices and optional fermentables should be supportive and blend well with the base beer style. Rich, malty and/or sweet malt-based flavors are common, and may include caramel, toasty, biscuity, or nutty flavors (toasted bread crust or cooked pie crust flavors are welcome). May include distinctive flavors from specific fermentables (molasses, honey, brown sugar, etc.), although these elements are not required. Flavor derived from squash-based vegetables are often elusive. The wide range of special ingredients should be supportive and balanced, not so prominent as to overshadow the base beer. Bitterness and hop flavor are generally restrained so as to not interfere with the spices and special ingredients. Generally finishes rather full and satisfying, and often has some alcohol flavor. Roasted malt characteristics are typically absent.","A wide range of interpretations is possible. Body is generally medium to full, and a certain malty and/or vegetable-based chewiness is often present. Moderately low to moderately high carbonation is typical. Many examples will show some well-aged, warming alcohol content, but without being overly hot. The beers do not have to be overly strong to show some warming effects.","Overall balance is the key to presenting a well-made Autumn Seasonal beer. The special ingredients should complement the base beer and not overwhelm it. The brewer should recognize that some combinations of base beer styles and special ingredients work well together while others do not make for harmonious combinations. If the base beer is a classic style, the original style should come through in aroma and flavor. Whenever spices, herbs or additional fermentables are declared, each should be noticeable and distinctive in its own way (although not necessarily individually identifiable; balanced with the other ingredients is still critical) – in other words, the beer should read as a spiced beer but without having to tell that specific spices are present (even if declared).",null,"Spices are required, and often include those evocative of the fall or Thanksgiving season (e.g., allspice, nutmeg, cinnamon, cloves, ginger) but any combination is possible and creativity is encouraged. Flavorful adjuncts are often used (e.g., molasses, invert sugar, brown sugar, honey, maple syrup, etc.). Squash-type or gourd-type vegetables (most frequently pumpkin) are often used.",null,"Dogfish Head Punkin Ale, Schlafly Pumpkin Ale, Southampton Pumpkin Ale","Autumn Seasonal Beers are beers that suggest cool weather and the autumn harvest season, and may include pumpkin or other squashes, and the associated spices. See the Introduction to Specialty-Type Beer section for additional comments, particularly on evaluating the balance of added ingredients with the base beer."]
["30C","30C - Winter Seasonal Beer",null,null,null,null,null,null,"Vary depending on the underlying base beer. ABV is generally above 6%, and most examples are somewhat dark in color","Vary depending on the underlying base beer. ABV is generally above 6%, and most examples are somewhat dark in color","Vary depending on the underlying base beer. ABV is generally above 6%, and most examples are somewhat dark in color","Vary depending on the underlying base beer. ABV is generally above 6%, and most examples are somewhat dark in color","Vary depending on the underlying base beer. ABV is generally above 6%, and most examples are somewhat dark in color","Vary depending on the underlying base beer. ABV is generally above 6%, and most examples are somewhat dark in color","Vary depending on the underlying base beer. ABV is generally above 6%, and most examples are somewhat dark in color","Vary depending on the underlying base beer. ABV is generally above 6%, and most examples are somewhat dark in color","Vary depending on the underlying base beer. ABV is generally above 6%, and most examples are somewhat dark in color","Vary depending on the underlying base beer. ABV is generally above 6%, and most examples are somewhat dark in color","Winter Seasonal Beer",null,null,"Spiced Beer","Specialty Beer","Specialty Beer","Specialty Beer","Vary depending on the underlying base beer. ABV is generally above 6%, and most examples are somewhat dark in color","Vary depending on the underlying base beer. ABV is generally above 6%, and most examples are somewhat dark in color","A stronger, darker, spiced beer that often has a rich body and warming finish suggesting a good accompaniment for the cold winter season.","A wide range of aromatics is possible, although many examples are reminiscent of Christmas cookies, gingerbread, English-type Christmas pudding, evergreen trees, or mulling spices. Any combination of aromatics that suggests the holiday season is welcome. The base beer style often has a malty profile that supports the balanced presentation of the aromatics from spices and possibly other special ingredients. Additional fermentables (e.g., honey, molasses, maple syrup, etc.) may lend their own unique aromatics. Hop aromatics are often absent, subdued, or slightly spicy. Some fruit character (often of dried citrus peel, or dried fruit such as raisins or plums) is optional but acceptable. Alcohol aromatics may be found in some examples, but this character should be restrained. The overall aroma should be balanced and harmonious, and is often fairly complex and inviting.","Generally medium amber to very dark brown (darker versions are more common). Usually clear, although darker versions may be virtually opaque. Some chill haze is acceptable. Generally has a well-formed head that is often off-white to tan.","Many interpretations are possible; allow for brewer creativity as long as the resulting product is balanced and provides some spice presentation. Spices associated with the holiday season are typical (as mentioned in the Aroma section). The spices and optional fermentables should be supportive and blend well with the base beer style. Rich, malty and/or sweet malt-based flavors are common, and may include caramel, toast, nutty, or chocolate flavors. May include some dried fruit or dried fruit peel flavors such as raisin, plum, fig, orange peel or lemon peel. May include distinctive flavors from specific fermentables (molasses, honey, brown sugar, etc.), although these elements are not required. A light evergreen tree character is optional but found in some examples. The wide range of special ingredients should be supportive and balanced, not so prominent as to overshadow the base beer. Bitterness and hop flavor are generally restrained so as to not interfere with the spices and special ingredients. Generally finishes rather full and satisfying, and often has some alcohol flavor. Roasted malt characteristics are rare, and not usually stronger than chocolate.","A wide range of interpretations is possible. Body is generally medium to full, and a certain malty chewiness is often present. Moderately low to moderately high carbonation is typical. Many examples will show some well-aged, warming alcohol content, but without being overly hot. The beers do not have to be overly strong to show some warming effects.","Overall balance is the key to presenting a well-made Winter Seasonal Beer. The special ingredients should complement the base beer and not overwhelm it. The brewer should recognize that some combinations of base beer styles and special ingredients work well together while others do not make for harmonious combinations. If the base beer is a classic style, the original style should come through in aroma and flavor. Whenever spices, herbs or additional fermentables are declared, each should be noticeable and distinctive in its own way (although not necessarily individually identifiable; balanced with the other ingredients is still critical). Whenever spices, herbs or additional fermentables are declared, each should be noticeable and distinctive in its own way (although not necessarily individually identifiable; balanced with the other ingredients is still critical) – in other words, the beer should read as a spiced beer but without having to tell that specific spices are present (even if declared).","Throughout history, beer of a somewhat higher alcohol content and richness has been enjoyed during the winter holidays, when old friends get together to enjoy the season. Many breweries produce unique seasonal offerings that may be darker, stronger, spiced, or otherwise more characterful than their normal beers. Spiced versions are an American or Belgian tradition, since English or German breweries traditionally do not use spices in their beer.","Generally ales, although some dark strong lagers exist. Spices are required, and often include those evocative of the Christmas season (e.g., allspice, nutmeg, cinnamon, cloves, ginger) but any combination is possible and creativity is encouraged. Fruit peel (e.g., oranges, lemon) may be used, as may subtle additions of other fruits. Flavorful adjuncts are often used (e.g., molasses, treacle, invert sugar, brown sugar, honey, maple syrup, etc.).",null,"Anchor Our Special Ale, Goose Island Christmas Ale, Great Lakes Christmas Ale, Harpoon Winter Warmer, Lakefront Holiday Spice Lager Beer, Weyerbacher Winter Ale","Winter Seasonal Beers are beers that suggest cold weather and the Christmas holiday season, and may include holiday spices, specialty sugars, and other products that are reminiscent of mulling spices or Christmas holiday desserts. See the Introduction to Specialty-Type Beer section for additional comments, particularly on evaluating the balance of added ingredients with the base beer."]
["31A","31A - Alternative Grain Beer",null,null,null,null,null,null,"Vary depending on the underlying base beer","Vary depending on the underlying base beer","Vary depending on the underlying base beer","Vary depending on the underlying base beer","Vary depending on the underlying base beer","Vary depending on the underlying base beer","Vary depending on the underlying base beer","Vary depending on the underlying base beer","Vary depending on the underlying base beer","Vary depending on the underlying base beer","Alternative Grain Beer",null,null,"Alternative Fermentables Beer","Specialty Beer","Specialty Beer","Specialty Beer","Vary depending on the underlying base beer","Vary depending on the underlying base beer","A base beer enhanced by or featuring the character of additional grain or grains. The specific character depends greatly on the character of the added grains.","Same as base beer style. The added grain will lend a particular character, although with some grains the beer will simply seem a bit more grainy or nutty. The alternative grain should provide the major aroma profile for this beer.","Same as base beer style, although some additional haze may be noticeable.","Same as base beer style. The additional grain should be noticeable in flavor, although it may not be necessarily identifiable. However, the alternative grain should provide the major flavor profile for this beer. Different grains have different characters; the additional grain should enhance the flavor of the base beer. Many will add an additional grainy, bready, or nutty flavor.","Same as the base beer, although many additional grains will tend to increase the body (oats, rye) and increase the viscosity, while some may decrease the body (GF grains) resulting in thinness. ","If the alternative grain does not provide a noticeable distinguishable character to the beer, enter it as the base style. This style should not be used for styles where the alternative grain is fundamental to the style definition (e.g., Rye IPA, Oatmeal Stout, Rice- or Corn-based International Lager). Note that sake is not beer, and is not intended for this category.",null,null,null,"Green’s Indian Pale Ale, Lakefront New Grist, New Planet Pale Ale","An Alternative Fermentables Beer is a standard beer (Classic Style or not) with additional or non-standard brewing grains (e.g., rye, oats, buckwheat, spelt, millet, sorghum, rice, etc.) added or used exclusively. Gluten-free (GF) beers made from completely gluten-free ingredients may be entered here, while GF beers using process-based gluten removal should be entered in their respective base style categories."]
["31B","31B - Alternative Sugar Beer",null,null,null,null,null,null,"Vary depending on the underlying base beer","Vary depending on the underlying base beer","Vary depending on the underlying base beer","Vary depending on the underlying base beer","Vary depending on the underlying base beer","Vary depending on the underlying base beer","Vary depending on the underlying base beer","Vary depending on the underlying base beer","Vary depending on the underlying base beer","Vary depending on the underlying base beer","Alternative Sugar Beer",null,null,"Alternative Fermentables Beer","Specialty Beer","Specialty Beer","Specialty Beer","Vary depending on the underlying base beer","Vary depending on the underlying base beer","A harmonious marriage of sugar and beer, but still recognizable as a beer. The sugar character should both be evident but in balance with the beer, not so forward as to suggest an artificial product.","Same as the base beer, except that some additional fermentables (honey, molasses, etc.) may add an aroma component. Whatever additional aroma component is present should be in balance with the beer components, and be a pleasant combination.","Same as the base beer, although some sugars will bring additional colors.","Same as the base beer, except that some additional fermentables (honey, molasses, etc.) may add a flavor component. Whatever additional flavor component is present should be in balance with the beer components, and be a pleasant combination. Added sugars should not have a raw, unfermented flavor. Some added sugars will have unfermentable elements that may provide a fuller finish; fully fermentable sugars may thin out the finish.","Same as the base beer, although depending on the type of sugar added, could increase or decrease the body.","If the additional fermentables do not add a distinguishable character to the beer, enter it in the base style category. A honey-based beer should not have so much honey that it reads more like a mead with beer (i.e., a braggot) than a honey beer. This style should not be used for styles where the alternative sugar is fundamental to the style definition, or where a small amount of neutral-flavored sugar is used simply to increase gravity, increase attenuation, or lighten flavor or body; those beers should be entered as the normal base style.",null,null,null,"Bell’s Hopslam, Fullers Honey Dew, Lagunitas Brown Shugga’","An Alternative Fermentables Beer is a standard beer (Classic Style or not) with additional fermentable sugars (e.g., honey, brown sugar, invert sugar, molasses, treacle, maple syrup, sorghum, etc.) added."]
["32A","32A - Classic Style Smoked Beer",null,null,null,null,null,null,"Varies with the base beer style","Varies with the base beer style","Varies with the base beer style","Varies with the base beer style","Varies with the base beer style","Varies with the base beer style","Varies with the base beer style","Varies with the base beer style","Varies with the base beer style","Varies with the base beer style","Classic Style Smoked Beer",null,null,"Smoked Beer","Specialty Beer","Specialty Beer","Specialty Beer","Varies with the base beer style","Varies with the base beer style","A smoke-enhanced beer showing good balance between the smoke and beer character, while remaining pleasant to drink. Balance in the use of smoke, hops and malt character is exhibited by the better examples.","The aroma should be a pleasant balance between the expected aroma of the base beer and the smokiness imparted by the use of smoked malts. The intensity and character of the smoke and base beer style can vary, with either being prominent in the balance. Smokiness may vary from low to assertive; however, balance in the overall presentation is the key to well-made examples. The quality and secondary characteristics of the smoke are reflective of the source of the smoke (e.g., alder, oak, beechwood). Sharp, phenolic, harsh, rubbery, or burnt smoke-derived aromatics are inappropriate.","Variable. The appearance should reflect the base beer style, although the color of the beer is often a bit darker than the plain base style.","As with aroma, there should be a balance between smokiness and the expected flavor characteristics of the base beer style. Smokiness may vary from low to assertive. Smoky flavors may range from woody to somewhat bacon-like depending on the type of malts used. The balance of underlying beer characteristics and smoke can vary, although the resulting blend should be somewhat balanced and enjoyable. Smoke can add some dryness to the finish. Harsh, bitter, burnt, charred, rubbery, sulfury, medicinal, or phenolic smoky characteristics are generally inappropriate (although some of these characteristics may be present in some base styles; however, the smoked malt shouldn’t contribute these flavors).","Varies with the base beer style. Significant astringent, phenolic smoke-derived harshness is inappropriate.","This style is for any beer that exhibits smoke as a principal flavor and aroma characteristic other than the Bamberg-style Rauchbier (i.e., beechwood-smoked Märzen), which has its own style. Any style of beer can be smoked; the goal is to reach a pleasant balance between the smoke character and the base beer style. Entries should be judged on how well that style is represented, and how well it is balanced with the smoke character. Entries with a specific type or types of smoke cited will be judged on how well that type of smoke is recognizable and marries with the base style. Judges should evaluate the beers mostly on the overall balance, and how well the smoke character enhances the base beer.","The process of using smoked malts has been adapted by craft brewers to many styles. German brewers have traditionally used smoked malts in bock, doppelbock, weissbier, dunkel, schwarzbier, helles, Pils, and other specialty styles.","Different materials used to smoke malt result in unique flavor and aroma characteristics. Beechwood, or other hardwood (oak, maple, mesquite, alder, pecan, apple, cherry, other fruitwoods) smoked malts may be used. The various woods may remind one of certain smoked products due to their food association (e.g., hickory with ribs, maple with bacon or sausage, and alder with salmon). Evergreen wood should never be used since it adds a medicinal, piney flavor to the malt. Noticeable peat-smoked malt is universally undesirable due to its sharp, piercing phenolics and dirt-like earthiness. The remaining ingredients vary with the base style. If smoked malts are combined with other unusual ingredients (fruits, vegetables, spices, honey, etc.) in noticeable quantities, the resulting beer should be entered in the Specialty Smoked Beer.",null,"Alaskan Smoked Porter, Schlenkerla Weizen Rauchbier and Ur-Bock Rauchbier, Spezial Lagerbier, Weissbier and Bockbier, Stone Smoked Porter"]
["32B","32B - Specialty Smoked Beer",null,null,null,null,null,null,"Varies with the base beer style","Varies with the base beer style","Varies with the base beer style","Varies with the base beer style","Varies with the base beer style","Varies with the base beer style","Varies with the base beer style","Varies with the base beer style","Varies with the base beer style","Varies with the base beer style","Specialty Smoked Beer",null,null,"Smoked Beer","Specialty Beer","Specialty Beer","Specialty Beer","Varies with the base beer style","Varies with the base beer style","A smoke-enhanced beer showing good balance between the smoke, the beer character, and the added ingredients, while remaining pleasant to drink. Balance in the use of smoke, hops and malt character is exhibited by the better examples.","The aroma should be a pleasant balance between the expected aroma of the base beer, the smokiness imparted by the use of smoked malts, and any additional ingredients. The intensity and character of the smoke, base beer style, and additional ingredients can vary, with any being more prominent in the balance. Smokiness may vary from low to assertive; however, balance in the overall presentation is the key to well-made examples. The quality and secondary characteristics of the smoke are reflective of the source of the smoke (e.g., alder, oak, beechwood). Sharp, phenolic, harsh, rubbery, or burnt smoke-derived aromatics are inappropriate.","Variable. The appearance should reflect the base beer style, although the color of the beer is often a bit darker than the plain base style. The use of certain fruits and spices may affect the color and hue of the beer as well.","As with aroma, there should be a balance between smokiness, the expected flavor characteristics of the base beer style, and the additional ingredients. Smokiness may vary from low to assertive. Smoky flavors may range from woody to somewhat bacon-like depending on the type of malts used. The balance of underlying beer characteristics and smoke can vary, although the resulting blend should be somewhat balanced and enjoyable. Smoke can add some dryness to the finish. Harsh, bitter, burnt, charred, rubbery, sulfury, medicinal, or phenolic smoky characteristics are generally inappropriate (although some of these characteristics may be present in some base styles; however, the smoked malt shouldn’t contribute these flavors).","Varies with the base beer style. Significant astringent, phenolic smoke-derived harshness is inappropriate.","Any style of beer can be smoked; the goal is to reach a pleasant balance between the smoke character and the base beer style. Entries should be judged on how well that style is represented, and how well it is balanced with the smoke character. Entries with a specific type or types of smoke cited will be judged on how well that type of smoke is recognizable and marries with the base style and added ingredients. Judges should evaluate the beers mostly on the overall balance, and how well the smoke character and added ingredients enhances the base beer.",null,"Different materials used to smoke malt result in unique flavor and aroma characteristics. Beechwood, or other hardwood (oak, maple, mesquite, alder, pecan, apple, cherry, other fruitwoods) smoked malts may be used. The various woods may remind one of certain smoked products due to their food association (e.g., hickory with ribs, maple with bacon or sausage, and alder with salmon). Evergreen wood should never be used since it adds a medicinal, piney flavor to the malt. Noticeable peat-smoked malt is universally undesirable due to its sharp, piercing phenolics and dirt-like earthiness. The beer ingredients vary with the base style. Other unusual ingredients (fruits, vegetables, spices, honey, etc.) used in noticeable quantities.",null,null,"A Specialty Smoked Beer is either a smoked beer based on something other than a Classic Style, or any type of smoked beer with additional ingredients (fruits, vegetables, spices) or processes employed that transform the beer into something more unique."]
["33A","33A - Wood-Aged Beer",null,null,null,null,null,null,"Varies with base style","Varies with base style","Varies with base style, typically above-average","Varies with base style, typically above-average","Varies with base style, often darker than the unadulterated base style","Varies with base style, often darker than the unadulterated base style","Varies with base style, typically above-average ","Varies with base style, typically above-average ","Varies with base style","Varies with base style","Wood-Aged Beer",null,null,"Wood Beer","Specialty Beer","Specialty Beer","Specialty Beer","Varies with base style","Varies with base style","A harmonious blend of the base beer style with characteristics from aging in contact with wood. The best examples will be smooth, flavorful, well-balanced and well-aged. ","Varies with base style. A low to moderate wood- or oak-based aroma is usually present. Fresh wood can occasionally impart raw “green” aromatics, although this character should never be too strong. Other optional aromatics include a low to moderate vanilla, caramel, toffee, toast, or cocoa character from any char on the wood. Any alcohol character should be smooth and balanced, not hot. Some background oxidation character is optional, and can take on a pleasant, sherry-like character and not be papery or cardboard-like. Should not have added alcohol character.","Varies with base style. Often darker than the unadulterated base beer style, particularly if toasted/charred barrels are used.","Varies with base style. Wood usually contributes a woody or oaky flavor, which can occasionally take on a raw “green” flavor if new wood is used. Other flavors that may optionally be present include vanilla (from vanillin in the wood); caramel, butterscotch, toasted bread or almonds (from toasted wood); and coffee, chocolate, cocoa (from charred wood). The wood and/or other cask-derived flavors should be balanced, supportive and noticeable, but should not overpower the base beer style. Some background oxidation character is optional, although this should take on a pleasant, sherry-like character and not be papery or cardboard-like.","Varies with base style. Wood can add tannins to the beer, depending on age of the cask. The tannins can lead to additional astringency (which should never be high), or simply a fuller mouthfeel. Tart or acidic characteristics should be low to none, and never distracting.","The base beer style should be apparent. The wood-based character should be evident, but not so dominant as to unbalance the beer. The intensity of the wood-based flavors is based on the contact time with the wood; the age, condition, and origin and char level of the barrel; and the type of wood. THIS CATEGORY SHOULD NOT BE USED FOR BASE STYLES WHERE WOOD-AGING IS A FUNDAMENTAL REQUIREMENT FOR THE STYLE (e.g., Flanders Red, Lambic, etc.). Beers made using either limited wood aging or products that only provide a subtle background character may be entered in the base beer style categories as long as the wood character isn’t prominently featured.","A traditional production method that is rarely used by major breweries, and usually only with specialty products. More popular with modern American craft breweries looking for new, distinctive products. Oak cask and barrels are traditional, although other woods are becoming more popular.","Varies with base style. Aged in wooden casks or barrels, or using wood-based additives (wood chips, wood staves, oak essence). Fuller-bodied, higher-gravity base styles often are used since they can best stand up to the additional flavors, although experimentation is encouraged.",null,"Bush Prestige, Cigar City Humidor India Pale Ale, Faust Holzfassgereifter Eisbock, Firestone Walker Double Barrel Ale, Great Divide Oak Aged Yeti Imperial Stout, Petrus Aged Pale, Samuel Smith Yorkshire Stingo","This style is intended for beer aged in wood without added alcohol character from previous use of the barrel. Bourbon-barrel or other similar beers should be entered as a Specialty Wood-Aged Beer."]
["33B","33B - Specialty Wood-Aged Beer",null,null,null,null,null,null,"Varies with base style ","Varies with base style ","Varies with base style, typically above-average","Varies with base style, typically above-average","Varies with base style","Varies with base style","Varies with base style, typically above-average","Varies with base style, typically above-average","Varies with base style ","Varies with base style ","Specialty Wood-Aged Beer",null,null,"Wood Beer","Specialty Beer","Specialty Beer","Specialty Beer","Varies with base style ","Varies with base style ","A harmonious blend of the base beer style with characteristics from aging in contact with wood (including alcoholic products previously in contact with the wood). The best examples will be smooth, flavorful, well-balanced and well-aged. ","Varies with base style. A low to moderate wood- or oak-based aroma is usually present. Other aromatics often include a low to moderate vanilla, caramel, toffee, toast, or cocoa character, as well as any aromatics associated with alcohol (distilled spirits, wine, etc.) previously stored in the wood. The added alcohol character should be smooth and balanced, not hot. Some background oxidation character is optional, and can take on a pleasant, sherry-like character and not be papery or cardboard-like.","Varies with base style. Often darker than the unadulterated base beer style, particularly if whiskey/bourbon barrels are used. Beers aged in wine barrels or other products with distinctive colors may also impart a color to the finished beer.","Varies with base style. Wood usually contributes a woody or oaky flavor. Other flavors that are typically present include vanilla (from vanillin in the wood); caramel, butterscotch, toasted bread or almonds (from toasted wood); coffee, chocolate, cocoa (from charred wood or bourbon casks); and alcohol flavors from other products previously stored in the wood. The wood and/or other cask-derived flavors should be balanced, supportive and noticeable, but should not overpower the base beer style. Some background oxidation character is optional, although this should take on a pleasant, sherry-like character and not be papery or cardboard-like.","Varies with base style. Wood can add tannins to the beer, depending on age of the cask. The tannins can lead to additional astringency (which should never be high), or simply a fuller mouthfeel. Usually exhibits additional alcohol warming. Higher alcohol levels should not result in “hot” beers; aged, smooth flavors are most desirable. Tart or acidic characteristics should be low to none.","The base beer style should be apparent. The wood-based character should be evident, but not so dominant as to unbalance the beer. The intensity of the wood-based flavors is based on the contact time with the wood; the age, condition, previous usage of the barrel; and the type of wood. Alcoholic products previously stored in the wood should be evident, but should not be so dominant as to unbalance the beer. THIS CATEGORY SHOULD NOT BE USED FOR BASE STYLES WHERE BARREL-AGING IS A FUNDAMENTAL REQUIREMENT FOR THE STYLE (e.g., Flanders Red, Lambic, etc.). Special wood-aged wild ales should be entered in the Wild Specialty style.","A traditional production method that is rarely used by major breweries, and usually only with specialty products. Quite popular with modern American craft breweries looking for new, distinctive products. Oak cask and barrels are traditional, although other woods can be used.","Varies with base style. Aged in wooden casks or barrels previously used to store alcohol (e.g., whiskey, bourbon, port, sherry, Madeira, wine, etc). Fuller-bodied, higher-gravity base styles often are used since they can best stand up to the additional flavors, although experimentation is encouraged.",null,"Founders Kentucky Breakfast Stout, Goose Island Bourbon County Stout, J.W. Lees Harvest Ale in Port, Sherry, Lagavulin Whisky or Calvados Casks, The Lost Abbey Angel’s Share Ale; many microbreweries have specialty beers served only on premises often directly from the cask.","This style is intended for beer aged in wood with added alcohol character from previous use of the barrel. Bourbon-barrel or other similar beers should be entered here."]
["34A","34A - Clone Beer",null,null,null,null,null,null,"Vary depending on the declared beer","Vary depending on the declared beer","Vary depending on the declared beer","Vary depending on the declared beer","Vary depending on the declared beer","Vary depending on the declared beer","Vary depending on the declared beer","Vary depending on the declared beer","Vary depending on the declared beer","Vary depending on the declared beer","Clone Beer",null,null,"Specialty Beer","Specialty Beer","Specialty Beer","Specialty Beer","Vary depending on the declared beer","Vary depending on the declared beer","Based on declared clone beer.","Based on declared clone beer.","Based on declared clone beer.","Based on declared clone beer.","Based on declared clone beer.","Intended as a catch-all location for specific beers that are based on unique commercial examples that don’t fit existing styles.",null,null,null,null,"This style is intended for reproductions of specific commercial beers that aren’t good representations of existing styles. The use of the word clone does not imply an exact copy; it implies an interpretation of a style represented by a specific beer that does not have a defined style within the guidelines. The beer should be judged as to how well it fits the broader style represented by the example beer, not how well it is an exact copy of a specific commercial product. If a ‘clone beer’ does fit another style, do not enter it here."]
["34B","34B - Mixed-Style Beer",null,null,null,null,null,null,"Vary depending on the declared beer","Vary depending on the declared beer","Vary depending on the declared beer","Vary depending on the declared beer","Vary depending on the declared beer","Vary depending on the declared beer","Vary depending on the declared beer","Vary depending on the declared beer","Vary depending on the declared beer","Vary depending on the declared beer","Mixed-Style Beer",null,null,"Specialty Beer","Specialty Beer","Specialty Beer","Specialty Beer","Vary depending on the declared beer","Vary depending on the declared beer","Based on the declared base styles. As with all Specialty-Type Beers, the resulting combination of beer styles needs to be harmonious and balanced, and be pleasant to drink.","Based on the declared base styles.","Based on the declared base styles.","Based on the declared base styles.","Based on the declared base styles.","Intended for Specialty-Type combinations of styles not described elsewhere as Specialty-Type Beers, or as hybrid or fusion beers between other existing styles.",null,null,null,null,"This style is intended for combinations of existing styles (Classic Beers or Specialty-Type) that are not defined elsewhere in the guidelines. If a ‘mixed-style beer’ does fit another style, do not enter it here. "]
["34C","34C - Experimental Beer",null,null,null,null,null,null,"Vary depending on the declared beer","Vary depending on the declared beer","Vary depending on the declared beer","Vary depending on the declared beer","Vary depending on the declared beer","Vary depending on the declared beer","Vary depending on the declared beer","Vary depending on the declared beer","Vary depending on the declared beer","Vary depending on the declared beer","Experimental Beer",null,null,"Specialty Beer","Specialty Beer","Specialty Beer","Specialty Beer","Vary depending on the declared beer","Vary depending on the declared beer","Varies, but should be a unique experience.","Varies.","Varies.","Varies.","Varies.","This style is the ultimate in creativity, since it cannot represent a well-known commercial beer (otherwise it would be a clone beer) and cannot fit into any other existing Specialty-Type style (including those within this major category).",null,null,null,null,"This is explicitly a catch-all category for any beer that does not fit into an existing style description. No beer is ever “out of style” in this style, unless it fits elsewhere. This is the last resort for any beer entered into a competition."]

{"sheet":"Feuil3","index":14,"n_rows":57,"n_cols":14,"rows_kept":57,"cut":false,"hidden":true,"merged":[[0,0,0,6],[0,7,0,13],[2,1,2,2],[2,5,2,6],[2,7,6,7],[2,8,2,9],[2,11,2,12],[3,1,3,2],[3,8,3,9],[3,11,3,12],[6,8,6,9],[6,11,6,12],[8,7,14,8],[8,9,8,11],[10,9,14,9],[10,10,10,11],[11,10,11,11],[12,10,12,11],[4,1,4,2],[4,8,4,9],[4,11,4,12],[5,0,5,1],[5,8,5,9],[5,11,5,12],[18,0,20,0],[18,3,18,4],[18,5,18,6],[19,3,19,4],[19,5,19,6],[19,7,23,8],[19,10,19,11],[19,12,19,13],[13,0,16,0],[13,10,13,11],[14,10,14,11],[15,2,16,2],[15,5,16,5],[15,6,16,6],[16,7,17,8],[16,9,17,10],[20,1,20,2],[20,3,20,4],[20,5,20,6],[20,10,20,11],[20,12,20,13],[21,10,21,11],[21,12,21,13],[16,12,17,12],[16,13,17,13],[22,0,32,0],[22,9,23,9],[22,10,23,11],[22,12,23,13],[25,7,28,8],[25,10,25,11],[25,12,25,13],[26,10,26,11],[26,12,26,13],[27,10,27,11],[27,12,27,13],[28,10,28,11],[28,12,28,13],[30,7,34,8],[30,10,30,11],[30,12,30,13],[31,10,31,11],[31,12,31,13],[32,10,32,11],[32,12,32,13],[33,10,34,11],[33,12,34,13],[34,0,37,0],[34,1,34,2],[34,3,34,4],[34,5,34,6],[35,1,35,2],[35,3,35,4],[35,5,35,6],[36,1,36,2],[36,3,36,4],[36,5,36,6],[36,7,46,8],[36,9,39,9],[37,1,37,2],[37,3,37,4],[37,5,37,6],[33,9,34,9],[39,0,49,0],[40,9,40,13],[48,7,56,8],[48,10,48,11],[48,12,48,13],[49,10,49,11],[49,12,49,13],[50,10,50,11],[50,12,50,13],[51,0,56,0],[51,10,51,11],[51,12,51,13],[52,10,52,11],[52,12,52,13],[53,1,54,1],[53,2,54,2],[53,3,54,3],[53,4,54,4],[53,5,54,5],[53,6,54,6],[51,1,52,1],[51,2,52,2],[51,3,52,3],[51,4,52,4],[51,5,52,5],[51,6,52,6],[56,12,56,13],[53,12,53,13],[55,1,56,1],[55,2,56,2],[55,3,56,3],[55,4,56,4],[55,5,56,5],[55,6,56,6],[55,9,55,10],[55,12,55,13],[56,9,56,10]]}
["Ale du Causse",null,null,null,null,null,null,{"$f":"A1","v":"Ale du Causse"}]
[]
["Style","10A - Weissbier",null,null,"Brassin","BJCCP 2015 min/max",null,"Profil Materiel","Température du malt",null,15,"Rétraction au froid",null,0.04]
["Volume",26,null,"DI",{"$f":"K27","v":{"$error":"#N/A"}},{"$f":"IF($B$3=\"\",\"\",VLOOKUP($B$3,BJCCP!$A$1:$AH$119,2,FALSE))","v":1.044},{"$f":"IF($B$3=\"\",\"\",VLOOKUP($B$3,BJCCP!$A$1:$AH$119,3,FALSE))","v":1.052},null,"Ratio d'empatage",null,3,"Perte cuve ébu",null,1]
["Date","2020-04-07",null,"DF",{"$f":"K27-((K27-1)*MAX(G54,G56))","v":{"$error":"#N/A"}},{"$f":"IF($B$3=\"\",\"\",VLOOKUP($B$3,BJCCP!$A$1:$AH$119,4,FALSE))","v":1.01},{"$f":"IF($B$3=\"\",\"\",VLOOKUP($B$3,BJCCP!$A$1:$AH$119,5,FALSE))","v":1.014},null,"Durée d'ébulition",null,90,"Perte cuve tampon",null,1]
["Rendement d'empatage",null,0.78,"EBC",{"$f":"2.9396*((4.23*(C24*F24+C25*F25+C26*F26+C27*F27+C28*F28+C29*F29+C30*F30+C31*F31+C32*F32)/1000)/ K28 )^0.6859","v":{"$error":"#N/A"}},{"$f":"IF($B$3=\"\",\"\",VLOOKUP($B$3,BJCCP!$A$1:$AH$119,6,FALSE))","v":3.94},{"$f":"IF($B$3=\"\",\"\",VLOOKUP($B$3,BJCCP!$A$1:$AH$119,7,FALSE))","v":11.82},null,"% d'évaporation/h",null,9.2999999999999999E-2,"Perte fermenteur",null,1.5]
["Palier 1",66,90,"IBU",{"$f":"G50","v":{"$error":"#N/A"}},{"$f":"IF($B$3=\"\",\"\",VLOOKUP($B$3,BJCCP!$A$1:$AH$119,8,FALSE))","v":8},{"$f":"IF($B$3=\"\",\"\",VLOOKUP($B$3,BJCCP!$A$1:$AH$119,9,FALSE))","v":15},null,"% d'évaporation total",null,{"$f":"(K6*K5)/60","v":0.13949999999999999},"Evaporation totale",null,{"$f":"K7*K22","v":4.720790238233584}]
["Palier 2",null,null,"ABV",{"$f":"(E4-E5)*0.1318*1000","v":{"$error":"#N/A"}},{"$f":"IF($B$3=\"\",\"\",VLOOKUP($B$3,BJCCP!$A$1:$AH$119,10,FALSE))","v":4.3},{"$f":"IF($B$3=\"\",\"\",VLOOKUP($B$3,BJCCP!$A$1:$AH$119,11,FALSE))","v":5.6}]
["Palier 3",null,null,"vol CO2",4,{"$f":"IF($B$3=\"\",\"\",VLOOKUP($B$3,BJCCP!$A$1:$AH$119,20,FALSE))","v":3.3},{"$f":"IF($B$3=\"\",\"\",VLOOKUP($B$3,BJCCP!$A$1:$AH$119,21,FALSE))","v":4.3},"Empatage",null,"Eau d'empatage",null,null,{"$f":"F33*K4/1000","v":18.3},{"$f":"B7-(((F33/1000)*1620*(K3-B7))/(M9*4185))","v":72.58064516129032}]
["Mash-Out",null,null,"IBU/DI",{"$f":"E7/((E4-1)*1000)","v":{"$error":"#N/A"}},{"$f":"F7/((G4-1)*1000)","v":0.15384615384615372},{"$f":"G7/((F4-1)*1000)","v":0.34090909090909061}]
["Moy/Total",{"$f":"B7*C7/C11+B8*C8/C11+B9*C9/C11","v":66},{"$f":"SUM(C7:C9)","v":90},"RBR : IBU/RE",{"$f":"E7/(0.1808*(259-(259/E4))+(0.8192*(259-(259/E5))))","v":{"$error":"#N/A"}},{"$f":"F7/(0.1808*(259-(259/G4))+(0.8192*(259-(259/F5))))","v":1.8118513481113967},{"$f":"G7/(0.1808*(259-(259/F4))+(0.8192*(259-(259/G5))))","v":3.059371604281782},null,null,"Profil",{"$f":"A7","v":"Palier 1"},null,{"$f":"B7","v":66},90]
[null,null,null,null,null,null,null,null,null,null,{"$f":"A8","v":"Palier 2"},null,0,0]
["BJCCP",{"$f":"IF($B$3=\"\",\"\",VLOOKUP($B$3,BJCCP!$A$1:$AH$119,22,FALSE))","v":"50-100"},{"$f":"IF($B$3=\"\",\"\",VLOOKUP($B$3,BJCCP!$A$1:$AH$119,23,FALSE))","v":"0-30"},{"$f":"IF($B$3=\"\",\"\",VLOOKUP($B$3,BJCCP!$A$1:$AH$119,24,FALSE))","v":"0-80"},{"$f":"IF($B$3=\"\",\"\",VLOOKUP($B$3,BJCCP!$A$1:$AH$119,25,FALSE))","v":"0-50"},{"$f":"IF($B$3=\"\",\"\",VLOOKUP($B$3,BJCCP!$A$1:$AH$119,26,FALSE))","v":"0-100"},null,null,null,null,{"$f":"A9","v":"Palier 3"},null,0,0]
["Eau","Ca (50-150)","Mg (10-40)","Na (0-150)","SO4 (50-250)","Cl (0-250)","HCO3 (0-250)",null,null,null,{"$f":"A10","v":"Mash-Out"}]
[null,50,10,20,50,75,111,null,null,null,"Moyenne/total",null,66,90]
[null,"ratio SO4/Cl",{"$f":"INDEX({\"Extrêmement maltée\";\"Très maltée\";\"Maltée\";\"Equilibrée\";\"Légèrement amère\";\"Amère\";\"Très amère\";\"Extrêmement amère\";\"Hors-Limites\"},MATCH(B17,{0;0.4;0.6;0.8;1.5;2;6;8;18},1))","v":"Maltée"},"A. Totale","A. Résiduelle","pH estimé",{"$f":"(E24*F24+E25*F25+E26*F26+E27*F27+E28*F28+E29*F29+E30*F30+E31*F31+E32*F32)/F33+(0.1085*(M9/3.785412)/(F33*2.20462/1000)+0.013)*F20/50","v":{"$error":"#N/A"}}]
[null,{"$f":"E15/F15","v":0.66666666666666663},null,{"$f":"G15/1.22","v":90.983606557377058},{"$f":"D17-(B15/1.4+C15/1.7)","v":49.386967901914872},null,null,"Rinçage",null,"Eau de rinçage",null,{"$f":"K22-M9+F33/1000","v":21.640790238233578},"Densité fin de rinçage"]
[null,null,null,null,null,null,null,null,null,null,null,78]
["Acide Lactique","Concentration","Quantié","Alcalinité totale corrigée",null,"A. Résiduelle corrigée"]
[null,0.8,5.2,{"$f":"D17-(176.1*B20*C20*2)/(M9*0.264172)","v":-212.08769100509028},null,{"$f":"D20-(B15/1.4+C15/1.7)","v":-253.68432966055246},null,"Pré-ébulition",null,null,"Théorique",null,"Réel"]
[null,"recommandation BJCCP =>",null,{"$f":"IF($B$3=\"\",\"\",VLOOKUP($B$3,BJCCP!$A$1:$AH$119,27,FALSE))","v":"<100"},null,{"$f":"IF($B$3=\"\",\"\",VLOOKUP($B$3,BJCCP!$A$1:$AH$119,28,FALSE))","v":"30 - 30"},null,null,null,"Densité",{"$f":"1+((D33*C6*F33)/(2.6*K22)/1000)","v":{"$error":"#N/A"}}]
[null,null,null,null,null,null,null,null,null,"Volume",{"$f":"((B4+N4+N5)/(1-K7))*(1+N3)","v":33.840790238233581}]
["Grains","Type","EBC","Rmax théo","pH","Poids","Pourcentage",null,null,"Rendement d'empatage",{"$f":"C6","v":0.78},null,{"$f":"(2.6*(M21-1)*M22*1000)/(F33*D33)","v":{"$error":"#N/A"}}]
[null,"Pilsen 6 rangs",{"$f":"IF(B24=\"\",\"0\",VLOOKUP(B24,Paramètres!$A$1:$E$52,3,FALSE))","v":{"$error":"#N/A"}},{"$f":"IF(B24=\"\",\"0\",VLOOKUP(B24,Paramètres!$A$1:$E$52,2,FALSE))","v":{"$error":"#N/A"}},{"$f":"IF(B24=\"\",\"0\",VLOOKUP(B24,Paramètres!$A$1:$E$52,5,FALSE))","v":{"$error":"#N/A"}},2800,{"$f":"F24/$F$33","v":0.45901639344262296}]
[null,"Froment",{"$f":"IF(B25=\"\",\"0\",VLOOKUP(B25,Paramètres!$A$1:$E$52,3,FALSE))","v":{"$error":"#N/A"}},{"$f":"IF(B25=\"\",\"0\",VLOOKUP(B25,Paramètres!$A$1:$E$52,2,FALSE))","v":{"$error":"#N/A"}},{"$f":"IF(B25=\"\",\"0\",VLOOKUP(B25,Paramètres!$A$1:$E$52,5,FALSE))","v":{"$error":"#N/A"}},2600,0.42622950819672129]
[null,"Diastasique",{"$f":"IF(B26=\"\",\"0\",VLOOKUP(B26,Paramètres!$A$1:$E$52,3,FALSE))","v":{"$error":"#N/A"}},{"$f":"IF(B26=\"\",\"0\",VLOOKUP(B26,Paramètres!$A$1:$E$52,2,FALSE))","v":{"$error":"#N/A"}},{"$f":"IF(B26=\"\",\"0\",VLOOKUP(B26,Paramètres!$A$1:$E$52,5,FALSE))","v":{"$error":"#N/A"}},400,6.5573770491803282E-2,"Post-ébulition",null,null,"Théorique",null,"Réel"]
[null,"Cara-clair",{"$f":"IF(B27=\"\",\"0\",VLOOKUP(B27,Paramètres!$A$1:$E$52,3,FALSE))","v":5.5},{"$f":"IF(B27=\"\",\"0\",VLOOKUP(B27,Paramètres!$A$1:$E$52,2,FALSE))","v":0.75},{"$f":"IF(B27=\"\",\"0\",VLOOKUP(B27,Paramètres!$A$1:$E$52,5,FALSE))","v":5.2},300,4.9180327868852458E-2,null,null,"Densité",{"$f":"1+((D33*C6*F33)/(2.6*K28)/1000)","v":{"$error":"#N/A"}}]
[null,null,{"$f":"IF(B28=\"\",\"0\",VLOOKUP(B28,Paramètres!$A$1:$E$52,3,FALSE))","v":"0"},{"$f":"IF(B28=\"\",\"0\",VLOOKUP(B28,Paramètres!$A$1:$E$52,2,FALSE))","v":"0"},{"$f":"IF(B28=\"\",\"0\",VLOOKUP(B28,Paramètres!$A$1:$E$52,5,FALSE))","v":"0"},null,0,null,null,"Volume",{"$f":"K22*(1-K7)","v":29.119999999999997}]
[null,null,{"$f":"IF(B29=\"\",\"0\",VLOOKUP(B29,Paramètres!$A$1:$E$52,3,FALSE))","v":"0"},{"$f":"IF(B29=\"\",\"0\",VLOOKUP(B29,Paramètres!$A$1:$E$52,2,FALSE))","v":"0"},{"$f":"IF(B29=\"\",\"0\",VLOOKUP(B29,Paramètres!$A$1:$E$52,5,FALSE))","v":"0"},null,0,null,null,"Evaporation",{"$f":"K6*100","v":9.3000000000000007},null,{"$f":"((M22-M28)/M22)*100*60/K5","v":{"$error":"#DIV/0!"}}]
[null,null,{"$f":"IF(B30=\"\",\"0\",VLOOKUP(B30,Paramètres!$A$1:$E$52,3,FALSE))","v":"0"},{"$f":"IF(B30=\"\",\"0\",VLOOKUP(B30,Paramètres!$A$1:$E$52,2,FALSE))","v":"0"},{"$f":"IF(B30=\"\",\"0\",VLOOKUP(B30,Paramètres!$A$1:$E$52,5,FALSE))","v":"0"},null,0]
[null,null,{"$f":"IF(B31=\"\",\"0\",VLOOKUP(B31,Paramètres!$A$1:$E$52,3,FALSE))","v":"0"},{"$f":"IF(B31=\"\",\"0\",VLOOKUP(B31,Paramètres!$A$1:$E$52,2,FALSE))","v":"0"},{"$f":"IF(B31=\"\",\"0\",VLOOKUP(B31,Paramètres!$A$1:$E$52,5,FALSE))","v":"0"},null,0,"En fermenteur",null,null,"Théorique",null,"Réel"]
[null,null,{"$f":"IF(B32=\"\",\"0\",VLOOKUP(B32,Paramètres!$A$1:$E$52,3,FALSE))","v":"0"},{"$f":"IF(B32=\"\",\"0\",VLOOKUP(B32,Paramètres!$A$1:$E$52,2,FALSE))","v":"0"},{"$f":"IF(B32=\"\",\"0\",VLOOKUP(B32,Paramètres!$A$1:$E$52,5,FALSE))","v":"0"},null,0,null,null,"DI",{"$f":"K27","v":{"$error":"#N/A"}}]
[null,"TOTAL",{"$f":"E6","v":{"$error":"#N/A"}},{"$f":"D24*G24+D25*G25+D26*G26+D27*G27+D28*G28+D29*G29+D30*G30+D31*G31+D32*G32","v":{"$error":"#N/A"}},{"$f":"(E24*F24+E25*F25+E26*F26+E27*F27+E28*F28+E29*F29+E30*F30+E31*F31+E32*F32)/F33","v":{"$error":"#N/A"}},{"$f":"SUM(F24:F32)","v":6100},{"$f":"SUM(G24:G32)","v":1},null,null,"Volume",{"$f":"K28*(1-N3)-N5-N4","v":25.955199999999998}]
[null,null,null,null,null,null,null,null,null,"Efficacité du brassage",{"$f":"(2.6*K33*(K32-1)*1000)/(D33*F33)","v":{"$error":"#N/A"}},null,{"$f":"(2.6*M33*(M32-1)*1000)/(D33*F33)","v":{"$error":"#N/A"}}]
["Autre","Type",null,"Utilisation",null,"Quantité"]
[]
[null,null,null,null,null,null,null,"Fermentation",null,"Profil","T°C","Durée","Fin théorique","Fin réelle"]
[null,null,null,null,null,null,null,null,null,null,null,null,{"$f":"B5+L38","v":"2020-04-07"}]
[null,null,null,null,null,null,null,null,null,null,null,null,{"$f":"M38+L39","v":"2020-04-07"}]
["Houblons","Type","Acide Alpha","Utilisation","Durée","Poids","IBUs",null,null,null,null,null,{"$f":"IF(L40=\"\",\"\",M39+L40)","v":""}]
[null,"Magnum",0.12,"Ebullition",60,8,{"$f":"IF(D41=\"Ebullition\",((1.65*(0.000125^($K$27-1))*((1-EXP(-0.04*E41))/4.15))*C41*F41*1000)/($K$28)*Paramètres!$H$2,IF(D41=\"DH\",((1.65*(0.000125^($K$27-1))*((1-EXP(-0.04*E41))/4.15))*C41*F41*1000)/($K$28)*Paramètres!$H$3,IF(D41=\"Hop-stand\",((1.65*(0.000125^($K$27-1))*((1-EXP(-0.04*E41))/4.15))*C41*F41*1000)/($K$28)*Paramètres!$H$4,IF(D41=\"FWH\",((1.65*(0.000125^($K$27-1))*((1-EXP(-0.04*E41))/4.15))*C41*F41*1000)/($K$28)*Paramètres!$H$5,IF(D41=\"Mash-hop\",((1.65*(0.000125^($K$27-1))*((1-EXP(-0.04*E41))/4.15))*C41*F41*1000)/($K$28)*Paramètres!$H$6,IF(D41=\"Flame-out\",((1.65*(0.000125^($K$27-1))*((1-EXP(-0.04*E41))/4.15))*C41*F41*1000)/($K$28)*Paramètres!$H$7,\"\"))))))","v":{"$error":"#N/A"}},null,null,"Suivi de la fermentation"]
[null,"Hallertau Hersbrucker",2.8000000000000001E-2,"Ebullition",10,40,{"$f":"IF(D42=\"Ebullition\",((1.65*(0.000125^($K$27-1))*((1-EXP(-0.04*E42))/4.15))*C42*F42*1000)/($K$28)*Paramètres!$H$2,IF(D42=\"DH\",((1.65*(0.000125^($K$27-1))*((1-EXP(-0.04*E42))/4.15))*C42*F42*1000)/($K$28)*Paramètres!$H$3,IF(D42=\"Hop-stand\",((1.65*(0.000125^($K$27-1))*((1-EXP(-0.04*E42))/4.15))*C42*F42*1000)/($K$28)*Paramètres!$H$4,IF(D42=\"FWH\",((1.65*(0.000125^($K$27-1))*((1-EXP(-0.04*E42))/4.15))*C42*F42*1000)/($K$28)*Paramètres!$H$5,IF(D42=\"Mash-hop\",((1.65*(0.000125^($K$27-1))*((1-EXP(-0.04*E42))/4.15))*C42*F42*1000)/($K$28)*Paramètres!$H$6,IF(D42=\"Flame-out\",((1.65*(0.000125^($K$27-1))*((1-EXP(-0.04*E42))/4.15))*C42*F42*1000)/($K$28)*Paramètres!$H$7,\"\"))))))","v":{"$error":"#N/A"}},null,null,"Date","Brix","Densité","Atténuation","Progression"]
[null,null,null,null,null,null,{"$f":"IF(D43=\"Ebullition\",((1.65*(0.000125^($K$27-1))*((1-EXP(-0.04*E43))/4.15))*C43*F43*1000)/($K$28)*Paramètres!$H$2,IF(D43=\"DH\",((1.65*(0.000125^($K$27-1))*((1-EXP(-0.04*E43))/4.15))*C43*F43*1000)/($K$28)*Paramètres!$H$3,IF(D43=\"Hop-stand\",((1.65*(0.000125^($K$27-1))*((1-EXP(-0.04*E43))/4.15))*C43*F43*1000)/($K$28)*Paramètres!$H$4,IF(D43=\"FWH\",((1.65*(0.000125^($K$27-1))*((1-EXP(-0.04*E43))/4.15))*C43*F43*1000)/($K$28)*Paramètres!$H$5,IF(D43=\"Mash-hop\",((1.65*(0.000125^($K$27-1))*((1-EXP(-0.04*E43))/4.15))*C43*F43*1000)/($K$28)*Paramètres!$H$6,IF(D43=\"Flame-out\",((1.65*(0.000125^($K$27-1))*((1-EXP(-0.04*E43))/4.15))*C43*F43*1000)/($K$28)*Paramètres!$H$7,\"\"))))))","v":""},null,null,null,null,{"$f":"IF(K43=0, \"\", 1 - 0.0044993*(-676.67 + 1286.4 * $M$32 - 800.47 *$M$32^2 + 190.74 * $M$32^3) + 0.0117741*(K43/1.04) + 0.000275806*(-676.67 + 1286.4 * $M$32 - 800.47 * $M$32^2 + 190.74 * $M$32^3)^2 - 0.00127169*(K43/1.04)^2 - 0.00000727999*(-676.67 + 1286.4 * $M$32 - 800.47 * $M$32^2 + 190.74 * $M$32^3)^3 + 0.0000632929*(K43/1.04)^3)","v":""},{"$f":"IF(L43=\"\",\"\",($M$32-L43)/($M$32-1))","v":""},{"$f":"IF(M43=\"\",\"\",M43/$K$52)","v":""}]
[null,null,null,null,null,null,null,null,null,null,null,{"$f":"IF(K44=0, \"\", 1 - 0.0044993*(-676.67 + 1286.4 * $M$32 - 800.47 *$M$32^2 + 190.74 * $M$32^3) + 0.0117741*(K44/1.04) + 0.000275806*(-676.67 + 1286.4 * $M$32 - 800.47 * $M$32^2 + 190.74 * $M$32^3)^2 - 0.00127169*(K44/1.04)^2 - 0.00000727999*(-676.67 + 1286.4 * $M$32 - 800.47 * $M$32^2 + 190.74 * $M$32^3)^3 + 0.0000632929*(K44/1.04)^3)","v":""},{"$f":"IF(L44=\"\",\"\",($M$32-L44)/($M$32-1))","v":""},{"$f":"IF(M44=\"\",\"\",M44/$K$52)","v":""}]
[null,null,null,null,null,null,null,null,null,null,null,{"$f":"IF(K45=0, \"\", 1 - 0.0044993*(-676.67 + 1286.4 * $M$32 - 800.47 *$M$32^2 + 190.74 * $M$32^3) + 0.0117741*(K45/1.04) + 0.000275806*(-676.67 + 1286.4 * $M$32 - 800.47 * $M$32^2 + 190.74 * $M$32^3)^2 - 0.00127169*(K45/1.04)^2 - 0.00000727999*(-676.67 + 1286.4 * $M$32 - 800.47 * $M$32^2 + 190.74 * $M$32^3)^3 + 0.0000632929*(K45/1.04)^3)","v":""},{"$f":"IF(L45=\"\",\"\",($M$32-L45)/($M$32-1))","v":""},{"$f":"IF(M45=\"\",\"\",M45/$K$52)","v":""}]
[null,null,null,null,null,null,{"$f":"IF(D46=\"Ebullition\",((1.65*(0.000125^($K$27-1))*((1-EXP(-0.04*E46))/4.15))*C46*F46*1000)/($K$28)*Paramètres!$H$2,IF(D46=\"DH\",((1.65*(0.000125^($K$27-1))*((1-EXP(-0.04*E46))/4.15))*C46*F46*1000)/($K$28)*Paramètres!$H$3,IF(D46=\"Hop-stand\",((1.65*(0.000125^($K$27-1))*((1-EXP(-0.04*E46))/4.15))*C46*F46*1000)/($K$28)*Paramètres!$H$4,IF(D46=\"FWH\",((1.65*(0.000125^($K$27-1))*((1-EXP(-0.04*E46))/4.15))*C46*F46*1000)/($K$28)*Paramètres!$H$5,IF(D46=\"Mash-hop\",((1.65*(0.000125^($K$27-1))*((1-EXP(-0.04*E46))/4.15))*C46*F46*1000)/($K$28)*Paramètres!$H$6,IF(D46=\"Flame-out\",((1.65*(0.000125^($K$27-1))*((1-EXP(-0.04*E46))/4.15))*C46*F46*1000)/($K$28)*Paramètres!$H$7,\"\"))))))","v":""},null,null,null,null,{"$f":"IF(K46=0, \"\", 1 - 0.0044993*(-676.67 + 1286.4 * $M$32 - 800.47 *$M$32^2 + 190.74 * $M$32^3) + 0.0117741*(K46/1.04) + 0.000275806*(-676.67 + 1286.4 * $M$32 - 800.47 * $M$32^2 + 190.74 * $M$32^3)^2 - 0.00127169*(K46/1.04)^2 - 0.00000727999*(-676.67 + 1286.4 * $M$32 - 800.47 * $M$32^2 + 190.74 * $M$32^3)^3 + 0.0000632929*(K46/1.04)^3)","v":""},{"$f":"IF(L46=\"\",\"\",($M$32-L46)/($M$32-1))","v":""},{"$f":"IF(M46=\"\",\"\",M46/$K$52)","v":""}]
[null,null,null,null,null,null,{"$f":"IF(D47=\"Ebullition\",((1.65*(0.000125^($K$27-1))*((1-EXP(-0.04*E47))/4.15))*C47*F47*1000)/($K$28)*Paramètres!$H$2,IF(D47=\"DH\",((1.65*(0.000125^($K$27-1))*((1-EXP(-0.04*E47))/4.15))*C47*F47*1000)/($K$28)*Paramètres!$H$3,IF(D47=\"Hop-stand\",((1.65*(0.000125^($K$27-1))*((1-EXP(-0.04*E47))/4.15))*C47*F47*1000)/($K$28)*Paramètres!$H$4,IF(D47=\"FWH\",((1.65*(0.000125^($K$27-1))*((1-EXP(-0.04*E47))/4.15))*C47*F47*1000)/($K$28)*Paramètres!$H$5,IF(D47=\"Mash-hop\",((1.65*(0.000125^($K$27-1))*((1-EXP(-0.04*E47))/4.15))*C47*F47*1000)/($K$28)*Paramètres!$H$6,IF(D47=\"Flame-out\",((1.65*(0.000125^($K$27-1))*((1-EXP(-0.04*E47))/4.15))*C47*F47*1000)/($K$28)*Paramètres!$H$7,\"\"))))))","v":""},null,null,null,null,{"$f":"IF(K47=0, \"\", 1 - 0.0044993*(-676.67 + 1286.4 * $M$32 - 800.47 *$M$32^2 + 190.74 * $M$32^3) + 0.0117741*(K47/1.04) + 0.000275806*(-676.67 + 1286.4 * $M$32 - 800.47 * $M$32^2 + 190.74 * $M$32^3)^2 - 0.00127169*(K47/1.04)^2 - 0.00000727999*(-676.67 + 1286.4 * $M$32 - 800.47 * $M$32^2 + 190.74 * $M$32^3)^3 + 0.0000632929*(K47/1.04)^3)","v":""},{"$f":"IF(L47=\"\",\"\",($M$32-L47)/($M$32-1))","v":""},{"$f":"IF(M47=\"\",\"\",M47/$K$52)","v":""}]
[null,null,null,null,null,null,{"$f":"IF(D48=\"Ebullition\",((1.65*(0.000125^($K$27-1))*((1-EXP(-0.04*E48))/4.15))*C48*F48*1000)/($K$28)*Paramètres!$H$2,IF(D48=\"DH\",((1.65*(0.000125^($K$27-1))*((1-EXP(-0.04*E48))/4.15))*C48*F48*1000)/($K$28)*Paramètres!$H$3,IF(D48=\"Hop-stand\",((1.65*(0.000125^($K$27-1))*((1-EXP(-0.04*E48))/4.15))*C48*F48*1000)/($K$28)*Paramètres!$H$4,IF(D48=\"FWH\",((1.65*(0.000125^($K$27-1))*((1-EXP(-0.04*E48))/4.15))*C48*F48*1000)/($K$28)*Paramètres!$H$5,IF(D48=\"Mash-hop\",((1.65*(0.000125^($K$27-1))*((1-EXP(-0.04*E48))/4.15))*C48*F48*1000)/($K$28)*Paramètres!$H$6,IF(D48=\"Flame-out\",((1.65*(0.000125^($K$27-1))*((1-EXP(-0.04*E48))/4.15))*C48*F48*1000)/($K$28)*Paramètres!$H$7,\"\"))))))","v":""}]
[null,null,null,null,null,null,{"$f":"IF(D49=\"Ebullition\",((1.65*(0.000125^($K$27-1))*((1-EXP(-0.04*E49))/4.15))*C49*F49*1000)/($K$28)*Paramètres!$H$2,IF(D49=\"DH\",((1.65*(0.000125^($K$27-1))*((1-EXP(-0.04*E49))/4.15))*C49*F49*1000)/($K$28)*Paramètres!$H$3,IF(D49=\"Hop-stand\",((1.65*(0.000125^($K$27-1))*((1-EXP(-0.04*E49))/4.15))*C49*F49*1000)/($K$28)*Paramètres!$H$4,IF(D49=\"FWH\",((1.65*(0.000125^($K$27-1))*((1-EXP(-0.04*E49))/4.15))*C49*F49*1000)/($K$28)*Paramètres!$H$5,IF(D49=\"Mash-hop\",((1.65*(0.000125^($K$27-1))*((1-EXP(-0.04*E49))/4.15))*C49*F49*1000)/($K$28)*Paramètres!$H$6,IF(D49=\"Flame-out\",((1.65*(0.000125^($K$27-1))*((1-EXP(-0.04*E49))/4.15))*C49*F49*1000)/($K$28)*Paramètres!$H$7,\"\"))))))","v":""},"Embouteillage",null,"date","Théorique",null,"Réel"]
[null,"TOTAL",null,null,{"$f":"E41","v":60},{"$f":"SUM(F41:F49)","v":48},{"$f":"SUM(G41:G49)","v":{"$error":"#N/A"}},null,null,"Volume",{"$f":"K33-N6","v":24.455199999999998}]
[null,null,null,null,null,null,null,null,null,"DF",{"$f":"K27-((K27-1)*G54)","v":{"$error":"#N/A"}}]
["Levure","Type","Quantité recommandée","T°C min","T°C max","Atténuation max","Atténuation corrigée",null,null,"Atténuation",{"$f":"G54","v":{"$error":"#N/A"}},null,{"$f":"(M32-M51)/(M32-1)","v":0}]
[null,null,null,null,null,null,null,null,null,"% alcool",{"$f":"(76.08 * (K32 - K51) / (1.775 - K32 )) * (K51 / 0.794)","v":{"$error":"#N/A"}},null,{"$f":"(76.08 * (M32 - M51) / (1.775 - M32 )) * (M51 / 0.794)","v":0}]
[null,"3068 - Weihenstephan Weizen",{"$f":"IF(B54=\"\",\"\",K33*(-676.67+1286.4*K32-800.47*K32^2+190.74*K32^3)*IF(E4<Paramètres!H10,Paramètres!H11,Paramètres!I11)*IF(ISNUMBER(SEARCH(\"lager\",B3)),2,1))","v":{"$error":"#N/A"}},{"$f":"IF(B54=\"\",\"\",VLOOKUP(B54,Paramètres!$J$2:$Q$30,5,FALSE))","v":{"$error":"#N/A"}},{"$f":"IF(B54=\"\",\"\",VLOOKUP(B54,Paramètres!$J$2:$Q$30,6,FALSE))","v":{"$error":"#N/A"}},{"$f":"IF(B54=\"\",\"\",VLOOKUP(B54,Paramètres!$J$2:$Q$30,3,FALSE))","v":{"$error":"#N/A"}},{"$f":"IF(B54=\"\",\"\",(-0.003*$B$11^2+0.3904*$B$11-11.699)*F54)","v":{"$error":"#N/A"}},null,null,"Carbonatation ",{"$f":"F9","v":3.3},{"$f":"G9","v":4.3}]
[]
[null,null,{"$f":"IF(B56=\"\",\"\",K35*(-676.67+1286.4*K34-800.47*K34^2+190.74*K34^3)*IF(E6<Paramètres!H12,Paramètres!H13,Paramètres!I13)*IF(ISNUMBER(SEARCH(\"lager\",B5)),2,1))","v":""},{"$f":"IF(B56=\"\",\"\",VLOOKUP(B56,Paramètres!$J$2:$Q$30,5))","v":""},{"$f":"IF(B56=\"\",\"\",VLOOKUP(B56,Paramètres!$J$2:$Q$30,6))","v":""},{"$f":"IF(B56=\"\",\"\",VLOOKUP(B56,Paramètres!$J$2:$Q$30,3))","v":""},{"$f":"IF(F56=\"\",\"\",((-0.003*$B$11^2+0.3904*$B$11-11.699)*F56))","v":""},null,null,"Taux de resucrage",null,null,"Resucrage total"]
[null,null,null,null,null,null,null,null,null,{"$f":"(E9-(3.0378-5.0062*0.01*(K38*1.8+32)+2.6555*0.0001*(K38*1.8+32)^2))*4","v":9.1690432000000008},null,null,{"$f":"J57*M50","v":0}]

{"sheet":"Etiquettes longues","index":15,"n_rows":43,"n_cols":46,"rows_kept":43,"cut":false,"hidden":true,"merged":[[14,40,16,40],[14,41,16,41],[17,38,40,39],[17,40,40,41],[2,45,5,48],[42,38,46,41],[42,34,46,37],[0,38,4,41],[5,38,7,38],[5,39,7,39],[5,40,7,40],[5,41,7,41],[8,38,10,38],[8,39,10,39],[8,40,10,40],[8,41,10,41],[11,38,13,38],[11,39,13,39],[11,40,13,40],[11,41,13,41],[14,38,16,38],[14,39,16,39],[14,34,16,34],[14,35,16,35],[0,34,4,37],[5,34,7,34],[5,35,7,35],[5,36,7,36],[5,37,7,37],[14,32,16,32],[14,33,16,33],[17,30,40,31],[17,32,40,33],[14,36,16,36],[14,37,16,37],[17,34,40,35],[17,36,40,37],[8,34,10,34],[8,35,10,35],[8,36,10,36],[8,37,10,37],[11,34,13,34],[11,35,13,35],[11,36,13,36],[11,37,13,37],[42,30,46,33],[42,26,46,29],[0,30,4,33],[5,30,7,30],[5,31,7,31],[5,32,7,32],[5,33,7,33],[8,30,10,30],[8,31,10,31],[8,32,10,32],[8,33,10,33],[11,30,13,30],[11,31,13,31],[11,32,13,32],[11,33,13,33],[14,30,16,30],[14,31,16,31],[14,26,16,26],[14,27,16,27],[14,28,16,28],[0,26,4,29],[5,26,7,26],[5,27,7,27],[5,28,7,28],[5,29,7,29],[14,24,16,24],[14,25,16,25],[17,22,40,23],[17,24,40,25],[14,29,16,29],[17,26,40,27],[17,28,40,29],[8,26,10,26],[8,27,10,27],[8,28,10,28],[8,29,10,29],[11,26,13,26],[11,27,13,27],[11,28,13,28],[11,29,13,29],[42,22,46,25],[0,22,4,25],[5,22,7,22],[5,23,7,23],[5,24,7,24],[5,25,7,25],[8,22,10,22],[8,23,10,23],[8,24,10,24],[8,25,10,25],[11,22,13,22],[11,23,13,23],[11,24,13,24],[11,25,13,25],[14,22,16,22],[14,23,16,23],[42,18,46,21],[14,21,16,21],[14,20,16,20],[14,19,16,19],[14,18,16,18],[8,21,10,21],[8,20,10,20],[8,19,10,19],[11,21,13,21],[11,20,13,20],[11,19,13,19],[8,18,10,18],[11,18,13,18],[0,0,2,0],[0,1,2,1],[0,2,2,2],[0,3,2,3],[0,4,2,4],[0,5,2,5],[0,6,4,7],[0,18,4,21],[17,18,40,19],[17,20,40,21],[5,18,7,18],[5,19,7,19],[5,20,7,20],[5,21,7,21],[42,6,46,7],[13,6,40,6],[13,7,40,7],[13,8,40,8],[0,12,4,13],[0,14,4,15],[0,16,4,17],[13,17,40,17],[42,8,46,9],[42,10,46,11],[42,12,46,13],[42,14,46,15],[42,16,46,17],[13,12,40,12],[13,14,40,14],[13,16,40,16],[13,9,40,9],[13,11,40,11],[13,13,40,13],[13,15,40,15],[13,10,40,10],[0,8,4,9],[0,10,4,11]]}
[{"$f":"Brassage!A1","v":"# Projet - Weissbier exemple"},{"$f":"A1","v":"# Projet - Weissbier exemple"},{"$f":"A1","v":"# Projet - Weissbier exemple"},{"$f":"A1","v":"# Projet - Weissbier exemple"},{"$f":"A1","v":"# Projet - Weissbier exemple"},{"$f":"A1","v":"# Projet - Weissbier exemple"},null,null,{"$f":"G1","v":0},null,{"$f":"G1","v":0},null,{"$f":"G1","v":0},null,{"$f":"G1","v":0},null,{"$f":"G1","v":0}]
[]
[null,null,null,null,null,null,null,null,null,null,null,null,null,null,null,null,null,null,null,null,null,null,null,null,null,null,null,null,null,null,null,null,null,null,null,null,null,null,null,null,null,null,null,null,null,{"$f":"W9","v":12.373951200268424}]
[]
[{"$f":"\"Brassin de \"&Brassage!B4&\" L\"","v":"Brassin de 28 L"},{"$f":"A5","v":"Brassin de 28 L"},{"$f":"A5","v":"Brassin de 28 L"},{"$f":"A5","v":"Brassin de 28 L"},{"$f":"A5","v":"Brassin de 28 L"},{"$f":"A5","v":"Brassin de 28 L"}]
[null,{"$f":"A6","v":0},{"$f":"A6","v":0},{"$f":"A6","v":0},{"$f":"A6","v":0},{"$f":"A6","v":0},"Brassée ",{"$f":"Brassage!B5","v":"2023-10-15"},{"$f":"G6","v":"Brassée "},{"$f":"H6","v":"2023-10-15"},{"$f":"G6","v":"Brassée "},{"$f":"H6","v":"2023-10-15"},{"$f":"G6","v":"Brassée "},{"$f":"H6","v":"2023-10-15"},{"$f":"G6","v":"Brassée "},{"$f":"H6","v":"2023-10-15"},{"$f":"G6","v":"Brassée "},{"$f":"H6","v":"2023-10-15"},"EBC","ABV","Emb.","Brassée","EBC","ABV","Emb.","Brassée","EBC","ABV","Emb.","Brassée","EBC","ABV","Emb.","Brassée","EBC","ABV","Emb.","Brassée","EBC","ABV","Emb.","Brassée"]
[{"$f":"\"DI : \" &Brassage!N34","v":"DI : 1,049"},{"$f":"A7","v":"DI : 1,049"},{"$f":"A7","v":"DI : 1,049"},{"$f":"A7","v":"DI : 1,049"},{"$f":"A7","v":"DI : 1,049"},{"$f":"A7","v":"DI : 1,049"},"Emb le ",{"$f":"Brassage!K54","v":"2023-11-06"},"Emb le ","2023-11-06","Emb le ","2023-11-06","Emb le ","2023-11-06","Emb le ","2023-11-06","Emb le ","2023-11-06"]
[{"$f":"\"DF : \" &Brassage!N56","v":"DF : 1,01"},{"$f":"A8","v":"DF : 1,01"},{"$f":"A8","v":"DF : 1,01"},{"$f":"A8","v":"DF : 1,01"},{"$f":"A8","v":"DF : 1,01"},{"$f":"A8","v":"DF : 1,01"},"ABV -",{"$f":"Brassage!E8","v":5.0627500000000047},"ABV -",5.0627500000000047,"ABV -",5.0627500000000047,"ABV -",5.0627500000000047,"ABV -",5.0627500000000047,"ABV -",5.0627500000000047]
[{"$f":"\"Empatage à \"&ROUND(Brassage!B11,1)&\"°C\"","v":"Empatage à 66°C"},{"$f":"A9","v":"Empatage à 66°C"},{"$f":"A9","v":"Empatage à 66°C"},{"$f":"A9","v":"Empatage à 66°C"},{"$f":"A9","v":"Empatage à 66°C"},{"$f":"A9","v":"Empatage à 66°C"},"EBC -",{"$f":"Brassage!E6","v":12.373951200268424},"EBC -",12.373951200268424,"EBC -",12.373951200268424,"EBC -",12.373951200268424,"EBC -",12.373951200268424,"EBC -",12.373951200268424,{"$f":"Brassage!$E$6","v":12.373951200268424},{"$f":"Brassage!$E$8","v":5.0627500000000047},{"$f":"Brassage!$K$54","v":"2023-11-06"},{"$f":"Brassage!$B$5","v":"2023-10-15"},{"$f":"Brassage!$E$6","v":12.373951200268424},{"$f":"Brassage!$E$8","v":5.0627500000000047},{"$f":"Brassage!$K$54","v":"2023-11-06"},{"$f":"Brassage!$B$5","v":"2023-10-15"},{"$f":"Brassage!$E$6","v":12.373951200268424},{"$f":"Brassage!$E$8","v":5.0627500000000047},{"$f":"Brassage!$K$54","v":"2023-11-06"},{"$f":"Brassage!$B$5","v":"2023-10-15"},{"$f":"Brassage!$E$6","v":12.373951200268424},{"$f":"Brassage!$E$8","v":5.0627500000000047},{"$f":"Brassage!$K$54","v":"2023-11-06"},{"$f":"Brassage!$B$5","v":"2023-10-15"},{"$f":"Brassage!$E$6","v":12.373951200268424},{"$f":"Brassage!$E$8","v":5.0627500000000047},{"$f":"Brassage!$K$54","v":"2023-11-06"},{"$f":"Brassage!$B$5","v":"2023-10-15"},{"$f":"Brassage!$E$6","v":12.373951200268424},{"$f":"Brassage!$E$8","v":5.0627500000000047},{"$f":"Brassage!$K$54","v":"2023-11-06"},{"$f":"Brassage!$B$5","v":"2023-10-15"}]
[null,null,null,null,null,null,"IBU - ",{"$f":"Brassage!E7","v":11.713368546101247},"IBU - ",11.713368546101247,"IBU - ",11.713368546101247,"IBU - ",11.713368546101247,"IBU - ",11.713368546101247,"IBU - ",11.713368546101247]
[{"$f":"\"Grains\"","v":"Grains"},{"$f":"A11","v":"Grains"},{"$f":"A11","v":"Grains"},{"$f":"A11","v":"Grains"},{"$f":"A11","v":"Grains"},{"$f":"A11","v":"Grains"},"IBU/DI -",{"$f":"Brassage!E7/((Brassage!N34-1)*1000)","v":0.23904833767553599},"IBU/DI -",0.23904833767553599,"IBU/DI -",0.23904833767553599,"IBU/DI -",0.23904833767553599,"IBU/DI -",0.23904833767553599,"IBU/DI -",0.23904833767553599]
[{"$f":"IF(Brassage!H25=0,\"\",\"- \"&Brassage!H25&\"g  \"&Brassage!B25)","v":"- 3574,03952941177g  Pale ale Swaen"},"- 3574,03952941177g  Pale ale Swaen","- 3574,03952941177g  Pale ale Swaen","- 3574,03952941177g  Pale ale Swaen","- 3574,03952941177g  Pale ale Swaen","- 3574,03952941177g  Pale ale Swaen","vol CO2",{"$f":"Brassage!E9","v":3.6},"vol CO2",3.6,"vol CO2",3.6,"vol CO2",3.6,"vol CO2",3.6,"vol CO2",3.6,"vol CO2","IBU/RE","IBU/DI","IBU","vol CO2","IBU/RE","IBU/DI","IBU","vol CO2","IBU/RE","IBU/DI","IBU","vol CO2","IBU/RE","IBU/DI","IBU","vol CO2","IBU/RE","IBU/DI","IBU","vol CO2","IBU/RE","IBU/DI","IBU"]
[{"$f":"IF(Brassage!H26=0,\"\",\"- \"&Brassage!H26&\"g  \"&Brassage!B26)","v":"- 3574,03952941177g  Froment - Vieux Silo"},"- 3574,03952941177g  Froment - Vieux Silo","- 3574,03952941177g  Froment - Vieux Silo","- 3574,03952941177g  Froment - Vieux Silo","- 3574,03952941177g  Froment - Vieux Silo","- 3574,03952941177g  Froment - Vieux Silo",null,null,0,0,0,0,0,0,0,0,0,0]
[{"$f":"IF(Brassage!H27=0,\"\",\"- \"&Brassage!H27&\"g  \"&Brassage!B27)","v":"- 145,879164465786g  Cara Gold - Vieux Silo"},"- 145,879164465786g  Cara Gold - Vieux Silo","- 145,879164465786g  Cara Gold - Vieux Silo","- 145,879164465786g  Cara Gold - Vieux Silo","- 145,879164465786g  Cara Gold - Vieux Silo","- 145,879164465786g  Cara Gold - Vieux Silo",{"$f":"Brassage!A1","v":"# Projet - Weissbier exemple"},{"$f":"Brassage!B3","v":"10A - Weissbier"},"# Projet - Weissbier exemple","10A - Weissbier","# Projet - Weissbier exemple","10A - Weissbier","# Projet - Weissbier exemple","10A - Weissbier","# Projet - Weissbier exemple","10A - Weissbier","# Projet - Weissbier exemple","10A - Weissbier"]
[{"$f":"IF(Brassage!H28=0,\"\",\"- \"&Brassage!H28&\"g  \"&Brassage!B28)","v":""},"","","","","",null,null,null,null,null,null,null,null,null,null,null,null,{"$f":"Brassage!$E$9","v":3.6},{"$f":"Brassage!$E$7/(0.1808*(259-(259/Brassage!$N$34))+(0.8192*(259-(259/Brassage!$L$56))))","v":2.5439571094819655},{"$f":"Brassage!$E$7","v":11.713368546101247},{"$f":"Brassage!$E$7","v":11.713368546101247},{"$f":"Brassage!$E$9","v":3.6},{"$f":"Brassage!$E$7/(0.1808*(259-(259/Brassage!$N$34))+(0.8192*(259-(259/Brassage!$L$56))))","v":2.5439571094819655},{"$f":"Brassage!$E$7","v":11.713368546101247},{"$f":"Brassage!$E$7","v":11.713368546101247},{"$f":"Brassage!$E$9","v":3.6},{"$f":"Brassage!$E$7/(0.1808*(259-(259/Brassage!$N$34))+(0.8192*(259-(259/Brassage!$L$56))))","v":2.5439571094819655},{"$f":"Brassage!$E$7","v":11.713368546101247},{"$f":"Brassage!$E$7","v":11.713368546101247},{"$f":"Brassage!$E$9","v":3.6},{"$f":"Brassage!$E$7/(0.1808*(259-(259/Brassage!$N$34))+(0.8192*(259-(259/Brassage!$L$56))))","v":2.5439571094819655},{"$f":"Brassage!$E$7","v":11.713368546101247},{"$f":"Brassage!$E$7","v":11.713368546101247},{"$f":"Brassage!$E$9","v":3.6},{"$f":"Brassage!$E$7/(0.1808*(259-(259/Brassage!$N$34))+(0.8192*(259-(259/Brassage!$L$56))))","v":2.5439571094819655},{"$f":"Brassage!$E$7","v":11.713368546101247},{"$f":"Brassage!$E$7","v":11.713368546101247},{"$f":"Brassage!$E$9","v":3.6},{"$f":"Brassage!$E$7/(0.1808*(259-(259/Brassage!$N$34))+(0.8192*(259-(259/Brassage!$L$56))))","v":2.5439571094819655},{"$f":"Brassage!$E$7","v":11.713368546101247},{"$f":"Brassage!$E$7","v":11.713368546101247}]
[{"$f":"IF(Brassage!H29=0,\"\",\"- \"&Brassage!H29&\"g  \"&Brassage!B29)","v":""},"","","","",""]
[{"$f":"IF(Brassage!H30=0,\"\",\"- \"&Brassage!H30&\"g  \"&Brassage!B30)","v":""},"","","","",""]
[{"$f":"IF(Brassage!H31=0,\"\",\"- \"&Brassage!H31&\"g  \"&Brassage!B31)","v":""},"","","","","",null,null,null,null,null,null,null,null,null,null,null,null,{"$f":"Brassage!$A$1","v":"# Projet - Weissbier exemple"},null,{"$f":"Brassage!$B$3","v":"10A - Weissbier"},null,{"$f":"Brassage!$A$1","v":"# Projet - Weissbier exemple"},null,{"$f":"Brassage!$B$3","v":"10A - Weissbier"},null,{"$f":"Brassage!$A$1","v":"# Projet - Weissbier exemple"},null,{"$f":"Brassage!$B$3","v":"10A - Weissbier"},null,{"$f":"Brassage!$A$1","v":"# Projet - Weissbier exemple"},null,{"$f":"Brassage!$B$3","v":"10A - Weissbier"},null,{"$f":"Brassage!$A$1","v":"# Projet - Weissbier exemple"},null,{"$f":"Brassage!$B$3","v":"10A - Weissbier"},null,{"$f":"Brassage!$A$1","v":"# Projet - Weissbier exemple"},null,{"$f":"Brassage!$B$3","v":"10A - Weissbier"}]
[]
["Autres",{"$f":"A20","v":"Autres"},{"$f":"A20","v":"Autres"},{"$f":"A20","v":"Autres"},{"$f":"A20","v":"Autres"},{"$f":"A20","v":"Autres"}]
[{"$f":"IF(Brassage!B39=0,\"\",Brassage!F39&\"   \"&Brassage!B39)","v":""},{"$f":"A21","v":""},{"$f":"A21","v":""},{"$f":"A21","v":""},{"$f":"A21","v":""},{"$f":"A21","v":""}]
[{"$f":"IF(Brassage!B40=0,\"\",Brassage!F40&\"g   \"&Brassage!B40)","v":""},{"$f":"A22","v":""},{"$f":"A22","v":""},{"$f":"A22","v":""},{"$f":"A22","v":""},{"$f":"A22","v":""}]
[{"$f":"IF(Brassage!B41=0,\"\",Brassage!F41&\"g   \"&Brassage!B41)","v":""},{"$f":"A23","v":""},{"$f":"A23","v":""},{"$f":"A23","v":""},{"$f":"A23","v":""},{"$f":"A23","v":""}]
[]
["Houblons",{"$f":"A25","v":"Houblons"},{"$f":"A25","v":"Houblons"},{"$f":"A25","v":"Houblons"},{"$f":"A25","v":"Houblons"},{"$f":"A25","v":"Houblons"}]
[{"$f":"IF(Brassage!F45=0,\"\",\"- \"&Brassage!F45&\"g  \"&Brassage!B45&\"  \"&100*Brassage!C45&\"%\"&\"  \"&\"(\"&Brassage!D45&\" \"&Brassage!E45&\"')\")","v":"- 8g  Magnum  13,9%  (Ebullition 60')"},"- 8g  Magnum  13,9%  (Ebullition 60')","- 8g  Magnum  13,9%  (Ebullition 60')","- 8g  Magnum  13,9%  (Ebullition 60')","- 8g  Magnum  13,9%  (Ebullition 60')","- 8g  Magnum  13,9%  (Ebullition 60')"]
[{"$f":"IF(Brassage!F46=0,\"\",\"- \"&Brassage!F46&\"g  \"&Brassage!B46&\"  \"&100*Brassage!C46&\"%\"&\"  \"&\"(\"&Brassage!D46&\" \"&Brassage!E46&\"')\")","v":"- 30g  Tettnanger  4,1%  (Ebullition 10')"},"- 30g  Tettnanger  4,1%  (Ebullition 10')","- 30g  Tettnanger  4,1%  (Ebullition 10')","- 30g  Tettnanger  4,1%  (Ebullition 10')","- 30g  Tettnanger  4,1%  (Ebullition 10')","- 30g  Tettnanger  4,1%  (Ebullition 10')"]
[{"$f":"IF(Brassage!F47=0,\"\",\"- \"&Brassage!F47&\"g  \"&Brassage!B47&\"  \"&100*Brassage!C47&\"%\"&\"  \"&\"(\"&Brassage!D47&\" \"&Brassage!E47&\"')\")","v":""},"","","","",""]
[{"$f":"IF(Brassage!F48=0,\"\",\"- \"&Brassage!F48&\"g  \"&Brassage!B48&\"  \"&100*Brassage!C48&\"%\"&\"  \"&\"(\"&Brassage!D48&\" \"&Brassage!E48&\"')\")","v":""},"","","","",""]
[{"$f":"IF(Brassage!F49=0,\"\",\"- \"&Brassage!F49&\"g  \"&Brassage!B49&\"  \"&100*Brassage!C49&\"%\"&\"  \"&\"(\"&Brassage!D49&\" \"&Brassage!E49&\"')\")","v":""},"","","","",""]
[{"$f":"IF(Brassage!F53=0,\"\",\"- \"&Brassage!F53&\"g  \"&Brassage!B53&\"  \"&100*Brassage!C53&\"%\"&\"  \"&\"(\"&Brassage!D53&\" \"&Brassage!E53&\"')\")","v":""},"","","","",""]
[{"$f":"IF(Brassage!F54=0,\"\",\"- \"&Brassage!F54&\"g  \"&Brassage!B54&\"  \"&100*Brassage!C54&\"%\"&\"  \"&\"(\"&Brassage!D54&\" \"&Brassage!E54&\"')\")","v":""},"","","","",""]
[null,0]
["Levures","Levures",{"$f":"A34","v":"Levures"},{"$f":"A34","v":"Levures"},{"$f":"A34","v":"Levures"},{"$f":"A34","v":"Levures"}]
[{"$f":"IF(Brassage!B61=0,\"\",Brassage!B61)","v":"Wyeast 3068 Weihenstephan Weizen"},"Wyeast 3068 Weihenstephan Weizen",{"$f":"A35","v":"Wyeast 3068 Weihenstephan Weizen"},{"$f":"A35","v":"Wyeast 3068 Weihenstephan Weizen"},{"$f":"A35","v":"Wyeast 3068 Weihenstephan Weizen"},{"$f":"A35","v":"Wyeast 3068 Weihenstephan Weizen"}]
[{"$f":"IF(Brassage!#REF!=0,\"\",Brassage!#REF!)","v":{"$error":"#REF!"}},{"$error":"#REF!"},{"$f":"A36","v":{"$error":"#REF!"}},{"$f":"A36","v":{"$error":"#REF!"}},{"$f":"A36","v":{"$error":"#REF!"}},{"$f":"A36","v":{"$error":"#REF!"}}]
[null,0]
[]
[]
[]
[]
[null,null,null,null,null,null,null,null,{"$f":"G42","v":0},{"$f":"H42","v":0},{"$f":"G42","v":0},{"$f":"H42","v":0},{"$f":"G42","v":0},{"$f":"H42","v":0},{"$f":"G42","v":0},{"$f":"H42","v":0},{"$f":"G42","v":0},{"$f":"H42","v":0}]
[null,null,null,null,null,null,null,null,{"$f":"G43","v":0},null,{"$f":"G43","v":0},null,{"$f":"G43","v":0},null,{"$f":"G43","v":0},null,{"$f":"G43","v":0}]

{"sheet":"Feuill2","index":16,"n_rows":58,"n_cols":8,"rows_kept":58,"cut":false,"hidden":true,"merged":[[0,0,0,6],[0,7,0,13],[3,0,3,6],[27,1,27,2],[27,5,27,6],[55,0,55,6],[48,0,48,6],[52,0,52,6],[14,0,14,6],[38,0,38,6],[41,0,41,6],[29,1,29,2],[29,5,29,6],[27,0,30,0],[27,3,27,4],[30,1,30,2],[30,5,30,6],[32,0,32,6],[28,1,28,2],[28,5,28,6]]}
[{"$f":"Brassage!A1","v":"# Projet - Weissbier exemple"},null,null,null,null,null,null,{"$f":"Brassage!I1","v":"# Projet - Weissbier exemple"}]
[]
[null,null,null,null,{"$f":"Brassage!E6","v":12.373951200268424}]
["Grains et sucres"]
[]
[]
[]
[]
[]
[null,{"$f":"Brassage!H29","v":0},null,{"$f":"Brassage!B29","v":0}]
[null,{"$f":"Brassage!H30","v":0},null,{"$f":"Brassage!B30","v":0}]
[null,{"$f":"Brassage!H31","v":0},null,{"$f":"Brassage!B31","v":0}]
[null,{"$f":"IF(Brassage!A20=\"Malt Acide\",Brassage!C21,\"\")","v":""},null,{"$f":"IF(Brassage!A20=\"Malt Acide\",\"Malt Acide\",\"\")","v":""}]
[]
["Houblonnage"]
[{"$f":"Brassage!B44","v":"Type"},{"$f":"Brassage!C44","v":"Acide Alpha"},{"$f":"Brassage!D44","v":"Utilisation"},{"$f":"Brassage!E44","v":"Durée"},{"$f":"Brassage!F44","v":"Poids"},{"$f":"Brassage!H44","v":"IBUs"},{"$f":"Brassage!I43","v":0}]
[{"$f":"Brassage!B45","v":"Magnum"},{"$f":"Brassage!C45","v":0.13900000000000001},{"$f":"Brassage!D45","v":"Ebullition"},{"$f":"Brassage!E45","v":60},{"$f":"Brassage!F45","v":8},{"$f":"Brassage!H45","v":8.3604450424779095}]
[{"$f":"Brassage!B46","v":"Tettnanger"},{"$f":"Brassage!C46","v":4.1000000000000002E-2},{"$f":"Brassage!D46","v":"Ebullition"},{"$f":"Brassage!E46","v":10},{"$f":"Brassage!F46","v":30},{"$f":"Brassage!H46","v":3.3529235036233365}]
[{"$f":"Brassage!B47","v":0},{"$f":"Brassage!C47","v":0},{"$f":"Brassage!D47","v":0},{"$f":"Brassage!E47","v":0},{"$f":"Brassage!F47","v":0},{"$f":"Brassage!H47","v":""}]
[{"$f":"Brassage!B48","v":0},{"$f":"Brassage!C48","v":0},{"$f":"Brassage!D48","v":0},{"$f":"Brassage!E48","v":0},{"$f":"Brassage!F48","v":0},{"$f":"Brassage!H48","v":""}]
[{"$f":"Brassage!B49","v":0},{"$f":"Brassage!C49","v":0},{"$f":"Brassage!D49","v":0},{"$f":"Brassage!E49","v":0},{"$f":"Brassage!F49","v":0},{"$f":"Brassage!H49","v":""}]
[{"$f":"Brassage!B53","v":0},{"$f":"Brassage!C53","v":0},{"$f":"Brassage!D53","v":0},{"$f":"Brassage!E53","v":0},{"$f":"Brassage!F53","v":0},{"$f":"Brassage!H53","v":""}]
[{"$f":"Brassage!B54","v":0},{"$f":"Brassage!C54","v":0},{"$f":"Brassage!D54","v":0},{"$f":"Brassage!E54","v":0},{"$f":"Brassage!F54","v":0},{"$f":"Brassage!H54","v":""}]
[{"$f":"Brassage!B55","v":0},{"$f":"Brassage!C55","v":0},{"$f":"Brassage!D55","v":0},{"$f":"Brassage!E55","v":0},{"$f":"Brassage!F55","v":0},{"$f":"Brassage!H55","v":""}]
[{"$f":"Brassage!B57","v":0},null,{"$f":"Brassage!D57","v":0},{"$f":"Brassage!E57","v":0},{"$f":"Brassage!F57","v":0},{"$f":"Brassage!H57","v":""}]
[]
["Autres ingrédients"]
[{"$f":"Brassage!A38","v":"Autre"},{"$f":"Brassage!B38","v":"Type"},{"$f":"Brassage!C38","v":0},{"$f":"Brassage!D38","v":"Utilisation"},{"$f":"Brassage!E38","v":"Durée"},{"$f":"Brassage!F38","v":"Quantité"},{"$f":"Brassage!H38","v":"Notes"}]
[{"$f":"Brassage!A39","v":0},{"$f":"Brassage!B39","v":0},{"$f":"Brassage!C39","v":0},{"$f":"Brassage!D39","v":0},{"$f":"Brassage!E39","v":0},{"$f":"Brassage!F39","v":0},{"$f":"Brassage!H39","v":0}]
[{"$f":"Brassage!A40","v":0},{"$f":"Brassage!B40","v":0},{"$f":"Brassage!C40","v":0},{"$f":"Brassage!D40","v":0},{"$f":"Brassage!E40","v":0},{"$f":"Brassage!F40","v":0},{"$f":"Brassage!H40","v":0}]
[{"$f":"Brassage!A41","v":0},{"$f":"Brassage!B41","v":0},{"$f":"Brassage!C41","v":0},{"$f":"Brassage!D41","v":0},{"$f":"Brassage!E41","v":0},{"$f":"Brassage!F41","v":0},{"$f":"Brassage!H41","v":0}]
[]
["Préparation de l'eau"]
["Peser",{"$f":"Brassage!M10","v":25.52885378151263},"d'eau pour l'empatage et la porter à",null,null,{"$f":"Brassage!O10","v":70.346635631598645}]
["Dissoudre les sels minéraux pour arriver au profil souhaité"]
[{"$f":"Brassage!R6","v":"CaSO4"},{"$f":"Brassage!R7","v":"NaCl"},{"$f":"Brassage!R8","v":"MgSO4"},{"$f":"Brassage!R9","v":"CaCl2"},{"$f":"Brassage!R10","v":"NaHCO3"},{"$f":"Brassage!R11","v":"CaCO3"}]
[{"$f":"Brassage!T6","v":0.51057707563025256},{"$f":"Brassage!T7","v":0.76586561344537885},{"$f":"Brassage!T8","v":3.5740395294117686},{"$f":"Brassage!T9","v":2.0423083025210103},{"$f":"Brassage!T10","v":0},{"$f":"Brassage!T11","v":0}]
[]
["Correction du pH"]
[{"$f":"IF(Brassage!A20=\"Malt Acide\",\"\",\"Ajouter\")","v":"Ajouter"},{"$f":"IF(Brassage!A20=\"Malt Acide\",\"\",Brassage!C21)","v":7},{"$f":"IF(Brassage!A20=\"Malt Acide\",\"\",\"de\")","v":"de"},{"$f":"IF(Brassage!A20=\"Malt Acide\",\"\",Brassage!A20)","v":"Acide Lactique"},null,{"$f":"IF(Brassage!A20=\"Malt Acide\",\"\",\"à\")","v":"à"},{"$f":"IF(Brassage!A20=\"Malt Acide\",\"\",Brassage!B21)","v":0.88}]
[]
["Empatage"]
["Inclure les houblons de Mash-Hop dans le grain le cas échéant"]
[{"$f":"Brassage!A7","v":"Palier 1"},"Ajouter",{"$f":"B34","v":25.52885378151263},"d'eau à ",{"$f":"F34","v":70.346635631598645},{"$f":"Brassage!B7","v":66},{"$f":"Brassage!C7","v":60}]
[{"$f":"Brassage!A8","v":"Palier 2"},{"$f":"IF(Brassage!I10=\"Chauffe Directe\",\"Relancer\",IF(Brassage!I10=\"Décoction\",\"Prélever\",\"Ajouter\"))","v":"Relancer"},{"$f":"IF(Brassage!I10=\"Chauffe Directe\",\"la chauffe\",IF(Brassage!I10=\"Décoction\",Brassage!O13,Brassage!O13))","v":"la chauffe"},{"$f":"IF(Brassage!I10=\"Chauffe Directe\",\"jusqu'à\",IF(Brassage!I10=\"Décoction\",\"les porter à\",\"d'eau à\"))","v":"jusqu'à"},{"$f":"IF(Brassage!I10=\"Chauffe Directe\",\"atteindre\",IF(Brassage!I10=\"Décoction\",Brassage!J10&\"°C \",Brassage!J10&\"°C \"))","v":"atteindre"},{"$f":"Brassage!B8","v":0},{"$f":"Brassage!C8","v":0}]
[{"$f":"Brassage!A9","v":"Palier 3"},{"$f":"IF(Brassage!I10=\"Chauffe Directe\",\"Relancer\",IF(Brassage!I10=\"Décoction\",\"Prélever\",\"Ajouter\"))","v":"Relancer"},{"$f":"IF(Brassage!I10=\"Chauffe Directe\",\"\",IF(Brassage!I10=\"Décoction\",Brassage!O14,Brassage!O14))","v":""},{"$f":"IF(Brassage!I10=\"Chauffe Directe\",\"\",IF(Brassage!I10=\"Décoction\",\"les porter à\",\"d'eau à\"))","v":""},{"$f":"IF(Brassage!I10=\"Chauffe Directe\",\"\",IF(Brassage!I10=\"Décoction\",Brassage!J10&\"°C \",Brassage!J10&\"°C \"))","v":""},{"$f":"Brassage!B9","v":0},{"$f":"Brassage!C9","v":0}]
[{"$f":"Brassage!A10","v":"Mash-Out"},{"$f":"IF(Brassage!I10=\"Chauffe Directe\",\"Relancer\",IF(Brassage!I10=\"Décoction\",\"Prélever\",\"Ajouter\"))","v":"Relancer"},{"$f":"IF(Brassage!I10=\"Chauffe Directe\",\"\",IF(Brassage!I10=\"Décoction\",Brassage!O15,Brassage!O15))","v":""},{"$f":"IF(Brassage!I10=\"Chauffe Directe\",\"\",IF(Brassage!I10=\"Décoction\",\"les porter à\",\"d'eau à\"))","v":""},{"$f":"IF(Brassage!I10=\"Chauffe Directe\",\"\",IF(Brassage!I10=\"Décoction\",Brassage!J10&\"°C \",Brassage!J10&\"°C \"))","v":""},{"$f":"Brassage!B10","v":0},{"$f":"Brassage!C10","v":0}]
[]
["Fitration"]
["Filtrer les drêches et les rincer avec",null,null,{"$f":"Brassage!M18","v":15.542882219554471},"d'eau à",{"$f":"Brassage!M19","v":78}]
["Inclure les houblons de FWH le cas échéant",null,null,null,null,"Densité de fin de rinçage"]
[]
["Ebulition"]
[{"$f":"\"Porter à ébulition pendant \"&Brassage!L6&\" min (volume visé \"&ROUND(Brassage!L23,1)&\" L à \"&ROUND(Brassage!L22,3)&\")\"","v":"Porter à ébulition pendant 60 min (volume visé 34,1 L à 1,045)"}]
[]
["Refroidissement et ensemencement"]
[{"$f":"\"Objectif en fin d'ébullition : \"&ROUND(Brassage!L29,1)&\"L à \"&ROUND(Brassage!L28,3)","v":"Objectif en fin d'ébullition : 30,7L à 1,05"}]
[{"$f":"\"Refroidir à \"&Brassage!L41&\" °C, transférer en fermenteur\"&\" et ensemencer avec \"&Brassage!B61&\" (\"&ROUND(Brassage!D61,0)&\" mds)\"","v":"Refroidir à 21 °C, transférer en fermenteur et ensemencer avec Wyeast 3068 Weihenstephan Weizen (259 mds)"}]

{"sheet":"Listing ingrédients","index":17,"n_rows":1000,"n_cols":7,"rows_kept":1000,"cut":false,"hidden":false,"merged":[]}
["Grains",null,"Houblons",null,"Levures",null,"Autres"]
[{"$f":"IF(Brassage!$A$31=\"Selon stock\",Stock!A6,Paramètres!A3)","v":"Cara Gold - Vieux Silo"},null,{"$f":"IF(Brassage!$A$58=\"Selon stock\",Stock!H6,Houblons!A2)","v":"Hallertau cascade"},null,{"$f":"IF(Brassage!$A$62=\"Selon stock\",Stock!P6,Paramètres!J3)","v":"Wyeast 3068 Weihenstephan Weizen"},null,{"$f":"IF(Brassage!$A$42=\"Selon stock\",Stock!U6,)","v":0}]
[{"$f":"IF(Brassage!$A$31=\"Selon stock\",Stock!A7,Paramètres!A4)","v":"Château Biscuit Malt"},null,{"$f":"IF(Brassage!$A$58=\"Selon stock\",Stock!H7,Houblons!A3)","v":"Hallertau Mittelfrüh"},null,{"$f":"IF(Brassage!$A$62=\"Selon stock\",Stock!P7,Paramètres!J4)","v":"Wyeast 1007 German Ale"},null,{"$f":"IF(Brassage!$A$42=\"Selon stock\",Stock!U7,)","v":0}]
[{"$f":"IF(Brassage!$A$31=\"Selon stock\",Stock!A8,Paramètres!A5)","v":"Château Chocolat"},null,{"$f":"IF(Brassage!$A$58=\"Selon stock\",Stock!H8,Houblons!A4)","v":"Hersbrucker"},null,{"$f":"IF(Brassage!$A$62=\"Selon stock\",Stock!P8,Paramètres!J5)","v":"Wyeast 1028 London Ale"},null,{"$f":"IF(Brassage!$A$42=\"Selon stock\",Stock!U8,)","v":0}]
[{"$f":"IF(Brassage!$A$31=\"Selon stock\",Stock!A9,Paramètres!A6)","v":"Château Roasted Barley"},null,{"$f":"IF(Brassage!$A$58=\"Selon stock\",Stock!H9,Houblons!A5)","v":"Magnum"},null,{"$f":"IF(Brassage!$A$62=\"Selon stock\",Stock!P9,Paramètres!J6)","v":"Wyeast 1056 American Ale"},null,{"$f":"IF(Brassage!$A$42=\"Selon stock\",Stock!U9,)","v":0}]
[{"$f":"IF(Brassage!$A$31=\"Selon stock\",Stock!A10,Paramètres!A7)","v":"Froment - Vieux Silo"},null,{"$f":"IF(Brassage!$A$58=\"Selon stock\",Stock!H10,Houblons!A6)","v":"Northern Brewer"},null,{"$f":"IF(Brassage!$A$62=\"Selon stock\",Stock!P10,Paramètres!J7)","v":"Wyeast 1084 Irish Ale"},null,{"$f":"IF(Brassage!$A$42=\"Selon stock\",Stock!U10,)","v":0}]
[{"$f":"IF(Brassage!$A$31=\"Selon stock\",Stock!A11,Paramètres!A8)","v":"Munich light"},null,{"$f":"IF(Brassage!$A$58=\"Selon stock\",Stock!H11,Houblons!A7)","v":"Styrian Golding Celeia"},null,{"$f":"IF(Brassage!$A$62=\"Selon stock\",Stock!P11,Paramètres!J8)","v":"Wyeast 1098 British Ale"},null,{"$f":"IF(Brassage!$A$42=\"Selon stock\",Stock!U11,)","v":0}]
[{"$f":"IF(Brassage!$A$31=\"Selon stock\",Stock!A12,Paramètres!A9)","v":"Pale ale Swaen"},null,{"$f":"IF(Brassage!$A$58=\"Selon stock\",Stock!H12,Houblons!A8)","v":"Tettnanger"},null,{"$f":"IF(Brassage!$A$62=\"Selon stock\",Stock!P12,Paramètres!J9)","v":"Wyeast 1187 Ringwood Ale"},null,{"$f":"IF(Brassage!$A$42=\"Selon stock\",Stock!U12,)","v":0}]
[{"$f":"IF(Brassage!$A$31=\"Selon stock\",Stock!A13,Paramètres!A10)","v":"Special B"},null,{"$f":"IF(Brassage!$A$58=\"Selon stock\",Stock!H13,Houblons!A9)","v":"Magnum"},null,{"$f":"IF(Brassage!$A$62=\"Selon stock\",Stock!P13,Paramètres!J10)","v":"Wyeast 1214 Belgian Abbey Style Ale"},null,{"$f":"IF(Brassage!$A$42=\"Selon stock\",Stock!U13,)","v":0}]
[{"$f":"IF(Brassage!$A$31=\"Selon stock\",Stock!A14,Paramètres!A11)","v":"Viking Vienna"},null,{"$f":"IF(Brassage!$A$58=\"Selon stock\",Stock!H14,Houblons!A10)","v":""},null,{"$f":"IF(Brassage!$A$62=\"Selon stock\",Stock!P14,Paramètres!J11)","v":"Wyeast 1272 American Ale II"},null,{"$f":"IF(Brassage!$A$42=\"Selon stock\",Stock!U14,)","v":0}]
[{"$f":"IF(Brassage!$A$31=\"Selon stock\",Stock!A15,Paramètres!A12)","v":""},null,{"$f":"IF(Brassage!$A$58=\"Selon stock\",Stock!H15,Houblons!A11)","v":""},null,{"$f":"IF(Brassage!$A$62=\"Selon stock\",Stock!P15,Paramètres!J12)","v":"Wyeast 1275 Thames Valley Ale"},null,{"$f":"IF(Brassage!$A$42=\"Selon stock\",Stock!U15,)","v":0}]
[{"$f":"IF(Brassage!$A$31=\"Selon stock\",Stock!A16,Paramètres!A13)","v":""},null,{"$f":"IF(Brassage!$A$58=\"Selon stock\",Stock!H16,Houblons!A12)","v":""},null,{"$f":"IF(Brassage!$A$62=\"Selon stock\",Stock!P16,Paramètres!J13)","v":"Wyeast 1335 British Ale II"},null,{"$f":"IF(Brassage!$A$42=\"Selon stock\",Stock!U16,)","v":0}]
[{"$f":"IF(Brassage!$A$31=\"Selon stock\",Stock!A17,Paramètres!A14)","v":""},null,{"$f":"IF(Brassage!$A$58=\"Selon stock\",Stock!H17,Houblons!A13)","v":""},null,{"$f":"IF(Brassage!$A$62=\"Selon stock\",Stock!P17,Paramètres!J14)","v":"Wyeast 1388 Belgian Strong Ale"},null,{"$f":"IF(Brassage!$A$42=\"Selon stock\",Stock!U17,)","v":0}]
[{"$f":"IF(Brassage!$A$31=\"Selon stock\",Stock!A18,Paramètres!A15)","v":""},null,{"$f":"IF(Brassage!$A$58=\"Selon stock\",Stock!H18,Houblons!A14)","v":""},null,{"$f":"IF(Brassage!$A$62=\"Selon stock\",Stock!P18,Paramètres!J15)","v":"Wyeast 1728 Scottish Ale"},null,{"$f":"IF(Brassage!$A$42=\"Selon stock\",Stock!U18,)","v":0}]
[{"$f":"IF(Brassage!$A$31=\"Selon stock\",Stock!A19,Paramètres!A16)","v":""},null,{"$f":"IF(Brassage!$A$58=\"Selon stock\",Stock!H19,Houblons!A15)","v":""},null,{"$f":"IF(Brassage!$A$62=\"Selon stock\",Stock!P19,Paramètres!J16)","v":"Wyeast 1762 Belgian Abbey Style Ale II"},null,{"$f":"IF(Brassage!$A$42=\"Selon stock\",Stock!U19,)","v":0}]
[{"$f":"IF(Brassage!$A$31=\"Selon stock\",Stock!A20,Paramètres!A17)","v":""},null,{"$f":"IF(Brassage!$A$58=\"Selon stock\",Stock!H20,Houblons!A16)","v":""},null,{"$f":"IF(Brassage!$A$62=\"Selon stock\",Stock!P20,Paramètres!J17)","v":"Wyeast 1968 London ESB Ale"},null,{"$f":"IF(Brassage!$A$42=\"Selon stock\",Stock!U20,)","v":0}]
[{"$f":"IF(Brassage!$A$31=\"Selon stock\",Stock!A21,Paramètres!A18)","v":""},null,{"$f":"IF(Brassage!$A$58=\"Selon stock\",Stock!H21,Houblons!A17)","v":""},null,{"$f":"IF(Brassage!$A$62=\"Selon stock\",Stock!P21,Paramètres!J18)","v":"Wyeast 2001 PC Pilsner Urquell H-Strain 20"},null,{"$f":"IF(Brassage!$A$42=\"Selon stock\",Stock!U21,)","v":0}]
[{"$f":"IF(Brassage!$A$31=\"Selon stock\",Stock!A22,Paramètres!A19)","v":""},null,{"$f":"IF(Brassage!$A$58=\"Selon stock\",Stock!H22,Houblons!A18)","v":""},null,{"$f":"IF(Brassage!$A$62=\"Selon stock\",Stock!P22,Paramètres!J19)","v":"Wyeast 2007 Pilsen Lager"},null,{"$f":"IF(Brassage!$A$42=\"Selon stock\",Stock!U22,)","v":0}]
[{"$f":"IF(Brassage!$A$31=\"Selon stock\",Stock!A23,Paramètres!A20)","v":""},null,{"$f":"IF(Brassage!$A$58=\"Selon stock\",Stock!H23,Houblons!A19)","v":""},null,{"$f":"IF(Brassage!$A$62=\"Selon stock\",Stock!P23,Paramètres!J20)","v":"Wyeast 2112 California Lager"},null,{"$f":"IF(Brassage!$A$42=\"Selon stock\",Stock!U23,)","v":0}]
[{"$f":"IF(Brassage!$A$31=\"Selon stock\",Stock!A24,Paramètres!A21)","v":""},null,{"$f":"IF(Brassage!$A$58=\"Selon stock\",Stock!H24,Houblons!A20)","v":""},null,{"$f":"IF(Brassage!$A$62=\"Selon stock\",Stock!P24,Paramètres!J21)","v":"Wyeast 2124 Bohemian Lager"},null,{"$f":"IF(Brassage!$A$42=\"Selon stock\",Stock!U24,)","v":0}]
[{"$f":"IF(Brassage!$A$31=\"Selon stock\",Stock!A25,Paramètres!A22)","v":""},null,{"$f":"IF(Brassage!$A$58=\"Selon stock\",Stock!H25,Houblons!A21)","v":""},null,{"$f":"IF(Brassage!$A$62=\"Selon stock\",Stock!P25,Paramètres!J22)","v":"Wyeast 2206 Bavarian Lager"},null,{"$f":"IF(Brassage!$A$42=\"Selon stock\",Stock!U25,)","v":0}]
[{"$f":"IF(Brassage!$A$31=\"Selon stock\",Stock!A26,Paramètres!A23)","v":""},null,{"$f":"IF(Brassage!$A$58=\"Selon stock\",Stock!H26,Houblons!A22)","v":""},null,{"$f":"IF(Brassage!$A$62=\"Selon stock\",Stock!P26,Paramètres!J23)","v":"Wyeast 2247 PC European Lager"},null,{"$f":"IF(Brassage!$A$42=\"Selon stock\",Stock!U26,)","v":0}]
[{"$f":"IF(Brassage!$A$31=\"Selon stock\",Stock!A27,Paramètres!A24)","v":""},null,{"$f":"IF(Brassage!$A$58=\"Selon stock\",Stock!H27,Houblons!A23)","v":""},null,{"$f":"IF(Brassage!$A$62=\"Selon stock\",Stock!P27,Paramètres!J24)","v":"Wyeast 2272 PC North American Lager"},null,{"$f":"IF(Brassage!$A$42=\"Selon stock\",Stock!U27,)","v":0}]
[{"$f":"IF(Brassage!$A$31=\"Selon stock\",Stock!A28,Paramètres!A25)","v":""},null,{"$f":"IF(Brassage!$A$58=\"Selon stock\",Stock!H28,Houblons!A24)","v":""},null,{"$f":"IF(Brassage!$A$62=\"Selon stock\",Stock!P28,Paramètres!J25)","v":"Wyeast 2308 Munich Lager"},null,{"$f":"IF(Brassage!$A$42=\"Selon stock\",Stock!U28,)","v":0}]
[{"$f":"IF(Brassage!$A$31=\"Selon stock\",Stock!A29,Paramètres!A26)","v":""},null,{"$f":"IF(Brassage!$A$58=\"Selon stock\",Stock!H29,Houblons!A25)","v":""},null,{"$f":"IF(Brassage!$A$62=\"Selon stock\",Stock!P29,Paramètres!J26)","v":"Wyeast 2487 PC Hella Bock Lager"},null,{"$f":"IF(Brassage!$A$42=\"Selon stock\",Stock!U29,)","v":0}]
[{"$f":"IF(Brassage!$A$31=\"Selon stock\",Stock!A30,Paramètres!A27)","v":""},null,{"$f":"IF(Brassage!$A$58=\"Selon stock\",Stock!H30,Houblons!A26)","v":""},null,{"$f":"IF(Brassage!$A$62=\"Selon stock\",Stock!P30,Paramètres!J27)","v":"Wyeast 2575 PC Kölsch II"},null,{"$f":"IF(Brassage!$A$42=\"Selon stock\",Stock!U30,)","v":0}]
[{"$f":"IF(Brassage!$A$31=\"Selon stock\",Stock!A31,Paramètres!A28)","v":""},null,{"$f":"IF(Brassage!$A$58=\"Selon stock\",Stock!H31,Houblons!A27)","v":""},null,{"$f":"IF(Brassage!$A$62=\"Selon stock\",Stock!P31,Paramètres!J28)","v":"Wyeast 3068 Weihenstephan Weizen"},null,{"$f":"IF(Brassage!$A$42=\"Selon stock\",Stock!U31,)","v":0}]
[{"$f":"IF(Brassage!$A$31=\"Selon stock\",Stock!A32,Paramètres!A29)","v":""},null,{"$f":"IF(Brassage!$A$58=\"Selon stock\",Stock!H32,Houblons!A28)","v":""},null,{"$f":"IF(Brassage!$A$62=\"Selon stock\",Stock!P32,Paramètres!J29)","v":"Wyeast 3333 PC German Wheat"},null,{"$f":"IF(Brassage!$A$42=\"Selon stock\",Stock!U32,)","v":0}]
[{"$f":"IF(Brassage!$A$31=\"Selon stock\",Stock!A33,Paramètres!A30)","v":""},null,{"$f":"IF(Brassage!$A$58=\"Selon stock\",Stock!H33,Houblons!A29)","v":""},null,{"$f":"IF(Brassage!$A$62=\"Selon stock\",Stock!P33,Paramètres!J30)","v":"Wyeast 3463 PC Forbidden Fruit"},null,{"$f":"IF(Brassage!$A$42=\"Selon stock\",Stock!U33,)","v":0}]
[{"$f":"IF(Brassage!$A$31=\"Selon stock\",Stock!A34,Paramètres!A31)","v":""},null,{"$f":"IF(Brassage!$A$58=\"Selon stock\",Stock!H34,Houblons!A30)","v":""},null,{"$f":"IF(Brassage!$A$62=\"Selon stock\",Stock!P34,Paramètres!J31)","v":"Wyeast 3522 Belgian Ardennes"},null,{"$f":"IF(Brassage!$A$42=\"Selon stock\",Stock!U34,)","v":0}]
[{"$f":"IF(Brassage!$A$31=\"Selon stock\",Stock!A35,Paramètres!A32)","v":""},null,{"$f":"IF(Brassage!$A$58=\"Selon stock\",Stock!H35,Houblons!A31)","v":""},null,{"$f":"IF(Brassage!$A$62=\"Selon stock\",Stock!P35,Paramètres!J32)","v":"Wyeast 3638 Bavarian Wheat"},null,{"$f":"IF(Brassage!$A$42=\"Selon stock\",Stock!U35,)","v":0}]
[{"$f":"IF(Brassage!$A$31=\"Selon stock\",Stock!A36,Paramètres!A33)","v":""},null,{"$f":"IF(Brassage!$A$58=\"Selon stock\",Stock!H36,Houblons!A32)","v":""},null,{"$f":"IF(Brassage!$A$62=\"Selon stock\",Stock!P36,Paramètres!J33)","v":"Wyeast 3724 Belgian Saison"},null,{"$f":"IF(Brassage!$A$42=\"Selon stock\",Stock!U36,)","v":0}]
[{"$f":"IF(Brassage!$A$31=\"Selon stock\",Stock!A37,Paramètres!A34)","v":""},null,{"$f":"IF(Brassage!$A$58=\"Selon stock\",Stock!H37,Houblons!A33)","v":""},null,{"$f":"IF(Brassage!$A$62=\"Selon stock\",Stock!P37,Paramètres!J34)","v":"Wyeast 3787 Trappist Style High Gravity"},null,{"$f":"IF(Brassage!$A$42=\"Selon stock\",Stock!U37,)","v":0}]
[{"$f":"IF(Brassage!$A$31=\"Selon stock\",Stock!A38,Paramètres!A35)","v":""},null,{"$f":"IF(Brassage!$A$58=\"Selon stock\",Stock!H38,Houblons!A34)","v":""},null,{"$f":"IF(Brassage!$A$62=\"Selon stock\",Stock!P38,Paramètres!J35)","v":"Wyeast 3864 PC Canadian/Belgian Ale"},null,{"$f":"IF(Brassage!$A$42=\"Selon stock\",Stock!U38,)","v":0}]
[{"$f":"IF(Brassage!$A$31=\"Selon stock\",Stock!A39,Paramètres!A36)","v":""},null,{"$f":"IF(Brassage!$A$58=\"Selon stock\",Stock!H39,Houblons!A35)","v":""},null,{"$f":"IF(Brassage!$A$62=\"Selon stock\",Stock!P39,Paramètres!J36)","v":"Wyeast 3944  Belgian Witbier"},null,{"$f":"IF(Brassage!$A$42=\"Selon stock\",Stock!U39,)","v":0}]
[{"$f":"IF(Brassage!$A$31=\"Selon stock\",Stock!A40,Paramètres!A37)","v":""},null,{"$f":"IF(Brassage!$A$58=\"Selon stock\",Stock!H40,Houblons!A36)","v":""},null,{"$f":"IF(Brassage!$A$62=\"Selon stock\",Stock!P40,Paramètres!J37)","v":"Imperial Yeast A01 House"},null,{"$f":"IF(Brassage!$A$42=\"Selon stock\",Stock!U40,)","v":0}]
[{"$f":"IF(Brassage!$A$31=\"Selon stock\",Stock!A41,Paramètres!A38)","v":""},null,{"$f":"IF(Brassage!$A$58=\"Selon stock\",Stock!H41,Houblons!A37)","v":""},null,{"$f":"IF(Brassage!$A$62=\"Selon stock\",Stock!P41,Paramètres!J38)","v":"Imperial Yeast A04 Barbarian"},null,{"$f":"IF(Brassage!$A$42=\"Selon stock\",Stock!U41,)","v":0}]
[{"$f":"IF(Brassage!$A$31=\"Selon stock\",Stock!A42,Paramètres!A39)","v":""},null,{"$f":"IF(Brassage!$A$58=\"Selon stock\",Stock!H42,Houblons!A38)","v":""},null,{"$f":"IF(Brassage!$A$62=\"Selon stock\",Stock!P42,Paramètres!J39)","v":"Imperial Yeast A07 Flagship"},null,{"$f":"IF(Brassage!$A$42=\"Selon stock\",Stock!U42,)","v":0}]
[{"$f":"IF(Brassage!$A$31=\"Selon stock\",Stock!A43,Paramètres!A40)","v":""},null,{"$f":"IF(Brassage!$A$58=\"Selon stock\",Stock!H43,Houblons!A39)","v":""},null,{"$f":"IF(Brassage!$A$62=\"Selon stock\",Stock!P43,Paramètres!J40)","v":"Imperial Yeast A09 Pub"},null,{"$f":"IF(Brassage!$A$42=\"Selon stock\",Stock!U43,)","v":0}]
[{"$f":"IF(Brassage!$A$31=\"Selon stock\",Stock!A44,Paramètres!A41)","v":""},null,{"$f":"IF(Brassage!$A$58=\"Selon stock\",Stock!H44,Houblons!A40)","v":""},null,{"$f":"IF(Brassage!$A$62=\"Selon stock\",Stock!P44,Paramètres!J41)","v":"Imperial Yeast A10 Darkness"},null,{"$f":"IF(Brassage!$A$42=\"Selon stock\",Stock!U44,)","v":0}]
[{"$f":"IF(Brassage!$A$31=\"Selon stock\",Stock!A45,Paramètres!A42)","v":""},null,{"$f":"IF(Brassage!$A$58=\"Selon stock\",Stock!H45,Houblons!A41)","v":""},null,{"$f":"IF(Brassage!$A$62=\"Selon stock\",Stock!P45,Paramètres!J42)","v":"Imperial Yeast A15 Independence"},null,{"$f":"IF(Brassage!$A$42=\"Selon stock\",Stock!U45,)","v":0}]
[{"$f":"IF(Brassage!$A$31=\"Selon stock\",Stock!A46,Paramètres!A43)","v":""},null,{"$f":"IF(Brassage!$A$58=\"Selon stock\",Stock!H46,Houblons!A42)","v":""},null,{"$f":"IF(Brassage!$A$62=\"Selon stock\",Stock!P46,Paramètres!J43)","v":"Imperial Yeast A18 Joystick"},null,{"$f":"IF(Brassage!$A$42=\"Selon stock\",Stock!U46,)","v":0}]
[{"$f":"IF(Brassage!$A$31=\"Selon stock\",Stock!A47,Paramètres!A44)","v":""},null,{"$f":"IF(Brassage!$A$58=\"Selon stock\",Stock!H47,Houblons!A43)","v":""},null,{"$f":"IF(Brassage!$A$62=\"Selon stock\",Stock!P47,Paramètres!J44)","v":"Imperial Yeast A20 Citrus"},null,{"$f":"IF(Brassage!$A$42=\"Selon stock\",Stock!U47,)","v":0}]
[{"$f":"IF(Brassage!$A$31=\"Selon stock\",Stock!A48,Paramètres!A45)","v":""},null,{"$f":"IF(Brassage!$A$58=\"Selon stock\",Stock!H48,Houblons!A44)","v":""},null,{"$f":"IF(Brassage!$A$62=\"Selon stock\",Stock!P48,Paramètres!J45)","v":"Imperial Yeast A24 Dry Hop"},null,{"$f":"IF(Brassage!$A$42=\"Selon stock\",Stock!U48,)","v":0}]
[{"$f":"IF(Brassage!$A$31=\"Selon stock\",Stock!A49,Paramètres!A46)","v":""},null,{"$f":"IF(Brassage!$A$58=\"Selon stock\",Stock!H49,Houblons!A45)","v":""},null,{"$f":"IF(Brassage!$A$62=\"Selon stock\",Stock!P49,Paramètres!J46)","v":"Imperial Yeast A31 Tartan"},null,{"$f":"IF(Brassage!$A$42=\"Selon stock\",Stock!U49,)","v":0}]
[{"$f":"IF(Brassage!$A$31=\"Selon stock\",Stock!A50,Paramètres!A47)","v":""},null,{"$f":"IF(Brassage!$A$58=\"Selon stock\",Stock!H50,Houblons!A46)","v":""},null,{"$f":"IF(Brassage!$A$62=\"Selon stock\",Stock!P50,Paramètres!J47)","v":"Imperial Yeast A38 Juice"},null,{"$f":"IF(Brassage!$A$42=\"Selon stock\",Stock!U50,)","v":0}]
[{"$f":"IF(Brassage!$A$31=\"Selon stock\",Stock!A51,Paramètres!A48)","v":""},null,{"$f":"IF(Brassage!$A$58=\"Selon stock\",Stock!H51,Houblons!A47)","v":""},null,{"$f":"IF(Brassage!$A$62=\"Selon stock\",Stock!P51,Paramètres!J48)","v":"Imperial Yeast A43 Loki"},null,{"$f":"IF(Brassage!$A$42=\"Selon stock\",Stock!U51,)","v":0}]
[{"$f":"IF(Brassage!$A$31=\"Selon stock\",Stock!A52,Paramètres!A49)","v":""},null,{"$f":"IF(Brassage!$A$58=\"Selon stock\",Stock!H52,Houblons!A48)","v":""},null,{"$f":"IF(Brassage!$A$62=\"Selon stock\",Stock!P52,Paramètres!J49)","v":"Imperial Yeast B44 Whiteout"},null,{"$f":"IF(Brassage!$A$42=\"Selon stock\",Stock!U52,)","v":0}]
[{"$f":"IF(Brassage!$A$31=\"Selon stock\",Stock!A53,Paramètres!A50)","v":""},null,{"$f":"IF(Brassage!$A$58=\"Selon stock\",Stock!H53,Houblons!A49)","v":""},null,{"$f":"IF(Brassage!$A$62=\"Selon stock\",Stock!P53,Paramètres!J50)","v":"Imperial Yeast B45 Gnome"},null,{"$f":"IF(Brassage!$A$42=\"Selon stock\",Stock!U53,)","v":0}]
[{"$f":"IF(Brassage!$A$31=\"Selon stock\",Stock!A54,Paramètres!A51)","v":""},null,{"$f":"IF(Brassage!$A$58=\"Selon stock\",Stock!H54,Houblons!A50)","v":""},null,{"$f":"IF(Brassage!$A$62=\"Selon stock\",Stock!P54,Paramètres!J51)","v":"Imperial Yeast B48 Triple Double"},null,{"$f":"IF(Brassage!$A$42=\"Selon stock\",Stock!U54,)","v":0}]
[{"$f":"IF(Brassage!$A$31=\"Selon stock\",Stock!A55,Paramètres!A52)","v":""},null,{"$f":"IF(Brassage!$A$58=\"Selon stock\",Stock!H55,Houblons!A51)","v":""},null,{"$f":"IF(Brassage!$A$62=\"Selon stock\",Stock!P55,Paramètres!J52)","v":"Imperial Yeast B51 Workhorse"},null,{"$f":"IF(Brassage!$A$42=\"Selon stock\",Stock!U55,)","v":0}]
[{"$f":"IF(Brassage!$A$31=\"Selon stock\",Stock!A56,Paramètres!A53)","v":""},null,{"$f":"IF(Brassage!$A$58=\"Selon stock\",Stock!H56,Houblons!A52)","v":""},null,{"$f":"IF(Brassage!$A$62=\"Selon stock\",Stock!P56,Paramètres!J53)","v":"Imperial Yeast B56 Rustic"},null,{"$f":"IF(Brassage!$A$42=\"Selon stock\",Stock!U56,)","v":0}]
[{"$f":"IF(Brassage!$A$31=\"Selon stock\",Stock!A57,Paramètres!A54)","v":""},null,{"$f":"IF(Brassage!$A$58=\"Selon stock\",Stock!H57,Houblons!A53)","v":""},null,{"$f":"IF(Brassage!$A$62=\"Selon stock\",Stock!P57,Paramètres!J54)","v":"Imperial Yeast B63 Monastic"},null,{"$f":"IF(Brassage!$A$42=\"Selon stock\",Stock!U57,)","v":0}]
[{"$f":"IF(Brassage!$A$31=\"Selon stock\",Stock!A58,Paramètres!A55)","v":""},null,{"$f":"IF(Brassage!$A$58=\"Selon stock\",Stock!H58,Houblons!A54)","v":""},null,{"$f":"IF(Brassage!$A$62=\"Selon stock\",Stock!P58,Paramètres!J55)","v":"Imperial Yeast B64 Napoleon"},null,{"$f":"IF(Brassage!$A$42=\"Selon stock\",Stock!U58,)","v":0}]
[{"$f":"IF(Brassage!$A$31=\"Selon stock\",Stock!A59,Paramètres!A56)","v":""},null,{"$f":"IF(Brassage!$A$58=\"Selon stock\",Stock!H59,Houblons!A55)","v":""},null,{"$f":"IF(Brassage!$A$62=\"Selon stock\",Stock!P59,Paramètres!J56)","v":"Fermentis BE-134"},null,{"$f":"IF(Brassage!$A$42=\"Selon stock\",Stock!U59,)","v":0}]
[{"$f":"IF(Brassage!$A$31=\"Selon stock\",Stock!A60,Paramètres!A57)","v":""},null,{"$f":"IF(Brassage!$A$58=\"Selon stock\",Stock!H60,Houblons!A56)","v":""},null,{"$f":"IF(Brassage!$A$62=\"Selon stock\",Stock!P60,Paramètres!J57)","v":"Fermentis BE-256"},null,{"$f":"IF(Brassage!$A$42=\"Selon stock\",Stock!U60,)","v":0}]
[{"$f":"IF(Brassage!$A$31=\"Selon stock\",Stock!A61,Paramètres!A58)","v":""},null,{"$f":"IF(Brassage!$A$58=\"Selon stock\",Stock!H61,Houblons!A57)","v":""},null,{"$f":"IF(Brassage!$A$62=\"Selon stock\",Stock!P61,Paramètres!J58)","v":"Imperial Yeast F08 Sour Batch Kidz"},null,{"$f":"IF(Brassage!$A$42=\"Selon stock\",Stock!U61,)","v":0}]
[{"$f":"IF(Brassage!$A$31=\"Selon stock\",Stock!A62,Paramètres!A59)","v":""},null,{"$f":"IF(Brassage!$A$58=\"Selon stock\",Stock!H62,Houblons!A58)","v":""},null,{"$f":"IF(Brassage!$A$62=\"Selon stock\",Stock!P62,Paramètres!J59)","v":"Imperial Yeast G01 Stefon"},null,{"$f":"IF(Brassage!$A$42=\"Selon stock\",Stock!U62,)","v":0}]
[{"$f":"IF(Brassage!$A$31=\"Selon stock\",Stock!A63,Paramètres!A60)","v":""},null,{"$f":"IF(Brassage!$A$58=\"Selon stock\",Stock!H63,Houblons!A59)","v":""},null,{"$f":"IF(Brassage!$A$62=\"Selon stock\",Stock!P63,Paramètres!J60)","v":"Imperial Yeast G02 Kaiser"},null,{"$f":"IF(Brassage!$A$42=\"Selon stock\",Stock!U63,)","v":0}]
[{"$f":"IF(Brassage!$A$31=\"Selon stock\",Stock!A64,Paramètres!A61)","v":""},null,{"$f":"IF(Brassage!$A$58=\"Selon stock\",Stock!H64,Houblons!A60)","v":""},null,{"$f":"IF(Brassage!$A$62=\"Selon stock\",Stock!P64,Paramètres!J61)","v":"Imperial Yeast G03 Dieter"},null,{"$f":"IF(Brassage!$A$42=\"Selon stock\",Stock!U64,)","v":0}]
[{"$f":"IF(Brassage!$A$31=\"Selon stock\",Stock!A65,Paramètres!A62)","v":""},null,{"$f":"IF(Brassage!$A$58=\"Selon stock\",Stock!H65,Houblons!A61)","v":""},null,{"$f":"IF(Brassage!$A$62=\"Selon stock\",Stock!P65,Paramètres!J62)","v":"GigaYeast GB001 BRUSSELS BRUXELLENSIS"},null,{"$f":"IF(Brassage!$A$42=\"Selon stock\",Stock!U65,)","v":0}]
[{"$f":"IF(Brassage!$A$31=\"Selon stock\",Stock!A66,Paramètres!A63)","v":""},null,{"$f":"IF(Brassage!$A$58=\"Selon stock\",Stock!H66,Houblons!A62)","v":""},null,{"$f":"IF(Brassage!$A$62=\"Selon stock\",Stock!P66,Paramètres!J63)","v":"GigaYeast GB002 TART CHERRY BRETT"},null,{"$f":"IF(Brassage!$A$42=\"Selon stock\",Stock!U66,)","v":0}]
[{"$f":"IF(Brassage!$A$31=\"Selon stock\",Stock!A67,Paramètres!A64)","v":""},null,{"$f":"IF(Brassage!$A$58=\"Selon stock\",Stock!H67,Houblons!A63)","v":""},null,{"$f":"IF(Brassage!$A$62=\"Selon stock\",Stock!P67,Paramètres!J64)","v":"GigaYeast GB110 GIGAYEAST LACTO"},null,{"$f":"IF(Brassage!$A$42=\"Selon stock\",Stock!U67,)","v":0}]
[{"$f":"IF(Brassage!$A$31=\"Selon stock\",Stock!A68,Paramètres!A65)","v":""},null,{"$f":"IF(Brassage!$A$58=\"Selon stock\",Stock!H68,Houblons!A64)","v":""},null,{"$f":"IF(Brassage!$A$62=\"Selon stock\",Stock!P68,Paramètres!J65)","v":"GigaYeast GB121 FARMHOUSE SOUR"},null,{"$f":"IF(Brassage!$A$42=\"Selon stock\",Stock!U68,)","v":0}]
[{"$f":"IF(Brassage!$A$31=\"Selon stock\",Stock!A69,Paramètres!A66)","v":""},null,{"$f":"IF(Brassage!$A$58=\"Selon stock\",Stock!H69,Houblons!A65)","v":""},null,{"$f":"IF(Brassage!$A$62=\"Selon stock\",Stock!P69,Paramètres!J66)","v":"GigaYeast GB122 BERLINER BLEND"},null,{"$f":"IF(Brassage!$A$42=\"Selon stock\",Stock!U69,)","v":0}]
[{"$f":"IF(Brassage!$A$31=\"Selon stock\",Stock!A70,Paramètres!A67)","v":""},null,{"$f":"IF(Brassage!$A$58=\"Selon stock\",Stock!H70,Houblons!A66)","v":""},null,{"$f":"IF(Brassage!$A$62=\"Selon stock\",Stock!P70,Paramètres!J67)","v":"GigaYeast GB123 SOUR PLUM BELGIAN"},null,{"$f":"IF(Brassage!$A$42=\"Selon stock\",Stock!U70,)","v":0}]
[{"$f":"IF(Brassage!$A$31=\"Selon stock\",Stock!A71,Paramètres!A68)","v":""},null,{"$f":"IF(Brassage!$A$58=\"Selon stock\",Stock!H71,Houblons!A67)","v":""},null,{"$f":"IF(Brassage!$A$62=\"Selon stock\",Stock!P71,Paramètres!J68)","v":"GigaYeast GB124 SAISON SOUR"},null,{"$f":"IF(Brassage!$A$42=\"Selon stock\",Stock!U71,)","v":0}]
[{"$f":"IF(Brassage!$A$31=\"Selon stock\",Stock!A72,Paramètres!A69)","v":""},null,{"$f":"IF(Brassage!$A$58=\"Selon stock\",Stock!H72,Houblons!A68)","v":""},null,{"$f":"IF(Brassage!$A$62=\"Selon stock\",Stock!P72,Paramètres!J69)","v":"GigaYeast GB144 SWEET FLEMISH BRETT"},null,{"$f":"IF(Brassage!$A$42=\"Selon stock\",Stock!U72,)","v":0}]
[{"$f":"IF(Brassage!$A$31=\"Selon stock\",Stock!A73,Paramètres!A70)","v":""},null,{"$f":"IF(Brassage!$A$58=\"Selon stock\",Stock!H73,Houblons!A69)","v":""},null,{"$f":"IF(Brassage!$A$62=\"Selon stock\",Stock!P73,Paramètres!J70)","v":"GigaYeast GB150 SOUR CHERRY FUNK"},null,{"$f":"IF(Brassage!$A$42=\"Selon stock\",Stock!U73,)","v":0}]
[{"$f":"IF(Brassage!$A$31=\"Selon stock\",Stock!A74,Paramètres!A71)","v":""},null,{"$f":"IF(Brassage!$A$58=\"Selon stock\",Stock!H74,Houblons!A70)","v":""},null,{"$f":"IF(Brassage!$A$62=\"Selon stock\",Stock!P74,Paramètres!J71)","v":"GigaYeast GB156 BRUX BLEND"},null,{"$f":"IF(Brassage!$A$42=\"Selon stock\",Stock!U74,)","v":0}]
[{"$f":"IF(Brassage!$A$31=\"Selon stock\",Stock!A75,Paramètres!A72)","v":""},null,{"$f":"IF(Brassage!$A$58=\"Selon stock\",Stock!H75,Houblons!A71)","v":""},null,{"$f":"IF(Brassage!$A$62=\"Selon stock\",Stock!P75,Paramètres!J72)","v":"GigaYeast GY001 NORCAL ALE #1"},null,{"$f":"IF(Brassage!$A$42=\"Selon stock\",Stock!U75,)","v":0}]
[{"$f":"IF(Brassage!$A$31=\"Selon stock\",Stock!A76,Paramètres!A73)","v":""},null,{"$f":"IF(Brassage!$A$58=\"Selon stock\",Stock!H76,Houblons!A72)","v":""},null,{"$f":"IF(Brassage!$A$62=\"Selon stock\",Stock!P76,Paramètres!J73)","v":"GigaYeast GY002 CZECH PILSNER"},null,{"$f":"IF(Brassage!$A$42=\"Selon stock\",Stock!U76,)","v":0}]
[{"$f":"IF(Brassage!$A$31=\"Selon stock\",Stock!A77,Paramètres!A74)","v":""},null,{"$f":"IF(Brassage!$A$58=\"Selon stock\",Stock!H77,Houblons!A73)","v":""},null,{"$f":"IF(Brassage!$A$62=\"Selon stock\",Stock!P77,Paramètres!J74)","v":"GigaYeast GY003 A TOUCH OF SPICE BELGIAN ALE"},null,{"$f":"IF(Brassage!$A$42=\"Selon stock\",Stock!U77,)","v":0}]
[{"$f":"IF(Brassage!$A$31=\"Selon stock\",Stock!A78,Paramètres!A75)","v":""},null,{"$f":"IF(Brassage!$A$58=\"Selon stock\",Stock!H78,Houblons!A74)","v":""},null,{"$f":"IF(Brassage!$A$62=\"Selon stock\",Stock!P78,Paramètres!J75)","v":"GigaYeast GY005 GOLDEN GATE LAGER"},null,{"$f":"IF(Brassage!$A$42=\"Selon stock\",Stock!U78,)","v":0}]
[{"$f":"IF(Brassage!$A$31=\"Selon stock\",Stock!A79,Paramètres!A76)","v":""},null,{"$f":"IF(Brassage!$A$58=\"Selon stock\",Stock!H79,Houblons!A75)","v":""},null,{"$f":"IF(Brassage!$A$62=\"Selon stock\",Stock!P79,Paramètres!J76)","v":"GigaYeast GY007 BELGIAN MIX"},null,{"$f":"IF(Brassage!$A$42=\"Selon stock\",Stock!U79,)","v":0}]
[{"$f":"IF(Brassage!$A$31=\"Selon stock\",Stock!A80,Paramètres!A77)","v":""},null,{"$f":"IF(Brassage!$A$58=\"Selon stock\",Stock!H80,Houblons!A76)","v":""},null,{"$f":"IF(Brassage!$A$62=\"Selon stock\",Stock!P80,Paramètres!J77)","v":"GigaYeast GY011 BRITISH ALE #1"},null,{"$f":"IF(Brassage!$A$42=\"Selon stock\",Stock!U80,)","v":0}]
[{"$f":"IF(Brassage!$A$31=\"Selon stock\",Stock!A81,Paramètres!A78)","v":""},null,{"$f":"IF(Brassage!$A$58=\"Selon stock\",Stock!H81,Houblons!A77)","v":""},null,{"$f":"IF(Brassage!$A$62=\"Selon stock\",Stock!P81,Paramètres!J78)","v":"GigaYeast GY014 BELGIAN ABBEY ALE"},null,{"$f":"IF(Brassage!$A$42=\"Selon stock\",Stock!U81,)","v":0}]
[{"$f":"IF(Brassage!$A$31=\"Selon stock\",Stock!A82,Paramètres!A79)","v":""},null,{"$f":"IF(Brassage!$A$58=\"Selon stock\",Stock!H82,Houblons!A78)","v":""},null,{"$f":"IF(Brassage!$A$62=\"Selon stock\",Stock!P82,Paramètres!J79)","v":"GigaYeast GY015 BELGIAN TRIPEL"},null,{"$f":"IF(Brassage!$A$42=\"Selon stock\",Stock!U82,)","v":0}]
[{"$f":"IF(Brassage!$A$31=\"Selon stock\",Stock!A83,Paramètres!A80)","v":""},null,{"$f":"IF(Brassage!$A$58=\"Selon stock\",Stock!H83,Houblons!A79)","v":""},null,{"$f":"IF(Brassage!$A$62=\"Selon stock\",Stock!P83,Paramètres!J80)","v":"GigaYeast GY016 ALTSTADT ALE"},null,{"$f":"IF(Brassage!$A$42=\"Selon stock\",Stock!U83,)","v":0}]
[{"$f":"IF(Brassage!$A$31=\"Selon stock\",Stock!A84,Paramètres!A81)","v":""},null,{"$f":"IF(Brassage!$A$58=\"Selon stock\",Stock!H84,Houblons!A80)","v":""},null,{"$f":"IF(Brassage!$A$62=\"Selon stock\",Stock!P84,Paramètres!J81)","v":"GigaYeast GY017 BAVARIAN HEFE"},null,{"$f":"IF(Brassage!$A$42=\"Selon stock\",Stock!U84,)","v":0}]
[{"$f":"IF(Brassage!$A$31=\"Selon stock\",Stock!A85,Paramètres!A82)","v":""},null,{"$f":"IF(Brassage!$A$58=\"Selon stock\",Stock!H85,Houblons!A81)","v":""},null,{"$f":"IF(Brassage!$A$62=\"Selon stock\",Stock!P85,Paramètres!J82)","v":"GigaYeast GY018 SAISON #1"},null,{"$f":"IF(Brassage!$A$42=\"Selon stock\",Stock!U85,)","v":0}]
[{"$f":"IF(Brassage!$A$31=\"Selon stock\",Stock!A86,Paramètres!A83)","v":""},null,{"$f":"IF(Brassage!$A$58=\"Selon stock\",Stock!H86,Houblons!A82)","v":""},null,{"$f":"IF(Brassage!$A$62=\"Selon stock\",Stock!P86,Paramètres!J83)","v":"GigaYeast GY020 PORTLAND HEFE"},null,{"$f":"IF(Brassage!$A$42=\"Selon stock\",Stock!U86,)","v":0}]
[{"$f":"IF(Brassage!$A$31=\"Selon stock\",Stock!A87,Paramètres!A84)","v":""},null,{"$f":"IF(Brassage!$A$58=\"Selon stock\",Stock!H87,Houblons!A83)","v":""},null,{"$f":"IF(Brassage!$A$62=\"Selon stock\",Stock!P87,Paramètres!J84)","v":"GigaYeast GY021 KÖLSCH BIER"},null,{"$f":"IF(Brassage!$A$42=\"Selon stock\",Stock!U87,)","v":0}]
[{"$f":"IF(Brassage!$A$31=\"Selon stock\",Stock!A88,Paramètres!A85)","v":""},null,{"$f":"IF(Brassage!$A$58=\"Selon stock\",Stock!H88,Houblons!A84)","v":""},null,{"$f":"IF(Brassage!$A$62=\"Selon stock\",Stock!P88,Paramètres!J85)","v":"GigaYeast GY027 SAISON #2"},null,{"$f":"IF(Brassage!$A$42=\"Selon stock\",Stock!U88,)","v":0}]
[{"$f":"IF(Brassage!$A$31=\"Selon stock\",Stock!A89,Paramètres!A86)","v":""},null,{"$f":"IF(Brassage!$A$58=\"Selon stock\",Stock!H89,Houblons!A85)","v":""},null,{"$f":"IF(Brassage!$A$62=\"Selon stock\",Stock!P89,Paramètres!J86)","v":"GigaYeast GY028 BELGIAN WIT"},null,{"$f":"IF(Brassage!$A$42=\"Selon stock\",Stock!U89,)","v":0}]
[{"$f":"IF(Brassage!$A$31=\"Selon stock\",Stock!A90,Paramètres!A87)","v":""},null,{"$f":"IF(Brassage!$A$58=\"Selon stock\",Stock!H90,Houblons!A86)","v":""},null,{"$f":"IF(Brassage!$A$62=\"Selon stock\",Stock!P90,Paramètres!J87)","v":"GigaYeast GY030 AMERICAN LAGER"},null,{"$f":"IF(Brassage!$A$42=\"Selon stock\",Stock!U90,)","v":0}]
[{"$f":"IF(Brassage!$A$31=\"Selon stock\",Stock!A91,Paramètres!A88)","v":""},null,{"$f":"IF(Brassage!$A$58=\"Selon stock\",Stock!H91,Houblons!A87)","v":""},null,{"$f":"IF(Brassage!$A$62=\"Selon stock\",Stock!P91,Paramètres!J88)","v":"GigaYeast GY031 BRITISH ALE #2"},null,{"$f":"IF(Brassage!$A$42=\"Selon stock\",Stock!U91,)","v":0}]
[{"$f":"IF(Brassage!$A$31=\"Selon stock\",Stock!A92,Paramètres!A89)","v":""},null,{"$f":"IF(Brassage!$A$58=\"Selon stock\",Stock!H92,Houblons!A88)","v":""},null,{"$f":"IF(Brassage!$A$62=\"Selon stock\",Stock!P92,Paramètres!J89)","v":"GigaYeast GY044 SCOTCH ALE #1"},null,{"$f":"IF(Brassage!$A$42=\"Selon stock\",Stock!U92,)","v":0}]
[{"$f":"IF(Brassage!$A$31=\"Selon stock\",Stock!A93,Paramètres!A90)","v":""},null,{"$f":"IF(Brassage!$A$58=\"Selon stock\",Stock!H93,Houblons!A89)","v":""},null,{"$f":"IF(Brassage!$A$62=\"Selon stock\",Stock!P93,Paramètres!J90)","v":"GigaYeast GY045 GERMAN LAGER"},null,{"$f":"IF(Brassage!$A$42=\"Selon stock\",Stock!U93,)","v":0}]
[{"$f":"IF(Brassage!$A$31=\"Selon stock\",Stock!A94,Paramètres!A91)","v":""},null,{"$f":"IF(Brassage!$A$58=\"Selon stock\",Stock!H94,Houblons!A90)","v":""},null,{"$f":"IF(Brassage!$A$62=\"Selon stock\",Stock!P94,Paramètres!J91)","v":"GigaYeast GY047 SAISON BLEND"},null,{"$f":"IF(Brassage!$A$42=\"Selon stock\",Stock!U94,)","v":0}]
[{"$f":"IF(Brassage!$A$31=\"Selon stock\",Stock!A95,Paramètres!A92)","v":""},null,{"$f":"IF(Brassage!$A$58=\"Selon stock\",Stock!H95,Houblons!A91)","v":""},null,{"$f":"IF(Brassage!$A$62=\"Selon stock\",Stock!P95,Paramètres!J92)","v":"GigaYeast GY048 GOLDEN PEAR BELGIAN"},null,{"$f":"IF(Brassage!$A$42=\"Selon stock\",Stock!U95,)","v":0}]
[{"$f":"IF(Brassage!$A$31=\"Selon stock\",Stock!A96,Paramètres!A93)","v":""},null,{"$f":"IF(Brassage!$A$58=\"Selon stock\",Stock!H96,Houblons!A92)","v":""},null,{"$f":"IF(Brassage!$A$62=\"Selon stock\",Stock!P96,Paramètres!J93)","v":"GigaYeast GY054 VERMONT IPA"},null,{"$f":"IF(Brassage!$A$42=\"Selon stock\",Stock!U96,)","v":0}]
[{"$f":"IF(Brassage!$A$31=\"Selon stock\",Stock!A97,Paramètres!A94)","v":""},null,{"$f":"IF(Brassage!$A$58=\"Selon stock\",Stock!H97,Houblons!A93)","v":""},null,{"$f":"IF(Brassage!$A$62=\"Selon stock\",Stock!P97,Paramètres!J94)","v":"GigaYeast GY077 QUEBEC ABBEY ALE"},null,{"$f":"IF(Brassage!$A$42=\"Selon stock\",Stock!U97,)","v":0}]
[{"$f":"IF(Brassage!$A$31=\"Selon stock\",Stock!A98,Paramètres!A95)","v":""},null,{"$f":"IF(Brassage!$A$58=\"Selon stock\",Stock!H98,Houblons!A94)","v":""},null,{"$f":"IF(Brassage!$A$62=\"Selon stock\",Stock!P98,Paramètres!J95)","v":"GigaYeast GY080 IRISH STOUT"},null,{"$f":"IF(Brassage!$A$42=\"Selon stock\",Stock!U98,)","v":0}]
[{"$f":"IF(Brassage!$A$31=\"Selon stock\",Stock!A99,Paramètres!A96)","v":""},null,{"$f":"IF(Brassage!$A$58=\"Selon stock\",Stock!H99,Houblons!A95)","v":""},null,{"$f":"IF(Brassage!$A$62=\"Selon stock\",Stock!P99,Paramètres!J96)","v":"Fermentis HA-18"},null,{"$f":"IF(Brassage!$A$42=\"Selon stock\",Stock!U99,)","v":0}]
[{"$f":"IF(Brassage!$A$31=\"Selon stock\",Stock!A100,Paramètres!A97)","v":""},null,{"$f":"IF(Brassage!$A$58=\"Selon stock\",Stock!H100,Houblons!A96)","v":""},null,{"$f":"IF(Brassage!$A$62=\"Selon stock\",Stock!P100,Paramètres!J97)","v":"Fermentis K-97"},null,{"$f":"IF(Brassage!$A$42=\"Selon stock\",Stock!U100,)","v":0}]
[{"$f":"IF(Brassage!$A$31=\"Selon stock\",Stock!A101,Paramètres!A98)","v":0},null,{"$f":"IF(Brassage!$A$58=\"Selon stock\",Stock!H101,Houblons!A97)","v":0},null,{"$f":"IF(Brassage!$A$62=\"Selon stock\",Stock!P101,Paramètres!J98)","v":"Imperial Yeast L05 Cablecar"},null,{"$f":"IF(Brassage!$A$42=\"Selon stock\",Stock!U101,)","v":0}]
[{"$f":"IF(Brassage!$A$31=\"Selon stock\",Stock!A102,Paramètres!A99)","v":0},null,{"$f":"IF(Brassage!$A$58=\"Selon stock\",Stock!H102,Houblons!A98)","v":0},null,{"$f":"IF(Brassage!$A$62=\"Selon stock\",Stock!P102,Paramètres!J99)","v":"Imperial Yeast L13 Global"},null,{"$f":"IF(Brassage!$A$42=\"Selon stock\",Stock!U102,)","v":0}]
[{"$f":"IF(Brassage!$A$31=\"Selon stock\",Stock!A103,Paramètres!A100)","v":0},null,{"$f":"IF(Brassage!$A$58=\"Selon stock\",Stock!H103,Houblons!A99)","v":0},null,{"$f":"IF(Brassage!$A$62=\"Selon stock\",Stock!P103,Paramètres!J100)","v":"Imperial Yeast L17 Harvest"},null,{"$f":"IF(Brassage!$A$42=\"Selon stock\",Stock!U103,)","v":0}]
[{"$f":"IF(Brassage!$A$31=\"Selon stock\",Stock!A104,Paramètres!A101)","v":0},null,{"$f":"IF(Brassage!$A$58=\"Selon stock\",Stock!H104,Houblons!A100)","v":0},null,{"$f":"IF(Brassage!$A$62=\"Selon stock\",Stock!P104,Paramètres!J101)","v":"Imperial Yeast L28 Urkel"},null,{"$f":"IF(Brassage!$A$42=\"Selon stock\",Stock!U104,)","v":0}]
[{"$f":"IF(Brassage!$A$31=\"Selon stock\",Stock!A105,Paramètres!A102)","v":0},null,{"$f":"IF(Brassage!$A$58=\"Selon stock\",Stock!H105,Houblons!A101)","v":0},null,{"$f":"IF(Brassage!$A$62=\"Selon stock\",Stock!P105,Paramètres!J102)","v":"Mangrove Jack M02 Cider"},null,{"$f":"IF(Brassage!$A$42=\"Selon stock\",Stock!U105,)","v":0}]
[{"$f":"IF(Brassage!$A$31=\"Selon stock\",Stock!A106,Paramètres!A103)","v":0},null,{"$f":"IF(Brassage!$A$58=\"Selon stock\",Stock!H106,Houblons!A102)","v":0},null,{"$f":"IF(Brassage!$A$62=\"Selon stock\",Stock!P106,Paramètres!J103)","v":"Mangrove Jack M05 Mead"},null,{"$f":"IF(Brassage!$A$42=\"Selon stock\",Stock!U106,)","v":0}]
[{"$f":"IF(Brassage!$A$31=\"Selon stock\",Stock!A107,Paramètres!A104)","v":0},null,{"$f":"IF(Brassage!$A$58=\"Selon stock\",Stock!H107,Houblons!A103)","v":0},null,{"$f":"IF(Brassage!$A$62=\"Selon stock\",Stock!P107,Paramètres!J104)","v":"Mangrove Jack M15 Empire Ale"},null,{"$f":"IF(Brassage!$A$42=\"Selon stock\",Stock!U107,)","v":0}]
[{"$f":"IF(Brassage!$A$31=\"Selon stock\",Stock!A108,Paramètres!A105)","v":0},null,{"$f":"IF(Brassage!$A$58=\"Selon stock\",Stock!H108,Houblons!A104)","v":0},null,{"$f":"IF(Brassage!$A$62=\"Selon stock\",Stock!P108,Paramètres!J105)","v":"Mangrove Jack M20 Bavarian Wheat"},null,{"$f":"IF(Brassage!$A$42=\"Selon stock\",Stock!U108,)","v":0}]
[{"$f":"IF(Brassage!$A$31=\"Selon stock\",Stock!A109,Paramètres!A106)","v":0},null,{"$f":"IF(Brassage!$A$58=\"Selon stock\",Stock!H109,Houblons!A105)","v":0},null,{"$f":"IF(Brassage!$A$62=\"Selon stock\",Stock!P109,Paramètres!J106)","v":"Mangrove Jack M21 Belgian Wit"},null,{"$f":"IF(Brassage!$A$42=\"Selon stock\",Stock!U109,)","v":0}]
[{"$f":"IF(Brassage!$A$31=\"Selon stock\",Stock!A110,Paramètres!A107)","v":0},null,{"$f":"IF(Brassage!$A$58=\"Selon stock\",Stock!H110,Houblons!A106)","v":0},null,{"$f":"IF(Brassage!$A$62=\"Selon stock\",Stock!P110,Paramètres!J107)","v":"Mangrove Jack M29 French Saison Ale"},null,{"$f":"IF(Brassage!$A$42=\"Selon stock\",Stock!U110,)","v":0}]
[{"$f":"IF(Brassage!$A$31=\"Selon stock\",Stock!A111,Paramètres!A108)","v":0},null,{"$f":"IF(Brassage!$A$58=\"Selon stock\",Stock!H111,Houblons!A107)","v":0},null,{"$f":"IF(Brassage!$A$62=\"Selon stock\",Stock!P111,Paramètres!J108)","v":"Mangrove Jack M31 Belgian Tripel"},null,{"$f":"IF(Brassage!$A$42=\"Selon stock\",Stock!U111,)","v":0}]
[{"$f":"IF(Brassage!$A$31=\"Selon stock\",Stock!A112,Paramètres!A109)","v":0},null,{"$f":"IF(Brassage!$A$58=\"Selon stock\",Stock!H112,Houblons!A108)","v":0},null,{"$f":"IF(Brassage!$A$62=\"Selon stock\",Stock!P112,Paramètres!J109)","v":"Mangrove Jack M36 Liberty Bell Ale"},null,{"$f":"IF(Brassage!$A$42=\"Selon stock\",Stock!U112,)","v":0}]
[{"$f":"IF(Brassage!$A$31=\"Selon stock\",Stock!A113,Paramètres!A110)","v":0},null,{"$f":"IF(Brassage!$A$58=\"Selon stock\",Stock!H113,Houblons!A109)","v":0},null,{"$f":"IF(Brassage!$A$62=\"Selon stock\",Stock!P113,Paramètres!J110)","v":"Mangrove Jack M41 Belgian Ale"},null,{"$f":"IF(Brassage!$A$42=\"Selon stock\",Stock!U113,)","v":0}]
[{"$f":"IF(Brassage!$A$31=\"Selon stock\",Stock!A114,Paramètres!A111)","v":0},null,{"$f":"IF(Brassage!$A$58=\"Selon stock\",Stock!H114,Houblons!A110)","v":0},null,{"$f":"IF(Brassage!$A$62=\"Selon stock\",Stock!P114,Paramètres!J111)","v":"Mangrove Jack M42 New World Strong Ale"},null,{"$f":"IF(Brassage!$A$42=\"Selon stock\",Stock!U114,)","v":0}]
[{"$f":"IF(Brassage!$A$31=\"Selon stock\",Stock!A115,Paramètres!A112)","v":0},null,{"$f":"IF(Brassage!$A$58=\"Selon stock\",Stock!H115,Houblons!A111)","v":0},null,{"$f":"IF(Brassage!$A$62=\"Selon stock\",Stock!P115,Paramètres!J112)","v":"Mangrove Jack M44 US West Coast"},null,{"$f":"IF(Brassage!$A$42=\"Selon stock\",Stock!U115,)","v":0}]
[{"$f":"IF(Brassage!$A$31=\"Selon stock\",Stock!A116,Paramètres!A113)","v":0},null,{"$f":"IF(Brassage!$A$58=\"Selon stock\",Stock!H116,Houblons!A112)","v":0},null,{"$f":"IF(Brassage!$A$62=\"Selon stock\",Stock!P116,Paramètres!J113)","v":"Mangrove Jack M47 Belgian Abbey"},null,{"$f":"IF(Brassage!$A$42=\"Selon stock\",Stock!U116,)","v":0}]
[{"$f":"IF(Brassage!$A$31=\"Selon stock\",Stock!A117,Paramètres!A114)","v":0},null,{"$f":"IF(Brassage!$A$58=\"Selon stock\",Stock!H117,Houblons!A113)","v":0},null,{"$f":"IF(Brassage!$A$62=\"Selon stock\",Stock!P117,Paramètres!J114)","v":"Mangrove Jack M54 Californian Lager"},null,{"$f":"IF(Brassage!$A$42=\"Selon stock\",Stock!U117,)","v":0}]
[{"$f":"IF(Brassage!$A$31=\"Selon stock\",Stock!A118,Paramètres!A115)","v":0},null,{"$f":"IF(Brassage!$A$58=\"Selon stock\",Stock!H118,Houblons!A114)","v":0},null,{"$f":"IF(Brassage!$A$62=\"Selon stock\",Stock!P118,Paramètres!J115)","v":"Mangrove Jack M76 Bavarian Lager"},null,{"$f":"IF(Brassage!$A$42=\"Selon stock\",Stock!U118,)","v":0}]
[{"$f":"IF(Brassage!$A$31=\"Selon stock\",Stock!A119,Paramètres!A116)","v":0},null,{"$f":"IF(Brassage!$A$58=\"Selon stock\",Stock!H119,Houblons!A115)","v":0},null,{"$f":"IF(Brassage!$A$62=\"Selon stock\",Stock!P119,Paramètres!J116)","v":"Mangrove Jack M84 Bohemian Lager"},null,{"$f":"IF(Brassage!$A$42=\"Selon stock\",Stock!U119,)","v":0}]
[{"$f":"IF(Brassage!$A$31=\"Selon stock\",Stock!A120,Paramètres!A117)","v":0},null,{"$f":"IF(Brassage!$A$58=\"Selon stock\",Stock!H120,Houblons!A116)","v":0},null,{"$f":"IF(Brassage!$A$62=\"Selon stock\",Stock!P120,Paramètres!J117)","v":"Fermentis S-04"},null,{"$f":"IF(Brassage!$A$42=\"Selon stock\",Stock!U120,)","v":0}]
[{"$f":"IF(Brassage!$A$31=\"Selon stock\",Stock!A121,Paramètres!A118)","v":0},null,{"$f":"IF(Brassage!$A$58=\"Selon stock\",Stock!H121,Houblons!A117)","v":0},null,{"$f":"IF(Brassage!$A$62=\"Selon stock\",Stock!P121,Paramètres!J118)","v":"Fermentis S-189"},null,{"$f":"IF(Brassage!$A$42=\"Selon stock\",Stock!U121,)","v":0}]
[{"$f":"IF(Brassage!$A$31=\"Selon stock\",Stock!A122,Paramètres!A119)","v":0},null,{"$f":"IF(Brassage!$A$58=\"Selon stock\",Stock!H122,Houblons!A118)","v":0},null,{"$f":"IF(Brassage!$A$62=\"Selon stock\",Stock!P122,Paramètres!J119)","v":"Fermentis S-23"},null,{"$f":"IF(Brassage!$A$42=\"Selon stock\",Stock!U122,)","v":0}]
[{"$f":"IF(Brassage!$A$31=\"Selon stock\",Stock!A123,Paramètres!A120)","v":0},null,{"$f":"IF(Brassage!$A$58=\"Selon stock\",Stock!H123,Houblons!A119)","v":0},null,{"$f":"IF(Brassage!$A$62=\"Selon stock\",Stock!P123,Paramètres!J120)","v":"Fermentis S-33"},null,{"$f":"IF(Brassage!$A$42=\"Selon stock\",Stock!U123,)","v":0}]
[{"$f":"IF(Brassage!$A$31=\"Selon stock\",Stock!A124,Paramètres!A121)","v":0},null,{"$f":"IF(Brassage!$A$58=\"Selon stock\",Stock!H124,Houblons!A120)","v":0},null,{"$f":"IF(Brassage!$A$62=\"Selon stock\",Stock!P124,Paramètres!J121)","v":"Fermentis T-58"},null,{"$f":"IF(Brassage!$A$42=\"Selon stock\",Stock!U124,)","v":0}]
[{"$f":"IF(Brassage!$A$31=\"Selon stock\",Stock!A125,Paramètres!A122)","v":0},null,{"$f":"IF(Brassage!$A$58=\"Selon stock\",Stock!H125,Houblons!A121)","v":0},null,{"$f":"IF(Brassage!$A$62=\"Selon stock\",Stock!P125,Paramètres!J122)","v":"The Yeast Bay  TYB184  BRETTANOMYCES BRUXELLENSIS\nSTRAI"},null,{"$f":"IF(Brassage!$A$42=\"Selon stock\",Stock!U125,)","v":0}]
[{"$f":"IF(Brassage!$A$31=\"Selon stock\",Stock!A126,Paramètres!A123)","v":0},null,{"$f":"IF(Brassage!$A$58=\"Selon stock\",Stock!H126,Houblons!A122)","v":0},null,{"$f":"IF(Brassage!$A$62=\"Selon stock\",Stock!P126,Paramètres!J123)","v":"The Yeast Bay  TYB184  BRETTANOMYCES BRUXELLENSIS\nSTRAI"},null,{"$f":"IF(Brassage!$A$42=\"Selon stock\",Stock!U126,)","v":0}]
[{"$f":"IF(Brassage!$A$31=\"Selon stock\",Stock!A127,Paramètres!A124)","v":0},null,{"$f":"IF(Brassage!$A$58=\"Selon stock\",Stock!H127,Houblons!A123)","v":0},null,{"$f":"IF(Brassage!$A$62=\"Selon stock\",Stock!P127,Paramètres!J124)","v":"The Yeast Bay  TYB207  BRETTANOMYCES BRUXELLENSIS\nSTRAI"},null,{"$f":"IF(Brassage!$A$42=\"Selon stock\",Stock!U127,)","v":0}]
[{"$f":"IF(Brassage!$A$31=\"Selon stock\",Stock!A128,Paramètres!A125)","v":0},null,{"$f":"IF(Brassage!$A$58=\"Selon stock\",Stock!H128,Houblons!A124)","v":0},null,{"$f":"IF(Brassage!$A$62=\"Selon stock\",Stock!P128,Paramètres!J125)","v":"The Yeast Bay  TYB261  BRETTANOMYCES BRUXELLENSIS\nSTRAI"},null,{"$f":"IF(Brassage!$A$42=\"Selon stock\",Stock!U128,)","v":0}]
[{"$f":"IF(Brassage!$A$31=\"Selon stock\",Stock!A129,Paramètres!A126)","v":0},null,{"$f":"IF(Brassage!$A$58=\"Selon stock\",Stock!H129,Houblons!A125)","v":0},null,{"$f":"IF(Brassage!$A$62=\"Selon stock\",Stock!P129,Paramètres!J126)","v":"The Yeast Bay  TYB282  LACTOBACILLUS BREVIS\nSTRAI"},null,{"$f":"IF(Brassage!$A$42=\"Selon stock\",Stock!U129,)","v":0}]
[{"$f":"IF(Brassage!$A$31=\"Selon stock\",Stock!A130,Paramètres!A127)","v":0},null,{"$f":"IF(Brassage!$A$58=\"Selon stock\",Stock!H130,Houblons!A126)","v":0},null,{"$f":"IF(Brassage!$A$62=\"Selon stock\",Stock!P130,Paramètres!J127)","v":"The Yeast Bay  TYB307  BRETTANOMYCES BRUXELLENSIS\nSTRAI"},null,{"$f":"IF(Brassage!$A$42=\"Selon stock\",Stock!U130,)","v":0}]
[{"$f":"IF(Brassage!$A$31=\"Selon stock\",Stock!A131,Paramètres!A128)","v":0},null,{"$f":"IF(Brassage!$A$58=\"Selon stock\",Stock!H131,Houblons!A127)","v":0},null,{"$f":"IF(Brassage!$A$62=\"Selon stock\",Stock!P131,Paramètres!J128)","v":"Fermentis US-05"},null,{"$f":"IF(Brassage!$A$42=\"Selon stock\",Stock!U131,)","v":0}]
[{"$f":"IF(Brassage!$A$31=\"Selon stock\",Stock!A132,Paramètres!A129)","v":0},null,{"$f":"IF(Brassage!$A$58=\"Selon stock\",Stock!H132,Houblons!A128)","v":0},null,{"$f":"IF(Brassage!$A$62=\"Selon stock\",Stock!P132,Paramètres!J129)","v":"Imperial Yeast W15 Suburban Brett"},null,{"$f":"IF(Brassage!$A$42=\"Selon stock\",Stock!U132,)","v":0}]
[{"$f":"IF(Brassage!$A$31=\"Selon stock\",Stock!A133,Paramètres!A130)","v":0},null,{"$f":"IF(Brassage!$A$58=\"Selon stock\",Stock!H133,Houblons!A129)","v":0},null,{"$f":"IF(Brassage!$A$62=\"Selon stock\",Stock!P133,Paramètres!J130)","v":"Fermentis W-34/70"},null,{"$f":"IF(Brassage!$A$42=\"Selon stock\",Stock!U133,)","v":0}]
[{"$f":"IF(Brassage!$A$31=\"Selon stock\",Stock!A134,Paramètres!A131)","v":0},null,{"$f":"IF(Brassage!$A$58=\"Selon stock\",Stock!H134,Houblons!A130)","v":0},null,{"$f":"IF(Brassage!$A$62=\"Selon stock\",Stock!P134,Paramètres!J131)","v":"Fermentis WB-06"},null,{"$f":"IF(Brassage!$A$42=\"Selon stock\",Stock!U134,)","v":0}]
[{"$f":"IF(Brassage!$A$31=\"Selon stock\",Stock!A135,Paramètres!A132)","v":0},null,{"$f":"IF(Brassage!$A$58=\"Selon stock\",Stock!H135,Houblons!A131)","v":0},null,{"$f":"IF(Brassage!$A$62=\"Selon stock\",Stock!P135,Paramètres!J132)","v":"Whitelabs WLP001 California Ale Yeast"},null,{"$f":"IF(Brassage!$A$42=\"Selon stock\",Stock!U135,)","v":0}]
[{"$f":"IF(Brassage!$A$31=\"Selon stock\",Stock!A136,Paramètres!A133)","v":0},null,{"$f":"IF(Brassage!$A$58=\"Selon stock\",Stock!H136,Houblons!A132)","v":0},null,{"$f":"IF(Brassage!$A$62=\"Selon stock\",Stock!P136,Paramètres!J133)","v":"Whitelabs WLP002 English Ale Yeast"},null,{"$f":"IF(Brassage!$A$42=\"Selon stock\",Stock!U136,)","v":0}]
[{"$f":"IF(Brassage!$A$31=\"Selon stock\",Stock!A137,Paramètres!A134)","v":0},null,{"$f":"IF(Brassage!$A$58=\"Selon stock\",Stock!H137,Houblons!A133)","v":0},null,{"$f":"IF(Brassage!$A$62=\"Selon stock\",Stock!P137,Paramètres!J134)","v":"Whitelabs WLP003 German Ale II Yeast"},null,{"$f":"IF(Brassage!$A$42=\"Selon stock\",Stock!U137,)","v":0}]
[{"$f":"IF(Brassage!$A$31=\"Selon stock\",Stock!A138,Paramètres!A135)","v":0},null,{"$f":"IF(Brassage!$A$58=\"Selon stock\",Stock!H138,Houblons!A134)","v":0},null,{"$f":"IF(Brassage!$A$62=\"Selon stock\",Stock!P138,Paramètres!J135)","v":"Whitelabs WLP004 Irish Ale Yeast"},null,{"$f":"IF(Brassage!$A$42=\"Selon stock\",Stock!U138,)","v":0}]
[{"$f":"IF(Brassage!$A$31=\"Selon stock\",Stock!A139,Paramètres!A136)","v":0},null,{"$f":"IF(Brassage!$A$58=\"Selon stock\",Stock!H139,Houblons!A135)","v":0},null,{"$f":"IF(Brassage!$A$62=\"Selon stock\",Stock!P139,Paramètres!J136)","v":"Whitelabs WLP005 British Ale Yeast"},null,{"$f":"IF(Brassage!$A$42=\"Selon stock\",Stock!U139,)","v":0}]
[{"$f":"IF(Brassage!$A$31=\"Selon stock\",Stock!A140,Paramètres!A137)","v":0},null,{"$f":"IF(Brassage!$A$58=\"Selon stock\",Stock!H140,Houblons!A136)","v":0},null,{"$f":"IF(Brassage!$A$62=\"Selon stock\",Stock!P140,Paramètres!J137)","v":"Whitelabs WLP006 Bedford British Ale Yeast"},null,{"$f":"IF(Brassage!$A$42=\"Selon stock\",Stock!U140,)","v":0}]
[{"$f":"IF(Brassage!$A$31=\"Selon stock\",Stock!A141,Paramètres!A138)","v":0},null,{"$f":"IF(Brassage!$A$58=\"Selon stock\",Stock!H141,Houblons!A137)","v":0},null,{"$f":"IF(Brassage!$A$62=\"Selon stock\",Stock!P141,Paramètres!J138)","v":"Whitelabs WLP007 Dry English Ale Yeast"},null,{"$f":"IF(Brassage!$A$42=\"Selon stock\",Stock!U141,)","v":0}]
[{"$f":"IF(Brassage!$A$31=\"Selon stock\",Stock!A142,Paramètres!A139)","v":0},null,{"$f":"IF(Brassage!$A$58=\"Selon stock\",Stock!H142,Houblons!A138)","v":0},null,{"$f":"IF(Brassage!$A$62=\"Selon stock\",Stock!P142,Paramètres!J139)","v":"Whitelabs WLP008 East Coast Ale Yeast"},null,{"$f":"IF(Brassage!$A$42=\"Selon stock\",Stock!U142,)","v":0}]
[{"$f":"IF(Brassage!$A$31=\"Selon stock\",Stock!A143,Paramètres!A140)","v":0},null,{"$f":"IF(Brassage!$A$58=\"Selon stock\",Stock!H143,Houblons!A139)","v":0},null,{"$f":"IF(Brassage!$A$62=\"Selon stock\",Stock!P143,Paramètres!J140)","v":"Whitelabs WLP009 Australian Ale Yeast"},null,{"$f":"IF(Brassage!$A$42=\"Selon stock\",Stock!U143,)","v":0}]
[{"$f":"IF(Brassage!$A$31=\"Selon stock\",Stock!A144,Paramètres!A141)","v":0},null,{"$f":"IF(Brassage!$A$58=\"Selon stock\",Stock!H144,Houblons!A140)","v":0},null,{"$f":"IF(Brassage!$A$62=\"Selon stock\",Stock!P144,Paramètres!J141)","v":"Whitelabs WLP011 European Ale Yeast"},null,{"$f":"IF(Brassage!$A$42=\"Selon stock\",Stock!U144,)","v":0}]
[{"$f":"IF(Brassage!$A$31=\"Selon stock\",Stock!A145,Paramètres!A142)","v":0},null,{"$f":"IF(Brassage!$A$58=\"Selon stock\",Stock!H145,Houblons!A141)","v":0},null,{"$f":"IF(Brassage!$A$62=\"Selon stock\",Stock!P145,Paramètres!J142)","v":"Whitelabs WLP013 London Ale Yeast"},null,{"$f":"IF(Brassage!$A$42=\"Selon stock\",Stock!U145,)","v":0}]
[{"$f":"IF(Brassage!$A$31=\"Selon stock\",Stock!A146,Paramètres!A143)","v":0},null,{"$f":"IF(Brassage!$A$58=\"Selon stock\",Stock!H146,Houblons!A142)","v":0},null,{"$f":"IF(Brassage!$A$62=\"Selon stock\",Stock!P146,Paramètres!J143)","v":"Whitelabs WLP017 Whitbread II Ale Yeast"},null,{"$f":"IF(Brassage!$A$42=\"Selon stock\",Stock!U146,)","v":0}]
[{"$f":"IF(Brassage!$A$31=\"Selon stock\",Stock!A147,Paramètres!A144)","v":0},null,{"$f":"IF(Brassage!$A$58=\"Selon stock\",Stock!H147,Houblons!A143)","v":0},null,{"$f":"IF(Brassage!$A$62=\"Selon stock\",Stock!P147,Paramètres!J144)","v":"Whitelabs WLP022 Essex Ale Yeast"},null,{"$f":"IF(Brassage!$A$42=\"Selon stock\",Stock!U147,)","v":0}]
[{"$f":"IF(Brassage!$A$31=\"Selon stock\",Stock!A148,Paramètres!A145)","v":0},null,{"$f":"IF(Brassage!$A$58=\"Selon stock\",Stock!H148,Houblons!A144)","v":0},null,{"$f":"IF(Brassage!$A$62=\"Selon stock\",Stock!P148,Paramètres!J145)","v":"Whitelabs WLP023 Burton Ale Yeast"},null,{"$f":"IF(Brassage!$A$42=\"Selon stock\",Stock!U148,)","v":0}]
[{"$f":"IF(Brassage!$A$31=\"Selon stock\",Stock!A149,Paramètres!A146)","v":0},null,{"$f":"IF(Brassage!$A$58=\"Selon stock\",Stock!H149,Houblons!A145)","v":0},null,{"$f":"IF(Brassage!$A$62=\"Selon stock\",Stock!P149,Paramètres!J146)","v":"Whitelabs WLP025 Southwold Ale Yeast"},null,{"$f":"IF(Brassage!$A$42=\"Selon stock\",Stock!U149,)","v":0}]
[{"$f":"IF(Brassage!$A$31=\"Selon stock\",Stock!A150,Paramètres!A147)","v":0},null,{"$f":"IF(Brassage!$A$58=\"Selon stock\",Stock!H150,Houblons!A146)","v":0},null,{"$f":"IF(Brassage!$A$62=\"Selon stock\",Stock!P150,Paramètres!J147)","v":"Whitelabs WLP026 Premium Bitter Ale Yeast"},null,{"$f":"IF(Brassage!$A$42=\"Selon stock\",Stock!U150,)","v":0}]
[{"$f":"IF(Brassage!$A$31=\"Selon stock\",Stock!A151,Paramètres!A148)","v":0},null,{"$f":"IF(Brassage!$A$58=\"Selon stock\",Stock!H151,Houblons!A147)","v":0},null,{"$f":"IF(Brassage!$A$62=\"Selon stock\",Stock!P151,Paramètres!J148)","v":"Whitelabs WLP028 Edinburgh Scottish Ale Yeast"},null,{"$f":"IF(Brassage!$A$42=\"Selon stock\",Stock!U151,)","v":0}]
[{"$f":"IF(Brassage!$A$31=\"Selon stock\",Stock!A152,Paramètres!A149)","v":0},null,{"$f":"IF(Brassage!$A$58=\"Selon stock\",Stock!H152,Houblons!A148)","v":0},null,{"$f":"IF(Brassage!$A$62=\"Selon stock\",Stock!P152,Paramètres!J149)","v":"Whitelabs WLP028 Edinburgh Scottish Ale Yeast"},null,{"$f":"IF(Brassage!$A$42=\"Selon stock\",Stock!U152,)","v":0}]
[{"$f":"IF(Brassage!$A$31=\"Selon stock\",Stock!A153,Paramètres!A150)","v":0},null,{"$f":"IF(Brassage!$A$58=\"Selon stock\",Stock!H153,Houblons!A149)","v":0},null,{"$f":"IF(Brassage!$A$62=\"Selon stock\",Stock!P153,Paramètres!J150)","v":"Whitelabs WLP029 German Ale/ Kölsch Yeast"},null,{"$f":"IF(Brassage!$A$42=\"Selon stock\",Stock!U153,)","v":0}]
[{"$f":"IF(Brassage!$A$31=\"Selon stock\",Stock!A154,Paramètres!A151)","v":0},null,{"$f":"IF(Brassage!$A$58=\"Selon stock\",Stock!H154,Houblons!A150)","v":0},null,{"$f":"IF(Brassage!$A$62=\"Selon stock\",Stock!P154,Paramètres!J151)","v":"Whitelabs WLP033 Klassic Ale Yeast"},null,{"$f":"IF(Brassage!$A$42=\"Selon stock\",Stock!U154,)","v":0}]
[{"$f":"IF(Brassage!$A$31=\"Selon stock\",Stock!A155,Paramètres!A152)","v":0},null,{"$f":"IF(Brassage!$A$58=\"Selon stock\",Stock!H155,Houblons!A151)","v":0},null,{"$f":"IF(Brassage!$A$62=\"Selon stock\",Stock!P155,Paramètres!J152)","v":"Whitelabs WLP036 Düsseldorf Alt Ale Yeast"},null,{"$f":"IF(Brassage!$A$42=\"Selon stock\",Stock!U155,)","v":0}]
[{"$f":"IF(Brassage!$A$31=\"Selon stock\",Stock!A156,Paramètres!A153)","v":0},null,{"$f":"IF(Brassage!$A$58=\"Selon stock\",Stock!H156,Houblons!A152)","v":0},null,{"$f":"IF(Brassage!$A$62=\"Selon stock\",Stock!P156,Paramètres!J153)","v":"Whitelabs WLP037 Yorkshire Square Ale Yeast"},null,{"$f":"IF(Brassage!$A$42=\"Selon stock\",Stock!U156,)","v":0}]
[{"$f":"IF(Brassage!$A$31=\"Selon stock\",Stock!A157,Paramètres!A154)","v":0},null,{"$f":"IF(Brassage!$A$58=\"Selon stock\",Stock!H157,Houblons!A153)","v":0},null,{"$f":"IF(Brassage!$A$62=\"Selon stock\",Stock!P157,Paramètres!J154)","v":"Whitelabs WLP038 Manchester Ale Yeast"},null,{"$f":"IF(Brassage!$A$42=\"Selon stock\",Stock!U157,)","v":0}]
[{"$f":"IF(Brassage!$A$31=\"Selon stock\",Stock!A158,Paramètres!A155)","v":0},null,{"$f":"IF(Brassage!$A$58=\"Selon stock\",Stock!H158,Houblons!A154)","v":0},null,{"$f":"IF(Brassage!$A$62=\"Selon stock\",Stock!P158,Paramètres!J155)","v":"Whitelabs WLP039 East Midlands Ale Yeast"},null,{"$f":"IF(Brassage!$A$42=\"Selon stock\",Stock!U158,)","v":0}]
[{"$f":"IF(Brassage!$A$31=\"Selon stock\",Stock!A159,Paramètres!A156)","v":0},null,{"$f":"IF(Brassage!$A$58=\"Selon stock\",Stock!H159,Houblons!A155)","v":0},null,{"$f":"IF(Brassage!$A$62=\"Selon stock\",Stock!P159,Paramètres!J156)","v":"Whitelabs WLP041 Pacific Ale Yeast"},null,{"$f":"IF(Brassage!$A$42=\"Selon stock\",Stock!U159,)","v":0}]
[{"$f":"IF(Brassage!$A$31=\"Selon stock\",Stock!A160,Paramètres!A157)","v":0},null,{"$f":"IF(Brassage!$A$58=\"Selon stock\",Stock!H160,Houblons!A156)","v":0},null,{"$f":"IF(Brassage!$A$62=\"Selon stock\",Stock!P160,Paramètres!J157)","v":"Whitelabs WLP051 California V Ale Yeast"},null,{"$f":"IF(Brassage!$A$42=\"Selon stock\",Stock!U160,)","v":0}]
[{"$f":"IF(Brassage!$A$31=\"Selon stock\",Stock!A161,Paramètres!A158)","v":0},null,{"$f":"IF(Brassage!$A$58=\"Selon stock\",Stock!H161,Houblons!A157)","v":0},null,{"$f":"IF(Brassage!$A$62=\"Selon stock\",Stock!P161,Paramètres!J158)","v":"Whitelabs WLP059 Melbourne Ale Yeast"},null,{"$f":"IF(Brassage!$A$42=\"Selon stock\",Stock!U161,)","v":0}]
[{"$f":"IF(Brassage!$A$31=\"Selon stock\",Stock!A162,Paramètres!A159)","v":0},null,{"$f":"IF(Brassage!$A$58=\"Selon stock\",Stock!H162,Houblons!A158)","v":0},null,{"$f":"IF(Brassage!$A$62=\"Selon stock\",Stock!P162,Paramètres!J159)","v":"Whitelabs WLP060 American Ale Yeast Blend"},null,{"$f":"IF(Brassage!$A$42=\"Selon stock\",Stock!U162,)","v":0}]
[{"$f":"IF(Brassage!$A$31=\"Selon stock\",Stock!A163,Paramètres!A160)","v":0},null,{"$f":"IF(Brassage!$A$58=\"Selon stock\",Stock!H163,Houblons!A159)","v":0},null,{"$f":"IF(Brassage!$A$62=\"Selon stock\",Stock!P163,Paramètres!J160)","v":"Whitelabs WLP060 American Ale Yeast Blend"},null,{"$f":"IF(Brassage!$A$42=\"Selon stock\",Stock!U163,)","v":0}]
[{"$f":"IF(Brassage!$A$31=\"Selon stock\",Stock!A164,Paramètres!A161)","v":0},null,{"$f":"IF(Brassage!$A$58=\"Selon stock\",Stock!H164,Houblons!A160)","v":0},null,{"$f":"IF(Brassage!$A$62=\"Selon stock\",Stock!P164,Paramètres!J161)","v":"Whitelabs WLP064 Buchner Ale Yeast Blend"},null,{"$f":"IF(Brassage!$A$42=\"Selon stock\",Stock!U164,)","v":0}]
[{"$f":"IF(Brassage!$A$31=\"Selon stock\",Stock!A165,Paramètres!A162)","v":0},null,{"$f":"IF(Brassage!$A$58=\"Selon stock\",Stock!H165,Houblons!A161)","v":0},null,{"$f":"IF(Brassage!$A$62=\"Selon stock\",Stock!P165,Paramètres!J162)","v":"Whitelabs WLP066 London Fog Ale Yeast"},null,{"$f":"IF(Brassage!$A$42=\"Selon stock\",Stock!U165,)","v":0}]
[{"$f":"IF(Brassage!$A$31=\"Selon stock\",Stock!A166,Paramètres!A163)","v":0},null,{"$f":"IF(Brassage!$A$58=\"Selon stock\",Stock!H166,Houblons!A162)","v":0},null,{"$f":"IF(Brassage!$A$62=\"Selon stock\",Stock!P166,Paramètres!J163)","v":"Whitelabs WLP067 Coastal Haze Ale Yeast Blend"},null,{"$f":"IF(Brassage!$A$42=\"Selon stock\",Stock!U166,)","v":0}]
[{"$f":"IF(Brassage!$A$31=\"Selon stock\",Stock!A167,Paramètres!A164)","v":0},null,{"$f":"IF(Brassage!$A$58=\"Selon stock\",Stock!H167,Houblons!A163)","v":0},null,{"$f":"IF(Brassage!$A$62=\"Selon stock\",Stock!P167,Paramètres!J164)","v":"Whitelabs WLP072 French Ale Yeast"},null,{"$f":"IF(Brassage!$A$42=\"Selon stock\",Stock!U167,)","v":0}]
[{"$f":"IF(Brassage!$A$31=\"Selon stock\",Stock!A168,Paramètres!A165)","v":0},null,{"$f":"IF(Brassage!$A$58=\"Selon stock\",Stock!H168,Houblons!A164)","v":0},null,{"$f":"IF(Brassage!$A$62=\"Selon stock\",Stock!P168,Paramètres!J165)","v":"Whitelabs WLP073 Artisanal Country Ale Yeast"},null,{"$f":"IF(Brassage!$A$42=\"Selon stock\",Stock!U168,)","v":0}]
[{"$f":"IF(Brassage!$A$31=\"Selon stock\",Stock!A169,Paramètres!A166)","v":0},null,{"$f":"IF(Brassage!$A$58=\"Selon stock\",Stock!H169,Houblons!A165)","v":0},null,{"$f":"IF(Brassage!$A$62=\"Selon stock\",Stock!P169,Paramètres!J166)","v":"Whitelabs WLP075 Hansen Ale Yeast Blend"},null,{"$f":"IF(Brassage!$A$42=\"Selon stock\",Stock!U169,)","v":0}]
[{"$f":"IF(Brassage!$A$31=\"Selon stock\",Stock!A170,Paramètres!A167)","v":0},null,{"$f":"IF(Brassage!$A$58=\"Selon stock\",Stock!H170,Houblons!A166)","v":0},null,{"$f":"IF(Brassage!$A$62=\"Selon stock\",Stock!P170,Paramètres!J167)","v":"Whitelabs WLP076 Old Sonoma Ale Yeast"},null,{"$f":"IF(Brassage!$A$42=\"Selon stock\",Stock!U170,)","v":0}]
[{"$f":"IF(Brassage!$A$31=\"Selon stock\",Stock!A171,Paramètres!A168)","v":0},null,{"$f":"IF(Brassage!$A$58=\"Selon stock\",Stock!H171,Houblons!A167)","v":0},null,{"$f":"IF(Brassage!$A$62=\"Selon stock\",Stock!P171,Paramètres!J168)","v":"Whitelabs WLP080 Cream Ale Yeast Blend"},null,{"$f":"IF(Brassage!$A$42=\"Selon stock\",Stock!U171,)","v":0}]
[{"$f":"IF(Brassage!$A$31=\"Selon stock\",Stock!A172,Paramètres!A169)","v":0},null,{"$f":"IF(Brassage!$A$58=\"Selon stock\",Stock!H172,Houblons!A168)","v":0},null,{"$f":"IF(Brassage!$A$62=\"Selon stock\",Stock!P172,Paramètres!J169)","v":"Whitelabs WLP085 English Ale Yeast Blend"},null,{"$f":"IF(Brassage!$A$42=\"Selon stock\",Stock!U172,)","v":0}]
[{"$f":"IF(Brassage!$A$31=\"Selon stock\",Stock!A173,Paramètres!A170)","v":0},null,{"$f":"IF(Brassage!$A$58=\"Selon stock\",Stock!H173,Houblons!A169)","v":0},null,{"$f":"IF(Brassage!$A$62=\"Selon stock\",Stock!P173,Paramètres!J170)","v":"Whitelabs WLP090 San Diego Super Yeast"},null,{"$f":"IF(Brassage!$A$42=\"Selon stock\",Stock!U173,)","v":0}]
[{"$f":"IF(Brassage!$A$31=\"Selon stock\",Stock!A174,Paramètres!A171)","v":0},null,{"$f":"IF(Brassage!$A$58=\"Selon stock\",Stock!H174,Houblons!A170)","v":0},null,{"$f":"IF(Brassage!$A$62=\"Selon stock\",Stock!P174,Paramètres!J171)","v":"Whitelabs WLP095 Burlington Ale Yeast"},null,{"$f":"IF(Brassage!$A$42=\"Selon stock\",Stock!U174,)","v":0}]
[{"$f":"IF(Brassage!$A$31=\"Selon stock\",Stock!A175,Paramètres!A172)","v":0},null,{"$f":"IF(Brassage!$A$58=\"Selon stock\",Stock!H175,Houblons!A171)","v":0},null,{"$f":"IF(Brassage!$A$62=\"Selon stock\",Stock!P175,Paramètres!J172)","v":"Whitelabs WLP099 Super High Gravity Ale Yeast"},null,{"$f":"IF(Brassage!$A$42=\"Selon stock\",Stock!U175,)","v":0}]
[{"$f":"IF(Brassage!$A$31=\"Selon stock\",Stock!A176,Paramètres!A173)","v":0},null,{"$f":"IF(Brassage!$A$58=\"Selon stock\",Stock!H176,Houblons!A172)","v":0},null,{"$f":"IF(Brassage!$A$62=\"Selon stock\",Stock!P176,Paramètres!J173)","v":"Whitelabs WLP1983 Charlie's Fist Bump Yeast"},null,{"$f":"IF(Brassage!$A$42=\"Selon stock\",Stock!U176,)","v":0}]
[{"$f":"IF(Brassage!$A$31=\"Selon stock\",Stock!A177,Paramètres!A174)","v":0},null,{"$f":"IF(Brassage!$A$58=\"Selon stock\",Stock!H177,Houblons!A173)","v":0},null,{"$f":"IF(Brassage!$A$62=\"Selon stock\",Stock!P177,Paramètres!J174)","v":"Whitelabs WLP380 Hefeweizen Ale IV"},null,{"$f":"IF(Brassage!$A$42=\"Selon stock\",Stock!U177,)","v":0}]
[{"$f":"IF(Brassage!$A$31=\"Selon stock\",Stock!A178,Paramètres!A175)","v":0},null,{"$f":"IF(Brassage!$A$58=\"Selon stock\",Stock!H178,Houblons!A174)","v":0},null,{"$f":"IF(Brassage!$A$62=\"Selon stock\",Stock!P178,Paramètres!J175)","v":"Whitelabs WLP518 Opshaug Kveik Ale Yeast"},null,{"$f":"IF(Brassage!$A$42=\"Selon stock\",Stock!U178,)","v":0}]
[{"$f":"IF(Brassage!$A$31=\"Selon stock\",Stock!A179,Paramètres!A176)","v":0},null,{"$f":"IF(Brassage!$A$58=\"Selon stock\",Stock!H179,Houblons!A175)","v":0},null,{"$f":"IF(Brassage!$A$62=\"Selon stock\",Stock!P179,Paramètres!J176)","v":"Whitelabs WLP564 Leeuwenhoek Saison Yeast Blend"},null,{"$f":"IF(Brassage!$A$42=\"Selon stock\",Stock!U179,)","v":0}]
[{"$f":"IF(Brassage!$A$31=\"Selon stock\",Stock!A180,Paramètres!A177)","v":0},null,{"$f":"IF(Brassage!$A$58=\"Selon stock\",Stock!H180,Houblons!A176)","v":0},null,{"$f":"IF(Brassage!$A$62=\"Selon stock\",Stock!P180,Paramètres!J177)","v":"Whitelabs WLP565 Belgian Saison I Yeast"},null,{"$f":"IF(Brassage!$A$42=\"Selon stock\",Stock!U180,)","v":0}]
[{"$f":"IF(Brassage!$A$31=\"Selon stock\",Stock!A181,Paramètres!A178)","v":0},null,{"$f":"IF(Brassage!$A$58=\"Selon stock\",Stock!H181,Houblons!A177)","v":0},null,{"$f":"IF(Brassage!$A$62=\"Selon stock\",Stock!P181,Paramètres!J178)","v":"Whitelabs WLP566 Belgian Saison II Ale Yeast"},null,{"$f":"IF(Brassage!$A$42=\"Selon stock\",Stock!U181,)","v":0}]
[{"$f":"IF(Brassage!$A$31=\"Selon stock\",Stock!A182,Paramètres!A179)","v":0},null,{"$f":"IF(Brassage!$A$58=\"Selon stock\",Stock!H182,Houblons!A178)","v":0},null,{"$f":"IF(Brassage!$A$62=\"Selon stock\",Stock!P182,Paramètres!J179)","v":"Whitelabs WLP568 Belgian Style Saison Ale Yeast Blend"},null,{"$f":"IF(Brassage!$A$42=\"Selon stock\",Stock!U182,)","v":0}]
[{"$f":"IF(Brassage!$A$31=\"Selon stock\",Stock!A183,Paramètres!A180)","v":0},null,{"$f":"IF(Brassage!$A$58=\"Selon stock\",Stock!H183,Houblons!A179)","v":0},null,{"$f":"IF(Brassage!$A$62=\"Selon stock\",Stock!P183,Paramètres!J180)","v":"Whitelabs WLP590 French Saison Ale Yeast"},null,{"$f":"IF(Brassage!$A$42=\"Selon stock\",Stock!U183,)","v":0}]
[{"$f":"IF(Brassage!$A$31=\"Selon stock\",Stock!A184,Paramètres!A181)","v":0},null,{"$f":"IF(Brassage!$A$58=\"Selon stock\",Stock!H184,Houblons!A180)","v":0},null,{"$f":"IF(Brassage!$A$62=\"Selon stock\",Stock!P184,Paramètres!J181)","v":"Whitelabs WLP670 American Farmhouse Blend"},null,{"$f":"IF(Brassage!$A$42=\"Selon stock\",Stock!U184,)","v":0}]
[{"$f":"IF(Brassage!$A$31=\"Selon stock\",Stock!A185,Paramètres!A182)","v":0},null,{"$f":"IF(Brassage!$A$58=\"Selon stock\",Stock!H185,Houblons!A181)","v":0},null,{"$f":"IF(Brassage!$A$62=\"Selon stock\",Stock!P185,Paramètres!J182)","v":"Whitelabs WLP715 Champagne Yeast"},null,{"$f":"IF(Brassage!$A$42=\"Selon stock\",Stock!U185,)","v":0}]
[{"$f":"IF(Brassage!$A$31=\"Selon stock\",Stock!A186,Paramètres!A183)","v":0},null,{"$f":"IF(Brassage!$A$58=\"Selon stock\",Stock!H186,Houblons!A182)","v":0},null,{"$f":"IF(Brassage!$A$62=\"Selon stock\",Stock!P186,Paramètres!J183)","v":"Whitelabs WLP780 Thai Rice Chong Yeast"},null,{"$f":"IF(Brassage!$A$42=\"Selon stock\",Stock!U186,)","v":0}]
[{"$f":"IF(Brassage!$A$31=\"Selon stock\",Stock!A187,Paramètres!A184)","v":0},null,{"$f":"IF(Brassage!$A$58=\"Selon stock\",Stock!H187,Houblons!A183)","v":0},null,{"$f":"IF(Brassage!$A$62=\"Selon stock\",Stock!P187,Paramètres!J184)","v":"Lallemand BELLE SAISON"},null,{"$f":"IF(Brassage!$A$42=\"Selon stock\",Stock!U187,)","v":0}]
[{"$f":"IF(Brassage!$A$31=\"Selon stock\",Stock!A188,Paramètres!A185)","v":0},null,{"$f":"IF(Brassage!$A$58=\"Selon stock\",Stock!H188,Houblons!A184)","v":0},null,{"$f":"IF(Brassage!$A$62=\"Selon stock\",Stock!P188,Paramètres!J185)","v":"Lallemand WINDSOR"},null,{"$f":"IF(Brassage!$A$42=\"Selon stock\",Stock!U188,)","v":0}]
[{"$f":"IF(Brassage!$A$31=\"Selon stock\",Stock!A189,Paramètres!A186)","v":0},null,{"$f":"IF(Brassage!$A$58=\"Selon stock\",Stock!H189,Houblons!A185)","v":0},null,{"$f":"IF(Brassage!$A$62=\"Selon stock\",Stock!P189,Paramètres!J186)","v":"Lallemand MUNICH CLASSIC"},null,{"$f":"IF(Brassage!$A$42=\"Selon stock\",Stock!U189,)","v":0}]
[{"$f":"IF(Brassage!$A$31=\"Selon stock\",Stock!A190,Paramètres!A187)","v":0},null,{"$f":"IF(Brassage!$A$58=\"Selon stock\",Stock!H190,Houblons!A186)","v":0},null,{"$f":"IF(Brassage!$A$62=\"Selon stock\",Stock!P190,Paramètres!J187)","v":"Lallemand MUNICH Wheat"},null,{"$f":"IF(Brassage!$A$42=\"Selon stock\",Stock!U190,)","v":0}]
[{"$f":"IF(Brassage!$A$31=\"Selon stock\",Stock!A191,Paramètres!A188)","v":0},null,{"$f":"IF(Brassage!$A$58=\"Selon stock\",Stock!H191,Houblons!A187)","v":0},null,{"$f":"IF(Brassage!$A$62=\"Selon stock\",Stock!P191,Paramètres!J188)","v":"Lallemand LONDON ESB"},null,{"$f":"IF(Brassage!$A$42=\"Selon stock\",Stock!U191,)","v":0}]
[{"$f":"IF(Brassage!$A$31=\"Selon stock\",Stock!A192,Paramètres!A189)","v":0},null,{"$f":"IF(Brassage!$A$58=\"Selon stock\",Stock!H192,Houblons!A188)","v":0},null,{"$f":"IF(Brassage!$A$62=\"Selon stock\",Stock!P192,Paramètres!J189)","v":"Lallemand NOTTINGHAM"},null,{"$f":"IF(Brassage!$A$42=\"Selon stock\",Stock!U192,)","v":0}]
[{"$f":"IF(Brassage!$A$31=\"Selon stock\",Stock!A193,Paramètres!A190)","v":0},null,{"$f":"IF(Brassage!$A$58=\"Selon stock\",Stock!H193,Houblons!A189)","v":0},null,{"$f":"IF(Brassage!$A$62=\"Selon stock\",Stock!P193,Paramètres!J190)","v":"Lallemand DIAMOND Lager"},null,{"$f":"IF(Brassage!$A$42=\"Selon stock\",Stock!U193,)","v":0}]
[{"$f":"IF(Brassage!$A$31=\"Selon stock\",Stock!A194,Paramètres!A191)","v":0},null,{"$f":"IF(Brassage!$A$58=\"Selon stock\",Stock!H194,Houblons!A190)","v":0},null,{"$f":"IF(Brassage!$A$62=\"Selon stock\",Stock!P194,Paramètres!J191)","v":"Lallemand BRY-97 American West Coast Ale"},null,{"$f":"IF(Brassage!$A$42=\"Selon stock\",Stock!U194,)","v":0}]
[{"$f":"IF(Brassage!$A$31=\"Selon stock\",Stock!A195,Paramètres!A192)","v":0},null,{"$f":"IF(Brassage!$A$58=\"Selon stock\",Stock!H195,Houblons!A191)","v":0},null,{"$f":"IF(Brassage!$A$62=\"Selon stock\",Stock!P195,Paramètres!J192)","v":"Lallemand ABBAYE"},null,{"$f":"IF(Brassage!$A$42=\"Selon stock\",Stock!U195,)","v":0}]
[{"$f":"IF(Brassage!$A$31=\"Selon stock\",Stock!A196,Paramètres!A193)","v":0},null,{"$f":"IF(Brassage!$A$58=\"Selon stock\",Stock!H196,Houblons!A192)","v":0},null,{"$f":"IF(Brassage!$A$62=\"Selon stock\",Stock!P196,Paramètres!J193)","v":"Lallemand LalBrew New England East Coast Ale"},null,{"$f":"IF(Brassage!$A$42=\"Selon stock\",Stock!U196,)","v":0}]
[{"$f":"IF(Brassage!$A$31=\"Selon stock\",Stock!A197,Paramètres!A194)","v":0},null,{"$f":"IF(Brassage!$A$58=\"Selon stock\",Stock!H197,Houblons!A193)","v":0},null,{"$f":"IF(Brassage!$A$62=\"Selon stock\",Stock!P197,Paramètres!J194)","v":"Lallemand WildBrew™ Sour Pitch"},null,{"$f":"IF(Brassage!$A$42=\"Selon stock\",Stock!U197,)","v":0}]
[{"$f":"IF(Brassage!$A$31=\"Selon stock\",Stock!A198,Paramètres!A195)","v":0},null,{"$f":"IF(Brassage!$A$58=\"Selon stock\",Stock!H198,Houblons!A194)","v":0},null,{"$f":"IF(Brassage!$A$62=\"Selon stock\",Stock!P198,Paramètres!J195)","v":"The Yeast Bay  TYB415  BRETTANOMYCES BRUXELLENSIS\nSTRAI"},null,{"$f":"IF(Brassage!$A$42=\"Selon stock\",Stock!U198,)","v":0}]
[{"$f":"IF(Brassage!$A$31=\"Selon stock\",Stock!A199,Paramètres!A196)","v":0},null,{"$f":"IF(Brassage!$A$58=\"Selon stock\",Stock!H199,Houblons!A195)","v":0},null,{"$f":"IF(Brassage!$A$62=\"Selon stock\",Stock!P199,Paramètres!J196)","v":"The Yeast Bay AMALGAMATION I\nBRETTANOMYCES BLEND"},null,{"$f":"IF(Brassage!$A$42=\"Selon stock\",Stock!U199,)","v":0}]
[{"$f":"IF(Brassage!$A$31=\"Selon stock\",Stock!A200,Paramètres!A197)","v":0},null,{"$f":"IF(Brassage!$A$58=\"Selon stock\",Stock!H200,Houblons!A196)","v":0},null,{"$f":"IF(Brassage!$A$62=\"Selon stock\",Stock!P200,Paramètres!J197)","v":"The Yeast Bay AMALGAMATION II\nBRETTANOMYCES BLEND"},null,{"$f":"IF(Brassage!$A$42=\"Selon stock\",Stock!U200,)","v":0}]
[{"$f":"IF(Brassage!$A$31=\"Selon stock\",Stock!A201,Paramètres!A198)","v":0},null,{"$f":"IF(Brassage!$A$58=\"Selon stock\",Stock!H201,Houblons!A197)","v":0},null,{"$f":"IF(Brassage!$A$62=\"Selon stock\",Stock!P201,Paramètres!J198)","v":"The Yeast Bay BEERSEL BRETTANOMYCES\nBLEND"},null,{"$f":"IF(Brassage!$A$42=\"Selon stock\",Stock!U201,)","v":0}]
[{"$f":"IF(Brassage!$A$31=\"Selon stock\",Stock!A202,Paramètres!A199)","v":0},null,{"$f":"IF(Brassage!$A$58=\"Selon stock\",Stock!H202,Houblons!A198)","v":0},null,{"$f":"IF(Brassage!$A$62=\"Selon stock\",Stock!P202,Paramètres!J199)","v":"The Yeast Bay SAISON BLEND I"},null,{"$f":"IF(Brassage!$A$42=\"Selon stock\",Stock!U202,)","v":0}]
[{"$f":"IF(Brassage!$A$31=\"Selon stock\",Stock!A203,Paramètres!A200)","v":0},null,{"$f":"IF(Brassage!$A$58=\"Selon stock\",Stock!H203,Houblons!A199)","v":0},null,{"$f":"IF(Brassage!$A$62=\"Selon stock\",Stock!P203,Paramètres!J200)","v":"The Yeast Bay WALLONIAN FARMHOUSE II"},null,{"$f":"IF(Brassage!$A$42=\"Selon stock\",Stock!U203,)","v":0}]
[{"$f":"IF(Brassage!$A$31=\"Selon stock\",Stock!A204,Paramètres!A201)","v":0},null,{"$f":"IF(Brassage!$A$58=\"Selon stock\",Stock!H204,Houblons!A200)","v":0},null,{"$f":"IF(Brassage!$A$62=\"Selon stock\",Stock!P204,Paramètres!J201)","v":"The Yeast Bay WALLONIAN FARMHOUSE III "},null,{"$f":"IF(Brassage!$A$42=\"Selon stock\",Stock!U204,)","v":0}]
[{"$f":"IF(Brassage!$A$31=\"Selon stock\",Stock!A205,Paramètres!A202)","v":0},null,{"$f":"IF(Brassage!$A$58=\"Selon stock\",Stock!H205,Houblons!A201)","v":0},null,{"$f":"IF(Brassage!$A$62=\"Selon stock\",Stock!P205,Paramètres!J202)","v":"The Yeast Bay BRUSSELS BRETTANOMYCES\nBLEND"},null,{"$f":"IF(Brassage!$A$42=\"Selon stock\",Stock!U205,)","v":0}]
[{"$f":"IF(Brassage!$A$31=\"Selon stock\",Stock!A206,Paramètres!A203)","v":0},null,{"$f":"IF(Brassage!$A$58=\"Selon stock\",Stock!H206,Houblons!A202)","v":0},null,{"$f":"IF(Brassage!$A$62=\"Selon stock\",Stock!P206,Paramètres!J203)","v":"The Yeast Bay LOCHRISTI BRETTANOMYCES\nBLEND"},null,{"$f":"IF(Brassage!$A$42=\"Selon stock\",Stock!U206,)","v":0}]
[{"$f":"IF(Brassage!$A$31=\"Selon stock\",Stock!A207,Paramètres!A204)","v":0},null,{"$f":"IF(Brassage!$A$58=\"Selon stock\",Stock!H207,Houblons!A203)","v":0},null,{"$f":"IF(Brassage!$A$62=\"Selon stock\",Stock!P207,Paramètres!J204)","v":"The Yeast Bay SAISON/BRETTANOMYCES\nBLEND II"},null,{"$f":"IF(Brassage!$A$42=\"Selon stock\",Stock!U207,)","v":0}]
[{"$f":"IF(Brassage!$A$31=\"Selon stock\",Stock!A208,Paramètres!A205)","v":0},null,{"$f":"IF(Brassage!$A$58=\"Selon stock\",Stock!H208,Houblons!A204)","v":0},null,{"$f":"IF(Brassage!$A$62=\"Selon stock\",Stock!P208,Paramètres!J205)","v":"The Yeast Bay MÉLANGE"},null,{"$f":"IF(Brassage!$A$42=\"Selon stock\",Stock!U208,)","v":0}]
[{"$f":"IF(Brassage!$A$31=\"Selon stock\",Stock!A209,Paramètres!A206)","v":0},null,{"$f":"IF(Brassage!$A$58=\"Selon stock\",Stock!H209,Houblons!A205)","v":0},null,{"$f":"IF(Brassage!$A$62=\"Selon stock\",Stock!P209,Paramètres!J206)","v":"The Yeast Bay FARMHOUSE SOUR ALE"},null,{"$f":"IF(Brassage!$A$42=\"Selon stock\",Stock!U209,)","v":0}]
[{"$f":"IF(Brassage!$A$31=\"Selon stock\",Stock!A210,Paramètres!A207)","v":0},null,{"$f":"IF(Brassage!$A$58=\"Selon stock\",Stock!H210,Houblons!A206)","v":0},null,{"$f":"IF(Brassage!$A$62=\"Selon stock\",Stock!P210,Paramètres!J207)","v":"The Yeast Bay SAISON/BRETTANOMYCES\nBLEND I"},null,{"$f":"IF(Brassage!$A$42=\"Selon stock\",Stock!U210,)","v":0}]
[{"$f":"IF(Brassage!$A$31=\"Selon stock\",Stock!A211,Paramètres!A208)","v":0},null,{"$f":"IF(Brassage!$A$58=\"Selon stock\",Stock!H211,Houblons!A207)","v":0},null,{"$f":"IF(Brassage!$A$62=\"Selon stock\",Stock!P211,Paramètres!J208)","v":"The Yeast Bay TYB HOUSE SOUR\nBLEND"},null,{"$f":"IF(Brassage!$A$42=\"Selon stock\",Stock!U211,)","v":0}]
[{"$f":"IF(Brassage!$A$31=\"Selon stock\",Stock!A212,Paramètres!A209)","v":0},null,{"$f":"IF(Brassage!$A$58=\"Selon stock\",Stock!H212,Houblons!A208)","v":0},null,{"$f":"IF(Brassage!$A$62=\"Selon stock\",Stock!P212,Paramètres!J209)","v":"The Yeast Bay NORTHEASTERN ABBEY"},null,{"$f":"IF(Brassage!$A$42=\"Selon stock\",Stock!U212,)","v":0}]
[{"$f":"IF(Brassage!$A$31=\"Selon stock\",Stock!A213,Paramètres!A210)","v":0},null,{"$f":"IF(Brassage!$A$58=\"Selon stock\",Stock!H213,Houblons!A209)","v":0},null,{"$f":"IF(Brassage!$A$62=\"Selon stock\",Stock!P213,Paramètres!J210)","v":"The Yeast Bay FUNKTOWN PALE ALE"},null,{"$f":"IF(Brassage!$A$42=\"Selon stock\",Stock!U213,)","v":0}]
[{"$f":"IF(Brassage!$A$31=\"Selon stock\",Stock!A214,Paramètres!A211)","v":0},null,{"$f":"IF(Brassage!$A$58=\"Selon stock\",Stock!H214,Houblons!A210)","v":0},null,{"$f":"IF(Brassage!$A$62=\"Selon stock\",Stock!P214,Paramètres!J211)","v":"The Yeast Bay VERMONT ALE"},null,{"$f":"IF(Brassage!$A$42=\"Selon stock\",Stock!U214,)","v":0}]
[{"$f":"IF(Brassage!$A$31=\"Selon stock\",Stock!A215,Paramètres!A212)","v":0},null,{"$f":"IF(Brassage!$A$58=\"Selon stock\",Stock!H215,Houblons!A211)","v":0},null,{"$f":"IF(Brassage!$A$62=\"Selon stock\",Stock!P215,Paramètres!J212)","v":"The Yeast Bay HAZY DAZE II "},null,{"$f":"IF(Brassage!$A$42=\"Selon stock\",Stock!U215,)","v":0}]
[{"$f":"IF(Brassage!$A$31=\"Selon stock\",Stock!A216,Paramètres!A213)","v":0},null,{"$f":"IF(Brassage!$A$58=\"Selon stock\",Stock!H216,Houblons!A212)","v":0},null,{"$f":"IF(Brassage!$A$62=\"Selon stock\",Stock!P216,Paramètres!J213)","v":"The Yeast Bay HAZY DAZE"},null,{"$f":"IF(Brassage!$A$42=\"Selon stock\",Stock!U216,)","v":0}]
[{"$f":"IF(Brassage!$A$31=\"Selon stock\",Stock!A217,Paramètres!A214)","v":0},null,{"$f":"IF(Brassage!$A$58=\"Selon stock\",Stock!H217,Houblons!A213)","v":0},null,{"$f":"IF(Brassage!$A$62=\"Selon stock\",Stock!P217,Paramètres!J214)","v":"The Yeast Bay FRANCONIAN DARK LAGER"},null,{"$f":"IF(Brassage!$A$42=\"Selon stock\",Stock!U217,)","v":0}]
[{"$f":"IF(Brassage!$A$31=\"Selon stock\",Stock!A218,Paramètres!A215)","v":0},null,{"$f":"IF(Brassage!$A$58=\"Selon stock\",Stock!H218,Houblons!A214)","v":0},null,{"$f":"IF(Brassage!$A$62=\"Selon stock\",Stock!P218,Paramètres!J215)","v":"The Yeast Bay HESSIAN PILS"},null,{"$f":"IF(Brassage!$A$42=\"Selon stock\",Stock!U218,)","v":0}]
[{"$f":"IF(Brassage!$A$31=\"Selon stock\",Stock!A219,Paramètres!A216)","v":0},null,{"$f":"IF(Brassage!$A$58=\"Selon stock\",Stock!H219,Houblons!A215)","v":0},null,{"$f":"IF(Brassage!$A$62=\"Selon stock\",Stock!P219,Paramètres!J216)","v":"The Yeast Bay SIGMUND'S VOSS KVEIK"},null,{"$f":"IF(Brassage!$A$42=\"Selon stock\",Stock!U219,)","v":0}]
[{"$f":"IF(Brassage!$A$31=\"Selon stock\",Stock!A220,Paramètres!A217)","v":0},null,{"$f":"IF(Brassage!$A$58=\"Selon stock\",Stock!H220,Houblons!A216)","v":0},null,{"$f":"IF(Brassage!$A$62=\"Selon stock\",Stock!P220,Paramètres!J217)","v":"The Yeast Bay SIMONAITIS LITHUANIAN\nFARMHOUSE YEAST"},null,{"$f":"IF(Brassage!$A$42=\"Selon stock\",Stock!U220,)","v":0}]
[{"$f":"IF(Brassage!$A$31=\"Selon stock\",Stock!A221,Paramètres!A218)","v":0},null,{"$f":"IF(Brassage!$A$58=\"Selon stock\",Stock!H221,Houblons!A217)","v":0},null,{"$f":"IF(Brassage!$A$62=\"Selon stock\",Stock!P221,Paramètres!J218)","v":"The Yeast Bay FLANDERS SPECIALTY ALE"},null,{"$f":"IF(Brassage!$A$42=\"Selon stock\",Stock!U221,)","v":0}]
[{"$f":"IF(Brassage!$A$31=\"Selon stock\",Stock!A222,Paramètres!A219)","v":0},null,{"$f":"IF(Brassage!$A$58=\"Selon stock\",Stock!H222,Houblons!A218)","v":0},null,{"$f":"IF(Brassage!$A$62=\"Selon stock\",Stock!P222,Paramètres!J219)","v":"The Yeast Bay SAISON BLEND II"},null,{"$f":"IF(Brassage!$A$42=\"Selon stock\",Stock!U222,)","v":0}]
[{"$f":"IF(Brassage!$A$31=\"Selon stock\",Stock!A223,Paramètres!A220)","v":0},null,{"$f":"IF(Brassage!$A$58=\"Selon stock\",Stock!H223,Houblons!A219)","v":0},null,{"$f":"IF(Brassage!$A$62=\"Selon stock\",Stock!P223,Paramètres!J220)","v":"The Yeast Bay WALLONIAN FARMHOUSE I "},null,{"$f":"IF(Brassage!$A$42=\"Selon stock\",Stock!U223,)","v":0}]
[{"$f":"IF(Brassage!$A$31=\"Selon stock\",Stock!A224,Paramètres!A221)","v":0},null,{"$f":"IF(Brassage!$A$58=\"Selon stock\",Stock!H224,Houblons!A220)","v":0},null,{"$f":"IF(Brassage!$A$62=\"Selon stock\",Stock!P224,Paramètres!J221)","v":"The Yeast Bay MIDWESTERN ALE"},null,{"$f":"IF(Brassage!$A$42=\"Selon stock\",Stock!U224,)","v":0}]
[{"$f":"IF(Brassage!$A$31=\"Selon stock\",Stock!A225,Paramètres!A222)","v":0},null,{"$f":"IF(Brassage!$A$58=\"Selon stock\",Stock!H225,Houblons!A221)","v":0},null,{"$f":"IF(Brassage!$A$62=\"Selon stock\",Stock!P225,Paramètres!J222)","v":"The Yeast Bay KVEIK'N HILLS"},null,{"$f":"IF(Brassage!$A$42=\"Selon stock\",Stock!U225,)","v":0}]
[{"$f":"IF(Brassage!$A$31=\"Selon stock\",Stock!A226,Paramètres!A223)","v":0},null,{"$f":"IF(Brassage!$A$58=\"Selon stock\",Stock!H226,Houblons!A222)","v":0},null,{"$f":"IF(Brassage!$A$62=\"Selon stock\",Stock!P226,Paramètres!J223)","v":"The Yeast Bay LITHUANIA'N HILLS"},null,{"$f":"IF(Brassage!$A$42=\"Selon stock\",Stock!U226,)","v":0}]
[{"$f":"IF(Brassage!$A$31=\"Selon stock\",Stock!A227,Paramètres!A224)","v":0},null,{"$f":"IF(Brassage!$A$58=\"Selon stock\",Stock!H227,Houblons!A223)","v":0},null,{"$f":"IF(Brassage!$A$62=\"Selon stock\",Stock!P227,Paramètres!J224)","v":"The Yeast Bay DRY BELGIAN ALE"},null,{"$f":"IF(Brassage!$A$42=\"Selon stock\",Stock!U227,)","v":0}]
[{"$f":"IF(Brassage!$A$31=\"Selon stock\",Stock!A228,Paramètres!A225)","v":0},null,{"$f":"IF(Brassage!$A$58=\"Selon stock\",Stock!H228,Houblons!A224)","v":0},null,{"$f":"IF(Brassage!$A$62=\"Selon stock\",Stock!P228,Paramètres!J225)","v":"The Yeast Bay LACTOBACILLUS BLEND"},null,{"$f":"IF(Brassage!$A$42=\"Selon stock\",Stock!U228,)","v":0}]
[{"$f":"IF(Brassage!$A$31=\"Selon stock\",Stock!A229,Paramètres!A226)","v":0},null,{"$f":"IF(Brassage!$A$58=\"Selon stock\",Stock!H229,Houblons!A225)","v":0},null,{"$f":"IF(Brassage!$A$62=\"Selon stock\",Stock!P229,Paramètres!J226)","v":" "},null,{"$f":"IF(Brassage!$A$42=\"Selon stock\",Stock!U229,)","v":0}]
[{"$f":"IF(Brassage!$A$31=\"Selon stock\",Stock!A230,Paramètres!A227)","v":0},null,{"$f":"IF(Brassage!$A$58=\"Selon stock\",Stock!H230,Houblons!A226)","v":0},null,{"$f":"IF(Brassage!$A$62=\"Selon stock\",Stock!P230,Paramètres!J227)","v":" "},null,{"$f":"IF(Brassage!$A$42=\"Selon stock\",Stock!U230,)","v":0}]
[{"$f":"IF(Brassage!$A$31=\"Selon stock\",Stock!A231,Paramètres!A228)","v":0},null,{"$f":"IF(Brassage!$A$58=\"Selon stock\",Stock!H231,Houblons!A227)","v":0},null,{"$f":"IF(Brassage!$A$62=\"Selon stock\",Stock!P231,Paramètres!J228)","v":" "},null,{"$f":"IF(Brassage!$A$42=\"Selon stock\",Stock!U231,)","v":0}]
[{"$f":"IF(Brassage!$A$31=\"Selon stock\",Stock!A232,Paramètres!A229)","v":0},null,{"$f":"IF(Brassage!$A$58=\"Selon stock\",Stock!H232,Houblons!A228)","v":0},null,{"$f":"IF(Brassage!$A$62=\"Selon stock\",Stock!P232,Paramètres!J229)","v":" "},null,{"$f":"IF(Brassage!$A$42=\"Selon stock\",Stock!U232,)","v":0}]
[{"$f":"IF(Brassage!$A$31=\"Selon stock\",Stock!A233,Paramètres!A230)","v":0},null,{"$f":"IF(Brassage!$A$58=\"Selon stock\",Stock!H233,Houblons!A229)","v":0},null,{"$f":"IF(Brassage!$A$62=\"Selon stock\",Stock!P233,Paramètres!J230)","v":" "},null,{"$f":"IF(Brassage!$A$42=\"Selon stock\",Stock!U233,)","v":0}]
[{"$f":"IF(Brassage!$A$31=\"Selon stock\",Stock!A234,Paramètres!A231)","v":0},null,{"$f":"IF(Brassage!$A$58=\"Selon stock\",Stock!H234,Houblons!A230)","v":0},null,{"$f":"IF(Brassage!$A$62=\"Selon stock\",Stock!P234,Paramètres!J231)","v":" "},null,{"$f":"IF(Brassage!$A$42=\"Selon stock\",Stock!U234,)","v":0}]
[{"$f":"IF(Brassage!$A$31=\"Selon stock\",Stock!A235,Paramètres!A232)","v":0},null,{"$f":"IF(Brassage!$A$58=\"Selon stock\",Stock!H235,Houblons!A231)","v":0},null,{"$f":"IF(Brassage!$A$62=\"Selon stock\",Stock!P235,Paramètres!J232)","v":" "},null,{"$f":"IF(Brassage!$A$42=\"Selon stock\",Stock!U235,)","v":0}]
[{"$f":"IF(Brassage!$A$31=\"Selon stock\",Stock!A236,Paramètres!A233)","v":0},null,{"$f":"IF(Brassage!$A$58=\"Selon stock\",Stock!H236,Houblons!A232)","v":0},null,{"$f":"IF(Brassage!$A$62=\"Selon stock\",Stock!P236,Paramètres!J233)","v":" "},null,{"$f":"IF(Brassage!$A$42=\"Selon stock\",Stock!U236,)","v":0}]
[{"$f":"IF(Brassage!$A$31=\"Selon stock\",Stock!A237,Paramètres!A234)","v":0},null,{"$f":"IF(Brassage!$A$58=\"Selon stock\",Stock!H237,Houblons!A233)","v":0},null,{"$f":"IF(Brassage!$A$62=\"Selon stock\",Stock!P237,Paramètres!J234)","v":" "},null,{"$f":"IF(Brassage!$A$42=\"Selon stock\",Stock!U237,)","v":0}]
[{"$f":"IF(Brassage!$A$31=\"Selon stock\",Stock!A238,Paramètres!A235)","v":0},null,{"$f":"IF(Brassage!$A$58=\"Selon stock\",Stock!H238,Houblons!A234)","v":0},null,{"$f":"IF(Brassage!$A$62=\"Selon stock\",Stock!P238,Paramètres!J235)","v":" "},null,{"$f":"IF(Brassage!$A$42=\"Selon stock\",Stock!U238,)","v":0}]
[{"$f":"IF(Brassage!$A$31=\"Selon stock\",Stock!A239,Paramètres!A236)","v":0},null,{"$f":"IF(Brassage!$A$58=\"Selon stock\",Stock!H239,Houblons!A235)","v":0},null,{"$f":"IF(Brassage!$A$62=\"Selon stock\",Stock!P239,Paramètres!J236)","v":" "},null,{"$f":"IF(Brassage!$A$42=\"Selon stock\",Stock!U239,)","v":0}]
[{"$f":"IF(Brassage!$A$31=\"Selon stock\",Stock!A240,Paramètres!A237)","v":0},null,{"$f":"IF(Brassage!$A$58=\"Selon stock\",Stock!H240,Houblons!A236)","v":0},null,{"$f":"IF(Brassage!$A$62=\"Selon stock\",Stock!P240,Paramètres!J237)","v":" "},null,{"$f":"IF(Brassage!$A$42=\"Selon stock\",Stock!U240,)","v":0}]
[{"$f":"IF(Brassage!$A$31=\"Selon stock\",Stock!A241,Paramètres!A238)","v":0},null,{"$f":"IF(Brassage!$A$58=\"Selon stock\",Stock!H241,Houblons!A237)","v":0},null,{"$f":"IF(Brassage!$A$62=\"Selon stock\",Stock!P241,Paramètres!J238)","v":" "},null,{"$f":"IF(Brassage!$A$42=\"Selon stock\",Stock!U241,)","v":0}]
[{"$f":"IF(Brassage!$A$31=\"Selon stock\",Stock!A242,Paramètres!A239)","v":0},null,{"$f":"IF(Brassage!$A$58=\"Selon stock\",Stock!H242,Houblons!A238)","v":0},null,{"$f":"IF(Brassage!$A$62=\"Selon stock\",Stock!P242,Paramètres!J239)","v":" "},null,{"$f":"IF(Brassage!$A$42=\"Selon stock\",Stock!U242,)","v":0}]
[{"$f":"IF(Brassage!$A$31=\"Selon stock\",Stock!A243,Paramètres!A240)","v":0},null,{"$f":"IF(Brassage!$A$58=\"Selon stock\",Stock!H243,Houblons!A239)","v":0},null,{"$f":"IF(Brassage!$A$62=\"Selon stock\",Stock!P243,Paramètres!J240)","v":" "},null,{"$f":"IF(Brassage!$A$42=\"Selon stock\",Stock!U243,)","v":0}]
[{"$f":"IF(Brassage!$A$31=\"Selon stock\",Stock!A244,Paramètres!A241)","v":0},null,{"$f":"IF(Brassage!$A$58=\"Selon stock\",Stock!H244,Houblons!A240)","v":0},null,{"$f":"IF(Brassage!$A$62=\"Selon stock\",Stock!P244,Paramètres!J241)","v":" "},null,{"$f":"IF(Brassage!$A$42=\"Selon stock\",Stock!U244,)","v":0}]
[{"$f":"IF(Brassage!$A$31=\"Selon stock\",Stock!A245,Paramètres!A242)","v":0},null,{"$f":"IF(Brassage!$A$58=\"Selon stock\",Stock!H245,Houblons!A241)","v":0},null,{"$f":"IF(Brassage!$A$62=\"Selon stock\",Stock!P245,Paramètres!J242)","v":" "},null,{"$f":"IF(Brassage!$A$42=\"Selon stock\",Stock!U245,)","v":0}]
[{"$f":"IF(Brassage!$A$31=\"Selon stock\",Stock!A246,Paramètres!A243)","v":0},null,{"$f":"IF(Brassage!$A$58=\"Selon stock\",Stock!H246,Houblons!A242)","v":0},null,{"$f":"IF(Brassage!$A$62=\"Selon stock\",Stock!P246,Paramètres!J243)","v":" "},null,{"$f":"IF(Brassage!$A$42=\"Selon stock\",Stock!U246,)","v":0}]
[{"$f":"IF(Brassage!$A$31=\"Selon stock\",Stock!A247,Paramètres!A244)","v":0},null,{"$f":"IF(Brassage!$A$58=\"Selon stock\",Stock!H247,Houblons!A243)","v":0},null,{"$f":"IF(Brassage!$A$62=\"Selon stock\",Stock!P247,Paramètres!J244)","v":" "},null,{"$f":"IF(Brassage!$A$42=\"Selon stock\",Stock!U247,)","v":0}]
[{"$f":"IF(Brassage!$A$31=\"Selon stock\",Stock!A248,Paramètres!A245)","v":0},null,{"$f":"IF(Brassage!$A$58=\"Selon stock\",Stock!H248,Houblons!A244)","v":0},null,{"$f":"IF(Brassage!$A$62=\"Selon stock\",Stock!P248,Paramètres!J245)","v":" "},null,{"$f":"IF(Brassage!$A$42=\"Selon stock\",Stock!U248,)","v":0}]
[{"$f":"IF(Brassage!$A$31=\"Selon stock\",Stock!A249,Paramètres!A246)","v":0},null,{"$f":"IF(Brassage!$A$58=\"Selon stock\",Stock!H249,Houblons!A245)","v":0},null,{"$f":"IF(Brassage!$A$62=\"Selon stock\",Stock!P249,Paramètres!J246)","v":" "},null,{"$f":"IF(Brassage!$A$42=\"Selon stock\",Stock!U249,)","v":0}]
[{"$f":"IF(Brassage!$A$31=\"Selon stock\",Stock!A250,Paramètres!A247)","v":0},null,{"$f":"IF(Brassage!$A$58=\"Selon stock\",Stock!H250,Houblons!A246)","v":0},null,{"$f":"IF(Brassage!$A$62=\"Selon stock\",Stock!P250,Paramètres!J247)","v":" "},null,{"$f":"IF(Brassage!$A$42=\"Selon stock\",Stock!U250,)","v":0}]
[{"$f":"IF(Brassage!$A$31=\"Selon stock\",Stock!A251,Paramètres!A248)","v":0},null,{"$f":"IF(Brassage!$A$58=\"Selon stock\",Stock!H251,Houblons!A247)","v":0},null,{"$f":"IF(Brassage!$A$62=\"Selon stock\",Stock!P251,Paramètres!J248)","v":" "},null,{"$f":"IF(Brassage!$A$42=\"Selon stock\",Stock!U251,)","v":0}]
[{"$f":"IF(Brassage!$A$31=\"Selon stock\",Stock!A252,Paramètres!A249)","v":0},null,{"$f":"IF(Brassage!$A$58=\"Selon stock\",Stock!H252,Houblons!A248)","v":0},null,{"$f":"IF(Brassage!$A$62=\"Selon stock\",Stock!P252,Paramètres!J249)","v":" "},null,{"$f":"IF(Brassage!$A$42=\"Selon stock\",Stock!U252,)","v":0}]
[{"$f":"IF(Brassage!$A$31=\"Selon stock\",Stock!A253,Paramètres!A250)","v":0},null,{"$f":"IF(Brassage!$A$58=\"Selon stock\",Stock!H253,Houblons!A249)","v":0},null,{"$f":"IF(Brassage!$A$62=\"Selon stock\",Stock!P253,Paramètres!J250)","v":" "},null,{"$f":"IF(Brassage!$A$42=\"Selon stock\",Stock!U253,)","v":0}]
[{"$f":"IF(Brassage!$A$31=\"Selon stock\",Stock!A254,Paramètres!A251)","v":0},null,{"$f":"IF(Brassage!$A$58=\"Selon stock\",Stock!H254,Houblons!A250)","v":0},null,{"$f":"IF(Brassage!$A$62=\"Selon stock\",Stock!P254,Paramètres!J251)","v":" "},null,{"$f":"IF(Brassage!$A$42=\"Selon stock\",Stock!U254,)","v":0}]
[{"$f":"IF(Brassage!$A$31=\"Selon stock\",Stock!A255,Paramètres!A252)","v":0},null,{"$f":"IF(Brassage!$A$58=\"Selon stock\",Stock!H255,Houblons!A251)","v":0},null,{"$f":"IF(Brassage!$A$62=\"Selon stock\",Stock!P255,Paramètres!J252)","v":" "},null,{"$f":"IF(Brassage!$A$42=\"Selon stock\",Stock!U255,)","v":0}]
[{"$f":"IF(Brassage!$A$31=\"Selon stock\",Stock!A256,Paramètres!A253)","v":0},null,{"$f":"IF(Brassage!$A$58=\"Selon stock\",Stock!H256,Houblons!A252)","v":0},null,{"$f":"IF(Brassage!$A$62=\"Selon stock\",Stock!P256,Paramètres!J253)","v":" "},null,{"$f":"IF(Brassage!$A$42=\"Selon stock\",Stock!U256,)","v":0}]
[{"$f":"IF(Brassage!$A$31=\"Selon stock\",Stock!A257,Paramètres!A254)","v":0},null,{"$f":"IF(Brassage!$A$58=\"Selon stock\",Stock!H257,Houblons!A253)","v":0},null,{"$f":"IF(Brassage!$A$62=\"Selon stock\",Stock!P257,Paramètres!J254)","v":" "},null,{"$f":"IF(Brassage!$A$42=\"Selon stock\",Stock!U257,)","v":0}]
[{"$f":"IF(Brassage!$A$31=\"Selon stock\",Stock!A258,Paramètres!A255)","v":0},null,{"$f":"IF(Brassage!$A$58=\"Selon stock\",Stock!H258,Houblons!A254)","v":0},null,{"$f":"IF(Brassage!$A$62=\"Selon stock\",Stock!P258,Paramètres!J255)","v":" "},null,{"$f":"IF(Brassage!$A$42=\"Selon stock\",Stock!U258,)","v":0}]
[{"$f":"IF(Brassage!$A$31=\"Selon stock\",Stock!A259,Paramètres!A256)","v":0},null,{"$f":"IF(Brassage!$A$58=\"Selon stock\",Stock!H259,Houblons!A255)","v":0},null,{"$f":"IF(Brassage!$A$62=\"Selon stock\",Stock!P259,Paramètres!J256)","v":" "},null,{"$f":"IF(Brassage!$A$42=\"Selon stock\",Stock!U259,)","v":0}]
[{"$f":"IF(Brassage!$A$31=\"Selon stock\",Stock!A260,Paramètres!A257)","v":0},null,{"$f":"IF(Brassage!$A$58=\"Selon stock\",Stock!H260,Houblons!A256)","v":0},null,{"$f":"IF(Brassage!$A$62=\"Selon stock\",Stock!P260,Paramètres!J257)","v":" "},null,{"$f":"IF(Brassage!$A$42=\"Selon stock\",Stock!U260,)","v":0}]
[{"$f":"IF(Brassage!$A$31=\"Selon stock\",Stock!A261,Paramètres!A258)","v":0},null,{"$f":"IF(Brassage!$A$58=\"Selon stock\",Stock!H261,Houblons!A257)","v":0},null,{"$f":"IF(Brassage!$A$62=\"Selon stock\",Stock!P261,Paramètres!J258)","v":" "},null,{"$f":"IF(Brassage!$A$42=\"Selon stock\",Stock!U261,)","v":0}]
[{"$f":"IF(Brassage!$A$31=\"Selon stock\",Stock!A262,Paramètres!A259)","v":0},null,{"$f":"IF(Brassage!$A$58=\"Selon stock\",Stock!H262,Houblons!A258)","v":0},null,{"$f":"IF(Brassage!$A$62=\"Selon stock\",Stock!P262,Paramètres!J259)","v":" "},null,{"$f":"IF(Brassage!$A$42=\"Selon stock\",Stock!U262,)","v":0}]
[{"$f":"IF(Brassage!$A$31=\"Selon stock\",Stock!A263,Paramètres!A260)","v":0},null,{"$f":"IF(Brassage!$A$58=\"Selon stock\",Stock!H263,Houblons!A259)","v":0},null,{"$f":"IF(Brassage!$A$62=\"Selon stock\",Stock!P263,Paramètres!J260)","v":" "},null,{"$f":"IF(Brassage!$A$42=\"Selon stock\",Stock!U263,)","v":0}]
[{"$f":"IF(Brassage!$A$31=\"Selon stock\",Stock!A264,Paramètres!A261)","v":0},null,{"$f":"IF(Brassage!$A$58=\"Selon stock\",Stock!H264,Houblons!A260)","v":0},null,{"$f":"IF(Brassage!$A$62=\"Selon stock\",Stock!P264,Paramètres!J261)","v":" "},null,{"$f":"IF(Brassage!$A$42=\"Selon stock\",Stock!U264,)","v":0}]
[{"$f":"IF(Brassage!$A$31=\"Selon stock\",Stock!A265,Paramètres!A262)","v":0},null,{"$f":"IF(Brassage!$A$58=\"Selon stock\",Stock!H265,Houblons!A261)","v":0},null,{"$f":"IF(Brassage!$A$62=\"Selon stock\",Stock!P265,Paramètres!J262)","v":" "},null,{"$f":"IF(Brassage!$A$42=\"Selon stock\",Stock!U265,)","v":0}]
[{"$f":"IF(Brassage!$A$31=\"Selon stock\",Stock!A266,Paramètres!A263)","v":0},null,{"$f":"IF(Brassage!$A$58=\"Selon stock\",Stock!H266,Houblons!A262)","v":0},null,{"$f":"IF(Brassage!$A$62=\"Selon stock\",Stock!P266,Paramètres!J263)","v":" "},null,{"$f":"IF(Brassage!$A$42=\"Selon stock\",Stock!U266,)","v":0}]
[{"$f":"IF(Brassage!$A$31=\"Selon stock\",Stock!A267,Paramètres!A264)","v":0},null,{"$f":"IF(Brassage!$A$58=\"Selon stock\",Stock!H267,Houblons!A263)","v":0},null,{"$f":"IF(Brassage!$A$62=\"Selon stock\",Stock!P267,Paramètres!J264)","v":" "},null,{"$f":"IF(Brassage!$A$42=\"Selon stock\",Stock!U267,)","v":0}]
[{"$f":"IF(Brassage!$A$31=\"Selon stock\",Stock!A268,Paramètres!A265)","v":0},null,{"$f":"IF(Brassage!$A$58=\"Selon stock\",Stock!H268,Houblons!A264)","v":0},null,{"$f":"IF(Brassage!$A$62=\"Selon stock\",Stock!P268,Paramètres!J265)","v":" "},null,{"$f":"IF(Brassage!$A$42=\"Selon stock\",Stock!U268,)","v":0}]
[{"$f":"IF(Brassage!$A$31=\"Selon stock\",Stock!A269,Paramètres!A266)","v":0},null,{"$f":"IF(Brassage!$A$58=\"Selon stock\",Stock!H269,Houblons!A265)","v":0},null,{"$f":"IF(Brassage!$A$62=\"Selon stock\",Stock!P269,Paramètres!J266)","v":" "},null,{"$f":"IF(Brassage!$A$42=\"Selon stock\",Stock!U269,)","v":0}]
[{"$f":"IF(Brassage!$A$31=\"Selon stock\",Stock!A270,Paramètres!A267)","v":0},null,{"$f":"IF(Brassage!$A$58=\"Selon stock\",Stock!H270,Houblons!A266)","v":0},null,{"$f":"IF(Brassage!$A$62=\"Selon stock\",Stock!P270,Paramètres!J267)","v":" "},null,{"$f":"IF(Brassage!$A$42=\"Selon stock\",Stock!U270,)","v":0}]
[{"$f":"IF(Brassage!$A$31=\"Selon stock\",Stock!A271,Paramètres!A268)","v":0},null,{"$f":"IF(Brassage!$A$58=\"Selon stock\",Stock!H271,Houblons!A267)","v":0},null,{"$f":"IF(Brassage!$A$62=\"Selon stock\",Stock!P271,Paramètres!J268)","v":" "},null,{"$f":"IF(Brassage!$A$42=\"Selon stock\",Stock!U271,)","v":0}]
[{"$f":"IF(Brassage!$A$31=\"Selon stock\",Stock!A272,Paramètres!A269)","v":0},null,{"$f":"IF(Brassage!$A$58=\"Selon stock\",Stock!H272,Houblons!A268)","v":0},null,{"$f":"IF(Brassage!$A$62=\"Selon stock\",Stock!P272,Paramètres!J269)","v":" "},null,{"$f":"IF(Brassage!$A$42=\"Selon stock\",Stock!U272,)","v":0}]
[{"$f":"IF(Brassage!$A$31=\"Selon stock\",Stock!A273,Paramètres!A270)","v":0},null,{"$f":"IF(Brassage!$A$58=\"Selon stock\",Stock!H273,Houblons!A269)","v":0},null,{"$f":"IF(Brassage!$A$62=\"Selon stock\",Stock!P273,Paramètres!J270)","v":" "},null,{"$f":"IF(Brassage!$A$42=\"Selon stock\",Stock!U273,)","v":0}]
[{"$f":"IF(Brassage!$A$31=\"Selon stock\",Stock!A274,Paramètres!A271)","v":0},null,{"$f":"IF(Brassage!$A$58=\"Selon stock\",Stock!H274,Houblons!A270)","v":0},null,{"$f":"IF(Brassage!$A$62=\"Selon stock\",Stock!P274,Paramètres!J271)","v":" "},null,{"$f":"IF(Brassage!$A$42=\"Selon stock\",Stock!U274,)","v":0}]
[{"$f":"IF(Brassage!$A$31=\"Selon stock\",Stock!A275,Paramètres!A272)","v":0},null,{"$f":"IF(Brassage!$A$58=\"Selon stock\",Stock!H275,Houblons!A271)","v":0},null,{"$f":"IF(Brassage!$A$62=\"Selon stock\",Stock!P275,Paramètres!J272)","v":" "},null,{"$f":"IF(Brassage!$A$42=\"Selon stock\",Stock!U275,)","v":0}]
[{"$f":"IF(Brassage!$A$31=\"Selon stock\",Stock!A276,Paramètres!A273)","v":0},null,{"$f":"IF(Brassage!$A$58=\"Selon stock\",Stock!H276,Houblons!A272)","v":0},null,{"$f":"IF(Brassage!$A$62=\"Selon stock\",Stock!P276,Paramètres!J273)","v":" "},null,{"$f":"IF(Brassage!$A$42=\"Selon stock\",Stock!U276,)","v":0}]
[{"$f":"IF(Brassage!$A$31=\"Selon stock\",Stock!A277,Paramètres!A274)","v":0},null,{"$f":"IF(Brassage!$A$58=\"Selon stock\",Stock!H277,Houblons!A273)","v":0},null,{"$f":"IF(Brassage!$A$62=\"Selon stock\",Stock!P277,Paramètres!J274)","v":" "},null,{"$f":"IF(Brassage!$A$42=\"Selon stock\",Stock!U277,)","v":0}]
[{"$f":"IF(Brassage!$A$31=\"Selon stock\",Stock!A278,Paramètres!A275)","v":0},null,{"$f":"IF(Brassage!$A$58=\"Selon stock\",Stock!H278,Houblons!A274)","v":0},null,{"$f":"IF(Brassage!$A$62=\"Selon stock\",Stock!P278,Paramètres!J275)","v":" "},null,{"$f":"IF(Brassage!$A$42=\"Selon stock\",Stock!U278,)","v":0}]
[{"$f":"IF(Brassage!$A$31=\"Selon stock\",Stock!A279,Paramètres!A276)","v":0},null,{"$f":"IF(Brassage!$A$58=\"Selon stock\",Stock!H279,Houblons!A275)","v":0},null,{"$f":"IF(Brassage!$A$62=\"Selon stock\",Stock!P279,Paramètres!J276)","v":" "},null,{"$f":"IF(Brassage!$A$42=\"Selon stock\",Stock!U279,)","v":0}]
[{"$f":"IF(Brassage!$A$31=\"Selon stock\",Stock!A280,Paramètres!A277)","v":0},null,{"$f":"IF(Brassage!$A$58=\"Selon stock\",Stock!H280,Houblons!A276)","v":0},null,{"$f":"IF(Brassage!$A$62=\"Selon stock\",Stock!P280,Paramètres!J277)","v":" "},null,{"$f":"IF(Brassage!$A$42=\"Selon stock\",Stock!U280,)","v":0}]
[{"$f":"IF(Brassage!$A$31=\"Selon stock\",Stock!A281,Paramètres!A278)","v":0},null,{"$f":"IF(Brassage!$A$58=\"Selon stock\",Stock!H281,Houblons!A277)","v":0},null,{"$f":"IF(Brassage!$A$62=\"Selon stock\",Stock!P281,Paramètres!J278)","v":" "},null,{"$f":"IF(Brassage!$A$42=\"Selon stock\",Stock!U281,)","v":0}]
[{"$f":"IF(Brassage!$A$31=\"Selon stock\",Stock!A282,Paramètres!A279)","v":0},null,{"$f":"IF(Brassage!$A$58=\"Selon stock\",Stock!H282,Houblons!A278)","v":0},null,{"$f":"IF(Brassage!$A$62=\"Selon stock\",Stock!P282,Paramètres!J279)","v":" "},null,{"$f":"IF(Brassage!$A$42=\"Selon stock\",Stock!U282,)","v":0}]
[{"$f":"IF(Brassage!$A$31=\"Selon stock\",Stock!A283,Paramètres!A280)","v":0},null,{"$f":"IF(Brassage!$A$58=\"Selon stock\",Stock!H283,Houblons!A279)","v":0},null,{"$f":"IF(Brassage!$A$62=\"Selon stock\",Stock!P283,Paramètres!J280)","v":" "},null,{"$f":"IF(Brassage!$A$42=\"Selon stock\",Stock!U283,)","v":0}]
[{"$f":"IF(Brassage!$A$31=\"Selon stock\",Stock!A284,Paramètres!A281)","v":0},null,{"$f":"IF(Brassage!$A$58=\"Selon stock\",Stock!H284,Houblons!A280)","v":0},null,{"$f":"IF(Brassage!$A$62=\"Selon stock\",Stock!P284,Paramètres!J281)","v":" "},null,{"$f":"IF(Brassage!$A$42=\"Selon stock\",Stock!U284,)","v":0}]
[{"$f":"IF(Brassage!$A$31=\"Selon stock\",Stock!A285,Paramètres!A282)","v":0},null,{"$f":"IF(Brassage!$A$58=\"Selon stock\",Stock!H285,Houblons!A281)","v":0},null,{"$f":"IF(Brassage!$A$62=\"Selon stock\",Stock!P285,Paramètres!J282)","v":" "},null,{"$f":"IF(Brassage!$A$42=\"Selon stock\",Stock!U285,)","v":0}]
[{"$f":"IF(Brassage!$A$31=\"Selon stock\",Stock!A286,Paramètres!A283)","v":0},null,{"$f":"IF(Brassage!$A$58=\"Selon stock\",Stock!H286,Houblons!A282)","v":0},null,{"$f":"IF(Brassage!$A$62=\"Selon stock\",Stock!P286,Paramètres!J283)","v":" "},null,{"$f":"IF(Brassage!$A$42=\"Selon stock\",Stock!U286,)","v":0}]
[{"$f":"IF(Brassage!$A$31=\"Selon stock\",Stock!A287,Paramètres!A284)","v":0},null,{"$f":"IF(Brassage!$A$58=\"Selon stock\",Stock!H287,Houblons!A283)","v":0},null,{"$f":"IF(Brassage!$A$62=\"Selon stock\",Stock!P287,Paramètres!J284)","v":" "},null,{"$f":"IF(Brassage!$A$42=\"Selon stock\",Stock!U287,)","v":0}]
[{"$f":"IF(Brassage!$A$31=\"Selon stock\",Stock!A288,Paramètres!A285)","v":0},null,{"$f":"IF(Brassage!$A$58=\"Selon stock\",Stock!H288,Houblons!A284)","v":0},null,{"$f":"IF(Brassage!$A$62=\"Selon stock\",Stock!P288,Paramètres!J285)","v":" "},null,{"$f":"IF(Brassage!$A$42=\"Selon stock\",Stock!U288,)","v":0}]
[{"$f":"IF(Brassage!$A$31=\"Selon stock\",Stock!A289,Paramètres!A286)","v":0},null,{"$f":"IF(Brassage!$A$58=\"Selon stock\",Stock!H289,Houblons!A285)","v":0},null,{"$f":"IF(Brassage!$A$62=\"Selon stock\",Stock!P289,Paramètres!J286)","v":" "},null,{"$f":"IF(Brassage!$A$42=\"Selon stock\",Stock!U289,)","v":0}]
[{"$f":"IF(Brassage!$A$31=\"Selon stock\",Stock!A290,Paramètres!A287)","v":0},null,{"$f":"IF(Brassage!$A$58=\"Selon stock\",Stock!H290,Houblons!A286)","v":0},null,{"$f":"IF(Brassage!$A$62=\"Selon stock\",Stock!P290,Paramètres!J287)","v":" "},null,{"$f":"IF(Brassage!$A$42=\"Selon stock\",Stock!U290,)","v":0}]
[{"$f":"IF(Brassage!$A$31=\"Selon stock\",Stock!A291,Paramètres!A288)","v":0},null,{"$f":"IF(Brassage!$A$58=\"Selon stock\",Stock!H291,Houblons!A287)","v":0},null,{"$f":"IF(Brassage!$A$62=\"Selon stock\",Stock!P291,Paramètres!J288)","v":" "},null,{"$f":"IF(Brassage!$A$42=\"Selon stock\",Stock!U291,)","v":0}]
[{"$f":"IF(Brassage!$A$31=\"Selon stock\",Stock!A292,Paramètres!A289)","v":0},null,{"$f":"IF(Brassage!$A$58=\"Selon stock\",Stock!H292,Houblons!A288)","v":0},null,{"$f":"IF(Brassage!$A$62=\"Selon stock\",Stock!P292,Paramètres!J289)","v":" "},null,{"$f":"IF(Brassage!$A$42=\"Selon stock\",Stock!U292,)","v":0}]
[{"$f":"IF(Brassage!$A$31=\"Selon stock\",Stock!A293,Paramètres!A290)","v":0},null,{"$f":"IF(Brassage!$A$58=\"Selon stock\",Stock!H293,Houblons!A289)","v":0},null,{"$f":"IF(Brassage!$A$62=\"Selon stock\",Stock!P293,Paramètres!J290)","v":" "},null,{"$f":"IF(Brassage!$A$42=\"Selon stock\",Stock!U293,)","v":0}]
[{"$f":"IF(Brassage!$A$31=\"Selon stock\",Stock!A294,Paramètres!A291)","v":0},null,{"$f":"IF(Brassage!$A$58=\"Selon stock\",Stock!H294,Houblons!A290)","v":0},null,{"$f":"IF(Brassage!$A$62=\"Selon stock\",Stock!P294,Paramètres!J291)","v":" "},null,{"$f":"IF(Brassage!$A$42=\"Selon stock\",Stock!U294,)","v":0}]
[{"$f":"IF(Brassage!$A$31=\"Selon stock\",Stock!A295,Paramètres!A292)","v":0},null,{"$f":"IF(Brassage!$A$58=\"Selon stock\",Stock!H295,Houblons!A291)","v":0},null,{"$f":"IF(Brassage!$A$62=\"Selon stock\",Stock!P295,Paramètres!J292)","v":" "},null,{"$f":"IF(Brassage!$A$42=\"Selon stock\",Stock!U295,)","v":0}]
[{"$f":"IF(Brassage!$A$31=\"Selon stock\",Stock!A296,Paramètres!A293)","v":0},null,{"$f":"IF(Brassage!$A$58=\"Selon stock\",Stock!H296,Houblons!A292)","v":0},null,{"$f":"IF(Brassage!$A$62=\"Selon stock\",Stock!P296,Paramètres!J293)","v":" "},null,{"$f":"IF(Brassage!$A$42=\"Selon stock\",Stock!U296,)","v":0}]
[{"$f":"IF(Brassage!$A$31=\"Selon stock\",Stock!A297,Paramètres!A294)","v":0},null,{"$f":"IF(Brassage!$A$58=\"Selon stock\",Stock!H297,Houblons!A293)","v":0},null,{"$f":"IF(Brassage!$A$62=\"Selon stock\",Stock!P297,Paramètres!J294)","v":" "},null,{"$f":"IF(Brassage!$A$42=\"Selon stock\",Stock!U297,)","v":0}]
[{"$f":"IF(Brassage!$A$31=\"Selon stock\",Stock!A298,Paramètres!A295)","v":0},null,{"$f":"IF(Brassage!$A$58=\"Selon stock\",Stock!H298,Houblons!A294)","v":0},null,{"$f":"IF(Brassage!$A$62=\"Selon stock\",Stock!P298,Paramètres!J295)","v":" "},null,{"$f":"IF(Brassage!$A$42=\"Selon stock\",Stock!U298,)","v":0}]
[{"$f":"IF(Brassage!$A$31=\"Selon stock\",Stock!A299,Paramètres!A296)","v":0},null,{"$f":"IF(Brassage!$A$58=\"Selon stock\",Stock!H299,Houblons!A295)","v":0},null,{"$f":"IF(Brassage!$A$62=\"Selon stock\",Stock!P299,Paramètres!J296)","v":" "},null,{"$f":"IF(Brassage!$A$42=\"Selon stock\",Stock!U299,)","v":0}]
[{"$f":"IF(Brassage!$A$31=\"Selon stock\",Stock!A300,Paramètres!A297)","v":0},null,{"$f":"IF(Brassage!$A$58=\"Selon stock\",Stock!H300,Houblons!A296)","v":0},null,{"$f":"IF(Brassage!$A$62=\"Selon stock\",Stock!P300,Paramètres!J297)","v":" "},null,{"$f":"IF(Brassage!$A$42=\"Selon stock\",Stock!U300,)","v":0}]
[{"$f":"IF(Brassage!$A$31=\"Selon stock\",Stock!A301,Paramètres!A298)","v":0},null,{"$f":"IF(Brassage!$A$58=\"Selon stock\",Stock!H301,Houblons!A297)","v":0},null,{"$f":"IF(Brassage!$A$62=\"Selon stock\",Stock!P301,Paramètres!J298)","v":" "},null,{"$f":"IF(Brassage!$A$42=\"Selon stock\",Stock!U301,)","v":0}]
[{"$f":"IF(Brassage!$A$31=\"Selon stock\",Stock!A302,Paramètres!A299)","v":0},null,{"$f":"IF(Brassage!$A$58=\"Selon stock\",Stock!H302,Houblons!A298)","v":0},null,{"$f":"IF(Brassage!$A$62=\"Selon stock\",Stock!P302,Paramètres!J299)","v":" "},null,{"$f":"IF(Brassage!$A$42=\"Selon stock\",Stock!U302,)","v":0}]
[{"$f":"IF(Brassage!$A$31=\"Selon stock\",Stock!A303,Paramètres!A300)","v":0},null,{"$f":"IF(Brassage!$A$58=\"Selon stock\",Stock!H303,Houblons!A299)","v":0},null,{"$f":"IF(Brassage!$A$62=\"Selon stock\",Stock!P303,Paramètres!J300)","v":" "},null,{"$f":"IF(Brassage!$A$42=\"Selon stock\",Stock!U303,)","v":0}]
[null,null,null,null,{"$f":"IF(Brassage!$A$62=\"Selon stock\",Stock!P304,Paramètres!J301)","v":" "}]
[null,null,null,null,{"$f":"IF(Brassage!$A$62=\"Selon stock\",Stock!P305,Paramètres!J302)","v":" "}]
[null,null,null,null,{"$f":"IF(Brassage!$A$62=\"Selon stock\",Stock!P306,Paramètres!J303)","v":" "}]
[null,null,null,null,{"$f":"IF(Brassage!$A$62=\"Selon stock\",Stock!P307,Paramètres!J304)","v":" "}]
[null,null,null,null,{"$f":"IF(Brassage!$A$62=\"Selon stock\",Stock!P308,Paramètres!J305)","v":" "}]
[null,null,null,null,{"$f":"IF(Brassage!$A$62=\"Selon stock\",Stock!P309,Paramètres!J306)","v":" "}]
[null,null,null,null,{"$f":"IF(Brassage!$A$62=\"Selon stock\",Stock!P310,Paramètres!J307)","v":" "}]
[null,null,null,null,{"$f":"IF(Brassage!$A$62=\"Selon stock\",Stock!P311,Paramètres!J308)","v":" "}]
[null,null,null,null,{"$f":"IF(Brassage!$A$62=\"Selon stock\",Stock!P312,Paramètres!J309)","v":" "}]
[null,null,null,null,{"$f":"IF(Brassage!$A$62=\"Selon stock\",Stock!P313,Paramètres!J310)","v":" "}]
[null,null,null,null,{"$f":"IF(Brassage!$A$62=\"Selon stock\",Stock!P314,Paramètres!J311)","v":" "}]
[null,null,null,null,{"$f":"IF(Brassage!$A$62=\"Selon stock\",Stock!P315,Paramètres!J312)","v":" "}]
[null,null,null,null,{"$f":"IF(Brassage!$A$62=\"Selon stock\",Stock!P316,Paramètres!J313)","v":" "}]
[null,null,null,null,{"$f":"IF(Brassage!$A$62=\"Selon stock\",Stock!P317,Paramètres!J314)","v":" "}]
[null,null,null,null,{"$f":"IF(Brassage!$A$62=\"Selon stock\",Stock!P318,Paramètres!J315)","v":" "}]
[null,null,null,null,{"$f":"IF(Brassage!$A$62=\"Selon stock\",Stock!P319,Paramètres!J316)","v":" "}]
[null,null,null,null,{"$f":"IF(Brassage!$A$62=\"Selon stock\",Stock!P320,Paramètres!J317)","v":" "}]
[null,null,null,null,{"$f":"IF(Brassage!$A$62=\"Selon stock\",Stock!P321,Paramètres!J318)","v":" "}]
[null,null,null,null,{"$f":"IF(Brassage!$A$62=\"Selon stock\",Stock!P322,Paramètres!J319)","v":" "}]
[null,null,null,null,{"$f":"IF(Brassage!$A$62=\"Selon stock\",Stock!P323,Paramètres!J320)","v":" "}]
[null,null,null,null,{"$f":"IF(Brassage!$A$62=\"Selon stock\",Stock!P324,Paramètres!J321)","v":" "}]
[null,null,null,null,{"$f":"IF(Brassage!$A$62=\"Selon stock\",Stock!P325,Paramètres!J322)","v":" "}]
[null,null,null,null,{"$f":"IF(Brassage!$A$62=\"Selon stock\",Stock!P326,Paramètres!J323)","v":" "}]
[null,null,null,null,{"$f":"IF(Brassage!$A$62=\"Selon stock\",Stock!P327,Paramètres!J324)","v":" "}]
[null,null,null,null,{"$f":"IF(Brassage!$A$62=\"Selon stock\",Stock!P328,Paramètres!J325)","v":" "}]
[null,null,null,null,{"$f":"IF(Brassage!$A$62=\"Selon stock\",Stock!P329,Paramètres!J326)","v":" "}]
[null,null,null,null,{"$f":"IF(Brassage!$A$62=\"Selon stock\",Stock!P330,Paramètres!J327)","v":" "}]
[null,null,null,null,{"$f":"IF(Brassage!$A$62=\"Selon stock\",Stock!P331,Paramètres!J328)","v":" "}]
[null,null,null,null,{"$f":"IF(Brassage!$A$62=\"Selon stock\",Stock!P332,Paramètres!J329)","v":" "}]
[null,null,null,null,{"$f":"IF(Brassage!$A$62=\"Selon stock\",Stock!P333,Paramètres!J330)","v":" "}]
[null,null,null,null,{"$f":"IF(Brassage!$A$62=\"Selon stock\",Stock!P334,Paramètres!J331)","v":" "}]
[null,null,null,null,{"$f":"IF(Brassage!$A$62=\"Selon stock\",Stock!P335,Paramètres!J332)","v":" "}]
[null,null,null,null,{"$f":"IF(Brassage!$A$62=\"Selon stock\",Stock!P336,Paramètres!J333)","v":" "}]
[null,null,null,null,{"$f":"IF(Brassage!$A$62=\"Selon stock\",Stock!P337,Paramètres!J334)","v":" "}]
[null,null,null,null,{"$f":"IF(Brassage!$A$62=\"Selon stock\",Stock!P338,Paramètres!J335)","v":" "}]
[null,null,null,null,{"$f":"IF(Brassage!$A$62=\"Selon stock\",Stock!P339,Paramètres!J336)","v":" "}]
[null,null,null,null,{"$f":"IF(Brassage!$A$62=\"Selon stock\",Stock!P340,Paramètres!J337)","v":" "}]
[null,null,null,null,{"$f":"IF(Brassage!$A$62=\"Selon stock\",Stock!P341,Paramètres!J338)","v":" "}]
[null,null,null,null,{"$f":"IF(Brassage!$A$62=\"Selon stock\",Stock!P342,Paramètres!J339)","v":" "}]
[null,null,null,null,{"$f":"IF(Brassage!$A$62=\"Selon stock\",Stock!P343,Paramètres!J340)","v":" "}]
[null,null,null,null,{"$f":"IF(Brassage!$A$62=\"Selon stock\",Stock!P344,Paramètres!J341)","v":" "}]
[null,null,null,null,{"$f":"IF(Brassage!$A$62=\"Selon stock\",Stock!P345,Paramètres!J342)","v":" "}]
[null,null,null,null,{"$f":"IF(Brassage!$A$62=\"Selon stock\",Stock!P346,Paramètres!J343)","v":" "}]
[null,null,null,null,{"$f":"IF(Brassage!$A$62=\"Selon stock\",Stock!P347,Paramètres!J344)","v":" "}]
[null,null,null,null,{"$f":"IF(Brassage!$A$62=\"Selon stock\",Stock!P348,Paramètres!J345)","v":" "}]
[null,null,null,null,{"$f":"IF(Brassage!$A$62=\"Selon stock\",Stock!P349,Paramètres!J346)","v":" "}]
[null,null,null,null,{"$f":"IF(Brassage!$A$62=\"Selon stock\",Stock!P350,Paramètres!J347)","v":" "}]
[null,null,null,null,{"$f":"IF(Brassage!$A$62=\"Selon stock\",Stock!P351,Paramètres!J348)","v":" "}]
[null,null,null,null,{"$f":"IF(Brassage!$A$62=\"Selon stock\",Stock!P352,Paramètres!J349)","v":" "}]
[null,null,null,null,{"$f":"IF(Brassage!$A$62=\"Selon stock\",Stock!P353,Paramètres!J350)","v":" "}]
[null,null,null,null,{"$f":"IF(Brassage!$A$62=\"Selon stock\",Stock!P354,Paramètres!J351)","v":" "}]
[null,null,null,null,{"$f":"IF(Brassage!$A$62=\"Selon stock\",Stock!P355,Paramètres!J352)","v":" "}]
[null,null,null,null,{"$f":"IF(Brassage!$A$62=\"Selon stock\",Stock!P356,Paramètres!J353)","v":" "}]
[null,null,null,null,{"$f":"IF(Brassage!$A$62=\"Selon stock\",Stock!P357,Paramètres!J354)","v":" "}]
[null,null,null,null,{"$f":"IF(Brassage!$A$62=\"Selon stock\",Stock!P358,Paramètres!J355)","v":" "}]
[null,null,null,null,{"$f":"IF(Brassage!$A$62=\"Selon stock\",Stock!P359,Paramètres!J356)","v":" "}]
[null,null,null,null,{"$f":"IF(Brassage!$A$62=\"Selon stock\",Stock!P360,Paramètres!J357)","v":" "}]
[null,null,null,null,{"$f":"IF(Brassage!$A$62=\"Selon stock\",Stock!P361,Paramètres!J358)","v":" "}]
[null,null,null,null,{"$f":"IF(Brassage!$A$62=\"Selon stock\",Stock!P362,Paramètres!J359)","v":" "}]
[null,null,null,null,{"$f":"IF(Brassage!$A$62=\"Selon stock\",Stock!P363,Paramètres!J360)","v":" "}]
[null,null,null,null,{"$f":"IF(Brassage!$A$62=\"Selon stock\",Stock!P364,Paramètres!J361)","v":" "}]
[null,null,null,null,{"$f":"IF(Brassage!$A$62=\"Selon stock\",Stock!P365,Paramètres!J362)","v":" "}]
[null,null,null,null,{"$f":"IF(Brassage!$A$62=\"Selon stock\",Stock!P366,Paramètres!J363)","v":" "}]
[null,null,null,null,{"$f":"IF(Brassage!$A$62=\"Selon stock\",Stock!P367,Paramètres!J364)","v":" "}]
[null,null,null,null,{"$f":"IF(Brassage!$A$62=\"Selon stock\",Stock!P368,Paramètres!J365)","v":" "}]
[null,null,null,null,{"$f":"IF(Brassage!$A$62=\"Selon stock\",Stock!P369,Paramètres!J366)","v":" "}]
[null,null,null,null,{"$f":"IF(Brassage!$A$62=\"Selon stock\",Stock!P370,Paramètres!J367)","v":" "}]
[null,null,null,null,{"$f":"IF(Brassage!$A$62=\"Selon stock\",Stock!P371,Paramètres!J368)","v":" "}]
[null,null,null,null,{"$f":"IF(Brassage!$A$62=\"Selon stock\",Stock!P372,Paramètres!J369)","v":" "}]
[null,null,null,null,{"$f":"IF(Brassage!$A$62=\"Selon stock\",Stock!P373,Paramètres!J370)","v":" "}]
[null,null,null,null,{"$f":"IF(Brassage!$A$62=\"Selon stock\",Stock!P374,Paramètres!J371)","v":" "}]
[null,null,null,null,{"$f":"IF(Brassage!$A$62=\"Selon stock\",Stock!P375,Paramètres!J372)","v":" "}]
[null,null,null,null,{"$f":"IF(Brassage!$A$62=\"Selon stock\",Stock!P376,Paramètres!J373)","v":" "}]
[null,null,null,null,{"$f":"IF(Brassage!$A$62=\"Selon stock\",Stock!P377,Paramètres!J374)","v":" "}]
[null,null,null,null,{"$f":"IF(Brassage!$A$62=\"Selon stock\",Stock!P378,Paramètres!J375)","v":" "}]
[null,null,null,null,{"$f":"IF(Brassage!$A$62=\"Selon stock\",Stock!P379,Paramètres!J376)","v":" "}]
[null,null,null,null,{"$f":"IF(Brassage!$A$62=\"Selon stock\",Stock!P380,Paramètres!J377)","v":" "}]
[null,null,null,null,{"$f":"IF(Brassage!$A$62=\"Selon stock\",Stock!P381,Paramètres!J378)","v":" "}]
[null,null,null,null,{"$f":"IF(Brassage!$A$62=\"Selon stock\",Stock!P382,Paramètres!J379)","v":" "}]
[null,null,null,null,{"$f":"IF(Brassage!$A$62=\"Selon stock\",Stock!P383,Paramètres!J380)","v":" "}]
[null,null,null,null,{"$f":"IF(Brassage!$A$62=\"Selon stock\",Stock!P384,Paramètres!J381)","v":" "}]
[null,null,null,null,{"$f":"IF(Brassage!$A$62=\"Selon stock\",Stock!P385,Paramètres!J382)","v":" "}]
[null,null,null,null,{"$f":"IF(Brassage!$A$62=\"Selon stock\",Stock!P386,Paramètres!J383)","v":" "}]
[null,null,null,null,{"$f":"IF(Brassage!$A$62=\"Selon stock\",Stock!P387,Paramètres!J384)","v":" "}]
[null,null,null,null,{"$f":"IF(Brassage!$A$62=\"Selon stock\",Stock!P388,Paramètres!J385)","v":" "}]
[null,null,null,null,{"$f":"IF(Brassage!$A$62=\"Selon stock\",Stock!P389,Paramètres!J386)","v":" "}]
[null,null,null,null,{"$f":"IF(Brassage!$A$62=\"Selon stock\",Stock!P390,Paramètres!J387)","v":" "}]
[null,null,null,null,{"$f":"IF(Brassage!$A$62=\"Selon stock\",Stock!P391,Paramètres!J388)","v":" "}]
[null,null,null,null,{"$f":"IF(Brassage!$A$62=\"Selon stock\",Stock!P392,Paramètres!J389)","v":" "}]
[null,null,null,null,{"$f":"IF(Brassage!$A$62=\"Selon stock\",Stock!P393,Paramètres!J390)","v":" "}]
[null,null,null,null,{"$f":"IF(Brassage!$A$62=\"Selon stock\",Stock!P394,Paramètres!J391)","v":" "}]
[null,null,null,null,{"$f":"IF(Brassage!$A$62=\"Selon stock\",Stock!P395,Paramètres!J392)","v":" "}]
[null,null,null,null,{"$f":"IF(Brassage!$A$62=\"Selon stock\",Stock!P396,Paramètres!J393)","v":" "}]
[null,null,null,null,{"$f":"IF(Brassage!$A$62=\"Selon stock\",Stock!P397,Paramètres!J394)","v":" "}]
[null,null,null,null,{"$f":"IF(Brassage!$A$62=\"Selon stock\",Stock!P398,Paramètres!J395)","v":" "}]
[null,null,null,null,{"$f":"IF(Brassage!$A$62=\"Selon stock\",Stock!P399,Paramètres!J396)","v":" "}]
[null,null,null,null,{"$f":"IF(Brassage!$A$62=\"Selon stock\",Stock!P400,Paramètres!J397)","v":" "}]
[null,null,null,null,{"$f":"IF(Brassage!$A$62=\"Selon stock\",Stock!P401,Paramètres!J398)","v":" "}]
[null,null,null,null,{"$f":"IF(Brassage!$A$62=\"Selon stock\",Stock!P402,Paramètres!J399)","v":" "}]
[null,null,null,null,{"$f":"IF(Brassage!$A$62=\"Selon stock\",Stock!P403,Paramètres!J400)","v":" "}]
[null,null,null,null,{"$f":"IF(Brassage!$A$62=\"Selon stock\",Stock!P404,Paramètres!J401)","v":0}]
[null,null,null,null,{"$f":"IF(Brassage!$A$62=\"Selon stock\",Stock!P405,Paramètres!J402)","v":0}]
[null,null,null,null,{"$f":"IF(Brassage!$A$62=\"Selon stock\",Stock!P406,Paramètres!J403)","v":0}]
[null,null,null,null,{"$f":"IF(Brassage!$A$62=\"Selon stock\",Stock!P407,Paramètres!J404)","v":0}]
[null,null,null,null,{"$f":"IF(Brassage!$A$62=\"Selon stock\",Stock!P408,Paramètres!J405)","v":0}]
[null,null,null,null,{"$f":"IF(Brassage!$A$62=\"Selon stock\",Stock!P409,Paramètres!J406)","v":0}]
[null,null,null,null,{"$f":"IF(Brassage!$A$62=\"Selon stock\",Stock!P410,Paramètres!J407)","v":0}]
[null,null,null,null,{"$f":"IF(Brassage!$A$62=\"Selon stock\",Stock!P411,Paramètres!J408)","v":0}]
[null,null,null,null,{"$f":"IF(Brassage!$A$62=\"Selon stock\",Stock!P412,Paramètres!J409)","v":0}]
[null,null,null,null,{"$f":"IF(Brassage!$A$62=\"Selon stock\",Stock!P413,Paramètres!J410)","v":0}]
[null,null,null,null,{"$f":"IF(Brassage!$A$62=\"Selon stock\",Stock!P414,Paramètres!J411)","v":0}]
[null,null,null,null,{"$f":"IF(Brassage!$A$62=\"Selon stock\",Stock!P415,Paramètres!J412)","v":0}]
[null,null,null,null,{"$f":"IF(Brassage!$A$62=\"Selon stock\",Stock!P416,Paramètres!J413)","v":0}]
[null,null,null,null,{"$f":"IF(Brassage!$A$62=\"Selon stock\",Stock!P417,Paramètres!J414)","v":0}]
[null,null,null,null,{"$f":"IF(Brassage!$A$62=\"Selon stock\",Stock!P418,Paramètres!J415)","v":0}]
[null,null,null,null,{"$f":"IF(Brassage!$A$62=\"Selon stock\",Stock!P419,Paramètres!J416)","v":0}]
[null,null,null,null,{"$f":"IF(Brassage!$A$62=\"Selon stock\",Stock!P420,Paramètres!J417)","v":0}]
[null,null,null,null,{"$f":"IF(Brassage!$A$62=\"Selon stock\",Stock!P421,Paramètres!J418)","v":0}]
[null,null,null,null,{"$f":"IF(Brassage!$A$62=\"Selon stock\",Stock!P422,Paramètres!J419)","v":0}]
[null,null,null,null,{"$f":"IF(Brassage!$A$62=\"Selon stock\",Stock!P423,Paramètres!J420)","v":0}]
[null,null,null,null,{"$f":"IF(Brassage!$A$62=\"Selon stock\",Stock!P424,Paramètres!J421)","v":0}]
[null,null,null,null,{"$f":"IF(Brassage!$A$62=\"Selon stock\",Stock!P425,Paramètres!J422)","v":0}]
[null,null,null,null,{"$f":"IF(Brassage!$A$62=\"Selon stock\",Stock!P426,Paramètres!J423)","v":0}]
[null,null,null,null,{"$f":"IF(Brassage!$A$62=\"Selon stock\",Stock!P427,Paramètres!J424)","v":0}]
[null,null,null,null,{"$f":"IF(Brassage!$A$62=\"Selon stock\",Stock!P428,Paramètres!J425)","v":0}]
[null,null,null,null,{"$f":"IF(Brassage!$A$62=\"Selon stock\",Stock!P429,Paramètres!J426)","v":0}]
[null,null,null,null,{"$f":"IF(Brassage!$A$62=\"Selon stock\",Stock!P430,Paramètres!J427)","v":0}]
[null,null,null,null,{"$f":"IF(Brassage!$A$62=\"Selon stock\",Stock!P431,Paramètres!J428)","v":0}]
[null,null,null,null,{"$f":"IF(Brassage!$A$62=\"Selon stock\",Stock!P432,Paramètres!J429)","v":0}]
[null,null,null,null,{"$f":"IF(Brassage!$A$62=\"Selon stock\",Stock!P433,Paramètres!J430)","v":0}]
[null,null,null,null,{"$f":"IF(Brassage!$A$62=\"Selon stock\",Stock!P434,Paramètres!J431)","v":0}]
[null,null,null,null,{"$f":"IF(Brassage!$A$62=\"Selon stock\",Stock!P435,Paramètres!J432)","v":0}]
[null,null,null,null,{"$f":"IF(Brassage!$A$62=\"Selon stock\",Stock!P436,Paramètres!J433)","v":0}]
[null,null,null,null,{"$f":"IF(Brassage!$A$62=\"Selon stock\",Stock!P437,Paramètres!J434)","v":0}]
[null,null,null,null,{"$f":"IF(Brassage!$A$62=\"Selon stock\",Stock!P438,Paramètres!J435)","v":0}]
[null,null,null,null,{"$f":"IF(Brassage!$A$62=\"Selon stock\",Stock!P439,Paramètres!J436)","v":0}]
[null,null,null,null,{"$f":"IF(Brassage!$A$62=\"Selon stock\",Stock!P440,Paramètres!J437)","v":0}]
[null,null,null,null,{"$f":"IF(Brassage!$A$62=\"Selon stock\",Stock!P441,Paramètres!J438)","v":0}]
[null,null,null,null,{"$f":"IF(Brassage!$A$62=\"Selon stock\",Stock!P442,Paramètres!J439)","v":0}]
[null,null,null,null,{"$f":"IF(Brassage!$A$62=\"Selon stock\",Stock!P443,Paramètres!J440)","v":0}]
[null,null,null,null,{"$f":"IF(Brassage!$A$62=\"Selon stock\",Stock!P444,Paramètres!J441)","v":0}]
[null,null,null,null,{"$f":"IF(Brassage!$A$62=\"Selon stock\",Stock!P445,Paramètres!J442)","v":0}]
[null,null,null,null,{"$f":"IF(Brassage!$A$62=\"Selon stock\",Stock!P446,Paramètres!J443)","v":0}]
[null,null,null,null,{"$f":"IF(Brassage!$A$62=\"Selon stock\",Stock!P447,Paramètres!J444)","v":0}]
[null,null,null,null,{"$f":"IF(Brassage!$A$62=\"Selon stock\",Stock!P448,Paramètres!J445)","v":0}]
[null,null,null,null,{"$f":"IF(Brassage!$A$62=\"Selon stock\",Stock!P449,Paramètres!J446)","v":0}]
[null,null,null,null,{"$f":"IF(Brassage!$A$62=\"Selon stock\",Stock!P450,Paramètres!J447)","v":0}]
[null,null,null,null,{"$f":"IF(Brassage!$A$62=\"Selon stock\",Stock!P451,Paramètres!J448)","v":0}]
[null,null,null,null,{"$f":"IF(Brassage!$A$62=\"Selon stock\",Stock!P452,Paramètres!J449)","v":0}]
[null,null,null,null,{"$f":"IF(Brassage!$A$62=\"Selon stock\",Stock!P453,Paramètres!J450)","v":0}]
[null,null,null,null,{"$f":"IF(Brassage!$A$62=\"Selon stock\",Stock!P454,Paramètres!J451)","v":0}]
[null,null,null,null,{"$f":"IF(Brassage!$A$62=\"Selon stock\",Stock!P455,Paramètres!J452)","v":0}]
[null,null,null,null,{"$f":"IF(Brassage!$A$62=\"Selon stock\",Stock!P456,Paramètres!J453)","v":0}]
[null,null,null,null,{"$f":"IF(Brassage!$A$62=\"Selon stock\",Stock!P457,Paramètres!J454)","v":0}]
[null,null,null,null,{"$f":"IF(Brassage!$A$62=\"Selon stock\",Stock!P458,Paramètres!J455)","v":0}]
[null,null,null,null,{"$f":"IF(Brassage!$A$62=\"Selon stock\",Stock!P459,Paramètres!J456)","v":0}]
[null,null,null,null,{"$f":"IF(Brassage!$A$62=\"Selon stock\",Stock!P460,Paramètres!J457)","v":0}]
[null,null,null,null,{"$f":"IF(Brassage!$A$62=\"Selon stock\",Stock!P461,Paramètres!J458)","v":0}]
[null,null,null,null,{"$f":"IF(Brassage!$A$62=\"Selon stock\",Stock!P462,Paramètres!J459)","v":0}]
[null,null,null,null,{"$f":"IF(Brassage!$A$62=\"Selon stock\",Stock!P463,Paramètres!J460)","v":0}]
[null,null,null,null,{"$f":"IF(Brassage!$A$62=\"Selon stock\",Stock!P464,Paramètres!J461)","v":0}]
[null,null,null,null,{"$f":"IF(Brassage!$A$62=\"Selon stock\",Stock!P465,Paramètres!J462)","v":0}]
[null,null,null,null,{"$f":"IF(Brassage!$A$62=\"Selon stock\",Stock!P466,Paramètres!J463)","v":0}]
[null,null,null,null,{"$f":"IF(Brassage!$A$62=\"Selon stock\",Stock!P467,Paramètres!J464)","v":0}]
[null,null,null,null,{"$f":"IF(Brassage!$A$62=\"Selon stock\",Stock!P468,Paramètres!J465)","v":0}]
[null,null,null,null,{"$f":"IF(Brassage!$A$62=\"Selon stock\",Stock!P469,Paramètres!J466)","v":0}]
[null,null,null,null,{"$f":"IF(Brassage!$A$62=\"Selon stock\",Stock!P470,Paramètres!J467)","v":0}]
[null,null,null,null,{"$f":"IF(Brassage!$A$62=\"Selon stock\",Stock!P471,Paramètres!J468)","v":0}]
[null,null,null,null,{"$f":"IF(Brassage!$A$62=\"Selon stock\",Stock!P472,Paramètres!J469)","v":0}]
[null,null,null,null,{"$f":"IF(Brassage!$A$62=\"Selon stock\",Stock!P473,Paramètres!J470)","v":0}]
[null,null,null,null,{"$f":"IF(Brassage!$A$62=\"Selon stock\",Stock!P474,Paramètres!J471)","v":0}]
[null,null,null,null,{"$f":"IF(Brassage!$A$62=\"Selon stock\",Stock!P475,Paramètres!J472)","v":0}]
[null,null,null,null,{"$f":"IF(Brassage!$A$62=\"Selon stock\",Stock!P476,Paramètres!J473)","v":0}]
[null,null,null,null,{"$f":"IF(Brassage!$A$62=\"Selon stock\",Stock!P477,Paramètres!J474)","v":0}]
[null,null,null,null,{"$f":"IF(Brassage!$A$62=\"Selon stock\",Stock!P478,Paramètres!J475)","v":0}]
[null,null,null,null,{"$f":"IF(Brassage!$A$62=\"Selon stock\",Stock!P479,Paramètres!J476)","v":0}]
[null,null,null,null,{"$f":"IF(Brassage!$A$62=\"Selon stock\",Stock!P480,Paramètres!J477)","v":0}]
[null,null,null,null,{"$f":"IF(Brassage!$A$62=\"Selon stock\",Stock!P481,Paramètres!J478)","v":0}]
[null,null,null,null,{"$f":"IF(Brassage!$A$62=\"Selon stock\",Stock!P482,Paramètres!J479)","v":0}]
[null,null,null,null,{"$f":"IF(Brassage!$A$62=\"Selon stock\",Stock!P483,Paramètres!J480)","v":0}]
[null,null,null,null,{"$f":"IF(Brassage!$A$62=\"Selon stock\",Stock!P484,Paramètres!J481)","v":0}]
[null,null,null,null,{"$f":"IF(Brassage!$A$62=\"Selon stock\",Stock!P485,Paramètres!J482)","v":0}]
[null,null,null,null,{"$f":"IF(Brassage!$A$62=\"Selon stock\",Stock!P486,Paramètres!J483)","v":0}]
[null,null,null,null,{"$f":"IF(Brassage!$A$62=\"Selon stock\",Stock!P487,Paramètres!J484)","v":0}]
[null,null,null,null,{"$f":"IF(Brassage!$A$62=\"Selon stock\",Stock!P488,Paramètres!J485)","v":0}]
[null,null,null,null,{"$f":"IF(Brassage!$A$62=\"Selon stock\",Stock!P489,Paramètres!J486)","v":0}]
[null,null,null,null,{"$f":"IF(Brassage!$A$62=\"Selon stock\",Stock!P490,Paramètres!J487)","v":0}]
[null,null,null,null,{"$f":"IF(Brassage!$A$62=\"Selon stock\",Stock!P491,Paramètres!J488)","v":0}]
[null,null,null,null,{"$f":"IF(Brassage!$A$62=\"Selon stock\",Stock!P492,Paramètres!J489)","v":0}]
[null,null,null,null,{"$f":"IF(Brassage!$A$62=\"Selon stock\",Stock!P493,Paramètres!J490)","v":0}]
[null,null,null,null,{"$f":"IF(Brassage!$A$62=\"Selon stock\",Stock!P494,Paramètres!J491)","v":0}]
[null,null,null,null,{"$f":"IF(Brassage!$A$62=\"Selon stock\",Stock!P495,Paramètres!J492)","v":0}]
[null,null,null,null,{"$f":"IF(Brassage!$A$62=\"Selon stock\",Stock!P496,Paramètres!J493)","v":0}]
[null,null,null,null,{"$f":"IF(Brassage!$A$62=\"Selon stock\",Stock!P497,Paramètres!J494)","v":0}]
[null,null,null,null,{"$f":"IF(Brassage!$A$62=\"Selon stock\",Stock!P498,Paramètres!J495)","v":0}]
[null,null,null,null,{"$f":"IF(Brassage!$A$62=\"Selon stock\",Stock!P499,Paramètres!J496)","v":0}]
[null,null,null,null,{"$f":"IF(Brassage!$A$62=\"Selon stock\",Stock!P500,Paramètres!J497)","v":0}]
[null,null,null,null,{"$f":"IF(Brassage!$A$62=\"Selon stock\",Stock!P501,Paramètres!J498)","v":0}]
[null,null,null,null,{"$f":"IF(Brassage!$A$62=\"Selon stock\",Stock!P502,Paramètres!J499)","v":0}]
[null,null,null,null,{"$f":"IF(Brassage!$A$62=\"Selon stock\",Stock!P503,Paramètres!J500)","v":0}]
[null,null,null,null,{"$f":"IF(Brassage!$A$62=\"Selon stock\",Stock!P504,Paramètres!J501)","v":0}]
[null,null,null,null,{"$f":"IF(Brassage!$A$62=\"Selon stock\",Stock!P505,Paramètres!J502)","v":0}]
[null,null,null,null,{"$f":"IF(Brassage!$A$62=\"Selon stock\",Stock!P506,Paramètres!J503)","v":0}]
[null,null,null,null,{"$f":"IF(Brassage!$A$62=\"Selon stock\",Stock!P507,Paramètres!J504)","v":0}]
[null,null,null,null,{"$f":"IF(Brassage!$A$62=\"Selon stock\",Stock!P508,Paramètres!J505)","v":0}]
[null,null,null,null,{"$f":"IF(Brassage!$A$62=\"Selon stock\",Stock!P509,Paramètres!J506)","v":0}]
[null,null,null,null,{"$f":"IF(Brassage!$A$62=\"Selon stock\",Stock!P510,Paramètres!J507)","v":0}]
[null,null,null,null,{"$f":"IF(Brassage!$A$62=\"Selon stock\",Stock!P511,Paramètres!J508)","v":0}]
[null,null,null,null,{"$f":"IF(Brassage!$A$62=\"Selon stock\",Stock!P512,Paramètres!J509)","v":0}]
[null,null,null,null,{"$f":"IF(Brassage!$A$62=\"Selon stock\",Stock!P513,Paramètres!J510)","v":0}]
[null,null,null,null,{"$f":"IF(Brassage!$A$62=\"Selon stock\",Stock!P514,Paramètres!J511)","v":0}]
[null,null,null,null,{"$f":"IF(Brassage!$A$62=\"Selon stock\",Stock!P515,Paramètres!J512)","v":0}]
[null,null,null,null,{"$f":"IF(Brassage!$A$62=\"Selon stock\",Stock!P516,Paramètres!J513)","v":0}]
[null,null,null,null,{"$f":"IF(Brassage!$A$62=\"Selon stock\",Stock!P517,Paramètres!J514)","v":0}]
[null,null,null,null,{"$f":"IF(Brassage!$A$62=\"Selon stock\",Stock!P518,Paramètres!J515)","v":0}]
[null,null,null,null,{"$f":"IF(Brassage!$A$62=\"Selon stock\",Stock!P519,Paramètres!J516)","v":0}]
[null,null,null,null,{"$f":"IF(Brassage!$A$62=\"Selon stock\",Stock!P520,Paramètres!J517)","v":0}]
[null,null,null,null,{"$f":"IF(Brassage!$A$62=\"Selon stock\",Stock!P521,Paramètres!J518)","v":0}]
[null,null,null,null,{"$f":"IF(Brassage!$A$62=\"Selon stock\",Stock!P522,Paramètres!J519)","v":0}]
[null,null,null,null,{"$f":"IF(Brassage!$A$62=\"Selon stock\",Stock!P523,Paramètres!J520)","v":0}]
[null,null,null,null,{"$f":"IF(Brassage!$A$62=\"Selon stock\",Stock!P524,Paramètres!J521)","v":0}]
[null,null,null,null,{"$f":"IF(Brassage!$A$62=\"Selon stock\",Stock!P525,Paramètres!J522)","v":0}]
[null,null,null,null,{"$f":"IF(Brassage!$A$62=\"Selon stock\",Stock!P526,Paramètres!J523)","v":0}]
[null,null,null,null,{"$f":"IF(Brassage!$A$62=\"Selon stock\",Stock!P527,Paramètres!J524)","v":0}]
[null,null,null,null,{"$f":"IF(Brassage!$A$62=\"Selon stock\",Stock!P528,Paramètres!J525)","v":0}]
[null,null,null,null,{"$f":"IF(Brassage!$A$62=\"Selon stock\",Stock!P529,Paramètres!J526)","v":0}]
[null,null,null,null,{"$f":"IF(Brassage!$A$62=\"Selon stock\",Stock!P530,Paramètres!J527)","v":0}]
[null,null,null,null,{"$f":"IF(Brassage!$A$62=\"Selon stock\",Stock!P531,Paramètres!J528)","v":0}]
[null,null,null,null,{"$f":"IF(Brassage!$A$62=\"Selon stock\",Stock!P532,Paramètres!J529)","v":0}]
[null,null,null,null,{"$f":"IF(Brassage!$A$62=\"Selon stock\",Stock!P533,Paramètres!J530)","v":0}]
[null,null,null,null,{"$f":"IF(Brassage!$A$62=\"Selon stock\",Stock!P534,Paramètres!J531)","v":0}]
[null,null,null,null,{"$f":"IF(Brassage!$A$62=\"Selon stock\",Stock!P535,Paramètres!J532)","v":0}]
[null,null,null,null,{"$f":"IF(Brassage!$A$62=\"Selon stock\",Stock!P536,Paramètres!J533)","v":0}]
[null,null,null,null,{"$f":"IF(Brassage!$A$62=\"Selon stock\",Stock!P537,Paramètres!J534)","v":0}]
[null,null,null,null,{"$f":"IF(Brassage!$A$62=\"Selon stock\",Stock!P538,Paramètres!J535)","v":0}]
[null,null,null,null,{"$f":"IF(Brassage!$A$62=\"Selon stock\",Stock!P539,Paramètres!J536)","v":0}]
[null,null,null,null,{"$f":"IF(Brassage!$A$62=\"Selon stock\",Stock!P540,Paramètres!J537)","v":0}]
[null,null,null,null,{"$f":"IF(Brassage!$A$62=\"Selon stock\",Stock!P541,Paramètres!J538)","v":0}]
[null,null,null,null,{"$f":"IF(Brassage!$A$62=\"Selon stock\",Stock!P542,Paramètres!J539)","v":0}]
[null,null,null,null,{"$f":"IF(Brassage!$A$62=\"Selon stock\",Stock!P543,Paramètres!J540)","v":0}]
[null,null,null,null,{"$f":"IF(Brassage!$A$62=\"Selon stock\",Stock!P544,Paramètres!J541)","v":0}]
[null,null,null,null,{"$f":"IF(Brassage!$A$62=\"Selon stock\",Stock!P545,Paramètres!J542)","v":0}]
[null,null,null,null,{"$f":"IF(Brassage!$A$62=\"Selon stock\",Stock!P546,Paramètres!J543)","v":0}]
[null,null,null,null,{"$f":"IF(Brassage!$A$62=\"Selon stock\",Stock!P547,Paramètres!J544)","v":0}]
[null,null,null,null,{"$f":"IF(Brassage!$A$62=\"Selon stock\",Stock!P548,Paramètres!J545)","v":0}]
[null,null,null,null,{"$f":"IF(Brassage!$A$62=\"Selon stock\",Stock!P549,Paramètres!J546)","v":0}]
[null,null,null,null,{"$f":"IF(Brassage!$A$62=\"Selon stock\",Stock!P550,Paramètres!J547)","v":0}]
[null,null,null,null,{"$f":"IF(Brassage!$A$62=\"Selon stock\",Stock!P551,Paramètres!J548)","v":0}]
[null,null,null,null,{"$f":"IF(Brassage!$A$62=\"Selon stock\",Stock!P552,Paramètres!J549)","v":0}]
[null,null,null,null,{"$f":"IF(Brassage!$A$62=\"Selon stock\",Stock!P553,Paramètres!J550)","v":0}]
[null,null,null,null,{"$f":"IF(Brassage!$A$62=\"Selon stock\",Stock!P554,Paramètres!J551)","v":0}]
[null,null,null,null,{"$f":"IF(Brassage!$A$62=\"Selon stock\",Stock!P555,Paramètres!J552)","v":0}]
[null,null,null,null,{"$f":"IF(Brassage!$A$62=\"Selon stock\",Stock!P556,Paramètres!J553)","v":0}]
[null,null,null,null,{"$f":"IF(Brassage!$A$62=\"Selon stock\",Stock!P557,Paramètres!J554)","v":0}]
[null,null,null,null,{"$f":"IF(Brassage!$A$62=\"Selon stock\",Stock!P558,Paramètres!J555)","v":0}]
[null,null,null,null,{"$f":"IF(Brassage!$A$62=\"Selon stock\",Stock!P559,Paramètres!J556)","v":0}]
[null,null,null,null,{"$f":"IF(Brassage!$A$62=\"Selon stock\",Stock!P560,Paramètres!J557)","v":0}]
[null,null,null,null,{"$f":"IF(Brassage!$A$62=\"Selon stock\",Stock!P561,Paramètres!J558)","v":0}]
[null,null,null,null,{"$f":"IF(Brassage!$A$62=\"Selon stock\",Stock!P562,Paramètres!J559)","v":0}]
[null,null,null,null,{"$f":"IF(Brassage!$A$62=\"Selon stock\",Stock!P563,Paramètres!J560)","v":0}]
[null,null,null,null,{"$f":"IF(Brassage!$A$62=\"Selon stock\",Stock!P564,Paramètres!J561)","v":0}]
[null,null,null,null,{"$f":"IF(Brassage!$A$62=\"Selon stock\",Stock!P565,Paramètres!J562)","v":0}]
[null,null,null,null,{"$f":"IF(Brassage!$A$62=\"Selon stock\",Stock!P566,Paramètres!J563)","v":0}]
[null,null,null,null,{"$f":"IF(Brassage!$A$62=\"Selon stock\",Stock!P567,Paramètres!J564)","v":0}]
[null,null,null,null,{"$f":"IF(Brassage!$A$62=\"Selon stock\",Stock!P568,Paramètres!J565)","v":0}]
[null,null,null,null,{"$f":"IF(Brassage!$A$62=\"Selon stock\",Stock!P569,Paramètres!J566)","v":0}]
[null,null,null,null,{"$f":"IF(Brassage!$A$62=\"Selon stock\",Stock!P570,Paramètres!J567)","v":0}]
[null,null,null,null,{"$f":"IF(Brassage!$A$62=\"Selon stock\",Stock!P571,Paramètres!J568)","v":0}]
[null,null,null,null,{"$f":"IF(Brassage!$A$62=\"Selon stock\",Stock!P572,Paramètres!J569)","v":0}]
[null,null,null,null,{"$f":"IF(Brassage!$A$62=\"Selon stock\",Stock!P573,Paramètres!J570)","v":0}]
[null,null,null,null,{"$f":"IF(Brassage!$A$62=\"Selon stock\",Stock!P574,Paramètres!J571)","v":0}]
[null,null,null,null,{"$f":"IF(Brassage!$A$62=\"Selon stock\",Stock!P575,Paramètres!J572)","v":0}]
[null,null,null,null,{"$f":"IF(Brassage!$A$62=\"Selon stock\",Stock!P576,Paramètres!J573)","v":0}]
[null,null,null,null,{"$f":"IF(Brassage!$A$62=\"Selon stock\",Stock!P577,Paramètres!J574)","v":0}]
[null,null,null,null,{"$f":"IF(Brassage!$A$62=\"Selon stock\",Stock!P578,Paramètres!J575)","v":0}]
[null,null,null,null,{"$f":"IF(Brassage!$A$62=\"Selon stock\",Stock!P579,Paramètres!J576)","v":0}]
[null,null,null,null,{"$f":"IF(Brassage!$A$62=\"Selon stock\",Stock!P580,Paramètres!J577)","v":0}]
[null,null,null,null,{"$f":"IF(Brassage!$A$62=\"Selon stock\",Stock!P581,Paramètres!J578)","v":0}]
[null,null,null,null,{"$f":"IF(Brassage!$A$62=\"Selon stock\",Stock!P582,Paramètres!J579)","v":0}]
[null,null,null,null,{"$f":"IF(Brassage!$A$62=\"Selon stock\",Stock!P583,Paramètres!J580)","v":0}]
[null,null,null,null,{"$f":"IF(Brassage!$A$62=\"Selon stock\",Stock!P584,Paramètres!J581)","v":0}]
[null,null,null,null,{"$f":"IF(Brassage!$A$62=\"Selon stock\",Stock!P585,Paramètres!J582)","v":0}]
[null,null,null,null,{"$f":"IF(Brassage!$A$62=\"Selon stock\",Stock!P586,Paramètres!J583)","v":0}]
[null,null,null,null,{"$f":"IF(Brassage!$A$62=\"Selon stock\",Stock!P587,Paramètres!J584)","v":0}]
[null,null,null,null,{"$f":"IF(Brassage!$A$62=\"Selon stock\",Stock!P588,Paramètres!J585)","v":0}]
[null,null,null,null,{"$f":"IF(Brassage!$A$62=\"Selon stock\",Stock!P589,Paramètres!J586)","v":0}]
[null,null,null,null,{"$f":"IF(Brassage!$A$62=\"Selon stock\",Stock!P590,Paramètres!J587)","v":0}]
[null,null,null,null,{"$f":"IF(Brassage!$A$62=\"Selon stock\",Stock!P591,Paramètres!J588)","v":0}]
[null,null,null,null,{"$f":"IF(Brassage!$A$62=\"Selon stock\",Stock!P592,Paramètres!J589)","v":0}]
[null,null,null,null,{"$f":"IF(Brassage!$A$62=\"Selon stock\",Stock!P593,Paramètres!J590)","v":0}]
[null,null,null,null,{"$f":"IF(Brassage!$A$62=\"Selon stock\",Stock!P594,Paramètres!J591)","v":0}]
[null,null,null,null,{"$f":"IF(Brassage!$A$62=\"Selon stock\",Stock!P595,Paramètres!J592)","v":0}]
[null,null,null,null,{"$f":"IF(Brassage!$A$62=\"Selon stock\",Stock!P596,Paramètres!J593)","v":0}]
[null,null,null,null,{"$f":"IF(Brassage!$A$62=\"Selon stock\",Stock!P597,Paramètres!J594)","v":0}]
[null,null,null,null,{"$f":"IF(Brassage!$A$62=\"Selon stock\",Stock!P598,Paramètres!J595)","v":0}]
[null,null,null,null,{"$f":"IF(Brassage!$A$62=\"Selon stock\",Stock!P599,Paramètres!J596)","v":0}]
[null,null,null,null,{"$f":"IF(Brassage!$A$62=\"Selon stock\",Stock!P600,Paramètres!J597)","v":0}]
[null,null,null,null,{"$f":"IF(Brassage!$A$62=\"Selon stock\",Stock!P601,Paramètres!J598)","v":0}]
[null,null,null,null,{"$f":"IF(Brassage!$A$62=\"Selon stock\",Stock!P602,Paramètres!J599)","v":0}]
[null,null,null,null,{"$f":"IF(Brassage!$A$62=\"Selon stock\",Stock!P603,Paramètres!J600)","v":0}]
[null,null,null,null,{"$f":"IF(Brassage!$A$62=\"Selon stock\",Stock!P604,Paramètres!J601)","v":0}]
[null,null,null,null,{"$f":"IF(Brassage!$A$62=\"Selon stock\",Stock!P605,Paramètres!J602)","v":0}]
[null,null,null,null,{"$f":"IF(Brassage!$A$62=\"Selon stock\",Stock!P606,Paramètres!J603)","v":0}]
[null,null,null,null,{"$f":"IF(Brassage!$A$62=\"Selon stock\",Stock!P607,Paramètres!J604)","v":0}]
[null,null,null,null,{"$f":"IF(Brassage!$A$62=\"Selon stock\",Stock!P608,Paramètres!J605)","v":0}]
[null,null,null,null,{"$f":"IF(Brassage!$A$62=\"Selon stock\",Stock!P609,Paramètres!J606)","v":0}]
[null,null,null,null,{"$f":"IF(Brassage!$A$62=\"Selon stock\",Stock!P610,Paramètres!J607)","v":0}]
[null,null,null,null,{"$f":"IF(Brassage!$A$62=\"Selon stock\",Stock!P611,Paramètres!J608)","v":0}]
[null,null,null,null,{"$f":"IF(Brassage!$A$62=\"Selon stock\",Stock!P612,Paramètres!J609)","v":0}]
[null,null,null,null,{"$f":"IF(Brassage!$A$62=\"Selon stock\",Stock!P613,Paramètres!J610)","v":0}]
[null,null,null,null,{"$f":"IF(Brassage!$A$62=\"Selon stock\",Stock!P614,Paramètres!J611)","v":0}]
[null,null,null,null,{"$f":"IF(Brassage!$A$62=\"Selon stock\",Stock!P615,Paramètres!J612)","v":0}]
[null,null,null,null,{"$f":"IF(Brassage!$A$62=\"Selon stock\",Stock!P616,Paramètres!J613)","v":0}]
[null,null,null,null,{"$f":"IF(Brassage!$A$62=\"Selon stock\",Stock!P617,Paramètres!J614)","v":0}]
[null,null,null,null,{"$f":"IF(Brassage!$A$62=\"Selon stock\",Stock!P618,Paramètres!J615)","v":0}]
[null,null,null,null,{"$f":"IF(Brassage!$A$62=\"Selon stock\",Stock!P619,Paramètres!J616)","v":0}]
[null,null,null,null,{"$f":"IF(Brassage!$A$62=\"Selon stock\",Stock!P620,Paramètres!J617)","v":0}]
[null,null,null,null,{"$f":"IF(Brassage!$A$62=\"Selon stock\",Stock!P621,Paramètres!J618)","v":0}]
[null,null,null,null,{"$f":"IF(Brassage!$A$62=\"Selon stock\",Stock!P622,Paramètres!J619)","v":0}]
[null,null,null,null,{"$f":"IF(Brassage!$A$62=\"Selon stock\",Stock!P623,Paramètres!J620)","v":0}]
[null,null,null,null,{"$f":"IF(Brassage!$A$62=\"Selon stock\",Stock!P624,Paramètres!J621)","v":0}]
[null,null,null,null,{"$f":"IF(Brassage!$A$62=\"Selon stock\",Stock!P625,Paramètres!J622)","v":0}]
[null,null,null,null,{"$f":"IF(Brassage!$A$62=\"Selon stock\",Stock!P626,Paramètres!J623)","v":0}]
[null,null,null,null,{"$f":"IF(Brassage!$A$62=\"Selon stock\",Stock!P627,Paramètres!J624)","v":0}]
[null,null,null,null,{"$f":"IF(Brassage!$A$62=\"Selon stock\",Stock!P628,Paramètres!J625)","v":0}]
[null,null,null,null,{"$f":"IF(Brassage!$A$62=\"Selon stock\",Stock!P629,Paramètres!J626)","v":0}]
[null,null,null,null,{"$f":"IF(Brassage!$A$62=\"Selon stock\",Stock!P630,Paramètres!J627)","v":0}]
[null,null,null,null,{"$f":"IF(Brassage!$A$62=\"Selon stock\",Stock!P631,Paramètres!J628)","v":0}]
[null,null,null,null,{"$f":"IF(Brassage!$A$62=\"Selon stock\",Stock!P632,Paramètres!J629)","v":0}]
[null,null,null,null,{"$f":"IF(Brassage!$A$62=\"Selon stock\",Stock!P633,Paramètres!J630)","v":0}]
[null,null,null,null,{"$f":"IF(Brassage!$A$62=\"Selon stock\",Stock!P634,Paramètres!J631)","v":0}]
[null,null,null,null,{"$f":"IF(Brassage!$A$62=\"Selon stock\",Stock!P635,Paramètres!J632)","v":0}]
[null,null,null,null,{"$f":"IF(Brassage!$A$62=\"Selon stock\",Stock!P636,Paramètres!J633)","v":0}]
[null,null,null,null,{"$f":"IF(Brassage!$A$62=\"Selon stock\",Stock!P637,Paramètres!J634)","v":0}]
[null,null,null,null,{"$f":"IF(Brassage!$A$62=\"Selon stock\",Stock!P638,Paramètres!J635)","v":0}]
[null,null,null,null,{"$f":"IF(Brassage!$A$62=\"Selon stock\",Stock!P639,Paramètres!J636)","v":0}]
[null,null,null,null,{"$f":"IF(Brassage!$A$62=\"Selon stock\",Stock!P640,Paramètres!J637)","v":0}]
[null,null,null,null,{"$f":"IF(Brassage!$A$62=\"Selon stock\",Stock!P641,Paramètres!J638)","v":0}]
[null,null,null,null,{"$f":"IF(Brassage!$A$62=\"Selon stock\",Stock!P642,Paramètres!J639)","v":0}]
[null,null,null,null,{"$f":"IF(Brassage!$A$62=\"Selon stock\",Stock!P643,Paramètres!J640)","v":0}]
[null,null,null,null,{"$f":"IF(Brassage!$A$62=\"Selon stock\",Stock!P644,Paramètres!J641)","v":0}]
[null,null,null,null,{"$f":"IF(Brassage!$A$62=\"Selon stock\",Stock!P645,Paramètres!J642)","v":0}]
[null,null,null,null,{"$f":"IF(Brassage!$A$62=\"Selon stock\",Stock!P646,Paramètres!J643)","v":0}]
[null,null,null,null,{"$f":"IF(Brassage!$A$62=\"Selon stock\",Stock!P647,Paramètres!J644)","v":0}]
[null,null,null,null,{"$f":"IF(Brassage!$A$62=\"Selon stock\",Stock!P648,Paramètres!J645)","v":0}]
[null,null,null,null,{"$f":"IF(Brassage!$A$62=\"Selon stock\",Stock!P649,Paramètres!J646)","v":0}]
[null,null,null,null,{"$f":"IF(Brassage!$A$62=\"Selon stock\",Stock!P650,Paramètres!J647)","v":0}]
[null,null,null,null,{"$f":"IF(Brassage!$A$62=\"Selon stock\",Stock!P651,Paramètres!J648)","v":0}]
[null,null,null,null,{"$f":"IF(Brassage!$A$62=\"Selon stock\",Stock!P652,Paramètres!J649)","v":0}]
[null,null,null,null,{"$f":"IF(Brassage!$A$62=\"Selon stock\",Stock!P653,Paramètres!J650)","v":0}]
[null,null,null,null,{"$f":"IF(Brassage!$A$62=\"Selon stock\",Stock!P654,Paramètres!J651)","v":0}]
[null,null,null,null,{"$f":"IF(Brassage!$A$62=\"Selon stock\",Stock!P655,Paramètres!J652)","v":0}]
[null,null,null,null,{"$f":"IF(Brassage!$A$62=\"Selon stock\",Stock!P656,Paramètres!J653)","v":0}]
[null,null,null,null,{"$f":"IF(Brassage!$A$62=\"Selon stock\",Stock!P657,Paramètres!J654)","v":0}]
[null,null,null,null,{"$f":"IF(Brassage!$A$62=\"Selon stock\",Stock!P658,Paramètres!J655)","v":0}]
[null,null,null,null,{"$f":"IF(Brassage!$A$62=\"Selon stock\",Stock!P659,Paramètres!J656)","v":0}]
[null,null,null,null,{"$f":"IF(Brassage!$A$62=\"Selon stock\",Stock!P660,Paramètres!J657)","v":0}]
[null,null,null,null,{"$f":"IF(Brassage!$A$62=\"Selon stock\",Stock!P661,Paramètres!J658)","v":0}]
[null,null,null,null,{"$f":"IF(Brassage!$A$62=\"Selon stock\",Stock!P662,Paramètres!J659)","v":0}]
[null,null,null,null,{"$f":"IF(Brassage!$A$62=\"Selon stock\",Stock!P663,Paramètres!J660)","v":0}]
[null,null,null,null,{"$f":"IF(Brassage!$A$62=\"Selon stock\",Stock!P664,Paramètres!J661)","v":0}]
[null,null,null,null,{"$f":"IF(Brassage!$A$62=\"Selon stock\",Stock!P665,Paramètres!J662)","v":0}]
[null,null,null,null,{"$f":"IF(Brassage!$A$62=\"Selon stock\",Stock!P666,Paramètres!J663)","v":0}]
[null,null,null,null,{"$f":"IF(Brassage!$A$62=\"Selon stock\",Stock!P667,Paramètres!J664)","v":0}]
[null,null,null,null,{"$f":"IF(Brassage!$A$62=\"Selon stock\",Stock!P668,Paramètres!J665)","v":0}]
[null,null,null,null,{"$f":"IF(Brassage!$A$62=\"Selon stock\",Stock!P669,Paramètres!J666)","v":0}]
[null,null,null,null,{"$f":"IF(Brassage!$A$62=\"Selon stock\",Stock!P670,Paramètres!J667)","v":0}]
[null,null,null,null,{"$f":"IF(Brassage!$A$62=\"Selon stock\",Stock!P671,Paramètres!J668)","v":0}]
[null,null,null,null,{"$f":"IF(Brassage!$A$62=\"Selon stock\",Stock!P672,Paramètres!J669)","v":0}]
[null,null,null,null,{"$f":"IF(Brassage!$A$62=\"Selon stock\",Stock!P673,Paramètres!J670)","v":0}]
[null,null,null,null,{"$f":"IF(Brassage!$A$62=\"Selon stock\",Stock!P674,Paramètres!J671)","v":0}]
[null,null,null,null,{"$f":"IF(Brassage!$A$62=\"Selon stock\",Stock!P675,Paramètres!J672)","v":0}]
[null,null,null,null,{"$f":"IF(Brassage!$A$62=\"Selon stock\",Stock!P676,Paramètres!J673)","v":0}]
[null,null,null,null,{"$f":"IF(Brassage!$A$62=\"Selon stock\",Stock!P677,Paramètres!J674)","v":0}]
[null,null,null,null,{"$f":"IF(Brassage!$A$62=\"Selon stock\",Stock!P678,Paramètres!J675)","v":0}]
[null,null,null,null,{"$f":"IF(Brassage!$A$62=\"Selon stock\",Stock!P679,Paramètres!J676)","v":0}]
[null,null,null,null,{"$f":"IF(Brassage!$A$62=\"Selon stock\",Stock!P680,Paramètres!J677)","v":0}]
[null,null,null,null,{"$f":"IF(Brassage!$A$62=\"Selon stock\",Stock!P681,Paramètres!J678)","v":0}]
[null,null,null,null,{"$f":"IF(Brassage!$A$62=\"Selon stock\",Stock!P682,Paramètres!J679)","v":0}]
[null,null,null,null,{"$f":"IF(Brassage!$A$62=\"Selon stock\",Stock!P683,Paramètres!J680)","v":0}]
[null,null,null,null,{"$f":"IF(Brassage!$A$62=\"Selon stock\",Stock!P684,Paramètres!J681)","v":0}]
[null,null,null,null,{"$f":"IF(Brassage!$A$62=\"Selon stock\",Stock!P685,Paramètres!J682)","v":0}]
[null,null,null,null,{"$f":"IF(Brassage!$A$62=\"Selon stock\",Stock!P686,Paramètres!J683)","v":0}]
[null,null,null,null,{"$f":"IF(Brassage!$A$62=\"Selon stock\",Stock!P687,Paramètres!J684)","v":0}]
[null,null,null,null,{"$f":"IF(Brassage!$A$62=\"Selon stock\",Stock!P688,Paramètres!J685)","v":0}]
[null,null,null,null,{"$f":"IF(Brassage!$A$62=\"Selon stock\",Stock!P689,Paramètres!J686)","v":0}]
[null,null,null,null,{"$f":"IF(Brassage!$A$62=\"Selon stock\",Stock!P690,Paramètres!J687)","v":0}]
[null,null,null,null,{"$f":"IF(Brassage!$A$62=\"Selon stock\",Stock!P691,Paramètres!J688)","v":0}]
[null,null,null,null,{"$f":"IF(Brassage!$A$62=\"Selon stock\",Stock!P692,Paramètres!J689)","v":0}]
[null,null,null,null,{"$f":"IF(Brassage!$A$62=\"Selon stock\",Stock!P693,Paramètres!J690)","v":0}]
[null,null,null,null,{"$f":"IF(Brassage!$A$62=\"Selon stock\",Stock!P694,Paramètres!J691)","v":0}]
[null,null,null,null,{"$f":"IF(Brassage!$A$62=\"Selon stock\",Stock!P695,Paramètres!J692)","v":0}]
[null,null,null,null,{"$f":"IF(Brassage!$A$62=\"Selon stock\",Stock!P696,Paramètres!J693)","v":0}]
[null,null,null,null,{"$f":"IF(Brassage!$A$62=\"Selon stock\",Stock!P697,Paramètres!J694)","v":0}]
[null,null,null,null,{"$f":"IF(Brassage!$A$62=\"Selon stock\",Stock!P698,Paramètres!J695)","v":0}]
[null,null,null,null,{"$f":"IF(Brassage!$A$62=\"Selon stock\",Stock!P699,Paramètres!J696)","v":0}]
[null,null,null,null,{"$f":"IF(Brassage!$A$62=\"Selon stock\",Stock!P700,Paramètres!J697)","v":0}]
[null,null,null,null,{"$f":"IF(Brassage!$A$62=\"Selon stock\",Stock!P701,Paramètres!J698)","v":0}]
[null,null,null,null,{"$f":"IF(Brassage!$A$62=\"Selon stock\",Stock!P702,Paramètres!J699)","v":0}]
[null,null,null,null,{"$f":"IF(Brassage!$A$62=\"Selon stock\",Stock!P703,Paramètres!J700)","v":0}]
[null,null,null,null,{"$f":"IF(Brassage!$A$62=\"Selon stock\",Stock!P704,Paramètres!J701)","v":0}]
[null,null,null,null,{"$f":"IF(Brassage!$A$62=\"Selon stock\",Stock!P705,Paramètres!J702)","v":0}]
[null,null,null,null,{"$f":"IF(Brassage!$A$62=\"Selon stock\",Stock!P706,Paramètres!J703)","v":0}]
[null,null,null,null,{"$f":"IF(Brassage!$A$62=\"Selon stock\",Stock!P707,Paramètres!J704)","v":0}]
[null,null,null,null,{"$f":"IF(Brassage!$A$62=\"Selon stock\",Stock!P708,Paramètres!J705)","v":0}]
[null,null,null,null,{"$f":"IF(Brassage!$A$62=\"Selon stock\",Stock!P709,Paramètres!J706)","v":0}]
[null,null,null,null,{"$f":"IF(Brassage!$A$62=\"Selon stock\",Stock!P710,Paramètres!J707)","v":0}]
[null,null,null,null,{"$f":"IF(Brassage!$A$62=\"Selon stock\",Stock!P711,Paramètres!J708)","v":0}]
[null,null,null,null,{"$f":"IF(Brassage!$A$62=\"Selon stock\",Stock!P712,Paramètres!J709)","v":0}]
[null,null,null,null,{"$f":"IF(Brassage!$A$62=\"Selon stock\",Stock!P713,Paramètres!J710)","v":0}]
[null,null,null,null,{"$f":"IF(Brassage!$A$62=\"Selon stock\",Stock!P714,Paramètres!J711)","v":0}]
[null,null,null,null,{"$f":"IF(Brassage!$A$62=\"Selon stock\",Stock!P715,Paramètres!J712)","v":0}]
[null,null,null,null,{"$f":"IF(Brassage!$A$62=\"Selon stock\",Stock!P716,Paramètres!J713)","v":0}]
[null,null,null,null,{"$f":"IF(Brassage!$A$62=\"Selon stock\",Stock!P717,Paramètres!J714)","v":0}]
[null,null,null,null,{"$f":"IF(Brassage!$A$62=\"Selon stock\",Stock!P718,Paramètres!J715)","v":0}]
[null,null,null,null,{"$f":"IF(Brassage!$A$62=\"Selon stock\",Stock!P719,Paramètres!J716)","v":0}]
[null,null,null,null,{"$f":"IF(Brassage!$A$62=\"Selon stock\",Stock!P720,Paramètres!J717)","v":0}]
[null,null,null,null,{"$f":"IF(Brassage!$A$62=\"Selon stock\",Stock!P721,Paramètres!J718)","v":0}]
[null,null,null,null,{"$f":"IF(Brassage!$A$62=\"Selon stock\",Stock!P722,Paramètres!J719)","v":0}]
[null,null,null,null,{"$f":"IF(Brassage!$A$62=\"Selon stock\",Stock!P723,Paramètres!J720)","v":0}]
[null,null,null,null,{"$f":"IF(Brassage!$A$62=\"Selon stock\",Stock!P724,Paramètres!J721)","v":0}]
[null,null,null,null,{"$f":"IF(Brassage!$A$62=\"Selon stock\",Stock!P725,Paramètres!J722)","v":0}]
[null,null,null,null,{"$f":"IF(Brassage!$A$62=\"Selon stock\",Stock!P726,Paramètres!J723)","v":0}]
[null,null,null,null,{"$f":"IF(Brassage!$A$62=\"Selon stock\",Stock!P727,Paramètres!J724)","v":0}]
[null,null,null,null,{"$f":"IF(Brassage!$A$62=\"Selon stock\",Stock!P728,Paramètres!J725)","v":0}]
[null,null,null,null,{"$f":"IF(Brassage!$A$62=\"Selon stock\",Stock!P729,Paramètres!J726)","v":0}]
[null,null,null,null,{"$f":"IF(Brassage!$A$62=\"Selon stock\",Stock!P730,Paramètres!J727)","v":0}]
[null,null,null,null,{"$f":"IF(Brassage!$A$62=\"Selon stock\",Stock!P731,Paramètres!J728)","v":0}]
[null,null,null,null,{"$f":"IF(Brassage!$A$62=\"Selon stock\",Stock!P732,Paramètres!J729)","v":0}]
[null,null,null,null,{"$f":"IF(Brassage!$A$62=\"Selon stock\",Stock!P733,Paramètres!J730)","v":0}]
[null,null,null,null,{"$f":"IF(Brassage!$A$62=\"Selon stock\",Stock!P734,Paramètres!J731)","v":0}]
[null,null,null,null,{"$f":"IF(Brassage!$A$62=\"Selon stock\",Stock!P735,Paramètres!J732)","v":0}]
[null,null,null,null,{"$f":"IF(Brassage!$A$62=\"Selon stock\",Stock!P736,Paramètres!J733)","v":0}]
[null,null,null,null,{"$f":"IF(Brassage!$A$62=\"Selon stock\",Stock!P737,Paramètres!J734)","v":0}]
[null,null,null,null,{"$f":"IF(Brassage!$A$62=\"Selon stock\",Stock!P738,Paramètres!J735)","v":0}]
[null,null,null,null,{"$f":"IF(Brassage!$A$62=\"Selon stock\",Stock!P739,Paramètres!J736)","v":0}]
[null,null,null,null,{"$f":"IF(Brassage!$A$62=\"Selon stock\",Stock!P740,Paramètres!J737)","v":0}]
[null,null,null,null,{"$f":"IF(Brassage!$A$62=\"Selon stock\",Stock!P741,Paramètres!J738)","v":0}]
[null,null,null,null,{"$f":"IF(Brassage!$A$62=\"Selon stock\",Stock!P742,Paramètres!J739)","v":0}]
[null,null,null,null,{"$f":"IF(Brassage!$A$62=\"Selon stock\",Stock!P743,Paramètres!J740)","v":0}]
[null,null,null,null,{"$f":"IF(Brassage!$A$62=\"Selon stock\",Stock!P744,Paramètres!J741)","v":0}]
[null,null,null,null,{"$f":"IF(Brassage!$A$62=\"Selon stock\",Stock!P745,Paramètres!J742)","v":0}]
[null,null,null,null,{"$f":"IF(Brassage!$A$62=\"Selon stock\",Stock!P746,Paramètres!J743)","v":0}]
[null,null,null,null,{"$f":"IF(Brassage!$A$62=\"Selon stock\",Stock!P747,Paramètres!J744)","v":0}]
[null,null,null,null,{"$f":"IF(Brassage!$A$62=\"Selon stock\",Stock!P748,Paramètres!J745)","v":0}]
[null,null,null,null,{"$f":"IF(Brassage!$A$62=\"Selon stock\",Stock!P749,Paramètres!J746)","v":0}]
[null,null,null,null,{"$f":"IF(Brassage!$A$62=\"Selon stock\",Stock!P750,Paramètres!J747)","v":0}]
[null,null,null,null,{"$f":"IF(Brassage!$A$62=\"Selon stock\",Stock!P751,Paramètres!J748)","v":0}]
[null,null,null,null,{"$f":"IF(Brassage!$A$62=\"Selon stock\",Stock!P752,Paramètres!J749)","v":0}]
[null,null,null,null,{"$f":"IF(Brassage!$A$62=\"Selon stock\",Stock!P753,Paramètres!J750)","v":0}]
[null,null,null,null,{"$f":"IF(Brassage!$A$62=\"Selon stock\",Stock!P754,Paramètres!J751)","v":0}]
[null,null,null,null,{"$f":"IF(Brassage!$A$62=\"Selon stock\",Stock!P755,Paramètres!J752)","v":0}]
[null,null,null,null,{"$f":"IF(Brassage!$A$62=\"Selon stock\",Stock!P756,Paramètres!J753)","v":0}]
[null,null,null,null,{"$f":"IF(Brassage!$A$62=\"Selon stock\",Stock!P757,Paramètres!J754)","v":0}]
[null,null,null,null,{"$f":"IF(Brassage!$A$62=\"Selon stock\",Stock!P758,Paramètres!J755)","v":0}]
[null,null,null,null,{"$f":"IF(Brassage!$A$62=\"Selon stock\",Stock!P759,Paramètres!J756)","v":0}]
[null,null,null,null,{"$f":"IF(Brassage!$A$62=\"Selon stock\",Stock!P760,Paramètres!J757)","v":0}]
[null,null,null,null,{"$f":"IF(Brassage!$A$62=\"Selon stock\",Stock!P761,Paramètres!J758)","v":0}]
[null,null,null,null,{"$f":"IF(Brassage!$A$62=\"Selon stock\",Stock!P762,Paramètres!J759)","v":0}]
[null,null,null,null,{"$f":"IF(Brassage!$A$62=\"Selon stock\",Stock!P763,Paramètres!J760)","v":0}]
[null,null,null,null,{"$f":"IF(Brassage!$A$62=\"Selon stock\",Stock!P764,Paramètres!J761)","v":0}]
[null,null,null,null,{"$f":"IF(Brassage!$A$62=\"Selon stock\",Stock!P765,Paramètres!J762)","v":0}]
[null,null,null,null,{"$f":"IF(Brassage!$A$62=\"Selon stock\",Stock!P766,Paramètres!J763)","v":0}]
[null,null,null,null,{"$f":"IF(Brassage!$A$62=\"Selon stock\",Stock!P767,Paramètres!J764)","v":0}]
[null,null,null,null,{"$f":"IF(Brassage!$A$62=\"Selon stock\",Stock!P768,Paramètres!J765)","v":0}]
[null,null,null,null,{"$f":"IF(Brassage!$A$62=\"Selon stock\",Stock!P769,Paramètres!J766)","v":0}]
[null,null,null,null,{"$f":"IF(Brassage!$A$62=\"Selon stock\",Stock!P770,Paramètres!J767)","v":0}]
[null,null,null,null,{"$f":"IF(Brassage!$A$62=\"Selon stock\",Stock!P771,Paramètres!J768)","v":0}]
[null,null,null,null,{"$f":"IF(Brassage!$A$62=\"Selon stock\",Stock!P772,Paramètres!J769)","v":0}]
[null,null,null,null,{"$f":"IF(Brassage!$A$62=\"Selon stock\",Stock!P773,Paramètres!J770)","v":0}]
[null,null,null,null,{"$f":"IF(Brassage!$A$62=\"Selon stock\",Stock!P774,Paramètres!J771)","v":0}]
[null,null,null,null,{"$f":"IF(Brassage!$A$62=\"Selon stock\",Stock!P775,Paramètres!J772)","v":0}]
[null,null,null,null,{"$f":"IF(Brassage!$A$62=\"Selon stock\",Stock!P776,Paramètres!J773)","v":0}]
[null,null,null,null,{"$f":"IF(Brassage!$A$62=\"Selon stock\",Stock!P777,Paramètres!J774)","v":0}]
[null,null,null,null,{"$f":"IF(Brassage!$A$62=\"Selon stock\",Stock!P778,Paramètres!J775)","v":0}]
[null,null,null,null,{"$f":"IF(Brassage!$A$62=\"Selon stock\",Stock!P779,Paramètres!J776)","v":0}]
[null,null,null,null,{"$f":"IF(Brassage!$A$62=\"Selon stock\",Stock!P780,Paramètres!J777)","v":0}]
[null,null,null,null,{"$f":"IF(Brassage!$A$62=\"Selon stock\",Stock!P781,Paramètres!J778)","v":0}]
[null,null,null,null,{"$f":"IF(Brassage!$A$62=\"Selon stock\",Stock!P782,Paramètres!J779)","v":0}]
[null,null,null,null,{"$f":"IF(Brassage!$A$62=\"Selon stock\",Stock!P783,Paramètres!J780)","v":0}]
[null,null,null,null,{"$f":"IF(Brassage!$A$62=\"Selon stock\",Stock!P784,Paramètres!J781)","v":0}]
[null,null,null,null,{"$f":"IF(Brassage!$A$62=\"Selon stock\",Stock!P785,Paramètres!J782)","v":0}]
[null,null,null,null,{"$f":"IF(Brassage!$A$62=\"Selon stock\",Stock!P786,Paramètres!J783)","v":0}]
[null,null,null,null,{"$f":"IF(Brassage!$A$62=\"Selon stock\",Stock!P787,Paramètres!J784)","v":0}]
[null,null,null,null,{"$f":"IF(Brassage!$A$62=\"Selon stock\",Stock!P788,Paramètres!J785)","v":0}]
[null,null,null,null,{"$f":"IF(Brassage!$A$62=\"Selon stock\",Stock!P789,Paramètres!J786)","v":0}]
[null,null,null,null,{"$f":"IF(Brassage!$A$62=\"Selon stock\",Stock!P790,Paramètres!J787)","v":0}]
[null,null,null,null,{"$f":"IF(Brassage!$A$62=\"Selon stock\",Stock!P791,Paramètres!J788)","v":0}]
[null,null,null,null,{"$f":"IF(Brassage!$A$62=\"Selon stock\",Stock!P792,Paramètres!J789)","v":0}]
[null,null,null,null,{"$f":"IF(Brassage!$A$62=\"Selon stock\",Stock!P793,Paramètres!J790)","v":0}]
[null,null,null,null,{"$f":"IF(Brassage!$A$62=\"Selon stock\",Stock!P794,Paramètres!J791)","v":0}]
[null,null,null,null,{"$f":"IF(Brassage!$A$62=\"Selon stock\",Stock!P795,Paramètres!J792)","v":0}]
[null,null,null,null,{"$f":"IF(Brassage!$A$62=\"Selon stock\",Stock!P796,Paramètres!J793)","v":0}]
[null,null,null,null,{"$f":"IF(Brassage!$A$62=\"Selon stock\",Stock!P797,Paramètres!J794)","v":0}]
[null,null,null,null,{"$f":"IF(Brassage!$A$62=\"Selon stock\",Stock!P798,Paramètres!J795)","v":0}]
[null,null,null,null,{"$f":"IF(Brassage!$A$62=\"Selon stock\",Stock!P799,Paramètres!J796)","v":0}]
[null,null,null,null,{"$f":"IF(Brassage!$A$62=\"Selon stock\",Stock!P800,Paramètres!J797)","v":0}]
[null,null,null,null,{"$f":"IF(Brassage!$A$62=\"Selon stock\",Stock!P801,Paramètres!J798)","v":0}]
[null,null,null,null,{"$f":"IF(Brassage!$A$62=\"Selon stock\",Stock!P802,Paramètres!J799)","v":0}]
[null,null,null,null,{"$f":"IF(Brassage!$A$62=\"Selon stock\",Stock!P803,Paramètres!J800)","v":0}]
[null,null,null,null,{"$f":"IF(Brassage!$A$62=\"Selon stock\",Stock!P804,Paramètres!J801)","v":0}]
[null,null,null,null,{"$f":"IF(Brassage!$A$62=\"Selon stock\",Stock!P805,Paramètres!J802)","v":0}]
[null,null,null,null,{"$f":"IF(Brassage!$A$62=\"Selon stock\",Stock!P806,Paramètres!J803)","v":0}]
[null,null,null,null,{"$f":"IF(Brassage!$A$62=\"Selon stock\",Stock!P807,Paramètres!J804)","v":0}]
[null,null,null,null,{"$f":"IF(Brassage!$A$62=\"Selon stock\",Stock!P808,Paramètres!J805)","v":0}]
[null,null,null,null,{"$f":"IF(Brassage!$A$62=\"Selon stock\",Stock!P809,Paramètres!J806)","v":0}]
[null,null,null,null,{"$f":"IF(Brassage!$A$62=\"Selon stock\",Stock!P810,Paramètres!J807)","v":0}]
[null,null,null,null,{"$f":"IF(Brassage!$A$62=\"Selon stock\",Stock!P811,Paramètres!J808)","v":0}]
[null,null,null,null,{"$f":"IF(Brassage!$A$62=\"Selon stock\",Stock!P812,Paramètres!J809)","v":0}]
[null,null,null,null,{"$f":"IF(Brassage!$A$62=\"Selon stock\",Stock!P813,Paramètres!J810)","v":0}]
[null,null,null,null,{"$f":"IF(Brassage!$A$62=\"Selon stock\",Stock!P814,Paramètres!J811)","v":0}]
[null,null,null,null,{"$f":"IF(Brassage!$A$62=\"Selon stock\",Stock!P815,Paramètres!J812)","v":0}]
[null,null,null,null,{"$f":"IF(Brassage!$A$62=\"Selon stock\",Stock!P816,Paramètres!J813)","v":0}]
[null,null,null,null,{"$f":"IF(Brassage!$A$62=\"Selon stock\",Stock!P817,Paramètres!J814)","v":0}]
[null,null,null,null,{"$f":"IF(Brassage!$A$62=\"Selon stock\",Stock!P818,Paramètres!J815)","v":0}]
[null,null,null,null,{"$f":"IF(Brassage!$A$62=\"Selon stock\",Stock!P819,Paramètres!J816)","v":0}]
[null,null,null,null,{"$f":"IF(Brassage!$A$62=\"Selon stock\",Stock!P820,Paramètres!J817)","v":0}]
[null,null,null,null,{"$f":"IF(Brassage!$A$62=\"Selon stock\",Stock!P821,Paramètres!J818)","v":0}]
[null,null,null,null,{"$f":"IF(Brassage!$A$62=\"Selon stock\",Stock!P822,Paramètres!J819)","v":0}]
[null,null,null,null,{"$f":"IF(Brassage!$A$62=\"Selon stock\",Stock!P823,Paramètres!J820)","v":0}]
[null,null,null,null,{"$f":"IF(Brassage!$A$62=\"Selon stock\",Stock!P824,Paramètres!J821)","v":0}]
[null,null,null,null,{"$f":"IF(Brassage!$A$62=\"Selon stock\",Stock!P825,Paramètres!J822)","v":0}]
[null,null,null,null,{"$f":"IF(Brassage!$A$62=\"Selon stock\",Stock!P826,Paramètres!J823)","v":0}]
[null,null,null,null,{"$f":"IF(Brassage!$A$62=\"Selon stock\",Stock!P827,Paramètres!J824)","v":0}]
[null,null,null,null,{"$f":"IF(Brassage!$A$62=\"Selon stock\",Stock!P828,Paramètres!J825)","v":0}]
[null,null,null,null,{"$f":"IF(Brassage!$A$62=\"Selon stock\",Stock!P829,Paramètres!J826)","v":0}]
[null,null,null,null,{"$f":"IF(Brassage!$A$62=\"Selon stock\",Stock!P830,Paramètres!J827)","v":0}]
[null,null,null,null,{"$f":"IF(Brassage!$A$62=\"Selon stock\",Stock!P831,Paramètres!J828)","v":0}]
[null,null,null,null,{"$f":"IF(Brassage!$A$62=\"Selon stock\",Stock!P832,Paramètres!J829)","v":0}]
[null,null,null,null,{"$f":"IF(Brassage!$A$62=\"Selon stock\",Stock!P833,Paramètres!J830)","v":0}]
[null,null,null,null,{"$f":"IF(Brassage!$A$62=\"Selon stock\",Stock!P834,Paramètres!J831)","v":0}]
[null,null,null,null,{"$f":"IF(Brassage!$A$62=\"Selon stock\",Stock!P835,Paramètres!J832)","v":0}]
[null,null,null,null,{"$f":"IF(Brassage!$A$62=\"Selon stock\",Stock!P836,Paramètres!J833)","v":0}]
[null,null,null,null,{"$f":"IF(Brassage!$A$62=\"Selon stock\",Stock!P837,Paramètres!J834)","v":0}]
[null,null,null,null,{"$f":"IF(Brassage!$A$62=\"Selon stock\",Stock!P838,Paramètres!J835)","v":0}]
[null,null,null,null,{"$f":"IF(Brassage!$A$62=\"Selon stock\",Stock!P839,Paramètres!J836)","v":0}]
[null,null,null,null,{"$f":"IF(Brassage!$A$62=\"Selon stock\",Stock!P840,Paramètres!J837)","v":0}]
[null,null,null,null,{"$f":"IF(Brassage!$A$62=\"Selon stock\",Stock!P841,Paramètres!J838)","v":0}]
[null,null,null,null,{"$f":"IF(Brassage!$A$62=\"Selon stock\",Stock!P842,Paramètres!J839)","v":0}]
[null,null,null,null,{"$f":"IF(Brassage!$A$62=\"Selon stock\",Stock!P843,Paramètres!J840)","v":0}]
[null,null,null,null,{"$f":"IF(Brassage!$A$62=\"Selon stock\",Stock!P844,Paramètres!J841)","v":0}]
[null,null,null,null,{"$f":"IF(Brassage!$A$62=\"Selon stock\",Stock!P845,Paramètres!J842)","v":0}]
[null,null,null,null,{"$f":"IF(Brassage!$A$62=\"Selon stock\",Stock!P846,Paramètres!J843)","v":0}]
[null,null,null,null,{"$f":"IF(Brassage!$A$62=\"Selon stock\",Stock!P847,Paramètres!J844)","v":0}]
[null,null,null,null,{"$f":"IF(Brassage!$A$62=\"Selon stock\",Stock!P848,Paramètres!J845)","v":0}]
[null,null,null,null,{"$f":"IF(Brassage!$A$62=\"Selon stock\",Stock!P849,Paramètres!J846)","v":0}]
[null,null,null,null,{"$f":"IF(Brassage!$A$62=\"Selon stock\",Stock!P850,Paramètres!J847)","v":0}]
[null,null,null,null,{"$f":"IF(Brassage!$A$62=\"Selon stock\",Stock!P851,Paramètres!J848)","v":0}]
[null,null,null,null,{"$f":"IF(Brassage!$A$62=\"Selon stock\",Stock!P852,Paramètres!J849)","v":0}]
[null,null,null,null,{"$f":"IF(Brassage!$A$62=\"Selon stock\",Stock!P853,Paramètres!J850)","v":0}]
[null,null,null,null,{"$f":"IF(Brassage!$A$62=\"Selon stock\",Stock!P854,Paramètres!J851)","v":0}]
[null,null,null,null,{"$f":"IF(Brassage!$A$62=\"Selon stock\",Stock!P855,Paramètres!J852)","v":0}]
[null,null,null,null,{"$f":"IF(Brassage!$A$62=\"Selon stock\",Stock!P856,Paramètres!J853)","v":0}]
[null,null,null,null,{"$f":"IF(Brassage!$A$62=\"Selon stock\",Stock!P857,Paramètres!J854)","v":0}]
[null,null,null,null,{"$f":"IF(Brassage!$A$62=\"Selon stock\",Stock!P858,Paramètres!J855)","v":0}]
[null,null,null,null,{"$f":"IF(Brassage!$A$62=\"Selon stock\",Stock!P859,Paramètres!J856)","v":0}]
[null,null,null,null,{"$f":"IF(Brassage!$A$62=\"Selon stock\",Stock!P860,Paramètres!J857)","v":0}]
[null,null,null,null,{"$f":"IF(Brassage!$A$62=\"Selon stock\",Stock!P861,Paramètres!J858)","v":0}]
[null,null,null,null,{"$f":"IF(Brassage!$A$62=\"Selon stock\",Stock!P862,Paramètres!J859)","v":0}]
[null,null,null,null,{"$f":"IF(Brassage!$A$62=\"Selon stock\",Stock!P863,Paramètres!J860)","v":0}]
[null,null,null,null,{"$f":"IF(Brassage!$A$62=\"Selon stock\",Stock!P864,Paramètres!J861)","v":0}]
[null,null,null,null,{"$f":"IF(Brassage!$A$62=\"Selon stock\",Stock!P865,Paramètres!J862)","v":0}]
[null,null,null,null,{"$f":"IF(Brassage!$A$62=\"Selon stock\",Stock!P866,Paramètres!J863)","v":0}]
[null,null,null,null,{"$f":"IF(Brassage!$A$62=\"Selon stock\",Stock!P867,Paramètres!J864)","v":0}]
[null,null,null,null,{"$f":"IF(Brassage!$A$62=\"Selon stock\",Stock!P868,Paramètres!J865)","v":0}]
[null,null,null,null,{"$f":"IF(Brassage!$A$62=\"Selon stock\",Stock!P869,Paramètres!J866)","v":0}]
[null,null,null,null,{"$f":"IF(Brassage!$A$62=\"Selon stock\",Stock!P870,Paramètres!J867)","v":0}]
[null,null,null,null,{"$f":"IF(Brassage!$A$62=\"Selon stock\",Stock!P871,Paramètres!J868)","v":0}]
[null,null,null,null,{"$f":"IF(Brassage!$A$62=\"Selon stock\",Stock!P872,Paramètres!J869)","v":0}]
[null,null,null,null,{"$f":"IF(Brassage!$A$62=\"Selon stock\",Stock!P873,Paramètres!J870)","v":0}]
[null,null,null,null,{"$f":"IF(Brassage!$A$62=\"Selon stock\",Stock!P874,Paramètres!J871)","v":0}]
[null,null,null,null,{"$f":"IF(Brassage!$A$62=\"Selon stock\",Stock!P875,Paramètres!J872)","v":0}]
[null,null,null,null,{"$f":"IF(Brassage!$A$62=\"Selon stock\",Stock!P876,Paramètres!J873)","v":0}]
[null,null,null,null,{"$f":"IF(Brassage!$A$62=\"Selon stock\",Stock!P877,Paramètres!J874)","v":0}]
[null,null,null,null,{"$f":"IF(Brassage!$A$62=\"Selon stock\",Stock!P878,Paramètres!J875)","v":0}]
[null,null,null,null,{"$f":"IF(Brassage!$A$62=\"Selon stock\",Stock!P879,Paramètres!J876)","v":0}]
[null,null,null,null,{"$f":"IF(Brassage!$A$62=\"Selon stock\",Stock!P880,Paramètres!J877)","v":0}]
[null,null,null,null,{"$f":"IF(Brassage!$A$62=\"Selon stock\",Stock!P881,Paramètres!J878)","v":0}]
[null,null,null,null,{"$f":"IF(Brassage!$A$62=\"Selon stock\",Stock!P882,Paramètres!J879)","v":0}]
[null,null,null,null,{"$f":"IF(Brassage!$A$62=\"Selon stock\",Stock!P883,Paramètres!J880)","v":0}]
[null,null,null,null,{"$f":"IF(Brassage!$A$62=\"Selon stock\",Stock!P884,Paramètres!J881)","v":0}]
[null,null,null,null,{"$f":"IF(Brassage!$A$62=\"Selon stock\",Stock!P885,Paramètres!J882)","v":0}]
[null,null,null,null,{"$f":"IF(Brassage!$A$62=\"Selon stock\",Stock!P886,Paramètres!J883)","v":0}]
[null,null,null,null,{"$f":"IF(Brassage!$A$62=\"Selon stock\",Stock!P887,Paramètres!J884)","v":0}]
[null,null,null,null,{"$f":"IF(Brassage!$A$62=\"Selon stock\",Stock!P888,Paramètres!J885)","v":0}]
[null,null,null,null,{"$f":"IF(Brassage!$A$62=\"Selon stock\",Stock!P889,Paramètres!J886)","v":0}]
[null,null,null,null,{"$f":"IF(Brassage!$A$62=\"Selon stock\",Stock!P890,Paramètres!J887)","v":0}]
[null,null,null,null,{"$f":"IF(Brassage!$A$62=\"Selon stock\",Stock!P891,Paramètres!J888)","v":0}]
[null,null,null,null,{"$f":"IF(Brassage!$A$62=\"Selon stock\",Stock!P892,Paramètres!J889)","v":0}]
[null,null,null,null,{"$f":"IF(Brassage!$A$62=\"Selon stock\",Stock!P893,Paramètres!J890)","v":0}]
[null,null,null,null,{"$f":"IF(Brassage!$A$62=\"Selon stock\",Stock!P894,Paramètres!J891)","v":0}]
[null,null,null,null,{"$f":"IF(Brassage!$A$62=\"Selon stock\",Stock!P895,Paramètres!J892)","v":0}]
[null,null,null,null,{"$f":"IF(Brassage!$A$62=\"Selon stock\",Stock!P896,Paramètres!J893)","v":0}]
[null,null,null,null,{"$f":"IF(Brassage!$A$62=\"Selon stock\",Stock!P897,Paramètres!J894)","v":0}]
[null,null,null,null,{"$f":"IF(Brassage!$A$62=\"Selon stock\",Stock!P898,Paramètres!J895)","v":0}]
[null,null,null,null,{"$f":"IF(Brassage!$A$62=\"Selon stock\",Stock!P899,Paramètres!J896)","v":0}]
[null,null,null,null,{"$f":"IF(Brassage!$A$62=\"Selon stock\",Stock!P900,Paramètres!J897)","v":0}]
[null,null,null,null,{"$f":"IF(Brassage!$A$62=\"Selon stock\",Stock!P901,Paramètres!J898)","v":0}]
[null,null,null,null,{"$f":"IF(Brassage!$A$62=\"Selon stock\",Stock!P902,Paramètres!J899)","v":0}]
[null,null,null,null,{"$f":"IF(Brassage!$A$62=\"Selon stock\",Stock!P903,Paramètres!J900)","v":0}]
[null,null,null,null,{"$f":"IF(Brassage!$A$62=\"Selon stock\",Stock!P904,Paramètres!J901)","v":0}]
[null,null,null,null,{"$f":"IF(Brassage!$A$62=\"Selon stock\",Stock!P905,Paramètres!J902)","v":0}]
[null,null,null,null,{"$f":"IF(Brassage!$A$62=\"Selon stock\",Stock!P906,Paramètres!J903)","v":0}]
[null,null,null,null,{"$f":"IF(Brassage!$A$62=\"Selon stock\",Stock!P907,Paramètres!J904)","v":0}]
[null,null,null,null,{"$f":"IF(Brassage!$A$62=\"Selon stock\",Stock!P908,Paramètres!J905)","v":0}]
[null,null,null,null,{"$f":"IF(Brassage!$A$62=\"Selon stock\",Stock!P909,Paramètres!J906)","v":0}]
[null,null,null,null,{"$f":"IF(Brassage!$A$62=\"Selon stock\",Stock!P910,Paramètres!J907)","v":0}]
[null,null,null,null,{"$f":"IF(Brassage!$A$62=\"Selon stock\",Stock!P911,Paramètres!J908)","v":0}]
[null,null,null,null,{"$f":"IF(Brassage!$A$62=\"Selon stock\",Stock!P912,Paramètres!J909)","v":0}]
[null,null,null,null,{"$f":"IF(Brassage!$A$62=\"Selon stock\",Stock!P913,Paramètres!J910)","v":0}]
[null,null,null,null,{"$f":"IF(Brassage!$A$62=\"Selon stock\",Stock!P914,Paramètres!J911)","v":0}]
[null,null,null,null,{"$f":"IF(Brassage!$A$62=\"Selon stock\",Stock!P915,Paramètres!J912)","v":0}]
[null,null,null,null,{"$f":"IF(Brassage!$A$62=\"Selon stock\",Stock!P916,Paramètres!J913)","v":0}]
[null,null,null,null,{"$f":"IF(Brassage!$A$62=\"Selon stock\",Stock!P917,Paramètres!J914)","v":0}]
[null,null,null,null,{"$f":"IF(Brassage!$A$62=\"Selon stock\",Stock!P918,Paramètres!J915)","v":0}]
[null,null,null,null,{"$f":"IF(Brassage!$A$62=\"Selon stock\",Stock!P919,Paramètres!J916)","v":0}]
[null,null,null,null,{"$f":"IF(Brassage!$A$62=\"Selon stock\",Stock!P920,Paramètres!J917)","v":0}]
[null,null,null,null,{"$f":"IF(Brassage!$A$62=\"Selon stock\",Stock!P921,Paramètres!J918)","v":0}]
[null,null,null,null,{"$f":"IF(Brassage!$A$62=\"Selon stock\",Stock!P922,Paramètres!J919)","v":0}]
[null,null,null,null,{"$f":"IF(Brassage!$A$62=\"Selon stock\",Stock!P923,Paramètres!J920)","v":0}]
[null,null,null,null,{"$f":"IF(Brassage!$A$62=\"Selon stock\",Stock!P924,Paramètres!J921)","v":0}]
[null,null,null,null,{"$f":"IF(Brassage!$A$62=\"Selon stock\",Stock!P925,Paramètres!J922)","v":0}]
[null,null,null,null,{"$f":"IF(Brassage!$A$62=\"Selon stock\",Stock!P926,Paramètres!J923)","v":0}]
[null,null,null,null,{"$f":"IF(Brassage!$A$62=\"Selon stock\",Stock!P927,Paramètres!J924)","v":0}]
[null,null,null,null,{"$f":"IF(Brassage!$A$62=\"Selon stock\",Stock!P928,Paramètres!J925)","v":0}]
[null,null,null,null,{"$f":"IF(Brassage!$A$62=\"Selon stock\",Stock!P929,Paramètres!J926)","v":0}]
[null,null,null,null,{"$f":"IF(Brassage!$A$62=\"Selon stock\",Stock!P930,Paramètres!J927)","v":0}]
[null,null,null,null,{"$f":"IF(Brassage!$A$62=\"Selon stock\",Stock!P931,Paramètres!J928)","v":0}]
[null,null,null,null,{"$f":"IF(Brassage!$A$62=\"Selon stock\",Stock!P932,Paramètres!J929)","v":0}]
[null,null,null,null,{"$f":"IF(Brassage!$A$62=\"Selon stock\",Stock!P933,Paramètres!J930)","v":0}]
[null,null,null,null,{"$f":"IF(Brassage!$A$62=\"Selon stock\",Stock!P934,Paramètres!J931)","v":0}]
[null,null,null,null,{"$f":"IF(Brassage!$A$62=\"Selon stock\",Stock!P935,Paramètres!J932)","v":0}]
[null,null,null,null,{"$f":"IF(Brassage!$A$62=\"Selon stock\",Stock!P936,Paramètres!J933)","v":0}]
[null,null,null,null,{"$f":"IF(Brassage!$A$62=\"Selon stock\",Stock!P937,Paramètres!J934)","v":0}]
[null,null,null,null,{"$f":"IF(Brassage!$A$62=\"Selon stock\",Stock!P938,Paramètres!J935)","v":0}]
[null,null,null,null,{"$f":"IF(Brassage!$A$62=\"Selon stock\",Stock!P939,Paramètres!J936)","v":0}]
[null,null,null,null,{"$f":"IF(Brassage!$A$62=\"Selon stock\",Stock!P940,Paramètres!J937)","v":0}]
[null,null,null,null,{"$f":"IF(Brassage!$A$62=\"Selon stock\",Stock!P941,Paramètres!J938)","v":0}]
[null,null,null,null,{"$f":"IF(Brassage!$A$62=\"Selon stock\",Stock!P942,Paramètres!J939)","v":0}]
[null,null,null,null,{"$f":"IF(Brassage!$A$62=\"Selon stock\",Stock!P943,Paramètres!J940)","v":0}]
[null,null,null,null,{"$f":"IF(Brassage!$A$62=\"Selon stock\",Stock!P944,Paramètres!J941)","v":0}]
[null,null,null,null,{"$f":"IF(Brassage!$A$62=\"Selon stock\",Stock!P945,Paramètres!J942)","v":0}]
[null,null,null,null,{"$f":"IF(Brassage!$A$62=\"Selon stock\",Stock!P946,Paramètres!J943)","v":0}]
[null,null,null,null,{"$f":"IF(Brassage!$A$62=\"Selon stock\",Stock!P947,Paramètres!J944)","v":0}]
[null,null,null,null,{"$f":"IF(Brassage!$A$62=\"Selon stock\",Stock!P948,Paramètres!J945)","v":0}]
[null,null,null,null,{"$f":"IF(Brassage!$A$62=\"Selon stock\",Stock!P949,Paramètres!J946)","v":0}]
[null,null,null,null,{"$f":"IF(Brassage!$A$62=\"Selon stock\",Stock!P950,Paramètres!J947)","v":0}]
[null,null,null,null,{"$f":"IF(Brassage!$A$62=\"Selon stock\",Stock!P951,Paramètres!J948)","v":0}]
[null,null,null,null,{"$f":"IF(Brassage!$A$62=\"Selon stock\",Stock!P952,Paramètres!J949)","v":0}]
[null,null,null,null,{"$f":"IF(Brassage!$A$62=\"Selon stock\",Stock!P953,Paramètres!J950)","v":0}]
[null,null,null,null,{"$f":"IF(Brassage!$A$62=\"Selon stock\",Stock!P954,Paramètres!J951)","v":0}]
[null,null,null,null,{"$f":"IF(Brassage!$A$62=\"Selon stock\",Stock!P955,Paramètres!J952)","v":0}]
[null,null,null,null,{"$f":"IF(Brassage!$A$62=\"Selon stock\",Stock!P956,Paramètres!J953)","v":0}]
[null,null,null,null,{"$f":"IF(Brassage!$A$62=\"Selon stock\",Stock!P957,Paramètres!J954)","v":0}]
[null,null,null,null,{"$f":"IF(Brassage!$A$62=\"Selon stock\",Stock!P958,Paramètres!J955)","v":0}]
[null,null,null,null,{"$f":"IF(Brassage!$A$62=\"Selon stock\",Stock!P959,Paramètres!J956)","v":0}]
[null,null,null,null,{"$f":"IF(Brassage!$A$62=\"Selon stock\",Stock!P960,Paramètres!J957)","v":0}]
[null,null,null,null,{"$f":"IF(Brassage!$A$62=\"Selon stock\",Stock!P961,Paramètres!J958)","v":0}]
[null,null,null,null,{"$f":"IF(Brassage!$A$62=\"Selon stock\",Stock!P962,Paramètres!J959)","v":0}]
[null,null,null,null,{"$f":"IF(Brassage!$A$62=\"Selon stock\",Stock!P963,Paramètres!J960)","v":0}]
[null,null,null,null,{"$f":"IF(Brassage!$A$62=\"Selon stock\",Stock!P964,Paramètres!J961)","v":0}]
[null,null,null,null,{"$f":"IF(Brassage!$A$62=\"Selon stock\",Stock!P965,Paramètres!J962)","v":0}]
[null,null,null,null,{"$f":"IF(Brassage!$A$62=\"Selon stock\",Stock!P966,Paramètres!J963)","v":0}]
[null,null,null,null,{"$f":"IF(Brassage!$A$62=\"Selon stock\",Stock!P967,Paramètres!J964)","v":0}]
[null,null,null,null,{"$f":"IF(Brassage!$A$62=\"Selon stock\",Stock!P968,Paramètres!J965)","v":0}]
[null,null,null,null,{"$f":"IF(Brassage!$A$62=\"Selon stock\",Stock!P969,Paramètres!J966)","v":0}]
[null,null,null,null,{"$f":"IF(Brassage!$A$62=\"Selon stock\",Stock!P970,Paramètres!J967)","v":0}]
[null,null,null,null,{"$f":"IF(Brassage!$A$62=\"Selon stock\",Stock!P971,Paramètres!J968)","v":0}]
[null,null,null,null,{"$f":"IF(Brassage!$A$62=\"Selon stock\",Stock!P972,Paramètres!J969)","v":0}]
[null,null,null,null,{"$f":"IF(Brassage!$A$62=\"Selon stock\",Stock!P973,Paramètres!J970)","v":0}]
[null,null,null,null,{"$f":"IF(Brassage!$A$62=\"Selon stock\",Stock!P974,Paramètres!J971)","v":0}]
[null,null,null,null,{"$f":"IF(Brassage!$A$62=\"Selon stock\",Stock!P975,Paramètres!J972)","v":0}]
[null,null,null,null,{"$f":"IF(Brassage!$A$62=\"Selon stock\",Stock!P976,Paramètres!J973)","v":0}]
[null,null,null,null,{"$f":"IF(Brassage!$A$62=\"Selon stock\",Stock!P977,Paramètres!J974)","v":0}]
[null,null,null,null,{"$f":"IF(Brassage!$A$62=\"Selon stock\",Stock!P978,Paramètres!J975)","v":0}]
[null,null,null,null,{"$f":"IF(Brassage!$A$62=\"Selon stock\",Stock!P979,Paramètres!J976)","v":0}]
[null,null,null,null,{"$f":"IF(Brassage!$A$62=\"Selon stock\",Stock!P980,Paramètres!J977)","v":0}]
[null,null,null,null,{"$f":"IF(Brassage!$A$62=\"Selon stock\",Stock!P981,Paramètres!J978)","v":0}]
[null,null,null,null,{"$f":"IF(Brassage!$A$62=\"Selon stock\",Stock!P982,Paramètres!J979)","v":0}]
[null,null,null,null,{"$f":"IF(Brassage!$A$62=\"Selon stock\",Stock!P983,Paramètres!J980)","v":0}]
[null,null,null,null,{"$f":"IF(Brassage!$A$62=\"Selon stock\",Stock!P984,Paramètres!J981)","v":0}]
[null,null,null,null,{"$f":"IF(Brassage!$A$62=\"Selon stock\",Stock!P985,Paramètres!J982)","v":0}]
[null,null,null,null,{"$f":"IF(Brassage!$A$62=\"Selon stock\",Stock!P986,Paramètres!J983)","v":0}]
[null,null,null,null,{"$f":"IF(Brassage!$A$62=\"Selon stock\",Stock!P987,Paramètres!J984)","v":0}]
[null,null,null,null,{"$f":"IF(Brassage!$A$62=\"Selon stock\",Stock!P988,Paramètres!J985)","v":0}]
[null,null,null,null,{"$f":"IF(Brassage!$A$62=\"Selon stock\",Stock!P989,Paramètres!J986)","v":0}]
[null,null,null,null,{"$f":"IF(Brassage!$A$62=\"Selon stock\",Stock!P990,Paramètres!J987)","v":0}]
[null,null,null,null,{"$f":"IF(Brassage!$A$62=\"Selon stock\",Stock!P991,Paramètres!J988)","v":0}]
[null,null,null,null,{"$f":"IF(Brassage!$A$62=\"Selon stock\",Stock!P992,Paramètres!J989)","v":0}]
[null,null,null,null,{"$f":"IF(Brassage!$A$62=\"Selon stock\",Stock!P993,Paramètres!J990)","v":0}]
[null,null,null,null,{"$f":"IF(Brassage!$A$62=\"Selon stock\",Stock!P994,Paramètres!J991)","v":0}]
[null,null,null,null,{"$f":"IF(Brassage!$A$62=\"Selon stock\",Stock!P995,Paramètres!J992)","v":0}]
[null,null,null,null,{"$f":"IF(Brassage!$A$62=\"Selon stock\",Stock!P996,Paramètres!J993)","v":0}]
[null,null,null,null,{"$f":"IF(Brassage!$A$62=\"Selon stock\",Stock!P997,Paramètres!J994)","v":0}]
[null,null,null,null,{"$f":"IF(Brassage!$A$62=\"Selon stock\",Stock!P998,Paramètres!J995)","v":0}]
[null,null,null,null,{"$f":"IF(Brassage!$A$62=\"Selon stock\",Stock!P999,Paramètres!J996)","v":0}]
[null,null,null,null,{"$f":"IF(Brassage!$A$62=\"Selon stock\",Stock!P1000,Paramètres!J997)","v":0}]
[null,null,null,null,{"$f":"IF(Brassage!$A$62=\"Selon stock\",Stock!P1001,Paramètres!J998)","v":0}]
[null,null,null,null,{"$f":"IF(Brassage!$A$62=\"Selon stock\",Stock!P1002,Paramètres!J999)","v":0}]
[null,null,null,null,{"$f":"IF(Brassage!$A$62=\"Selon stock\",Stock!P1003,Paramètres!J1000)","v":0}]
[null,null,null,null,{"$f":"IF(Brassage!$A$62=\"Selon stock\",Stock!P1004,Paramètres!J1001)","v":0}]

{"sheet":"Comptage cellulaire","index":18,"n_rows":25,"n_cols":31,"rows_kept":25,"cut":false,"hidden":false,"merged":[[0,1,0,28],[2,1,2,7],[2,8,2,12],[2,15,3,20],[2,21,3,25],[2,26,3,26],[3,1,3,7],[3,8,3,12],[4,1,4,7],[4,8,4,12],[4,15,4,20],[4,21,4,26],[5,1,5,7],[5,8,5,11],[5,15,5,20],[5,21,5,26],[6,1,6,7],[6,8,6,12],[6,15,6,20],[6,21,6,26],[7,1,7,7],[7,8,7,9],[7,10,7,12],[7,15,7,20],[7,21,7,26],[8,1,8,7],[8,8,8,12],[8,15,8,20],[8,21,8,26],[9,1,9,7],[9,8,9,9],[9,10,9,12],[9,15,9,20],[9,21,9,26],[14,3,15,4],[14,5,15,6],[14,7,15,8],[14,9,15,10],[14,11,15,12],[10,1,11,7],[10,8,11,10],[10,11,11,12],[10,15,10,20],[10,21,10,26],[14,16,15,17],[14,18,15,19],[14,20,15,21],[14,22,15,23],[14,24,15,25],[16,24,17,25],[18,3,19,4],[18,5,19,6],[18,7,19,8],[18,9,19,10],[18,11,19,12],[16,3,17,4],[16,5,17,6],[16,7,17,8],[16,9,17,10],[16,11,17,12],[18,24,19,25],[20,11,21,12],[16,16,17,17],[16,18,17,19],[16,20,17,21],[16,22,17,23],[18,16,19,17],[18,18,19,19],[18,20,19,21],[18,22,19,23],[24,3,24,12],[24,16,24,25],[20,16,21,17],[20,18,21,19],[20,20,21,21],[20,22,21,23],[20,24,21,25],[22,3,23,4],[22,5,23,6],[22,7,23,8],[22,9,23,10],[22,11,23,12],[20,3,21,4],[20,5,21,6],[20,7,21,8],[20,9,21,10],[22,16,23,17],[22,18,23,19],[22,20,23,21],[22,22,23,23],[22,24,23,25]]}
[null,"Comptage Cellulaire - Cellule de Neubauer"]
[]
[null,"Date du comptage",null,null,null,null,null,null,"2020-10-24",null,null,null,null,null,null,"Volume d'une unité de comptage",null,null,null,null,null,4.0000000000000001E-3,null,null,null,null,"μL"]
[null,"Levure",null,null,null,null,null,null,"WLP810"]
[null,"Lot",null,null,null,null,null,null,1,null,null,null,null,null,null,"Dilution 1",null,null,null,null,null,10]
[null,"Volume du tube",null,null,null,null,null,null,2000,null,null,null,"mL",null,null,"Dilution 2",null,null,null,null,null,5]
[null,"Date de fabrication",null,null,null,null,null,null,"2020-11-02",null,null,null,null,null,null,"Dilution 3",null,null,null,null,null,1]
[null,"Concentration  totale",null,null,null,null,null,null,{"$f":"(V9*V10/(V3/1000))/1000000000","v":0.09},null,"mds/mL",null,null,null,null,"Dilution 4",null,null,null,null,null,1]
[null,"Mortalité",null,null,null,null,null,null,{"$f":"(SUM(Q15:Z24)/SUM(D15:M24))","v":0},null,null,null,null,null,null,"Dilution total",null,null,null,null,null,{"$f":"V5*V6*V7*V8","v":50}]
[null,"Concentration vivante",null,null,null,null,null,null,{"$f":"I8*(1-I9)","v":0.09},null,"mds/mL",null,null,null,null,"Nb ₵ moy par unité",null,null,null,null,null,{"$f":"AVERAGE(D15:M24)","v":7.2}]
[null,"Population vivante dans le tube",null,null,null,null,null,null,{"$f":"I6*I10","v":180},null,null,"mds",null,null,null,"Nb d'unités comptées",null,null,null,null,null,{"$f":"COUNTA(D15:M24)","v":25}]
[]
[]
[]
[null,null,null,12,null,4,null,6,null,7,null,7]
[]
[null,null,null,5,null,10,null,8,null,5,null,6]
[]
[null,null,null,3,null,8,null,4,null,10,null,7]
[]
[null,null,null,6,null,12,null,6,null,12,null,7]
[]
[null,null,null,6,null,11,null,6,null,4,null,8]
[null,null,null,null,null,null,null,null,null,null,null,null,null,null,null,null,null,null,null,null,null,null,null,null,null,null,null,null,null,null," "]
[null,null,null,"Cellules totales",null,null,null,null,null,null,null,null,null,null,null,null,"Cellules mortes"]

{"sheet":"Levures (2)","index":19,"n_rows":400,"n_cols":14,"rows_kept":400,"cut":false,"hidden":true,"merged":[]}
["Fournisseur","Code","Levure","Nom complet","Attenuation","Min °C","Max °C","Floculation","Min °F","Max °F","Tolerance\nAlcool","Styles Bieres","Souche équivalente","Description"]
["Fermentis","BE-134","BE-134",{"$f":"Tableau46[[#This Row],[Fournisseur]]&\" - \"&Tableau46[[#This Row],[Levure]]","v":"Fermentis - BE-134"},0.9,18,28,"Basse",64.400000000000006,82.4,11,"Belgian Saison","The obvious choice for highly attenuated beers with phenolic character such as Belgian-Saison style.\nThe SafAle™ BE-134 is a Saccharomyces cerevisiae var. diastaticus and is characterized by a particularly high attenuation.\nThis typical yeast strain is recommended for Belgian Saison-style beers. It gives fruity aromas with a slight spicy character (POF+) such as clove notes.\nThis strain will bring highly refreshing and drinkable beers."]
["Fermentis","WB-06","WB-06",{"$f":"Tableau46[[#This Row],[Fournisseur]]&\" - \"&Tableau46[[#This Row],[Levure]]","v":"Fermentis - WB-06"},0.86,17.8,23.9,"Basse",64,75,11,"Wheat Bier,\nWeizen Bier","The choice for wheat beer fermentation.\nThe SafAle™ WB-06 is a Saccharomyces cerevisiae var. diastaticus and is characterized by a particularly high attenuation.\nThis typical yeast strain is recommended for wheat beer fermentations and produces subtle estery and phenol flavor notes (POF+) such as clove notes typical of wheat beers.\nAllows to brew beer with a high drinkability profile and presents a very good ability to suspend during fermentation."]
["Fermentis","K-97","K-97",{"$f":"Tableau46[[#This Row],[Fournisseur]]&\" - \"&Tableau46[[#This Row],[Levure]]","v":"Fermentis - K-97"},0.81,15,20,"Basse",59,68,11,"Ale,\nBieres Blanches","Typical German ale yeast.\nGerman ale yeast selected for its ability to form a large firm head when fermenting.\nSuitable to brew ales with low esters and can be used for Belgian type wheat beers."]
["Fermentis","T-58","T-58",{"$f":"Tableau46[[#This Row],[Fournisseur]]&\" - \"&Tableau46[[#This Row],[Levure]]","v":"Fermentis - T-58"},0.7,15,20,"Basse- Moyenne",59,68,11,"Imperial Stout,\nBarley Wine","Famous for its estery development and some spicy notes.\nSpecialty yeast selected for its estery somewhat peppery and spicy flavor development (POF+), producing clovelike aroma.\nYeast with a medium sedimentation: forms no clumps but a powdery haze when resuspended in the beer."]
["Fermentis","S-04","S-04",{"$f":"Tableau46[[#This Row],[Fournisseur]]&\" - \"&Tableau46[[#This Row],[Levure]]","v":"Fermentis - S-04"},0.75,15,20,"Haute",59,68,11,"Ordinary Bitter,\nEnglish Pale Ale,\nIndian Pale Ale,\nScottish Ale,\nLight Porter,\nClassic Stout","A suitable yeast for English style ales.\nEnglish ale yeast selected for its fast fermentation character and its ability to form a compact sediment at the end of fermentation, helping to improve beer clarity.\nRecommended for the production of a large range of ales and specially adapted to cask-conditioned ones and fermentation in cylindo-conical tanks."]
["Fermentis","BE-256","BE-256",{"$f":"Tableau46[[#This Row],[Fournisseur]]&\" - \"&Tableau46[[#This Row],[Levure]]","v":"Fermentis - BE-256"},0.85,15,20,"Haute",59,68,11,"Abbey","Recommended for high alcohol content beers such as Abbey style.\nActive dry yeast recommended to brew a diversity of beers amongst which abbey style beers known for their high alcohol content.\nIt ferments very fast and reveals subtle and well-balanced aromas.\nTo maintain the aromatic profile at the end of the fermentation, we do recommend to crop this yeast as soon as possible after fermentation."]
["Fermentis","S-23","S-23",{"$f":"Tableau46[[#This Row],[Fournisseur]]&\" - \"&Tableau46[[#This Row],[Levure]]","v":"Fermentis - S-23"},0.82,12,15,"Haute",53.6,59,11,"Dortmunder","The bottom fermenting strain originating from Berlin.\nBottom fermenting yeast originating from Berlin (Germany) recommended for the production of fruity and estery lagers.\nIts lower attenuation profile gives beers with a good length on the palate."]
["Fermentis","S-189","S-189",{"$f":"Tableau46[[#This Row],[Fournisseur]]&\" - \"&Tableau46[[#This Row],[Levure]]","v":"Fermentis - S-189"},0.82,12,15,"Haute",53.6,59,11,"Bock,\nDark Munich,\nDoppelbock","The Swiss bottom fermenting strain.\nOriginating from the Hürlimann brewery in Switzerland.\nThis lager strain’s attenuation profile allows to brew fairly neutral flavor beers with a high drinkability."]
["Fermentis","W-34/70","W-34/70",{"$f":"Tableau46[[#This Row],[Fournisseur]]&\" - \"&Tableau46[[#This Row],[Levure]]","v":"Fermentis - W-34/70"},0.82,12,15,"Haute",53.6,59,11,"Pilsner,\nLight Munich,\nVienna,\nMarzenbier,\nOktoberfest","The bottom fermenting strain originating from Weihenstephan.\nThis famous yeast strain from Weihenstephan in Germany is used world-wide within the brewing industry.\nSafLager™ W-34/70 allows to brew beers with a good balance of floral and fruity aromas and gives clean flavors and high drinkable beers."]
["Fermentis","HA-18","HA-18",{"$f":"Tableau46[[#This Row],[Fournisseur]]&\" - \"&Tableau46[[#This Row],[Levure]]","v":"Fermentis - HA-18"},0.97,25,35,"Moyenne",77,95,18,"Barley Wine","Ideal mix of yeast and enzymes for very highly attenuated beers such as Barley Wines.\nThis product is a blend of active dry yeast and enzymes.\nIt is recommended for the production of particularly high attenuating beers even for Very High Gravity fermentation, such as “Barley Wines”.\nThe yeast strain in this product is able to reach 18% alc. (v/v), depending on the process and the substrate with a very good resistance to the osmotic pressure and high fermentation temperatures (thermotolerant yeast)."]
["Fermentis","S-33","S-33",{"$f":"Tableau46[[#This Row],[Fournisseur]]&\" - \"&Tableau46[[#This Row],[Levure]]","v":"Fermentis - S-33"},0.7,15,20,"Moyenne",59,68,11,"Scottish Ale Export,\nScottish Ale Strong,\nForeign Stout,\nBarley Wine,\nStrong Bitter","Ideal for specialty ales and trappist type beers.\nGeneral purpose ale yeast with neutral flavor profiles. Its low attenuation gives beers with a very good length on the palate.\nParticularly recommended for specialty ales and trappist type beers.\nYeast with a medium sedimentation: forms no clumps but a powdery haze when resuspended in the beer."]
["Fermentis","US-05","US-05",{"$f":"Tableau46[[#This Row],[Fournisseur]]&\" - \"&Tableau46[[#This Row],[Levure]]","v":"Fermentis - US-05"},0.81,12,25,"Moyenne - Haute",53.6,77,11,"Kölsch,\nMild Ale,\nAmerican Pale Ale,\nBrown Ale,\nScottish Ale Light,\nPorter,\nClassic Stout","Ideal strain for typical American Ales.\nAmerican ale yeast producing well balanced beers with low diacetyl and a very clean, crisp end palate.\nForms a firm foam head and presents a very good ability to stay in suspension during fermentation."]
["GigaYeast","GY014","GY014 : BELGIAN ABBEY ALE",{"$f":"Tableau46[[#This Row],[Fournisseur]]&\" - \"&Tableau46[[#This Row],[Levure]]","v":"GigaYeast - GY014 : BELGIAN ABBEY ALE"},"79 – 81%",17.8,26.7,"Basse",64,80,null,"Belgian Ale,\nDubbel,\nBelgian Strong,\nTripel,\nBiere De Garde,\nSaison","Classic Belgian Ale yeast.\nStrong attenuation with a fruity nose and virtually no phenolics.\nThe warmer it gets the fruitier it grows."]
["GigaYeast","GY018","GY018 : SAISON #1",{"$f":"Tableau46[[#This Row],[Fournisseur]]&\" - \"&Tableau46[[#This Row],[Levure]]","v":"GigaYeast - GY018 : SAISON #1"},"81 – 83%",17.8,26.7,"Basse",64,80,null,"Saison,\nFarmhouse Ale,\nBelgian Ale,\nBiere De Garde","Traditional Saison yeast from a French craft brewery.\nStrong attenuator that produces a dry beer with a beautiful fragrance and the traditional Saison taste of fruit and pepper."]
["GigaYeast","GY027","GY027 : SAISON #2",{"$f":"Tableau46[[#This Row],[Fournisseur]]&\" - \"&Tableau46[[#This Row],[Levure]]","v":"GigaYeast - GY027 : SAISON #2"},"79 – 83%",17.8,26.7,"Basse",64,80,null,"Saison,\nFarmhouse Ale,\nBelgian Ale,\nBiere De Garde","From a traditional farmhouse saison.\nProduces a nice fruity nose and finishes slightly sweeter than GY018."]
["GigaYeast","GY047","GY047 : SAISON BLEND",{"$f":"Tableau46[[#This Row],[Fournisseur]]&\" - \"&Tableau46[[#This Row],[Levure]]","v":"GigaYeast - GY047 : SAISON BLEND"},"80 – 83%",17.8,26.7,"Basse",64,80,null,"Belgian,\nWitbier,\nBelgian Pale Ale","This Blend is a super robust attenuator that produces a complex flavor profile of fruit and spice."]
["GigaYeast","GY048","GY048 : GOLDEN PEAR BELGIAN",{"$f":"Tableau46[[#This Row],[Fournisseur]]&\" - \"&Tableau46[[#This Row],[Levure]]","v":"GigaYeast - GY048 : GOLDEN PEAR BELGIAN"},"83 – 85%",18.3,26.7,"Basse",65,80,null,"Belgian Golden Strong Ale,\nFarmhouse Ale,\nTripel,\nSaison,\nDubbel,\nBiere De Garde","From the originator of the Belgian Golden Strong Ale style.\nEstery profile reminiscent of apple and pear with a subdued level of spicy phenolics.\nExcellent choice for high gravity belgian and farmhouse style ales."]
["GigaYeast","GY007","GY007 : BELGIAN MIX",{"$f":"Tableau46[[#This Row],[Fournisseur]]&\" - \"&Tableau46[[#This Row],[Levure]]","v":"GigaYeast - GY007 : BELGIAN MIX"},"79 – 81%",18.899999999999999,25,"Basse",66,77,null,"Belgian Ale,\nDubbel,\nBelgian Strong,\nTripel,\nBiere De Garde,\nSaison","A blend of Belgian Ale yeast combine to create robust attenuation and a complex flavor profile."]
["GigaYeast","GY015","GY015 : BELGIAN TRIPEL",{"$f":"Tableau46[[#This Row],[Fournisseur]]&\" - \"&Tableau46[[#This Row],[Levure]]","v":"GigaYeast - GY015 : BELGIAN TRIPEL"},"74 – 76%",18.899999999999999,23.3,"Basse",66,74,null,"Belgian Ale,\nDubbel,\nBelgian Strong,\nTripel,\nBiere De Garde,\nSaison","Belgian Ale yeast from the mother of all Tripels.\nWarm notes with just a hint of spice.\nExcellent for emphasizing the malty sweet quality prized in certain Belgians."]
["GigaYeast","GY016","GY016 : ALTSTADT ALE",{"$f":"Tableau46[[#This Row],[Fournisseur]]&\" - \"&Tableau46[[#This Row],[Levure]]","v":"GigaYeast - GY016 : ALTSTADT ALE"},"77 – 81%",12.8,20,"Basse",55,68,null,"Kölsch,\nCalifornia Common,\nAltbier,\nBiere De Garde,\nCream Ale","An ale yeast that ferments at cold temperatures and produces a lager like ale style.\nUsed in traditional Alt and Kölsch styles.\nLeaves a nice, residual maltiness."]
["GigaYeast","GY003","GY003 : A TOUCH OF SPICE BELGIAN ALE",{"$f":"Tableau46[[#This Row],[Fournisseur]]&\" - \"&Tableau46[[#This Row],[Levure]]","v":"GigaYeast - GY003 : A TOUCH OF SPICE BELGIAN ALE"},"81 – 84%",20,25,"Basse- Moyenne",68,77,null,"Belgian Ale,\nDubbel,\nBelgian Strong,\nTripel,\nBiere De Garde","Abbey style yeast from the Belgian Ardennes.\nSpicy clove like notes and a hint of fruity esters.\nMedium flocculation means a clearer beer than most Belgian yeast."]
["GigaYeast","GY044","GY044 : SCOTCH ALE #1",{"$f":"Tableau46[[#This Row],[Fournisseur]]&\" - \"&Tableau46[[#This Row],[Levure]]","v":"GigaYeast - GY044 : SCOTCH ALE #1"},"80 - 82%",17.8,23.9,"Basse- Moyenne",64,75,null,"Scotch Ale,\nPale,\nWee Beavy,\nBrown,\nPorter,\nStout","Neutral flavors that emphasize maltiness.\nPerfect in Stouts, Porters, Scottish Ales and Wee Heavys."]
["GigaYeast","GY054","GY054 : VERMONT IPA",{"$f":"Tableau46[[#This Row],[Fournisseur]]&\" - \"&Tableau46[[#This Row],[Levure]]","v":"GigaYeast - GY054 : VERMONT IPA"},"78 - 82%",16.7,23.9,"Basse- Moyenne",62,75,null,"Imperial Pale Ale,\nAmerican Wheat Beer,\nPale Ale,\nBitter,\nWest Coast Amber,\nESB","From one of the best examples of an east coast IPA.\nThis yeast attenuates slightly less than NorCal Ale #1 and leaves a beer with more body and a slight fruity ester that is amazing with aromatic hops."]
["GigaYeast","GY045","GY045 : GERMAN LAGER",{"$f":"Tableau46[[#This Row],[Fournisseur]]&\" - \"&Tableau46[[#This Row],[Levure]]","v":"GigaYeast - GY045 : GERMAN LAGER"},"74 – 78%",10,15.6,"Basse- Moyenne",50,60,null,"Lagers,\nKeller Bier,\nMärzen,\nSchwarz Bier,\nBock,\nPilsner","Bottom fermenting German yeast used in commercial breweries around the world.\nProduces a dry, clean beer with a malty finish."]
["GigaYeast","GY011","GY011 : BRITISH ALE #1",{"$f":"Tableau46[[#This Row],[Fournisseur]]&\" - \"&Tableau46[[#This Row],[Levure]]","v":"GigaYeast - GY011 : BRITISH ALE #1"},"75 – 79%",17.8,25,"Haute",64,77,null,"British Ales,\nPale/Amber Ale,\nBarley Wine,\nScotch Ale,\nBitter,\nStout,\nIndia Pale Ale","Versatile house strain from a traditional UK Brewery.\nStrong attenuation, low esters and excellent flocculation for clear beer."]
["GigaYeast","GY031","GY031 : BRITISH ALE #2",{"$f":"Tableau46[[#This Row],[Fournisseur]]&\" - \"&Tableau46[[#This Row],[Levure]]","v":"GigaYeast - GY031 : BRITISH ALE #2"},"80 - 82%",17.8,23.9,"Haute",64,75,null,"British Ales,\nPale/Amber Ale,\nBarley Wine,\nScotch Ale,\nBitter,\nStout,\nIndia Pale Ale","From one of the oldest and best-known English cask ales.\nStrong Attenuation and excellent flocculation with slightly more fruity ester production than GY011."]
["GigaYeast","GY077","GY077 : QUEBEC ABBEY ALE",{"$f":"Tableau46[[#This Row],[Fournisseur]]&\" - \"&Tableau46[[#This Row],[Levure]]","v":"GigaYeast - GY077 : QUEBEC ABBEY ALE"},"79 – 83%",20,26.7,"Moyenne",68,80,null,"Belgian Ale,\nDubbel,\nBelgian Strong,\nTripel,\nBiere De Garde","From one of the first breweries in North America to create a successful line of traditional Abbey style ales.\nThis Belgian ale yeast creates a malt forward beer with subtle fruity esters and a very small amount of clove notes."]
["GigaYeast","GY001","GY001 : NORCAL ALE #1",{"$f":"Tableau46[[#This Row],[Fournisseur]]&\" - \"&Tableau46[[#This Row],[Levure]]","v":"GigaYeast - GY001 : NORCAL ALE #1"},"76 - 80%",17.8,25,"Moyenne",64,77,null,"Barley Wine,\nPale Ale,\nBitter,\nScotch Ale,\nIndia Pale Ale,\nStout","Clean fermenting, versatile strain from one of the most famous California pale ales.\nExcellent for emphasizing hop flavor and aroma. Strong attenuation and good flocculation."]
["GigaYeast","GY080","GY080 : IRISH STOUT",{"$f":"Tableau46[[#This Row],[Fournisseur]]&\" - \"&Tableau46[[#This Row],[Levure]]","v":"GigaYeast - GY080 : IRISH STOUT"},"82 - 86%",17.8,22.2,"Moyenne",64,72,null,"Stout,\nPorter,\nImperial Stout,\nAmber/Red Ale,\nEnglish Pale Ale","From one of the most famous stouts in the world.\nCreates a crisp, dry beer with a subtle fruity profile and a slightly tangy finish."]
["GigaYeast","GY005","GY005 : GOLDEN GATE LAGER",{"$f":"Tableau46[[#This Row],[Fournisseur]]&\" - \"&Tableau46[[#This Row],[Levure]]","v":"GigaYeast - GY005 : GOLDEN GATE LAGER"},"79 – 83%",12.8,21.1,"Moyenne",55,70,null,"California Common,\nCream Ale,\nStout","Versatile Lager yeast used to create the California Common style.\nFerments warm and still retains a lager character."]
["GigaYeast","GY030","GY030 : AMERICAN LAGER",{"$f":"Tableau46[[#This Row],[Fournisseur]]&\" - \"&Tableau46[[#This Row],[Levure]]","v":"GigaYeast - GY030 : AMERICAN LAGER"},"79 – 83%",8.9,15.6,"Moyenne",48,60,null,"Lager,\nBlack Lager,\nPilsner,\nSchwarzbier,\nImperial Pilsner","Think you don’t like American Lager? Think again.\nThis lager yeast is a powerful attenuator that leaves a dry beer with a slightly fruity finish. Awesome."]
["GigaYeast","GY021","GY021 : KÖLSCH BIER",{"$f":"Tableau46[[#This Row],[Fournisseur]]&\" - \"&Tableau46[[#This Row],[Levure]]","v":"GigaYeast - GY021 : KÖLSCH BIER"},"79 – 83%",15.6,22.2,"Moyenne - Haute",60,72,null,"Kölsch,\nPale Ale,\nAlt,\nIndia Pale Ale,\nCream Ale,\nAmber","From one of the oldest Kölsch breweries in Köln.\nFerments cold to produce crisp tasting lager-like ales."]
["GigaYeast","GY002","GY002 : CZECH PILSNER",{"$f":"Tableau46[[#This Row],[Fournisseur]]&\" - \"&Tableau46[[#This Row],[Levure]]","v":"GigaYeast - GY002 : CZECH PILSNER"},"75 – 79%",8.9,12.8,"Moyenne - Haute",48,55,null,"Pilsners,\nLagers","Bottom fermenting yeast from a world famous pilsner.\nFinishes dry and leaves a hint of malt flavor."]
["GigaYeast","GY017","GY017 : BAVARIAN HEFE",{"$f":"Tableau46[[#This Row],[Fournisseur]]&\" - \"&Tableau46[[#This Row],[Levure]]","v":"GigaYeast - GY017 : BAVARIAN HEFE"},"77 – 81%",17.8,26.7,"Très Basse",64,80,null,"Dunkelweizen,\nGose,\nHefeweizen,\nWeizenbock","A Hefeweizen yeast from one of Bavaria’s oldest breweries.\nProduces the traditional clove and banana flavors associated with the style— especially when fermented warm."]
["GigaYeast","GY028","GY028 : BELGIAN WIT",{"$f":"Tableau46[[#This Row],[Fournisseur]]&\" - \"&Tableau46[[#This Row],[Levure]]","v":"GigaYeast - GY028 : BELGIAN WIT"},"76 – 79%",17.8,26.7,"Très Basse",64,80,null,"Belgian Witbier,\nSaison,\nBelgian Ale","Classic Belgian Wit yeast.\nProduces the tart and spicy flavors of a traditional Wit.\nThis yeast is a strong attenuator that leaves a dry, slightly cloudy beer."]
["GigaYeast","GY020","GY020 : PORTLAND HEFE",{"$f":"Tableau46[[#This Row],[Fournisseur]]&\" - \"&Tableau46[[#This Row],[Levure]]","v":"GigaYeast - GY020 : PORTLAND HEFE"},"76 – 80%",17.8,17.8,"Très Basse",64,74,null,"American Wheat Beer,\nWeizenbock,\nDunkelweizen,\nHefeweizen","From the famous American Hefeweizen.\nCreates a delicious cloudy wheat beer with negligible amounts of Banana and clove flavor<"]
["GigaYeast","GB001","GB001 : BRUSSELS BRUXELLENSIS",{"$f":"Tableau46[[#This Row],[Fournisseur]]&\" - \"&Tableau46[[#This Row],[Levure]]","v":"GigaYeast - GB001 : BRUSSELS BRUXELLENSIS"},null,17.8,17.8,null,null,null,null,"Saison,\nBrett Beer,\nSour Beer","Produces classic Brett “Barnyard” characteristics plus some subtle fruity aroma and moderate acidity.\nAdds a tart complexity to any beer."]
["GigaYeast","GB002","GB002 : TART CHERRY BRETT",{"$f":"Tableau46[[#This Row],[Fournisseur]]&\" - \"&Tableau46[[#This Row],[Levure]]","v":"GigaYeast - GB002 : TART CHERRY BRETT"},null,17.8,17.8,null,null,null,null,"Saison,\nSour Beer,\nLambic","Produces some Brett Barnyard funk plus stone fruit and cherry-like esters.\nThis Strain also produces a moderate amount of acid that adds a tart complexity to the brew."]
["GigaYeast","GB110","GB110 : GIGAYEAST LACTO",{"$f":"Tableau46[[#This Row],[Fournisseur]]&\" - \"&Tableau46[[#This Row],[Levure]]","v":"GigaYeast - GB110 : GIGAYEAST LACTO"},null,17.8,17.8,null,null,null,null,"Saison,\nSour Beer,\nLambic","A robust, fast souring lactic acid bacteria.\nProduces a clean tart flavor."]
["GigaYeast","GB121","GB121 : FARMHOUSE SOUR",{"$f":"Tableau46[[#This Row],[Fournisseur]]&\" - \"&Tableau46[[#This Row],[Levure]]","v":"GigaYeast - GB121 : FARMHOUSE SOUR"},null,17.8,17.8,null,null,null,null,"Saison,\nSour Beer,\nLambic","A blend of Belgian ale yeast, Brett and lactic acid bacteria– sweet, sour and a little funky."]
["GigaYeast","GB122","GB122 : BERLINER BLEND",{"$f":"Tableau46[[#This Row],[Fournisseur]]&\" - \"&Tableau46[[#This Row],[Levure]]","v":"GigaYeast - GB122 : BERLINER BLEND"},null,17.8,17.8,null,null,null,null,"Sour Beer,\nGose,\nBerliner Weisse","A blend of neutral ale yeast and lactic acid bacteria.\nUse directly in a primary to make a crisp, sour beer!"]
["GigaYeast","GB123","GB123 : SOUR PLUM BELGIAN",{"$f":"Tableau46[[#This Row],[Fournisseur]]&\" - \"&Tableau46[[#This Row],[Levure]]","v":"GigaYeast - GB123 : SOUR PLUM BELGIAN"},null,17.8,17.8,null,null,null,null,"Saison,\nSour Beer,\nLambic","Belgian ale yeast and lactic acid bacteria.\nCleaner than GB121.\nCreates a beer with stone fruit/plum esters and sour notes."]
["GigaYeast","GB124","GB124 : SAISON SOUR",{"$f":"Tableau46[[#This Row],[Fournisseur]]&\" - \"&Tableau46[[#This Row],[Levure]]","v":"GigaYeast - GB124 : SAISON SOUR"},null,17.8,17.8,null,null,null,null,"Sour Beer,\nSaison,\nWild Specialty Beer,\nFlanders Red Ale,\nOud Bruin,\nLambic,\nGueze,\nFruit Lambic","Sour with fruity esters and black pepper."]
["GigaYeast","GB144","GB144 : SWEET FLEMISH BRETT",{"$f":"Tableau46[[#This Row],[Fournisseur]]&\" - \"&Tableau46[[#This Row],[Levure]]","v":"GigaYeast - GB144 : SWEET FLEMISH BRETT"},null,17.8,17.8,null,null,null,null,"Saison,\nBrett Beer,\nSour Beer","A pure Brettanomyces strain that produces a sweet, fruity nose with just a touch of barnyard and phenolics.\nUse in a primary to make an all brett beer or in the secondary to add character during aging."]
["GigaYeast","GB150","GB150 : SOUR CHERRY FUNK",{"$f":"Tableau46[[#This Row],[Fournisseur]]&\" - \"&Tableau46[[#This Row],[Levure]]","v":"GigaYeast - GB150 : SOUR CHERRY FUNK"},null,17.8,17.8,null,null,null,null,"Saison,\nBrett Beer,\nSour Beer","This blend creates an amazing complex, sour beer with fruity cherry esters."]
["GigaYeast","GB156","GB156 : BRUX BLEND",{"$f":"Tableau46[[#This Row],[Fournisseur]]&\" - \"&Tableau46[[#This Row],[Levure]]","v":"GigaYeast - GB156 : BRUX BLEND"},null,17.8,17.8,null,null,null,null,"Saison,\nSour Beer,\nLambic","A blend of Brettanomyces yeast that produces stone fruit esters and a hint of barnyard.\nCreates a moderate amount of acid that adds a tart complexity to the brew."]
["Imperial Yeast","B64","B64 Napoleon",{"$f":"Tableau46[[#This Row],[Fournisseur]]&\" - \"&Tableau46[[#This Row],[Levure]]","v":"Imperial Yeast - B64 Napoleon"},"77 - 83%",18.3,25.6,"Basse",65,78,null,"Belgian Ales","This yeast is an insane wort attenuator.\nNapoleon will destroy the sugars in your saison and farmhouse beers – even the ones in which most brewer’s strains have no interest.\nWhen all is said and done, Napoleon produces very dry, crisp beers with nice citrus aromas.\nYeast settling times can be long, usually requiring filtration for bright beers."]
["Imperial Yeast","F08","F08 Sour Batch Kidz",{"$f":"Tableau46[[#This Row],[Fournisseur]]&\" - \"&Tableau46[[#This Row],[Levure]]","v":"Imperial Yeast - F08 Sour Batch Kidz"},0.8,20,24.4,"Basse",68,76,null,"Wilds & Sours","Sour Batch Kidz is a blend of a low attenuating Belgian saison yeast, Lactobacillus, and three Brettanomyces yeast strains.\nThis blend is great for emulating lambics, Flanders reds, sour farmhouse ales and any other brew you would like to funk up."]
["Imperial Yeast","W15","W15 Suburban Brett",{"$f":"Tableau46[[#This Row],[Fournisseur]]&\" - \"&Tableau46[[#This Row],[Levure]]","v":"Imperial Yeast - W15 Suburban Brett"},"75 - 80%",17.8,23.3,"Basse",64,74,null,"Wilds & Sours","Suburban Brett is a single Brettanomyces yeast strain that works great as a secondary aging strain.\nIt really shines when used in wood barrels and will produce complex and balanced aromas of sour cherry and dried fruit. \nIt can also be used for as a primary strain for brett only beers"]
["Imperial Yeast","G01","G01 Stefon",{"$f":"Tableau46[[#This Row],[Fournisseur]]&\" - \"&Tableau46[[#This Row],[Levure]]","v":"Imperial Yeast - G01 Stefon"},"73 - 77%",17.2,22.8,"Basse",63,73,null,"German Ales","This is the traditional German strain used to produce world-class Weizen beers where a big banana aroma is required.\nBalanced with mild clove, depending on your wort profile, this strain will produce amazing beers.\nStefon will create a slightly higher level of acidity to give your beer a very crisp finish.\nSlightly underpitching will help increase the banana character."]
["Imperial Yeast","A20","A20 Citrus",{"$f":"Tableau46[[#This Row],[Fournisseur]]&\" - \"&Tableau46[[#This Row],[Levure]]","v":"Imperial Yeast - A20 Citrus"},"74 - 78%",19.399999999999999,26.7,"Basse",67,80,null,"Ales","Citrus cranks out orange and lemon aromas along with some tropical fruit.\nUse this strain at high temps for big ester production.\nA wild saccharomyces strain, it will get a bit funky without the worries of a brettanomyces strain."]
["Imperial Yeast","G02","G02 Kaiser",{"$f":"Tableau46[[#This Row],[Fournisseur]]&\" - \"&Tableau46[[#This Row],[Levure]]","v":"Imperial Yeast - G02 Kaiser"},"73 - 77%",13.3,18.3,"Basse",56,65,null,"German Ales","A traditional alt strain, Kaiser is ready to produce an array of German-style beers.\nIt will keep the beer clean and allow the delicate malt flavors and aromas to shine through.\nCharacteristics of this strain make it a good choice for traditional Berliner Weisse fermentations.\nKaiser is a low flocking strain, so expect long clarification times, but very low diacetyl levels."]
["Imperial Yeast","B63","B63 Monastic",{"$f":"Tableau46[[#This Row],[Fournisseur]]&\" - \"&Tableau46[[#This Row],[Levure]]","v":"Imperial Yeast - B63 Monastic"},"74 - 78%",20,25.6,"Basse - Moyenne",68,78,null,"Belgian Ales","This strain is a beautiful yeast for fermenting abbey ales, especially quads; high alcohol and dark Belgian beers.\nMonastic will produce beers with a high level of phenolic character and esters.\nIt can be slow to begin fermentation but will easily dry out high gravity worts.\nThis strain is a low flocking strain, so expect it to stay suspended for a long time."]
["Imperial Yeast","A07","A07 Flagship",{"$f":"Tableau46[[#This Row],[Fournisseur]]&\" - \"&Tableau46[[#This Row],[Levure]]","v":"Imperial Yeast - A07 Flagship"},"73 - 77%",15.6,22.2,"Basse - Moyenne",60,72,null,"Ales","A craft brewing standard, Flagship is a versatile strain loved for its extremely clean character.\nThis strain performs well at standard ale temperatures but can be used in the low 60s to produce exceptionally crisp ales.\nFlocculation is in the middle of the road and will typically require filtration or fining to achieve crystal clear beers."]
["Imperial Yeast","B44","B44 Whiteout",{"$f":"Tableau46[[#This Row],[Fournisseur]]&\" - \"&Tableau46[[#This Row],[Levure]]","v":"Imperial Yeast - B44 Whiteout"},"72 - 76%",16.7,22.2,"Basse - Moyenne",62,72,null,"Belgian Ales","This is the strain for Belgian Wit style beers.\nWhiteout produces an excellent balance of spicy phenolic character and esters.\nAlong with the necessary aromatics, this strain produces a significant amount of acidity which is perfect for wits and other light colored Belgian ales.\nWhiteout can be flocculent during fermentation, then become non-flocculent at the end.\nThis may lead to slower than normal fermentation."]
["Imperial Yeast","L13","L13 Global",{"$f":"Tableau46[[#This Row],[Fournisseur]]&\" - \"&Tableau46[[#This Row],[Levure]]","v":"Imperial Yeast - L13 Global"},"73 - 77%",7.8,13.3,"Basse - Moyenne",46,56,null,"Lagers","The world’s most popular lager strain is ready for you.\nGlobal is an all-around solid lager strain that produces clean beers with a very low ester profile.\nThis strain is very powdery, so long lagering times or filtration is required for bright beer."]
["Imperial Yeast","A01","A01 House",{"$f":"Tableau46[[#This Row],[Fournisseur]]&\" - \"&Tableau46[[#This Row],[Levure]]","v":"Imperial Yeast - A01 House"},"73 - 75%",16.7,21.1,"Haute",62,70,null,"Ales","The best of both worlds, House is clean and allows malt and hops to shine.\nThis strain is extremely versatile and flocculent enough to drop out of the beer quickly.\nBest used in American IPAs but works well in English style ales.\nHouse is clean at cold temperatures with increased esters as fermentation temperatures increase."]
["Imperial Yeast","A04","A04 Barbarian",{"$f":"Tableau46[[#This Row],[Fournisseur]]&\" - \"&Tableau46[[#This Row],[Levure]]","v":"Imperial Yeast - A04 Barbarian"},"73 - 74%",16.7,21.1,"Moyenne",62,70,null,"Ales","Ready to attack your IPA, Barbarian produces stone fruit esters that work great when paired with citrus hops.\nBarbarian will give you what you need for an exceptionally balanced IPA."]
["Imperial Yeast","B56","B56 Rustic",{"$f":"Tableau46[[#This Row],[Fournisseur]]&\" - \"&Tableau46[[#This Row],[Levure]]","v":"Imperial Yeast - B56 Rustic"},"72 - 76%",20,26.7,"Moyenne",68,80,null,"Belgian Ales","This unique yeast can be used in your saison, farmhouse ale, or other Belgian styles where high ester levels are important.\nRustic typically produces a lot of bubblegum and juicy aromas that compliment complex maltiness."]
["Imperial Yeast","B48","B48 Triple Double",{"$f":"Tableau46[[#This Row],[Fournisseur]]&\" - \"&Tableau46[[#This Row],[Levure]]","v":"Imperial Yeast - B48 Triple Double"},"74 - 78%",18.3,25,"Moyenne",65,77,null,"Belgian Ales","The perfect strain for your classic abbey ales.\nTriple Double produces moderate esters with low to no phenolic characteristics.\nThis strain is tried and true and works perfectly in a production environment.\nKeep an eye on Triple Double, it likes to sit on top of the wort throughout fermentation which may result in a slow fermentation."]
["Imperial Yeast","B51","B51 Workhorse",{"$f":"Tableau46[[#This Row],[Fournisseur]]&\" - \"&Tableau46[[#This Row],[Levure]]","v":"Imperial Yeast - B51 Workhorse"},"72 - 77%",18.3,23.9,"Moyenne",65,75,null,"Belgian Ales","Saison…no problem. Belgian stout, double… yep.\nWorkhorse is the strain to use for a wide variety of brews.\nSuper clean, this fast-attenuating strain has good flocculation characteristics.\nHigh alcohol tolerance makes this a great option for big Belgian beers."]
["Imperial Yeast","A31","A31 Tartan",{"$f":"Tableau46[[#This Row],[Fournisseur]]&\" - \"&Tableau46[[#This Row],[Levure]]","v":"Imperial Yeast - A31 Tartan"},"70 - 75%",18.3,21.1,"Moyenne",65,70,null,"Ales","Tartan is a traditional strain that accentuates the malt character of Scottish ales.\nIt can also be used for other styles and works well in IPAs due to its clean character.\nFor a higher ester profile, use this ale yeast at the top end of the temperature range."]
["Imperial Yeast","A10","A10 Darkness",{"$f":"Tableau46[[#This Row],[Fournisseur]]&\" - \"&Tableau46[[#This Row],[Levure]]","v":"Imperial Yeast - A10 Darkness"},"71 - 75%",16.7,22.2,"Moyenne",62,72,null,"Ales","A beautiful strain for stout, porter, brown, and amber ales.\nDarkness produces a unique character that matches up perfectly with roasted and caramel malts.\nThis strain is alcohol tolerant, so don’t hesitate to throw high gravity worts its way."]
["Imperial Yeast","A15","A15 Independence",{"$f":"Tableau46[[#This Row],[Fournisseur]]&\" - \"&Tableau46[[#This Row],[Levure]]","v":"Imperial Yeast - A15 Independence"},"72 - 76%",15.6,22.2,"Moyenne",60,72,null,"Ales","Independence is the strain for bringing some new character into your hop-driven beers.\nHigher in esters than Flagship, this yeast will give some fruit character that will take your hoppy beers to a new level.\nWhile it shines in pale ales and IPAs, Independence is a great all-around strain and will also work well in stouts and English ales."]
["Imperial Yeast","A24","A24 Dry Hop",{"$f":"Tableau46[[#This Row],[Fournisseur]]&\" - \"&Tableau46[[#This Row],[Levure]]","v":"Imperial Yeast - A24 Dry Hop"},"74 - 78%",17.8,23.3,"Moyenne",64,74,null,"Ales","Dry Hop is a blend of A20 Citrus and A04 Barbarian.\nWhen this blend goes to work on your hoppy beer, the hop aroma blows up.\nThe combination of these strains produces amazing aromas of citrus, peach, and apricot that will accentuate your IPA, pale ale, and any other hop-driven beer."]
["Imperial Yeast","A38","A38 Juice",{"$f":"Tableau46[[#This Row],[Fournisseur]]&\" - \"&Tableau46[[#This Row],[Levure]]","v":"Imperial Yeast - A38 Juice"},"72 - 76%",17.8,23.3,"Moyenne",64,74,null,"Ales","Juicy. Fruity. Juice is an amazing strain for East Coast IPAs.\nThe ester profile of Juice brings out the aromas and flavors of the new school hops and creates a beer that is greater than the sum of its parts.\nKeep an eye on this strain, it likes to move to the top of fermentation and will climb out the fermenter if too full."]
["Imperial Yeast","G03","G03 Dieter",{"$f":"Tableau46[[#This Row],[Fournisseur]]&\" - \"&Tableau46[[#This Row],[Levure]]","v":"Imperial Yeast - G03 Dieter"},"73 - 77%",15.6,20.6,"Moyenne",60,69,null,"German Ales","Dieter is a clean, crisp, traditional German Kölsch strain.\nA very low ester profile makes this strain perfect for Kölsch, Alt and other light colored delicate beers.\nDieter has better flocculation characteristics than most Kölsch strains which allow brewers to produce clean, bright beers in a shorter amount of time."]
["Imperial Yeast","L17","L17 Harvest",{"$f":"Tableau46[[#This Row],[Fournisseur]]&\" - \"&Tableau46[[#This Row],[Levure]]","v":"Imperial Yeast - L17 Harvest"},"70 - 74%",10,15.6,"Moyenne",50,60,null,"Lagers","This strain combines good flocculation characteristics with low sulfur and low diacetyl.\nClean fermentations produce amazing bock, Helles, pilsner, dunkles, and just about any other lager style you throw its way."]
["Imperial Yeast","L28","L28 Urkel",{"$f":"Tableau46[[#This Row],[Fournisseur]]&\" - \"&Tableau46[[#This Row],[Levure]]","v":"Imperial Yeast - L28 Urkel"},"71 - 75%",11.1,14.4,"Moyenne",52,58,null,"Lagers","A traditional Czech lager strain, Urkel allows for a nice balance between hops and malt.\nThis strain can be slightly sulphery during fermentation, but it cleans up during lagering.\nFermentation at the higher end of the range will produce a beer with minimal sulfur and a light ester profile."]
["Imperial Yeast","B45","B45 Gnome",{"$f":"Tableau46[[#This Row],[Fournisseur]]&\" - \"&Tableau46[[#This Row],[Levure]]","v":"Imperial Yeast - B45 Gnome"},"72 - 76%",18.3,23.9,"Moyenne - Haute",65,75,null,"Belgian Ales","Gnome is the yeast for brewing Belgian inspired beers in a hurry.\nThis strain is extremely flocculent and drops out of the beer quickly after fermentation.\nGnome produces a nice phenolic character that goes well with hops, as well as with caramel and toffee flavors.\nGreat for Belgian ales that need to be crystal clear without filtration."]
["Imperial Yeast","A18","A18 Joystick",{"$f":"Tableau46[[#This Row],[Fournisseur]]&\" - \"&Tableau46[[#This Row],[Levure]]","v":"Imperial Yeast - A18 Joystick"},"73 - 77%",15.6,21.1,"Moyenne - Haute",60,70,null,"Ales","This strain is a fast mover and can be used at the low end of the ale fermentation spectrum to keep it clean.\nJoystick is a good choice for big, high alcohol, malty beers but has no issues chomping on a hoppy double IPA."]
["Imperial Yeast","A43","A43 Loki",{"$f":"Tableau46[[#This Row],[Fournisseur]]&\" - \"&Tableau46[[#This Row],[Levure]]","v":"Imperial Yeast - A43 Loki"},"75 - 85%",18.3,37.799999999999997,"Moyenne - Haute",65,100,null,"Ales","A traditional Norwegian Kveik strain that has an extremely wide fermentation temperature range.\nThis strain has been traditionally used in farmhouse style beers however, due to it’s fermentation temp range can be used in a variety of beers from pseudo lagers, Belgian inspired, and hop forward beers.\nOn the cool end of the range Loki is super clean; producing little to no esters.\nAs things warm up, it tends to produce a huge fruit ester profile."]
["Imperial Yeast","L05","L05 Cablecar",{"$f":"Tableau46[[#This Row],[Fournisseur]]&\" - \"&Tableau46[[#This Row],[Levure]]","v":"Imperial Yeast - L05 Cablecar"},"71 - 75%",12.8,18.3,"Moyenne - Haute",55,65,null,"Lagers","This strain is for fermenting your “California Common” beer.\nCablecar can produce clean pseudo lagers at ale temperatures but is also willing to work as a traditional lager strain down to the mid-50s."]
["Imperial Yeast","A09","A09 Pub",{"$f":"Tableau46[[#This Row],[Fournisseur]]&\" - \"&Tableau46[[#This Row],[Levure]]","v":"Imperial Yeast - A09 Pub"},"69 - 74%",17.8,21.1,"Très  Haute",64,70,null,"Ales","Brewers swear by this strain to achieve super bright ales in a short amount of time.\nOne of the most flocculent brewer’s strains around, Pub will rip through fermentation and then drop out of the beer quickly. Pub produces higher levels of esters than most domestic ale strains.\nBe sure to give beers made with Pub a sufficient diacetyl rest."]
["Lallemand",null,"BELLE SAISON Belgian Saison-Style",{"$f":"Tableau46[[#This Row],[Fournisseur]]&\" - \"&Tableau46[[#This Row],[Levure]]","v":"Lallemand - BELLE SAISON Belgian Saison-Style"},"Haute",15,35,"Basse",59,95,15,"Berliner Weiss,\nGose,\nSaison,\n","Belle Saison is a Belgian style ale yeast selected specifically for its ability to create Saison-style beers.\nBelle Saison lets brewers create Saison styles easily and with all the expected characteristics noted for this classic style.\nDesigned for warm temperature fermentation true to traditional production methods, beers brewed with Belle Saison exhibit the \"Farmhouse” flavors and aromas making for fruity, spicy and refreshing beer."]
["Lallemand",null,"WINDSOR British-Style",{"$f":"Tableau46[[#This Row],[Fournisseur]]&\" - \"&Tableau46[[#This Row],[Levure]]","v":"Lallemand - WINDSOR British-Style"},"Moyenne",15,22.2,"Basse",59,72,12,"American Wheat,\nBaltic Porter,\nBlonde Ale,\nBrown Porter,\nCream Ale,\nEnglish Brown Ale,\nEnglish IPA,\nExtra Special  Bitter,\nIrish Red Ale,\nMild,\nOatmeal Stout,\nOld Ale,\nOrdinary Bitter,\nRobust Porter,\nScottish Ale,\nSpecial/Best Bitter,\nSweet Stout","Windsor ale yeast is a true English strain that produces a beer which is estery to both palate and nose with a slight fresh yeasty flavor. Beers created with Windsor are usually described as full-bodied, fruity English ales.\nBrewers choose Windsor to produce beers that range from pale ale to porter with moderate alcohol levels and the flavor and aroma characteristics of the best traditional ales.\nWindsor does not utilize the sugar maltotriose (a molecule composed of 3 glucose units). Maltotriose is present in wort in an average 10-15% of all malt worts.\nThe result will be fuller body and residual sweetness in beer. Be advised to adjust mash temperatures according to desired result."]
["Lallemand",null,"MUNICH CLASSIC",{"$f":"Tableau46[[#This Row],[Fournisseur]]&\" - \"&Tableau46[[#This Row],[Levure]]","v":"Lallemand - MUNICH CLASSIC"},"Moyenne - Haute",17.2,22.2,"Basse",63,72,12,"Dunkel Weizen,\nGose,\nWeizen/WeissBier,\nWeizenbock","Munich Classic is a Bavarian wheat beer strain that can easily express the spicy and estery aroma profile typical to German wheat beer styles.\nThis strain is simple to use over a wide range of recipe variations and fermentation conditions, making it a great choice for a number of traditional styles of wheat beer.\nIn classic open fermentation vessels, the yeast can be skimmed off the top in the traditional manner. "]
["Lallemand",null,"MUNICH Wheat",{"$f":"Tableau46[[#This Row],[Fournisseur]]&\" - \"&Tableau46[[#This Row],[Levure]]","v":"Lallemand - MUNICH Wheat"},"Moyenne - Haute",17.2,22.2,"Basse",63,72,12,"American Wheat,\nBerliner Weiss,\nDunkel Weizen,\nGose,\nRoggenbier,\nWeizen/WeissBier,\nWeizenbock,\nWitbier","Munich Wheat Beer yeast originated in Bavaria, German and is a neutral strain which can be used to produce a wide variety of wheat-based beer styles.\nWith only slight esters and phenol production, Munich’s allows brewers to showcase other spice additions"]
["Lallemand",null,"LONDON ESB Beer",{"$f":"Tableau46[[#This Row],[Fournisseur]]&\" - \"&Tableau46[[#This Row],[Levure]]","v":"Lallemand - LONDON ESB Beer"},"Moyenne",18.3,22.2,"Basse",65,72,12,"American Pale Ale,\nBaltic Porter,\nBrown Porter,\nCream Ale,\nEnglish Brown Ale,\nEnglish IPA,\nExtra Special Bitter,\nIrish Red Ale,\nMild,\nOatmeal Stout,\nOld Ale,\nOrdinary Bitter,\nRobust Porter,\nScottish Ale,\nSpecial/Best Bitter,\nSweet Stout","London ESB is a true English ale strain selected for reliable fermentation performance and moderate ester production that lets the delicacies of the malt and hop aromas shine through.\nLondon ESB was selected from the Lallemand yeast culture library, and is a brilliant choice not only for brewing Extra Special Bitter but for other authentic heritage UK styles.\nLondon ESB may also be used in the production of Ciders. London ESB does not utilize the sugar maltotriose (a molecule composed of 3\nglucose units). Maltotriose is present in wort in an average 10-15% of all malt worts.\nThe result will be fuller body and residual sweetness in beer.\nBe advised to adjust mash temperatures according to desired result."]
["Lallemand",null,"NOTTINGHAM High-Performance Ale",{"$f":"Tableau46[[#This Row],[Fournisseur]]&\" - \"&Tableau46[[#This Row],[Levure]]","v":"Lallemand - NOTTINGHAM High-Performance Ale"},"Haute",10,22.2,"Haute",50,72,14,"American Amber Ale,\nAmerican Barleywine,\nAmerican Brown Ale,\nAmerican Ipa,\nAmerican Pale Ale,\nAmerican Stout,\nAmerican Wheat,\nBaltic Porter,\nBelgian Blonde Ale,\nBelgian Dark Strong,\nBelgian Golden Strong Ale,\nBelgian Pale Ale,\nBlonde Ale,\nBohemian Pilsner,\nBrown Porter,\nCalifornia Common,\nClassic American Pilsner,\nCream Ale,\nDark American Lager,\nDoppelbock,\nDortmunder Export,\nDry Stout,\nDüsseldorf Altbier,\nEisbock,\nEnglish Barleywine,\nEnglish Brown Ale,\nEnglish Ipa,\nExtra Special Bitter,\nForeign Extra Stout,\nGerman Pilsner,\nImperial Ipa,\nIrish Red Ale,\nKölsch,\nMaibock/Helles Bock,\nMild,\nMunich Dunkel,\nMunich Helles,\nOatmeal Stout,\nOktoberfest/Märzen,\nOld Ale,\nOrdinary Bitter,\nRobust Porter,\nRoggenbier,\nRussian Imperial Stout,\nSchwarzbier,\nScottish Ale,\nSession Ipa,\nSpecial/Best Bitter,\nStrong Scotch Ale,\nSweet Stout,\nTraditional Bock,\nVienna Lager,\nWeizenbock,\nWitbier","Nottingham is an English style ale yeast selected for its high performance ability and versatility. Furthermore, this highly adaptable yeast strain allows for tremendous creativity when brewing beers out of the regular spectrum.\nNottingham can also be used in the production of cider.\nAt lower temperature it is possible to ferment lager-style beers in all-malt wort within 9 days"]
["Lallemand",null,"DIAMOND Lager",{"$f":"Tableau46[[#This Row],[Fournisseur]]&\" - \"&Tableau46[[#This Row],[Levure]]","v":"Lallemand - DIAMOND Lager"},"Haute",10,15,"Haute",50,59,13,"Bohemian Lager,\nCalifornia Common,\nClassic American Pilsner,\nDark American Lager,\nDoppelbock,\nDortmunder Export,\nEistbock,\nGerman Pilsner,\nMaibock/Helles Bock,\nMunich Dunkel,\nMunich Helles,\nOktoberfest/Märzen,\nSchwarzbier,\nTraditional Bock,\nWeizen Lager","Diamond Lager yeast is a true lager strain originating in Germany.\nChosen for its robust character, Diamond Lager yeast delivers excellent fermentation performance, and has the ability to produce clean, authentic lagers. "]
["Lallemand",null,"BRY-97 American West Coast Ale",{"$f":"Tableau46[[#This Row],[Fournisseur]]&\" - \"&Tableau46[[#This Row],[Levure]]","v":"Lallemand - BRY-97 American West Coast Ale"},"Moyenne - Haute",15,22.2,"Haute",59,72,13,"American Amber Ale,\nAmerican BarleyWine,\nAmerican Brown Ale,\nAmerican IPA,\nAmerican Pale Ale,\nAmerican Stout,\nAmerican Wheat,\nBelgian Blond Ale,\nBlond Ale,\nCream Ale,\nDry Stout,\nDüsserldorf Altbier,\nExtra Special Bitter,\nForeign Extra Stout,\nImperial IPA,\nIrish Red Ale,\nKölsch,\nOatmeal Stout,\nOld Ale,\nRoggenbier,\nRussian Imperial Stout,\nScottish Ale,\nSession IPA,\nStrong Scottish Ale","BRY-97 is an American West Coast Style ale yeast that was selected from the Siebel Institute Culture Collection for its ability to deliver high quality ales.\nBRY-97 is a neutral strain with a high flocculation ability that can be used to make a wide variety of American style beers. "]
["Lallemand",null,"ABBAYE Belgian-style Ale",{"$f":"Tableau46[[#This Row],[Fournisseur]]&\" - \"&Tableau46[[#This Row],[Levure]]","v":"Lallemand - ABBAYE Belgian-style Ale"},"Moyenne - Haute",17.2,25,"Haute",63,77,14,"Belgian Blond Ale,\nBelgian Dark Strong,\nBelgian Dubbel,\nBelgian Golden Strong Ale,\nBelgian Pale Ale,\nBelgian Quad,\nBelgian Tripel,\nBière de Garde,\nWitbier","Abbaye is an Ale yeast of Belgian origin.\nSelected for its ability to ferment Belgian style beers ranging from low to high alcohol, Abbaye produces the spiciness and fruitiness typical of Belgian and Trappist style ales.\nWhen fermented at higher temperatures, typical flavors and aromas include tropical, spicy and banana.\nAt lower temperatures Abbaye produces darker fruit aromas and flavors of raisin, date and fig."]
["Lallemand",null,"LalBrew™ New England East Coast Ale",{"$f":"Tableau46[[#This Row],[Fournisseur]]&\" - \"&Tableau46[[#This Row],[Levure]]","v":"Lallemand - LalBrew™ New England East Coast Ale"},"Moyenne - Haute",15,22.2,"Moyenne",59,72,9,"American Wheat,\nBlonde Ale,\nBrown Porter,\nCream Ale,\nEnglish Brown Ale,\nEnglish Ipa,\nExtra Special Bitter,\nIrish Red Ale,\nMild,\nOrdinary Bitter,\nSpecial/Best Bitter;\nSweet Stout","LalBrewTM New England is an ale strain selected specifically for its fermentative consistency and ability to produce a unique fruit-forward ester profile desired in East Coast styles of beer.\nTypical fermentation with LalBrewTM New England will produce tropical and fruity esters, notably stone fruits like peach."]
["Lallemand",null,"WildBrew™ Sour Pitch",{"$f":"Tableau46[[#This Row],[Fournisseur]]&\" - \"&Tableau46[[#This Row],[Levure]]","v":"Lallemand - WildBrew™ Sour Pitch"},null,30,40,null,86,104,null,"Berliner Weiss,\nGose,\nKettle Sours,\nSaison","WildBrew™ Sour Pitch is a high-performance, high-purity lactic acid bacteria specifically selected for its ability to consistently produce a wide range of sour beer styles.\nWildBrew™ Sour Pitch produces a clean and balanced citrus flavor profile typical of both traditional and modern sour beer styles.\nWhen inoculated at optimal temperature and the right conditions, it is a powerful, safe and easy way to handle bacteria for various beer souring techniques, such as a typical kettle souring process."]
["Mangrove Jack","M02","Cider M02",{"$f":"Tableau46[[#This Row],[Fournisseur]]&\" - \"&Tableau46[[#This Row],[Levure]]","v":"Mangrove Jack - Cider M02"},"95 – 100 %",12.2,27.8,"Haute",54,82,null,"Cider","Suitable for brewing all types of cider\n\nA high ester-producing cider strain imparting wonderful flavor depth, revealing the full fruit potential.\nMakes exceptionally crisp, flavorsome and refreshing ciders.\n\nAROMA CHARACTERISTICS:\nThis strain promotes fruity aromas through high ester production, especially at warmer temperatures.\n\nFLAVOR/MOUTHFEEL CHARACTERISTICS:\nCiders fermented with this strain will finish dry and be relatively full-bodied with exceptional depth and a full-flavored fruit character.\n\nHIGHER ALCOHOL BEERS:\nThis strain has high alcohol tolerance up to >12% ABV. "]
["Mangrove Jack","M42","New World Strong Ale M42",{"$f":"Tableau46[[#This Row],[Fournisseur]]&\" - \"&Tableau46[[#This Row],[Levure]]","v":"Mangrove Jack - New World Strong Ale M42"},"77 – 82 %",16.100000000000001,22.2,"Haute",61,72,null,"Golden Ale,\nEnglish Pale Ale,\nOrdinary Bitter,\nBest Bitter,\nESB,\nScottish Heavy 70,\nScottish Export 80,\nStrong Scotch Ale,\nAmerican Pale,\nAmerican Amber Ale,\nAmerican Brown Ale,\nMild,\nBrown Ale,\nRobust Porter,\nDry Stout,\nOatmeal Stout,\nAmerican Stout,\nRussian Imperial Stout,\nEnglish IPA,\nOld Ale,\nEnglish Barley Wine,\nIrish Red Ale,\nBrown Porter,\nBaltic Porter,\nSweet Stout,\nForeign Extra Stout,\nScottish 60\n","Suitable for IPAs, Porters, Russian Imperial Stouts and more\n\nA top-fermenting ale strain suitable for many types of ales of all strengths.\nFerments with a neutral yeast aroma to ensure the full character of the malts and hops are prominent in each beer.\n\nAROMA CHARACTERISTICS:\nHops and malt aromas are enhanced and will tend toward earthy, nutty, orange peel, and mild spice.\nEsters will be nearly absent in normal strength beers fermented cool; below 68°F (20°C).\n\nFLAVOR/MOUTHFEEL CHARACTERISTICS:\nBeers fermented with this strain will finish dry, and very light beers will not be thin or watery. \nAcidity will be low, and mouth feel will be light and soft on the palate with a smooth non astringent texture.\nAs this strain is highly flocculent and resilient and not prone to autolysis, it is excellent for cask or bottle conditioning.\n\nHIGHER ALCOHOL BEERS:\nEster formation will be slightly elevated in higher alcohol beers.\nThe character of the esters will be pleasant with ripe apple and pear dominating, along with faint banana.\nBeer will be dry, but a perception of malt sweetness will survive in the aftertaste along with malt character and complexity.\nAlcohol should be warming, not hot."]
["Mangrove Jack","M29","French Saison Ale M29",{"$f":"Tableau46[[#This Row],[Fournisseur]]&\" - \"&Tableau46[[#This Row],[Levure]]","v":"Mangrove Jack - French Saison Ale M29"},"85 – 90 %",26.1,32.200000000000003,"Moyenne",79,90,14,"Belgian Specialty,\nCristmass Beers,\nSpecialty Beers,\nSpiced Ales,\nSaison","Suitable for producing Saisons and M29 farmhouse style beers up to 14% ABV.\n\nFrench Saison yeast is an exceptional, highly attenuative top-fermenting ale yeast, creating distinctive beers with spicy, fruity and peppery notes. Ideal for fermentation of farmhouse style beer. \n\nAROMA CHARACTERISTICS:\nThis French Saison ale yeast strain brings all the sophistication and complexity of classic Saison ale production to the home brew and small brewery setting. Spicy and peppery characteristics are prominent with an undertone of the ubiquitous fruity Character.\n\nFLAVOR/MOUTHFEEL CHARACTERISTICS:\nThis is a highly characterful yeast strain that will dominate all but the highest hopping rates and complex malt bills. Beers fermented with this yeast will tend to be dry in the finish often with a slight drying acidity and peppery notes, aiding drinkability at higher alcohol levels. Higher alcohol beers may have an increased ester production and warming alcohol notes.\n\nHIGHER ALCOHOL BEERS:\nThis yeast strain will perform exceptionally well up to 14% ABV making it suitable for a large range of Saisons."]
["Mangrove Jack","M41","Belgian Ale M41",{"$f":"Tableau46[[#This Row],[Fournisseur]]&\" - \"&Tableau46[[#This Row],[Levure]]","v":"Mangrove Jack - Belgian Ale M41"},"82 – 88 %",17.8,27.8,"Moyenne",64,82,null,"Belgian Pale Ale,\nTrappist Ale,\nAbbey Ale,\nBelgian Specialty,\nBelgian Dubbel,\nBelgian Tripel,\nBelgian Golden Strong Ale,\nBelgian Dark Strong Ale,\nChristmass Beers,\nSpecialty Beers,\nSpiced Ales,\n","Suitable for Belgian Strong Golden and Belgian Strong Dark Ales.\n\nSpicy and phenolic, this yeast emulates the intensity and complexity of some of the best monastic breweries in Belgium, high attenuation and alcohol tolerance allows you to brew a huge range of Belgian beers.\n\nAROMA CHARACTERISTICS:\nThis yeast develops ripe fruit especially plum like esters during fermentation and are prominent in the finished beer, it will also show a lightly balanced phenolic character.\n\nFLAVOR/MOUTHFEEL CHARACTERISTICS:\nBeer fermented with this yeast exhibit excellent classic Belgian ale flavor, clove hints with a multitude of fruit esters, alcohol and banana character.\n\nHIGHER ALCOHOL BEERS:\nHigh alcohol beers are this strains bread and butter, with a high alcohol tolerance strong beers just create excellent flavor and aroma characteristics."]
["Mangrove Jack","M44","US West Coast M44",{"$f":"Tableau46[[#This Row],[Fournisseur]]&\" - \"&Tableau46[[#This Row],[Levure]]","v":"Mangrove Jack - US West Coast M44"},"77 – 85 %",17.8,22.8,"Moyenne",64,73,null,"American Pale Ale,\nAmerican Amber Ale,\nAmerican Brown Ale,\nAmerican Stout,\nRussian Imperial Stout,\nUS IPA,\nImperial IPA,\nAmerican Wheat or Rye Beer","Suitable for American Style Pale Ales, American Double IPAs, American Style Imperial Stouts and more.\n\nA top-fermenting ale strain suitable for American style ales.\nThis yeast produces an exceptionally clean flavor, ideal for when you want the hop character to really punch through.\n\nA very neutral strain even when fermented in higher gravity worts and warmer temperatures.\nTangy citrus and pine hops aromas will be enhanced, as well as toasted and dark malt aromas..\n\nFLAVOR/MOUTHFEEL CHARACTERISTICS:\nBeers fermented with this strain will finish dry and crisp.\nThis strain is at its best in hop prominent American style ales. \nVery light ales may turn out a bit stripped, thin or astringent if care is not taken with the mash temperature and avoiding over-extraction.\nAcidity is moderately high, boosting hop flavors and creating a clipped finish.\n\nHIGHER ALCOHOL BEERS:\nRemaining very neutral, this strain excels in strong ales with simple malt bills.\nAlcohol will be a dominant flavor and aroma constituent, and may be quite warming but not harsh."]
["Mangrove Jack","M15","Empire Ale M15",{"$f":"Tableau46[[#This Row],[Fournisseur]]&\" - \"&Tableau46[[#This Row],[Levure]]","v":"Mangrove Jack - Empire Ale M15"},"70 – 75 %",17.8,22.2,"Moyenne",64,72,null,"Golden Ale,\nEnglish Pale Ale,\nOrdinary Bitter,\nBest Bitter,\nESB,\nScottish Heavy 70,\nScottish Export 80,\nStrong Scotch Ale,\nAmerican Pale,\nAmerican Amber Ale,\nAmerican Brown Ale,\nMild,\nBrown Ale,\nOatmeal Stout,\nOld Ale,\nIrish Red Ale,\nBrown Porter,\nSweet Stout,\nScottish 60\n","Suitable for Scottish Heavy Ales, American Amber Ales, Sweet Stouts and more. \n\nA top-fermenting ale yeast suitable for a variety of full bodied ales, with exceptional depth. Ferments with full, rich dark fruit flavors. \n\nAROMA CHARACTERISTICS:\nWhen fermented at the correct temperature, Empire Ale yeast exhibits extremely characterful and appetizing estery aromas reminiscent of rich dark fruit.\n\nFLAVOR/MOUTHFEEL CHARACTERISTICS:\nThis yeast strain has been carefully selected to aid mouth feel in the finished beer. Body should be full leaning towards a rich dark fruit character. Care must be taken when designing the beer to adjust hop bitterness to alleviate an over sweet finished beer.\n\nHIGHER ALCOHOL BEERS:\nHigher alcohol beers will tend to be slightly too sweet and heavy due to the moderate attenuative capabilities of the strain although a lower mash temperature may help the fermentability and lower the final gravity. "]
["Mangrove Jack","M76","Bavarian Lager M76",{"$f":"Tableau46[[#This Row],[Fournisseur]]&\" - \"&Tableau46[[#This Row],[Levure]]","v":"Mangrove Jack - Bavarian Lager M76"},"75 – 80 %",7.2,13.9,"Moyenne",45,57,null,"Baltic Porter,\nLight American Lager,\nPremium American Lager,\nMunich Helles,\nDortmunder Export,\nGerman Pilsner,\nBohemian Pilsner,\nVienna Lager,\nOktoberfest,\nMunich Dunkel,\nSchwarzbier,\nMaibock,\nBock,\nBock,\nDoppelBock,\nRauchbier,\nOther moked Beer,\nStandard American Lager,\nClassic American Pilsner,\nDark American Lager,\nCream Ale","Suitable for many European style beers including Lagers, Pilsners, Helles, Munich Dunkel, Rauchbier and more.\n\nA bottom-fermenting yeast suitable for most lager styles.\nPromotes less sulphur production than other lager strains, as well as a fuller, more rounded malt character with well-promoted hop flavors.\n\nAROMA CHARACTERISTICS: A superlative lager strain that is robust with a light sulphur aroma, expresses hop character well and promotes malt complexity.\n\nFLAVOR/MOUTHFEEL CHARACTERISTICS: Lightly acidic this yeast creates an extremely drinkable lager with less sulphur character than the usual strains.\n\nHIGHER ALCOHOL BEERS: This yeast does well at higher gravities having a good attenuation range; high alcohol beers do not tend to be too sweet."]
["Mangrove Jack","M20","Bavarian Wheat M20",{"$f":"Tableau46[[#This Row],[Fournisseur]]&\" - \"&Tableau46[[#This Row],[Levure]]","v":"Mangrove Jack - Bavarian Wheat M20"},"70 – 75 %",17.8,30,"Moyenne – Basse",64,86,null,"Roggenbier,\nWeizen,\nKristalWeizen,\nDunkel Weizen,\nWeizen Bock,\nAmerican Wheat or Rye Beer","Suitable for Hefeweizen, Kristal M20 Weizen, Dunkel Weizen and more.\n\nA top-fermenting wheat beer yeast which imparts banana and clove esters balanced with spiced aromas.\nThis yeast produces a silky mouthfeel and rich body.\n\nAROMA CHARACTERISTICS:\nIt has abundant classic banana esters, balanced with clove like phenolic aromas; these aromas tend to overwhelm any malt or hop character in the beer.\n\nFLAVOR/MOUTHFEEL CHARACTERISTICS:\nWhile this strain has only a moderate tendency to attenuate, the final beer will not be sweet. Instead, it will have a creamy, silky mouthfeel with a full and rich medium body.\nThis strain strips away most caramel and complex malt flavors, while deep roast and chocolate flavors will come through. The slight acidity produced, greatly enhances wheat\nmalt characteristics. It has a very low flocculation rate that makes it ideal for beers that are traditionally served cloudy.\n\nHIGHER ALCOHOL BEERS:\nIn higher alcohol beers, the phenolic character presented by this strain becomes a bit smokey and esters burst forth. Low attenuation rate may result in a sweet beer.\n"]
["Mangrove Jack","M31","Belgian Tripel M31",{"$f":"Tableau46[[#This Row],[Fournisseur]]&\" - \"&Tableau46[[#This Row],[Levure]]","v":"Mangrove Jack - Belgian Tripel M31"},"82 – 88 %",17.8,27.8,"Moyenne – Basse",64,82,null,"Belgian Pale Ale,\nTrappist Ale,\nAbbey Ale,\nGrand Cru,\nBelgian Specialty,\nBelgian Blond Alle,\nBelgian Dubbel,\nBelgian Tripel,\nBelgian Golden Strong Ale,\nBelgian Dark Strong Ale,\nChristmass Beers,\nSpecialty Beers,\nSpiced Ales","Provides a fantastic complex marriage of spice, fruity esters, phenolics and alcohol. It is also very attenuative with a high alcohol tolerance making it perfect for a range of Belgian styles.\n\nAROMA CHARACTERISTICS:\nBelgian Tripel has a fantastic heavily fruity aroma, married perfectly with light spice and esters it is massively complex, spicy, estery and phenolic.\n\nFLAVOR/MOUTHFEEL CHARACTERISTICS:\nBelgian beers fermented with this strain will finish phenolic and dry, they will also exhibit fruity and very complex ester characters. These characters exhibit a beautiful marriage of spice and fruit estery alcohol goodness.\n\nHIGHER ALCOHOL BEERS:\nHigh alcohol beers are this strain’s bread and butter, with a high alcohol tolerance, strong beers just create excellent flavor and aroma characteristics"]
["Mangrove Jack","M21","Belgian Wit M21",{"$f":"Tableau46[[#This Row],[Fournisseur]]&\" - \"&Tableau46[[#This Row],[Levure]]","v":"Mangrove Jack - Belgian Wit M21"},"70 – 75 %",17.8,25,"Moyenne – Basse",64,77,null,"Witbier,\nGrand Cru,\nChristmas Beers,\nSpecialty Beers,\nSpiced Ales","Suitable for Witbier, Grand Cru, Spiced Ales and other specialty beers.\n\nA traditional, top-fermenting yeast that has a good balance between fruity esters, and warming spice phenolics.\nThe yeast will leave some sweetness, and will drop bright if left long enough.\n\nAROMA CHARACTERISTICS:\nBelgian Wit yeast presents a very light spice with a hint of bubble-gum character, this yeast works exceptionally well with botanics.\n\nFLAVOR/MOUTHFEEL CHARACTERISTICS:\nThis yeast has a slightly suppressed Belgian character presenting as phenolic and dry, fruity and very complex character.\nThe mouthfeel is smooth, light, dry and crisp.\n\nHIGHER ALCOHOL BEERS:\nWith a medium attenuation this strain will struggle with extremely high alcohol beers and may become stressed."]
["Mangrove Jack","M05","Mead M05",{"$f":"Tableau46[[#This Row],[Fournisseur]]&\" - \"&Tableau46[[#This Row],[Levure]]","v":"Mangrove Jack - Mead M05"},"95 – 100 %",15,30,"Moyenne – Haute",59,86,null,"Mead","Suitable for all styles of mead.\n\nA high ester-producing strain conferring fresh, floral esters, especially when fermented cool. \nThis yeast has high alcohol tolerance and ferments well over a wide temperature range. \n\nAROMA CHARACTERISTICS:\nThis strain promotes fresh, floral aromas through high ester production, especially at cooler temperatures.\n\nFLAVOR/MOUTHFEEL CHARACTERISTICS:\nMeads fermented with this strain will finish dry and be relatively full-bodied with good complexity and a fresh, floral character.\n\nHIGHER ALCOHOL BEERS:\nThis strain has high alcohol tolerance up to 18% ABV.\nFor higher alcohol meads, ferment cooler; below 77°F (25°C)."]
["Mangrove Jack","M47","Belgian Abbey M47",{"$f":"Tableau46[[#This Row],[Fournisseur]]&\" - \"&Tableau46[[#This Row],[Levure]]","v":"Mangrove Jack - Belgian Abbey M47"},"73 – 77 %",17.8,25,"Moyenne – Haute",64,77,null,"Belgian Pale Ale,\nAbbey Ale,\nGrand Cru,\nBelgian Specialty,\nBelgian Blond Ale,\nBelgian Dubbel,\nBelgian Golden Strong Ale","Suitable for Belgian Pale Ales and Abbey Ales.\n\nModerately alcohol tolerant with fewer phenols than Belgian Ale, this yeast is exceptionally fruity with hugely complex esters and is highly flocculant.\n\n"]
["Mangrove Jack","M36","Liberty Bell Ale M36",{"$f":"Tableau46[[#This Row],[Fournisseur]]&\" - \"&Tableau46[[#This Row],[Levure]]","v":"Mangrove Jack - Liberty Bell Ale M36"},"74 – 78 %",17.8,22.8,"Moyenne – Haute",64,73,null,"Golden Ale,\nEnglish Pale Ale,\nOrdinary Bitter,\nBest Bitter,\nESB,\nScottish Heavy 70,\nScottish Export 80,\nStrong Scotch Ale,\nAmerican Pale,\nAmerican Amber Ale,\nAmerican Brown Ale,\nMild,\nBrown Ale,\nRobust Porter,\nDry Stout,\nOatmeal Stout,\nAmerican Stout,\nRussian Imperial Stout,\nEnglish IPA,\nUS IPA,\nOld Ale,\nEnglish Barley Wine,\nIrish Red Ale,\nBrown Porter,\nSweet Stout,\nScottish 60\n","\"Suitable for both English and American Pale Ales, Extra Special Bitters, Golden Ales and more.\n\nA top-fermenting ale yeast suitable for a wide variety of hoppy and distinctive style beers.\nThis strain produces light, delicate fruity esters and helps develop malt character.\n\nAROMA CHARACTERISTICS:\nSome pear esters, possibly strawberry or kiwi-like aromas can be expected.\nClean, delicate malt and hop aromas will survive fermentation.\nIf hop and/or malt aromas are prominent in the beer this strain’s aroma characteristics will fade to the background.\n\nFLAVOR/MOUTHFEEL CHARACTERISTICS:\nClean, mostly neutral and smooth, finishes beers moderately dry but does not strip away body. Silky, lightly smooth texture, light to medium body, mild acidit and mostly neutral flavor.\nAroma contributions from this yeast strain makes it a good all-rounder for a wide range of ales.\n\nHIGHER ALCOHOL BEERS:\nAs a very good strain for strong ales, this yeast provides brews with plenty of body, without being heavy or dense.\""]
["Mangrove Jack","M54","Californian Lager M54",{"$f":"Tableau46[[#This Row],[Fournisseur]]&\" - \"&Tableau46[[#This Row],[Levure]]","v":"Mangrove Jack - Californian Lager M54"},"77 – 82 %",17.8,20,"Moyenne – Haute",64,68,null,"Light American Lager,\nPremium American Lager,\nMunich Helles,\nDortmunder Export,\nGerman Pilsner,\nBohemian Pilsner,\nVienna Lager,\nOktoberfest,\nMunich Dunkel,\nSchwarzbier,\nMaibock,\nBock,\nBock,\nDoppelBock,\nRauchbier,\nOther moked Beer,\nStandard American Lager,\nClassic American Pilsner,\nDark American Lager,\nCreamCalifornia Common,\nAmerican Wheat or Rye Beer","Suitable for California Common and lagers M54 fermented at ambient (ale) temperatures.\n\nAROMA CHARACTERISTICS:\nCalifornia lager yeast produces a clean lager aroma without the associated sulphur this yeast is perfect for most kinds of lager.\n\nFLAVOR/MOUTHFEEL CHARACTERISTICS:\nCalifornia lager yeast produces clean and crisp lagers, this yeast is excellent for producing anything from a hoppy pilsner to a helles allowing excellent malt and hop character to be expressed.\n\nHIGHER ALCOHOL BEERS:\nWith a medium alcohol tolerance this yeast is not designed for fermenting over 8.5%"]
["Mangrove Jack","M84","Bohemian Lager M84",{"$f":"Tableau46[[#This Row],[Fournisseur]]&\" - \"&Tableau46[[#This Row],[Levure]]","v":"Mangrove Jack - Bohemian Lager M84"},"72 - 76 %",10,15,"Moyenne – Haute",50,59,null,"Baltic Porter,\nLight American Lager,\nPremium American Lager,\nMunich Helles,\nDortmunder Export,\nGerman Pilsner,\nBohemian Pilsner,\nVienna Lager,\nOktoberfest,\nMunich Dunkel,\nSchwarzbier,\nMaibock,\nBock,\nBock,\nDoppelBock,\nRauchbier,\nOther moked Beer,\nStandard American Lager,\nClassic American Pilsner,\nDark American Lager,\nCream Ale","Suitable for German/Bohemian Pilsners, M21 Baltic Porter, and American style Lagers.\n\nA bottom-fermenting lager yeast characterized by its dry and clean palate typical of traditional Czech brewing.\nProduces soft, delicate and well balanced beers. \n\nAROMA CHARACTERISTICS:\nClassic Bohemian pilsner strain aroma and flavor characteristics can be expected.\n\nFLAVOR/MOUTHFEEL CHARACTERISTICS:\nHop and malt character will be enhanced and supported by moderate to full body.\nIn wort with simple malt bills, delicate malt flavors will survive.\nBeer fermented with this strain is generally rich and chewy without being heavy at all.\nLight and delicately balanced beers call for this strain.\nLagering periods as short as 4 weeks may produce acceptable beer but allowing it to lager for 6-8 weeks, it will result in beer that is richer and smoother with a more refined aroma and flavor.\n\nHIGHER ALCOHOL BEERS:\nThis strain will perform reasonably well in higher alcohol beer production up to 8% alcohol.\nBeer of over 7% alcohol will be slightly sweet, and the alcohol may be slightly hot"]
["The Yeast Bay",null,"METSCHNIKOWIA REUKAUFII",{"$f":"Tableau46[[#This Row],[Fournisseur]]&\" - \"&Tableau46[[#This Row],[Levure]]","v":"The Yeast Bay - METSCHNIKOWIA REUKAUFII"},"20 - 25%",15.6,32.200000000000003,"Basse",60,90,"TBD","Beta","M. reukaufii is a nectar specialist that was isolated from flowers in the Berkeley Hills of California\nEvolutionarily, these yeast likely evolved to produce a more odorous and attractive nectar for pollinators by enzymatically altering otherwise inodorous nectar compounds like glycosides.\nWhile only attenuating to 20-25% in brewer’s wort and not utilizing maltose or maltose polymers, in co-fermentations it has been shown to drop gravity and pH of the fermentation faster, accentuate and modulate the flavor and aroma profile and soften the perceived bitterness of the finished product.\nThis strain MUST be used in conjunction with other yeast that can ferment brewer’s wort (capable of fermenting maltose)."]
["The Yeast Bay",null,"AMALGAMATION I\nBRETTANOMYCES BLEND",{"$f":"Tableau46[[#This Row],[Fournisseur]]&\" - \"&Tableau46[[#This Row],[Levure]]","v":"The Yeast Bay - AMALGAMATION I\nBRETTANOMYCES BLEND"},0.85,21.1,26.7,"Basse",70,80,"High","Brettanomyces","Amalgamation is the union of our six favorite Brettanomyces isolates from our microbe library.\nEach isolate produces a unique bouquet of bright and fruity flavors and aromas, and the combination of all of them into one blend results in the coalescence of these unique flavors and aromas into something truly special.\nExpect this blend to create a dry beer with a bright and complex fruitforward flavor and aroma of berries and citrus, accompanied b y some funk on the palate."]
["The Yeast Bay",null,"AMALGAMATION II\nBRETTANOMYCES BLEND",{"$f":"Tableau46[[#This Row],[Fournisseur]]&\" - \"&Tableau46[[#This Row],[Levure]]","v":"The Yeast Bay - AMALGAMATION II\nBRETTANOMYCES BLEND"},"82 - 86%",21.1,26.7,"Basse",70,80,"High","Brettanomyces","The second installment of our \"Brett Super Blend\", Amalgamation II is a blend of 5 Brettanomyces bruxellensis isolates.\nThis culture is the coalescence of all of the great qualities of each isolate: The balanced funk of the Beersel isolates and TYB184, the sweet tart character of TYB207, and the tropical bouquet of lemon/pineapple/guava/mango/papaya esters contributed by TYB261."]
["The Yeast Bay",null,"BEERSEL BRETTANOMYCES\nBLEND",{"$f":"Tableau46[[#This Row],[Fournisseur]]&\" - \"&Tableau46[[#This Row],[Levure]]","v":"The Yeast Bay - BEERSEL BRETTANOMYCES\nBLEND"},"82 - 85%",21.1,26.7,"Basse",70,80,"High","Brettanomyces","This blend combines Brettanomyces strains isolated from a lambic produced in the Beersel area in the Belgian province of Flemish Brabant. All of the strains in this blend provide a balanced profile of fruitiness, funkiness and a crisp tartness. This blend tends to be a quick starter and forms a nice pellicle."]
["The Yeast Bay","TYB307","BRETTANOMYCES BRUXELLENSIS\nSTRAIN TYB307",{"$f":"Tableau46[[#This Row],[Fournisseur]]&\" - \"&Tableau46[[#This Row],[Levure]]","v":"The Yeast Bay - BRETTANOMYCES BRUXELLENSIS\nSTRAIN TYB307"},"80 - 84%",21.1,26.7,"Basse",70,80,"High","Beta","This isolate is a single strain of Brettanomyces bruxellensis isolated from a California brewery that utilizes an extensive and diverse array of organisms in the production of their wild/sour/funky beers.\nThis strain exhibits a lemony-tartness with hints of hay and mild barnyard funkiness, and has a crisp and dry finish. TYB307 is suitable for primary fermentation and extended aging."]
["The Yeast Bay","TYB415","BRETTANOMYCES BRUXELLENSIS\nSTRAIN TYB415",{"$f":"Tableau46[[#This Row],[Fournisseur]]&\" - \"&Tableau46[[#This Row],[Levure]]","v":"The Yeast Bay - BRETTANOMYCES BRUXELLENSIS\nSTRAIN TYB415"},"82 - 86%",21.1,26.7,"Basse",70,80,"High","Beta","This isolate is a single strain of Brettanomyces bruxellensis isolated from a brewer of all things sour and wild in the Mountain West.\nThis strain exhibits a strong profile of complex tropical fruit that is dominated by pineapple with a noticeable earthiness that adds a unique complexity and depth of character to the beer.\nTYB415 is suitable for primary fermentation and extended aging."]
["The Yeast Bay","TYB184","BRETTANOMYCES BRUXELLENSIS\nSTRAIN TYB184",{"$f":"Tableau46[[#This Row],[Fournisseur]]&\" - \"&Tableau46[[#This Row],[Levure]]","v":"The Yeast Bay - BRETTANOMYCES BRUXELLENSIS\nSTRAIN TYB184"},"82 - 88%",22.2,27.8,"Basse - Moyenne",72,82,"High","Brettanomyces","Isolated from a rustic farmhouse style beer produced in the Northeastern United States, this single strain of Brettanomyces bruxellensis is attenuative, produces a moderate citric acidic-like character and an ester profile of lemon/pineapple.\nAnother notable characteristic of this isolate is the mild barnyard character it produces that doesn't take over the profile; rather, it balances the ester profile."]
["The Yeast Bay","TYB207","BRETTANOMYCES BRUXELLENSIS\nSTRAIN TYB207",{"$f":"Tableau46[[#This Row],[Fournisseur]]&\" - \"&Tableau46[[#This Row],[Levure]]","v":"The Yeast Bay - BRETTANOMYCES BRUXELLENSIS\nSTRAIN TYB207"},"80 - 82%",22.2,27.8,"Basse - Moyenne",72,82,"High","Brettanomyces","Isolated from a Belgian-inspired brewery in the Northeastern United States, this single strain of Brettanomyces bruxellensis exhibits good attenuation, and produces a moderate acidic-like character and a tropical fruit ester profile the combination of which produces a character reminiscent of sweet tarts.\nIt's a fruity, funky tartness that's refreshing and crisp. This strain is well-suited for primary and secondary fermentation."]
["The Yeast Bay","TYB261","BRETTANOMYCES BRUXELLENSIS\nSTRAIN TYB261",{"$f":"Tableau46[[#This Row],[Fournisseur]]&\" - \"&Tableau46[[#This Row],[Levure]]","v":"The Yeast Bay - BRETTANOMYCES BRUXELLENSIS\nSTRAIN TYB261"},"80 - 82%",22.2,27.8,"Basse - Moyenne",72,82,"High","Brettanomyces","Isolated from a unique mixed fermentation beer produced in the Midwestern United States, this Brettanomyces bruxellensis isolate exhibits a mild tartness and soft funk with a solid backbone of tropical fruit esters (papaya, guava, pineapple, guinep).\nIt's great primary fermenter, but really shines in secondary fermentation following u p a primary fermentation that produces a lot of flavor compounds.\nThis strain is a true flavor modulator, and the more raw material it has to work with the greater the complexity that will b e achieved in the finished beer.\nThis strain will produce a massive, thick krausen."]
["The Yeast Bay",null,"SAISON BLEND I",{"$f":"Tableau46[[#This Row],[Fournisseur]]&\" - \"&Tableau46[[#This Row],[Levure]]","v":"The Yeast Bay - SAISON BLEND I"},"78 - 80%",20,26.7,"Basse - Moyenne",68,80,"High","Belgian Ale","A blend of two unique Saccharomyces cerevisiae strains isolated from beers that embody the saison style, this blend is a balance of the many characteristic saison flavors and aromas.\nOne yeast strain is a good attenuator that produces a spicy and mildly tart and tangy beer with a full mouthfeel. The other yeast strain is also a good attenuator that produces a delightful ester profile of grapefruit and orange zest and imparts a long, dry and earthy finish to the beer.\nTogether, they produce a dry but balanced beer with a unique flavor and aroma profile."]
["The Yeast Bay",null,"WALLONIAN FARMHOUSE II",{"$f":"Tableau46[[#This Row],[Fournisseur]]&\" - \"&Tableau46[[#This Row],[Levure]]","v":"The Yeast Bay - WALLONIAN FARMHOUSE II"},"80 - 82%",20,26.7,"Basse - Moyenne",68,80,"Medium - High","Belgian Ale","This is a single strain of Saccharomyces cerevisiae isolated from the same source as our Wallonian Farmhouse strain, a well-known brewery hailing from the Walloon region of Belgium.\nSlightly less attenuative and exhibiting a more restrained phenolic and expressive ester profile than Wallonian Farmhouse I, this yeast exhibits a great balance of fruitiness and rustic farmhouse character."]
["The Yeast Bay",null,"WALLONIAN FARMHOUSE III ",{"$f":"Tableau46[[#This Row],[Fournisseur]]&\" - \"&Tableau46[[#This Row],[Levure]]","v":"The Yeast Bay - WALLONIAN FARMHOUSE III "},"82 - 84%",20,26.7,"Basse - Moyenne",68,80,"Medium - High","Belgian Ale","This is a single strain of Saccharomyces cerevisiae isolated from a wellknown brewery hailing from the Walloon region of Belgium.\nThis strain is as attenuative as our original Wallonian Farmhouse and exhibits a more balanced profile of ester and phenols.\nThis yeast is similar to a classic saison strain offered b y many other yeast manufacturers, without the slow/low attenuation and stalling issues often observed in those cultures. "]
["The Yeast Bay",null,"BRUSSELS BRETTANOMYCES\nBLEND",{"$f":"Tableau46[[#This Row],[Fournisseur]]&\" - \"&Tableau46[[#This Row],[Levure]]","v":"The Yeast Bay - BRUSSELS BRETTANOMYCES\nBLEND"},"80 - 90%",21.1,26.7,"Basse - Moyenne",70,80,"High","Brettanomyces","This blend combines Brettanomyces strains isolated from a unique lambic produced in the Brussels region of Belgium.\nAll of the isolates in this blend produce a pronounced barnyard funk with mild acidity and mild fruitiness.\nThis blend is a great addition to any beer that you want to funk up."]
["The Yeast Bay",null,"LOCHRISTI BRETTANOMYCES\nBLEND",{"$f":"Tableau46[[#This Row],[Fournisseur]]&\" - \"&Tableau46[[#This Row],[Levure]]","v":"The Yeast Bay - LOCHRISTI BRETTANOMYCES\nBLEND"},"80 - 88%",21.1,26.7,"Basse - Moyenne",70,80,"High","Brettanomyces","This blend combines Brettanomyces strains isolated from a unique beer produced in the Lochristi area in East Flanders.\nOne strain provides a moderate funk and light fruitiness, while the other strain adds a more assertive fruitiness dominated b y hints of strawberry.\nThis blend also imparts a pleasant acidity over time that helps to balance out the profile of the finished beer."]
["The Yeast Bay",null,"SAISON/BRETTANOMYCES\nBLEND II",{"$f":"Tableau46[[#This Row],[Fournisseur]]&\" - \"&Tableau46[[#This Row],[Levure]]","v":"The Yeast Bay - SAISON/BRETTANOMYCES\nBLEND II"},"82 - 85%",22.2,26.7,"Basse - Moyenne",72,80,"High","Mixed Cultures","The cultures in this new and unique blend include two saison-style Saccharomyces cerevisiae isolates (Wallonian Farmhouse II and Wallonian Farmhouse III) and two Brettanomyces bruxellensis cultures (TYB184, TYB207).\nThis blend will produce a beer that is bursting with classic saison character with a rustic kick of Brettanomyces fruitiness and funkiness.\nWhile exhibiting a mild hay/barnyard component, the overall character is more fruit-forward."]
["The Yeast Bay",null,"MÉLANGE",{"$f":"Tableau46[[#This Row],[Fournisseur]]&\" - \"&Tableau46[[#This Row],[Levure]]","v":"The Yeast Bay - MÉLANGE"},"85 - 100%",20,25.6,"Basse - Moyenne",68,78,"High","Mixed Cultures","Mélange is made up of a rich diversity of fermentative organisms, intended for use in the production of sour beers in which a balance of fruity esters, earthiness, funk and sourness is desired.\nThis blend contains two Saccharomyces cerevisiae isolates, Saccharomyces fermentati , five Brettanomyces isolates, Lactobacillus brevis , Lactobacillus delbreuckii and Pediococcus damnosus . *DIASTATIC COMPONENTS"]
["The Yeast Bay",null,"FARMHOUSE SOUR ALE",{"$f":"Tableau46[[#This Row],[Fournisseur]]&\" - \"&Tableau46[[#This Row],[Levure]]","v":"The Yeast Bay - FARMHOUSE SOUR ALE"},"80 - 100%",21.1,25.6,"Basse - Moyenne",70,78,"Medium - High","Mixed Cultures","This blend contains two farmhouse/saison Saccharomyces cerevisiae isolates, Lactobacillus brevis , and Lactobacillus delbreuckii .\nThe two Saccharomyces strains will combine to create a delightful ester profile of grapefruit and orange zest accompanied by a mild earthiness and spiciness, while two Lactobacillus strains will produce a balanced acid profile."]
["The Yeast Bay",null,"SAISON/BRETTANOMYCES\nBLEND I",{"$f":"Tableau46[[#This Row],[Fournisseur]]&\" - \"&Tableau46[[#This Row],[Levure]]","v":"The Yeast Bay - SAISON/BRETTANOMYCES\nBLEND I"},0.8,21.1,25.6,"Basse - Moyenne",70,78,"High","Mixed Cultures","This blend combines one of the Saccharomyces strains from the Saison Blend and two unique Brettanomyces isolates from our yeast library.\nThe Saccharomyces yeast strain is a strong attenuator that produces a delightful ester profile of grapefruit and orange zest and imparts a long, dry and earthy finish to the beer.\nThe Brettanomyces strains are both good attenuators that produce some fruity esters and mild funk, and add a bright character to the beer.\nThe combination of these yeast produces a dry but balanced character with a delightful ester profile and just the right amount of funk."]
["The Yeast Bay",null,"TYB HOUSE SOUR\nBLEND",{"$f":"Tableau46[[#This Row],[Fournisseur]]&\" - \"&Tableau46[[#This Row],[Levure]]","v":"The Yeast Bay - TYB HOUSE SOUR\nBLEND"},"85 - 100%",20,25.6,"Basse - Moyenne",68,78,"High","Beta","As we isolate new organisms and evaluate them, we find individual strains of yeast and bacteria that we think have great character that add something unique to the profile of a beer.\nWhile the base for this blend consists of the same organisms in our Melange Blend, it contains a cornucopia of new strains that we incorporate as we go about our strain discovery process.\nWhile a majority of each lot consists largely of propagations of the base strains along with new isolates, each new lot of TYB House Sour contains a small portion of the previous lot, resulting in a character that is constantly\nmaturing and evolving. *DIASTATIC COMPONENTS"]
["The Yeast Bay",null,"NORTHEASTERN ABBEY",{"$f":"Tableau46[[#This Row],[Fournisseur]]&\" - \"&Tableau46[[#This Row],[Levure]]","v":"The Yeast Bay - NORTHEASTERN ABBEY"},"77 - 81%",20,23.9,"Basse - Moyenne",68,75,"Medium - High","Belgian Ale","Northeastern Abbey is a strain of Saccharomyces cerevisiae that was isolated from a beer crafted b y a well-known producer of Belgian-style ales in the Northeastern United States.\nThis yeast produces a very mild spiciness and earthy flavor and aroma which is complemented b y a subtle but magnificent array of fruity esters, including pear and citrus fruit.\nExpect this yeast to produce a large, thick krausen."]
["The Yeast Bay",null,"FUNKTOWN PALE ALE",{"$f":"Tableau46[[#This Row],[Fournisseur]]&\" - \"&Tableau46[[#This Row],[Levure]]","v":"The Yeast Bay - FUNKTOWN PALE ALE"},"78 - 95%",20,23.3,"Basse - Moyenne",68,74,"Medium - High","Mixed Cultures","Funktown Pale Ale is a blend of our Vermont Ale strain and a unique wild strain of Saccharomyces that is well suited for primary fermentation.\nThe combination of the citrus/peach esters from the Vermont Ale strain and the very light funk and pineapple/mango esters from the wild Saccharomyces produces a unique flavor and aroma profile that is fruit-forward.\nExpect this blend to finish drier than the Vermont Ale. *DIASTATIC COMPONENT"]
["The Yeast Bay",null,"VERMONT ALE",{"$f":"Tableau46[[#This Row],[Fournisseur]]&\" - \"&Tableau46[[#This Row],[Levure]]","v":"The Yeast Bay - VERMONT ALE"},"78 - 82%",17.8,22.2,"Basse - Moyenne",64,72,"Medium - High","American/British Ale","Isolated from a uniquely crafted double IPA out of the Northeastern United States and originally of British lineage, this single strain of Saccharomyces cerevisiae produces a balanced fruity ester profile of peaches and light citrus that complements any aggressively hopped beer."]
["The Yeast Bay",null,"HAZY DAZE II ",{"$f":"Tableau46[[#This Row],[Fournisseur]]&\" - \"&Tableau46[[#This Row],[Levure]]","v":"The Yeast Bay - HAZY DAZE II "},"81 - 85%",18.899999999999999,22.2,"Basse - Moyenne",66,72,"Medium - High","American/British Ale","Hazy Daze II is a proprietary blend of four Saccharomyces cerevisiae strains, and will exhibit an intense yet balanced ester profile of stone fruit (peach, apricot, nectarine and), tropical fruit (mango, guava) and grapefruit citrus esters.\nIt will also ferment faster and finish at a slightly lower terminal gravity as compared to our original Hazy Daze. *DIASTATIC COMPONENT"]
["The Yeast Bay",null,"HAZY DAZE",{"$f":"Tableau46[[#This Row],[Fournisseur]]&\" - \"&Tableau46[[#This Row],[Levure]]","v":"The Yeast Bay - HAZY DAZE"},"79 - 83%",17.8,21.1,"Basse - Moyenne",64,70,"Medium - High","American/British Ale","Hazy Daze contains a proprietary blend of three Saccharomyces cerevisiae strains, all of which offer unique contributions to the production of crisp, hop forward beers.\nExpect this blend to throw bountiful amounts of peach, apricot, nectarine and grapefruit citrus esters, exhibit lower flocculation and achieve good attenuation to produce beers with a dry and crisp character."]
["The Yeast Bay",null,"FRANCONIAN DARK LAGER",{"$f":"Tableau46[[#This Row],[Fournisseur]]&\" - \"&Tableau46[[#This Row],[Levure]]","v":"The Yeast Bay - FRANCONIAN DARK LAGER"},"74 - 78%",8.9,10.6,"Basse - Moyenne",48,51,"Medium - High","Lager","Franconian Dark Lager is a single strain of Saccharomyces pastorianus that hails from the Franconia region of Germany.\nThis yeast exhibits a short lag time and has flavor profile characteristics that complement dark, roasted malts.\nThe dark malt complementing nature of this yeast makes it a perfect fit for any big, malt driven dark lagers.\nWhile well-suited for dark lagers, this yeast also performs well in producing lagers derived from a pale worts."]
["The Yeast Bay",null,"HESSIAN PILS",{"$f":"Tableau46[[#This Row],[Fournisseur]]&\" - \"&Tableau46[[#This Row],[Levure]]","v":"The Yeast Bay - HESSIAN PILS"},"73 - 76%",7.2,8.9,"Basse - Moyenne",45,48,"Medium","Lager","Hessian Pils is a single strain of Saccharomyces pastorianus that hails from the Hess region of Germany.\nIt exhibits everything you want in a great Pilsner yeast: it's a clean fermenter with relatively low ester formation, exhibits a short lag time, ferments wort quickly and attenuates well even at the low end of the temperature range. These characteristics allow the malt and hop profile to really shine, and creates a crisp finished beer."]
["The Yeast Bay",null,"SIGMUND'S VOSS KVEIK",{"$f":"Tableau46[[#This Row],[Fournisseur]]&\" - \"&Tableau46[[#This Row],[Levure]]","v":"The Yeast Bay - SIGMUND'S VOSS KVEIK"},"78 - 83%",21.1,37.799999999999997,"Haute",70,100,"High","Kveik","Sigmund's Voss Kveik yeast is a single strain of Saccharomyces cerevisiae isolated from a sample of kveik generously provided by Sigmund Gjernes via Lars Garshol.\nThis strain exhibits the ability to ferment wort over a large temperature range, 70 - 100 °F, without major changes to the flavor profile or production of any harsh phenolics or fusel alchohols.\nWe highly recommend taking this into the high end of temperature range, 90-100 °F."]
["The Yeast Bay",null,"SIMONAITIS LITHUANIAN\nFARMHOUSE YEAST",{"$f":"Tableau46[[#This Row],[Fournisseur]]&\" - \"&Tableau46[[#This Row],[Levure]]","v":"The Yeast Bay - SIMONAITIS LITHUANIAN\nFARMHOUSE YEAST"},"76 - 82%",23.9,35,"Haute",75,95,"High","Lithuanian","This culture is a single strain of Sacchromyces cerevisiae , isolated from a Lithuanian Farmhouse mixed culture kindly provided b y Julius Simonaitis via Lars Garshol.\nWhile not a traditional “kveik” yeast, it handles high temperatures and high gravity worts well, with an upper fermentation temperature of 95 ºF.\nAcross a wide temperature range this culture will throw an intriguing mix of orange, tropical fruit and stonefruit esters that is reminiscent of POG Juice (passionfruit, orange, guava), and produces distinct spicy/earthy/herbal undertones."]
["The Yeast Bay",null,"FLANDERS SPECIALTY ALE",{"$f":"Tableau46[[#This Row],[Fournisseur]]&\" - \"&Tableau46[[#This Row],[Levure]]","v":"The Yeast Bay - FLANDERS SPECIALTY ALE"},"78 - 82%",20,26.7,"Moyenne",68,80,"High","Belgian Ale","Flanders Specialty Ale is a single strain of Saccharomyces cerevisiae isolated from a fascinating Belgian producer of a wide array of traditional Belgian beer styles.\nThis is a versatile yeast that will ferment fairly dry and produce a balanced flavor and aroma profile laced with a myriad of esters and phenols."]
["The Yeast Bay",null,"SAISON BLEND II",{"$f":"Tableau46[[#This Row],[Fournisseur]]&\" - \"&Tableau46[[#This Row],[Levure]]","v":"The Yeast Bay - SAISON BLEND II"},"85 - 100%",20,26.7,"Moyenne",68,80,"High","Belgian Ale","This combination of Saccharomyces cerevisiae strains embodies the balanced fusion of the two foremost saison flavor/aroma characters, fruitiness and earthiness.\nEach Saccharomyces strain in this blend produces flavor compounds that serve as the yin to the other's yang, and the result is an exceptionally complex yet balanced flavor and aroma profile.\nOne strain will serve to create an ester profile of grapefruit and orange zest, while the other will produce a mild earthiness and spiciness. *DIASTATIC COMPONENT"]
["The Yeast Bay",null,"WALLONIAN FARMHOUSE I ",{"$f":"Tableau46[[#This Row],[Fournisseur]]&\" - \"&Tableau46[[#This Row],[Levure]]","v":"The Yeast Bay - WALLONIAN FARMHOUSE I "},"81 - 100%",22.2,26.7,"Moyenne",72,80,"High","Belgian Ale","Isolated from a unique farmhouse-style ale that hails from the Walloon region of Belgium, this strain of Saccharomyces cerevisiae is one of the funkier \"clean\" yeast we have in our stable.\nIt imparts a slight earthy funk and tart character to the beer, and is a very mild producer of slightly spicy and mildly smokey flavor compounds.\nWe recommend controlling the dryness b y adding malts or adjuncts to the mash tun that will lend some body and residual sweetness to the beer. *DIASTATIC"]
["The Yeast Bay",null,"MIDWESTERN ALE",{"$f":"Tableau46[[#This Row],[Fournisseur]]&\" - \"&Tableau46[[#This Row],[Levure]]","v":"The Yeast Bay - MIDWESTERN ALE"},"76 - 80%",17.8,22.2,"Moyenne",64,72,"Medium - High","American/British Ale","Midwestern Ale yeast is a single strain of Saccharomyces cerevisiae isolated from a storied brewery in the heartland of America, well suited for fermentation of a broad spectrum of worts.\nA relatively fast fermenter with good attenuation, expect this yeast to ferment cleaner with a low ester profile at the cooler fermentation temperatures, and produce a more pronounced ester profile at warmer fermentation temperatures.\nThis yeast is a great choice for a versatile house yeast."]
["The Yeast Bay",null,"KVEIK'N HILLS",{"$f":"Tableau46[[#This Row],[Fournisseur]]&\" - \"&Tableau46[[#This Row],[Levure]]","v":"The Yeast Bay - KVEIK'N HILLS"},"78 - 83%",21.1,37.799999999999997,"Moyenne - Haute",70,100,"High","Beta","This culture is the marriage of our M. reukaufii isolate from the Berkeley Hills of California with Sigmund’s Voss Kveik.\nExpect this culture to ferment to approximately the same dryness as Sigmund’s Voss Kveik alone with a softer finish on the back end, especially noticeable in more heavily hop worts.\nWhile still citrus-ester forward, a more complex and accentuated aroma and flavor profile will develop based upon the hop profile chosen of the beer."]
["The Yeast Bay",null,"LITHUANIA'N HILLS",{"$f":"Tableau46[[#This Row],[Fournisseur]]&\" - \"&Tableau46[[#This Row],[Levure]]","v":"The Yeast Bay - LITHUANIA'N HILLS"},"76 - 82%",23.9,35,"Moyenne - Haute",75,95,"High","Beta","This culture is the marriage of our M. reukaufii isolate from the Berkeley Hills of California with Simonaitis Lithuanian Farmhouse yeast.\nExpect this culture to ferment to approximately the same dryness as Simonaitis Lithuanian Farmhouse alone with a softer finish on the back end, especially noticeable in more heavily hop worts. A more complex and accentuated ester profile of POG Juice (passionfruit, orange, guava) will evolve based upon the hop profile chosen of the beer."]
["The Yeast Bay",null,"DRY BELGIAN ALE",{"$f":"Tableau46[[#This Row],[Fournisseur]]&\" - \"&Tableau46[[#This Row],[Levure]]","v":"The Yeast Bay - DRY BELGIAN ALE"},"85 - 100%",20,23.3,"Moyenne - Haute",68,74,"High","Belgian Ale","Dry Belgian Ale is single strain of Saccharomyces cerevisiae isolated from a unique golden strong ale.\nThe profile is a complex and balanced mix of apple, pear and light citrus fruit with some mild spicy and peppery notes.\nThis strain is highly attenuative and alcohol tolerant.\nFor a yeast that's as dry as it is, it creates beers with a surprising amount of body even without the use of specialty grains or adjuncts. *DIASTATIC"]
["The Yeast Bay",null,"LACTOBACILLUS BLEND",{"$f":"Tableau46[[#This Row],[Fournisseur]]&\" - \"&Tableau46[[#This Row],[Levure]]","v":"The Yeast Bay - LACTOBACILLUS BLEND"},0.05,21.1,32.200000000000003,"N/A",70,90,"N/A","Lactic Acid Bacteria","The Lactobacillus Blend is comprised of three strains, one strain of Lactobacillus plantarum and two strains of Lactobacillus brevis .\nOne of the strains of L. brevis was isolated from an unintentionally sour hoppy blonde ale from a Mexican craft brewery, and exhibits strong hop tolerance (15-20IBU).\nThis blend can b e used on its own for kettle souring prior to pitching yeast to create acidity quickly, or co-pitched with yeast to create sourness over time."]
["The Yeast Bay","TYB282","LACTOBACILLUS BREVIS\nSTRAIN TYB282",{"$f":"Tableau46[[#This Row],[Fournisseur]]&\" - \"&Tableau46[[#This Row],[Levure]]","v":"The Yeast Bay - LACTOBACILLUS BREVIS\nSTRAIN TYB282"},0.05,21.1,32.200000000000003,"N/A",70,90,"N/A","Lactic Acid Bacteria","TYB282 is a single strain of Lactobacillus brevis isolated out of an unintentionally soured golden ale produced b y a Mexican craft brewery.\nThis strain produces a nice, clean lactic acidity (down to ~pH 3.16-3.18) in unhopped wort within 36 hours at a temperature of ~72-77 °F.\nThe higher the temperature up to 90 °F, the faster the acid production.\nThis is a great strain for kettle souring, but really shines in souring fermented beer as a result of its hop tolerance (15-20 IBU)."]
["Whitelabs","WLP1983","WLP1983 Charlie's Fist Bump Yeast",{"$f":"Tableau46[[#This Row],[Fournisseur]]&\" - \"&Tableau46[[#This Row],[Levure]]","v":"Whitelabs - WLP1983 Charlie's Fist Bump Yeast"},"66 - 70%",12.8,22.8,"Basse",55,73,"5 - 10%",null,null,"Previously called WLP862 Cry Havoc Lager Yeast, this strain is licensed from Charlie Papazian and can ferment at both ale and lager temperatures, allowing brewers to produce diverse beer styles.\nThe recipes in both Papazian’s books, \"The Complete Joy of Homebrewing,\" \"The Homebrewer’s Companion,\" and \"Microbrewed Adventures\" were originally developed and brewed with this yeast."]
["Whitelabs","WLP564 ","WLP564 Leeuwenhoek Saison Yeast Blend",{"$f":"Tableau46[[#This Row],[Fournisseur]]&\" - \"&Tableau46[[#This Row],[Levure]]","v":"Whitelabs - WLP564 Leeuwenhoek Saison Yeast Blend"},"76 - 82%",18.899999999999999,23.9,"Basse",66,75,15,null,null,"A blend of two saison strains and a low phenolic Belgian strain, developed for the White Labs in-house saisons. Approximately 85% attenuation which makes for a dryer saison. The strain proved very versatile, creating spicy, dry and clean beers.\n\nUsed in the White Labs Tasting Room for various saisons, dubbels, and roggenbiers. For beers made in the Tasting Room, the strain proved very versatile, creating spicy, dry and clean beers. Visit tastingroom.yeastman.com, and search under the appropriate \"strain #\" for beer testing details with this strain."]
["Whitelabs","WLP715 ","WLP715 Champagne Yeast",{"$f":"Tableau46[[#This Row],[Fournisseur]]&\" - \"&Tableau46[[#This Row],[Levure]]","v":"Whitelabs - WLP715 Champagne Yeast"},"75 - 100%",21.1,23.9,"Basse",70,75,"> 15%",null,null,"Classic yeast that is neutral in character, and a strong fermenter. Great for use in wine, cider and mead allowing the character of the fermentables to become prominent flavors.\nWLP715 Champagne Yeast is POF+, this strain will contribute phenolic characteristics to finished products. "]
["Whitelabs","WLP008 ","WLP008 East Coast Ale Yeast",{"$f":"Tableau46[[#This Row],[Fournisseur]]&\" - \"&Tableau46[[#This Row],[Levure]]","v":"Whitelabs - WLP008 East Coast Ale Yeast"},"70 - 75%",20,22.8,"Basse  -  Moyenne",68,73,"5 to 10%",null,null,"This strain can be used to reproduce many American versions of classic beer styles but has been gaining popularity for its use in East Coast IPAs.\nIt is cleaner and crisper than other haze producing strains.\nIt possesses the similar neutral character of WLP001 California Ale Yeast® with slightly higher ester production.\nThis strain’s attenuation leaves some mouthfeel and residual sweetness which balances hop bitterness.\nIt’s a great all-around strain for balanced, accessible beer styles such as blondes, pale ales and amber ales."]
["Whitelabs","WLP066 ","WLP066 London Fog Ale Yeast",{"$f":"Tableau46[[#This Row],[Fournisseur]]&\" - \"&Tableau46[[#This Row],[Levure]]","v":"Whitelabs - WLP066 London Fog Ale Yeast"},"75 - 82%",17.8,22.2,"Basse  -  Moyenne",64,72,"8 - 12%",null,null,"This is the go-to strain for New England-style IPAs.\nIt produces a medium ester profile similar to WLP008 East Coast Ale Yeast.\nIt leaves some residual sweetness, helping accentuate both malt and hop flavors and aromas, while retaining a velvety mouthfeel."]
["Whitelabs","WLP067 ","WLP067 Coastal Haze Ale Yeast Blend",{"$f":"Tableau46[[#This Row],[Fournisseur]]&\" - \"&Tableau46[[#This Row],[Levure]]","v":"Whitelabs - WLP067 Coastal Haze Ale Yeast Blend"},"70 - 75%",20,22.2,"Basse  -  Moyenne",68,72,"8 - 12%",null,null,"This blend of our favorite New England-style IPA strains is great for producing beers with a hazy appearance and tropical, fruit-forward esters.\nProducing dry, yet juicy beers, the mango and pineapple characteristics will lend to added drinkability."]
["Whitelabs","WLP073 ","WLP073 Artisanal Country Ale Yeast",{"$f":"Tableau46[[#This Row],[Fournisseur]]&\" - \"&Tableau46[[#This Row],[Levure]]","v":"Whitelabs - WLP073 Artisanal Country Ale Yeast"},"75 - 80%",21.1,27.8,"Basse  -  Moyenne",70,82,"8 - 12%",null,null,"A classic Bière de Garde strain, it produces slight esters and mild phenols, while preserving the sweet aromatics from the malt bill.\nThis strain fully attenuates, leaving the beer with a crisp, dry finish."]
["Whitelabs","WLP005 ","WLP005 British Ale Yeast",{"$f":"Tableau46[[#This Row],[Fournisseur]]&\" - \"&Tableau46[[#This Row],[Levure]]","v":"Whitelabs - WLP005 British Ale Yeast"},"67 - 74%",18.3,21.1,"Haute",65,70,"5 to 10%",null,null,"Known for its use in malty English beers, this strain is a great choice for any beers using traditional English malts like Marris Otter, Golden Promise or floor malted barley.\nThis strain will push bready, grainy malt flavors while being a mild ester producer."]
["Whitelabs","WLP009 ","WLP009 Australian Ale Yeast",{"$f":"Tableau46[[#This Row],[Fournisseur]]&\" - \"&Tableau46[[#This Row],[Levure]]","v":"Whitelabs - WLP009 Australian Ale Yeast"},"70 - 75%",18.3,21.1,"Haute",65,70,"5 to 10%",null,null,"This yeast produces a clean, malty beer with pleasant ester characters that can be described as “bready.”\nIt ferments successfully and cleanly at higher temperatures, combined with good flocculation and good attenuation."]
["Whitelabs","WLP017 ","WLP017 Whitbread II Ale Yeast",{"$f":"Tableau46[[#This Row],[Fournisseur]]&\" - \"&Tableau46[[#This Row],[Levure]]","v":"Whitelabs - WLP017 Whitbread II Ale Yeast"},"67 - 73%",18.899999999999999,21.1,"Haute",66,70,"5 to 10%",null,null,"Traditional mixed yeast culture with British character. Slightly fruity with a hint of sulfur production.\nThis yeast can be used for many different beer styles.\nThe most traditional choices would be English-style ales, including milds, bitters, porters, and English-style stouts.\nNorth American-style ales will also benefit from fermentation with this strain."]
["Whitelabs","WLP037 ","WLP037 Yorkshire Square Ale Yeast",{"$f":"Tableau46[[#This Row],[Fournisseur]]&\" - \"&Tableau46[[#This Row],[Levure]]","v":"Whitelabs - WLP037 Yorkshire Square Ale Yeast"},"68 - 72%",18.3,21.1,"Haute",65,70,"8 - 12%",null,null,"This yeast produces a beer that is malty and well balanced.\nExpect toasty flavors with malt-driven esters.\nHighly flocculent and a good choice for English-style pale ales, brown ales, and milds."]
["Whitelabs","WLP041 ","WLP041 Pacific Ale Yeast",{"$f":"Tableau46[[#This Row],[Fournisseur]]&\" - \"&Tableau46[[#This Row],[Levure]]","v":"Whitelabs - WLP041 Pacific Ale Yeast"},"65 - 70%",18.3,20,"Haute",65,68,"5 - 10%",null,null,"Hailing from the Pacific Northwest, this strain is a mild ester producer while promoting malt character.\nIt can be used for a range of styles from an English mild to an American IPA or Irish stout.\nA great flocculator, it leaves a clear beer and saves on conditioning time."]
["Whitelabs","WLP001 ","WLP001 California Ale Yeast",{"$f":"Tableau46[[#This Row],[Fournisseur]]&\" - \"&Tableau46[[#This Row],[Levure]]","v":"Whitelabs - WLP001 California Ale Yeast"},"73 - 80%",20,22.8,"Moyenne",68,73,"10 a 15",null,null,"This strain was the first yeast strain produced by White Labs in 1995.\nIt’s our best-selling yeast, famous for its clean flavors and hardy fermentations.\nKnown for its use in hoppy beers, it accentuates hop flavors and aromas and attenuates well, even for high gravity beers.\nThis strain has the ability to be used in almost any style of ale ranging from IPA to porter and even kölsch, which makes it a great all-around house strain. "]
["Whitelabs","WLP003 ","WLP003 German Ale II Yeast",{"$f":"Tableau46[[#This Row],[Fournisseur]]&\" - \"&Tableau46[[#This Row],[Levure]]","v":"Whitelabs - WLP003 German Ale II Yeast"},"73 - 80%",18.3,21.1,"Moyenne",65,70,"5 to 10%",null,null,"A great strain for clean ales such as kölsch, altbier, and German-style pale ales.\nIt has a strong sulfur component that will reduce with conditioning.\nLager-like in flavor, this strain ferments clean and produces subdued fruity esters which are more present than WLP029 German/Kölsch Ale Yeast."]
["Whitelabs","WLP011 ","WLP011 European Ale Yeast",{"$f":"Tableau46[[#This Row],[Fournisseur]]&\" - \"&Tableau46[[#This Row],[Levure]]","v":"Whitelabs - WLP011 European Ale Yeast"},"65 - 70%",18.3,21.1,"Moyenne",65,70,"5 to 10%",null,null,"A malty northern European-origin ale yeast. Its low ester production gives it a clean profile, with little to no sulfur production.\nLow attenuation helps to contribute to the malty character.\nGood for altbiers, kölsch-style ales, malty English-style ales, and fruit beers."]
["Whitelabs","WLP013 ","WLP013 London Ale Yeast",{"$f":"Tableau46[[#This Row],[Fournisseur]]&\" - \"&Tableau46[[#This Row],[Levure]]","v":"Whitelabs - WLP013 London Ale Yeast"},"67 - 75%",18.899999999999999,21.7,"Moyenne",66,71,"5 to 10%",null,null,"Oak ester character makes this yeast well-suited for classic British beer styles such as pales and bitters, or dark malty beers like brown ales and porters.\nMedium flocculation characteristics allow attenuation up to 75% leaving beer dry while adding malt complexity and pushing hop bitterness.\nIf you love WLP001 California Ale Yeast®, give this strain a try as it has more character."]
["Whitelabs","WLP023 ","WLP023 Burton Ale Yeast",{"$f":"Tableau46[[#This Row],[Fournisseur]]&\" - \"&Tableau46[[#This Row],[Levure]]","v":"Whitelabs - WLP023 Burton Ale Yeast"},"69 - 75%",20,22.8,"Moyenne",68,73,"5 to 10%",null,null,"This strain is sourced from Burton upon Trent, England which is known for pushing IPAs into the spotlight.\nIt produces a subtle fruity ester profile which can be described as notes of apple, clover honey and pear.\nA background sulfur note is common with this strain.\nGreat for use in hoppy American and English styles such as pale ales, bitters and ambers.\nCan also be an alternative to WLP001 California Ale Yeast®."]
["Whitelabs","WLP025 ","WLP025 Southwold Ale Yeast",{"$f":"Tableau46[[#This Row],[Fournisseur]]&\" - \"&Tableau46[[#This Row],[Levure]]","v":"Whitelabs - WLP025 Southwold Ale Yeast"},"68 - 75%",18.899999999999999,20.6,"Moyenne",66,69,"5 to 10%",null,null,"From Suffolk County, England. This yeast produces complex fruit, citrus, and spice flavors.\nGreat for British-style bitters and pale ales.\nA slight sulfur note is produced during fermentation, but disappears with aging."]
["Whitelabs","WLP026 ","WLP026 Premium Bitter Ale Yeast",{"$f":"Tableau46[[#This Row],[Fournisseur]]&\" - \"&Tableau46[[#This Row],[Levure]]","v":"Whitelabs - WLP026 Premium Bitter Ale Yeast"},"70 - 75%",19.399999999999999,21.1,"Moyenne",67,70,"5 to 10%",null,null,"From Staffordshire, England. Fermentation gives a mild but complex estery character.\nFerments strong and dry and is good for high-gravity beers. Best for all English-style ales, including bitters, milds, ESBs, porters, stouts and barleywines."]
["Whitelabs","WLP028 ","WLP028 Edinburgh Scottish Ale Yeast",{"$f":"Tableau46[[#This Row],[Fournisseur]]&\" - \"&Tableau46[[#This Row],[Levure]]","v":"Whitelabs - WLP028 Edinburgh Scottish Ale Yeast"},"70 - 75%",18.3,21.1,"Moyenne",65,70,"8 a 12",null,null,"This strain produces underlying esters of pear and melon which work well with hop and malt derived notes.\nIt’s medium to high alcohol tolerance is well-suited for strong Scotch-style ales or barleywine beers.\nThis is a versatile strain that can be neutral at the low end of the recommended fermentation temperature range or provide more esters at the higher range."]
["Whitelabs","WLP028 ","WLP028 Edinburgh Scottish Ale Yeast",{"$f":"Tableau46[[#This Row],[Fournisseur]]&\" - \"&Tableau46[[#This Row],[Levure]]","v":"Whitelabs - WLP028 Edinburgh Scottish Ale Yeast"},"70 - 75%",18.3,21.1,"Moyenne",65,70,"8 to 12%",null,null,"This strain produces underlying esters of pear and melon which work well with hop and malt derived notes.\nIt’s medium to high alcohol tolerance is well-suited for strong Scotch-style ales or barleywine beers.\nThis is a versatile strain that can be neutral at the low end of the recommended fermentation temperature range or provide more esters at the higher range."]
["Whitelabs","WLP029 ","WLP029 German Ale/ Kölsch Yeast",{"$f":"Tableau46[[#This Row],[Fournisseur]]&\" - \"&Tableau46[[#This Row],[Levure]]","v":"Whitelabs - WLP029 German Ale/ Kölsch Yeast"},"72 - 78%",18.3,20.6,"Moyenne",65,69,"5 to 10%",null,null,"Sourced from a small brewpub in Cologne, Germany, this strain is fitting for German ales such as kölsch and altbier.\nKnown for accentuating hop flavor and bitterness while creating crisp, clean lager like characters, it performs exceptionally well at temperatures ranging from 65° to 69°F (18-20°C) and does not ferment well below 62°F (17°C) after peak fermentation.\nTypically has low flocculation characteristics after the first generation."]
["Whitelabs","WLP033 ","WLP033 Klassic Ale Yeast",{"$f":"Tableau46[[#This Row],[Fournisseur]]&\" - \"&Tableau46[[#This Row],[Levure]]","v":"Whitelabs - WLP033 Klassic Ale Yeast"},"66 - 74%",18.899999999999999,21.1,"Moyenne",66,70,"5 to 10%",null,null,"Traditional English single-strain yeast.\nProduces signature ester characters and does not mask hop flavors. Leaves ales with a slightly sweet malt character.\nBest for bitters, milds, porters and stouts.\nAlso good for Scottish-style ales."]
["Whitelabs","WLP036 ","WLP036 Düsseldorf Alt Ale Yeast",{"$f":"Tableau46[[#This Row],[Fournisseur]]&\" - \"&Tableau46[[#This Row],[Levure]]","v":"Whitelabs - WLP036 Düsseldorf Alt Ale Yeast"},"65 - 72%",18.3,20.6,"Moyenne",65,69,"5 to 10%",null,null,"A traditional altbier-style yeast from Düsseldorf, Germany.\nIt produces clean, malty German brown and amber ales.\nThis strain keeps the contribution of hop bitterness in the background while promoting sweet malt notes."]
["Whitelabs","WLP059 ","WLP059 Melbourne Ale Yeast",{"$f":"Tableau46[[#This Row],[Fournisseur]]&\" - \"&Tableau46[[#This Row],[Levure]]","v":"Whitelabs - WLP059 Melbourne Ale Yeast"},"74 - 78%",18,23,"Moyenne","N/A","N/A","N/A",null,null,"A yeast isolated from Australia in the early 1900s, it is a clean fermenting strain well suited for many American and English beer styles.\nRenowned Australian homebrewer, Peter Symon, researched this strain for his book Bronzed Brews and asked White Labs to acquire it from a yeast bank in London, England.\nThis historic strain was used in Australia because of its ability to ferment well in the Australian climate and Australian cane sugar."]
["Whitelabs","WLP060 ","WLP060 American Ale Yeast Blend",{"$f":"Tableau46[[#This Row],[Fournisseur]]&\" - \"&Tableau46[[#This Row],[Levure]]","v":"Whitelabs - WLP060 American Ale Yeast Blend"},"72 - 80%",20,22.2,"Moyenne",68,72,"8 - 12%",null,null,"This blend of three strains creates a clean and neutral fermentation character, making it ideal for use in many different American beer styles.\nThe blend lends complexity to finished beer by exhibiting a crisp, clean lager-like character with accentuated hop flavors and bitterness.\nA slight amount of sulfur can be produced during peak fermentation."]
["Whitelabs","WLP060 ","WLP060 American Ale Yeast Blend",{"$f":"Tableau46[[#This Row],[Fournisseur]]&\" - \"&Tableau46[[#This Row],[Levure]]","v":"Whitelabs - WLP060 American Ale Yeast Blend"},"72 - 80%",20,22.2,"Moyenne",68,72,"8 - 12%",null,null,"This blend of three strains creates a clean and neutral fermentation character, making it ideal for use in many different American beer styles.\nThe blend lends complexity to finished beer by exhibiting a crisp, clean lager-like character with accentuated hop flavors and bitterness.\nA slight amount of sulfur can be produced during peak fermentation."]
["Whitelabs","WLP064 ","WLP064 Buchner Ale Yeast Blend",{"$f":"Tableau46[[#This Row],[Fournisseur]]&\" - \"&Tableau46[[#This Row],[Levure]]","v":"Whitelabs - WLP064 Buchner Ale Yeast Blend"},"72 - 78%",19.399999999999999,22.2,"Moyenne",67,72,"8 - 12%",null,null,"A blend of two strains that adds creaminess with a hint of crispness. Great for pale ales, cream ales and American wheats.\nFlocculation is good due to one of the strains being a heavy flocculator."]
["Whitelabs","WLP076 ","WLP076 Old Sonoma Ale Yeast",{"$f":"Tableau46[[#This Row],[Fournisseur]]&\" - \"&Tableau46[[#This Row],[Levure]]","v":"Whitelabs - WLP076 Old Sonoma Ale Yeast"},"70 - 74%",18.899999999999999,21.1,"Moyenne",66,70,"5 - 10%",null,null,"From a historic brewery in Northern California.\nThis strain was embraced by the early pioneers of craft beer in America and is ideal for those seeking to use a traditional British-style yeast.\nA neutral and versatile strain, a great for pale ales, porters, and stouts."]
["Whitelabs","WLP080 ","WLP080 Cream Ale Yeast Blend",{"$f":"Tableau46[[#This Row],[Fournisseur]]&\" - \"&Tableau46[[#This Row],[Levure]]","v":"Whitelabs - WLP080 Cream Ale Yeast Blend"},"75 - 80%",18.3,21.1,"Moyenne",65,70,"8 - 12%",null,null,"A blend of ale and lager yeast, this strain produces a classic cream ale.\nThe blend produces a pleasing light fruity note from the ale yeast, while the lager strain produces clean pilsner-like flavors and a slightly subdued hop bitterness.\nThis blend is known for producing subtle sulfur during primary fermentation."]
["Whitelabs","WLP095 ","WLP095 Burlington Ale Yeast",{"$f":"Tableau46[[#This Row],[Fournisseur]]&\" - \"&Tableau46[[#This Row],[Levure]]","v":"Whitelabs - WLP095 Burlington Ale Yeast"},"72 - 78%",19.399999999999999,21.1,"Moyenne",67,70,"8 - 12%",null,null,"This yeast is the signature strain for a brewery in the Northeast United States, making it ideal for New England-style IPAs.\nAdding personality to your beer by contributing esters and body, this strain will blend with hop flavors and aromas while balancing bitterness.\nEsters are higher than WLP001 California Ale Yeast® and this strain has been known to result in more diacetyl increasing the temperature at the end of fermentation is suggested."]
["Whitelabs","WLP099 ","WLP099 Super High Gravity Ale Yeast",{"$f":"Tableau46[[#This Row],[Fournisseur]]&\" - \"&Tableau46[[#This Row],[Levure]]","v":"Whitelabs - WLP099 Super High Gravity Ale Yeast"},"80 - 100%",18.3,20.6,"Moyenne",65,69,"> 15%",null,null,"From England, this yeast can ferment up to 25% alcohol when used correctly.\nIt produces ester characters that increase with increasing gravity.\nMalt character dominates at lower gravities. To achieve >25% ABV, sugar needs to be fed over the course of the fermentation."]
["Whitelabs","WLP565 ","WLP565 Belgian Saison I Yeast",{"$f":"Tableau46[[#This Row],[Fournisseur]]&\" - \"&Tableau46[[#This Row],[Levure]]","v":"Whitelabs - WLP565 Belgian Saison I Yeast"},"65 - 75%",20,23.9,"Moyenne",68,75,10,null,"Belgian Saison 3724","A classic saison strain sourced from the Wallonia region of Belgium.\nThis strain makes a classic saison by producing flavors and aromas noted as earthy, peppery and spicy.\nWith attenuation averaging around 70 to 75%, some malt flavor will remain present.\nFor best fermentation results, let this strain free-rise to allow for complete attenuation and production of the subtle, traditional aroma characteristics.\nWith high gravity saisons, it’s suggested to dry the beer with an alternate yeast (such as WLP001 California Ale Yeast®) added after 50 to 60% fermentation."]
["Whitelabs","WLP566 ","WLP566 Belgian Saison II Ale Yeast",{"$f":"Tableau46[[#This Row],[Fournisseur]]&\" - \"&Tableau46[[#This Row],[Levure]]","v":"Whitelabs - WLP566 Belgian Saison II Ale Yeast"},"78 - 85%",20,25.6,"Moyenne",68,78,10,null,null,"This strain is a moderate phenol producer with clove-like flavor and aromatic notes present in finished beer.\nSome fruit-forward ester production provides a balance between fruit and spice aroma and flavors.\nThis strain ferments and flocculates well, making it an easy-to-use option for saison and farmhouse ales."]
["Whitelabs","WLP568 ","WLP568 Belgian Style Saison Ale Yeast Blend",{"$f":"Tableau46[[#This Row],[Fournisseur]]&\" - \"&Tableau46[[#This Row],[Levure]]","v":"Whitelabs - WLP568 Belgian Style Saison Ale Yeast Blend"},"70 - 80%",21.1,26.7,"Moyenne",70,80,10,null,null,"This blend incorporates multiple Belgian and saison strains to produce pear-like esters backed by spicy, earthy and clove-like flavors and aromas.\nThe cultures encourage complete fermentation in a timely manner and create harmony and complexity throughout its ester and phenol production."]
["Whitelabs","WLP590 ","WLP590 French Saison Ale Yeast",{"$f":"Tableau46[[#This Row],[Fournisseur]]&\" - \"&Tableau46[[#This Row],[Levure]]","v":"Whitelabs - WLP590 French Saison Ale Yeast"},"73 - 80%",20.6,23.9,"Moyenne",69,75,10,null,null,"One of our most popular saison strains, it is great for farmhouse-style beers because it produces flavors and aromas of pear, apple and cracked pepper. This strain is a high attenuator producing a very dry and drinkable finishing beer."]
["Whitelabs","WLP670 ","WLP670 American Farmhouse Blend",{"$f":"Tableau46[[#This Row],[Fournisseur]]&\" - \"&Tableau46[[#This Row],[Levure]]","v":"Whitelabs - WLP670 American Farmhouse Blend"},"75 - 82%",20,22.2,"Moyenne",68,72,"5 - 10%",null,null,"Inspired by local American brewers crafting semi-traditional Belgian-style ales, this blend creates a complex flavor profile with a moderate level of sourness.\nIt consists of a traditional farmhouse yeast strain and Brettanomyces.\nGreat yeast for farmhouse ales, saisons, and other Belgian-inspired beers."]
["Whitelabs","WLP004 ","WLP004 Irish Ale Yeast",{"$f":"Tableau46[[#This Row],[Fournisseur]]&\" - \"&Tableau46[[#This Row],[Levure]]","v":"Whitelabs - WLP004 Irish Ale Yeast"},"69 - 74%",18.3,20,"Moyenne  -  Haute",65,68,"8 to 12%",null,null,"This yeast is from one of the oldest stout-producing breweries in the world.\nIt’s great for many beer styles but really shines in malty British styles such as stouts, porters and brown ales.\nMedium attenuation helps with a dry finish that promotes roasty notes.\nEsters help round out the overall flavor making a soft drinkable stout."]
["Whitelabs","WLP006 ","WLP006 Bedford British Ale Yeast",{"$f":"Tableau46[[#This Row],[Fournisseur]]&\" - \"&Tableau46[[#This Row],[Levure]]","v":"Whitelabs - WLP006 Bedford British Ale Yeast"},"72 - 80%",18.3,21.1,"Moyenne  -  Haute",65,70,"8 to 12%",null,null,"Ferments dry and flocculates very well; produces a distinct ester profile.\nThis yeast yields a full mouthfeel, perfect for creating English-style ales, including bitters, pale ales, porters, stouts and browns."]
["Whitelabs","WLP007 ","WLP007 Dry English Ale Yeast",{"$f":"Tableau46[[#This Row],[Fournisseur]]&\" - \"&Tableau46[[#This Row],[Levure]]","v":"Whitelabs - WLP007 Dry English Ale Yeast"},"70 - 80%",18.3,21.1,"Moyenne  -  Haute",65,70,"8 to 12%",null,null,"This yeast is known for its high attenuation, achieving 80% even with 10% ABV beers.\nThe high attenuation eliminates residual sweetness, making the yeast well-suited for high gravity ales and clean, well-attenuated beer styles.\nThis strain has become a go-to house strain for American breweries due to its clean profile and high attenuation.\nIt’s an ideal strain for American and English hoppy beers as well as malty ambers, porters and brown ales.\nThis strain can be a substitute for WLP001 California Ale Yeast®."]
["Whitelabs","WLP022 ","WLP022 Essex Ale Yeast",{"$f":"Tableau46[[#This Row],[Fournisseur]]&\" - \"&Tableau46[[#This Row],[Levure]]","v":"Whitelabs - WLP022 Essex Ale Yeast"},"71 - 76%",18.899999999999999,21.1,"Moyenne  -  Haute",66,70,"5 to 10%",null,null,"A flavorful British-style yeast that produces slightly fruity and bready characters.\nA good top-fermenting yeast strain that is well suited for top cropping.\nIt is ideal for classic British-style milds, pale ales, bitters and stouts. Does not flocculate as much as other English strains."]
["Whitelabs","WLP038 ","WLP038 Manchester Ale Yeast",{"$f":"Tableau46[[#This Row],[Fournisseur]]&\" - \"&Tableau46[[#This Row],[Levure]]","v":"Whitelabs - WLP038 Manchester Ale Yeast"},"70 - 74%",18.3,21.1,"Moyenne  -  Haute",65,70,"8 - 12%",null,null,"A top-fermenting ale yeast that is traditionally good for top-cropping.\nModerately flocculent with a clean, dry finish. Has a low ester profile and produces a highly balanced English-style beer."]
["Whitelabs","WLP039 ","WLP039 East Midlands Ale Yeast",{"$f":"Tableau46[[#This Row],[Fournisseur]]&\" - \"&Tableau46[[#This Row],[Levure]]","v":"Whitelabs - WLP039 East Midlands Ale Yeast"},"73 - 82%",18.899999999999999,21.1,"Moyenne  -  Haute",66,70,"5 - 10%",null,null,"British-style ale yeast with a very dry finish. Medium to low fruit and fusel alcohol production.\nA good top-fermenting yeast strain well suited for top-cropping. A great choice for pale ales, ambers, porters and stouts."]
["Whitelabs","WLP051 ","WLP051 California V Ale Yeast",{"$f":"Tableau46[[#This Row],[Fournisseur]]&\" - \"&Tableau46[[#This Row],[Levure]]","v":"Whitelabs - WLP051 California V Ale Yeast"},"70 - 75%",18.899999999999999,21.1,"Moyenne  -  Haute",66,70,"8 - 12%",null,null,"This strain has more similarities to an English strain than WLP001 California Ale Yeast®.\nIt is a big ester producer, showcasing notes of cherry and apple which compliment pale ales, blonde and brown ales.\nTypically leaves some residual, lager-like sulfur compounds in finished beer.\nRecent sequencing studies show that WLP051 belongs to Saccharomyces pastorianus species, the same hybrid species as most lager strains.\nHowever, this strain has been used to make ales for decades and was previously categorized as belonging to Saccharomyces cerevisiae."]
["Whitelabs","WLP072 ","WLP072 French Ale Yeast",{"$f":"Tableau46[[#This Row],[Fournisseur]]&\" - \"&Tableau46[[#This Row],[Levure]]","v":"Whitelabs - WLP072 French Ale Yeast"},"68 - 75%",17.2,22.8,"Moyenne  -  Haute",63,73,"5 - 10%",null,null,"A clean strain that complements malt flavor.\nLow to moderate esters are produced when fermentation temperature is below 70°F (21°C).\nModerate to high ester character achieved above 70°F (21°C).\nLow diacetyl production.\nA good yeast strain for Bière de Garde, blondes, ambers, brown ales and specialty beers."]
["Whitelabs","WLP075 ","WLP075 Hansen Ale Yeast Blend",{"$f":"Tableau46[[#This Row],[Fournisseur]]&\" - \"&Tableau46[[#This Row],[Levure]]","v":"Whitelabs - WLP075 Hansen Ale Yeast Blend"},"75 - 80%",18.899999999999999,21.1,"Moyenne  -  Haute",66,70,"10 - 15%",null,null,"This is a blend of many IPA strain favorites. It has the attenuation of WLP090 San Diego Super Ale Yeast and the character of WLP007 Dry English Ale Yeast. This strain produces dry, hop-forward beers with minor ester production and is blend is a great flocculator.\nUsed in the White Labs Tasting Room. Visit tastingroom.yeastman.com, and search under the appropriate \"strain #\" for more details.\nAccording to White Labs Brewing Manager Joe Kurowski, \"the strain produced dry attenuation, was hop-forward with minor ester production, and it was a great flocculator.\""]
["Whitelabs","WLP085 ","WLP085 English Ale Yeast Blend",{"$f":"Tableau46[[#This Row],[Fournisseur]]&\" - \"&Tableau46[[#This Row],[Levure]]","v":"Whitelabs - WLP085 English Ale Yeast Blend"},"69 - 76%",20,22.2,"Moyenne  -  Haute",68,72,"5 - 10%",null,null,"A blend of British ale yeast strains designed to add complexity and attenuation to your ale.\nModerate fruitiness and mineral-like character, with little to no sulfur.Drier than WLP002 English Ale Yeast and WLP005 British Ale Yeast, but with similar flocculation properties.\nSuitable for English pale ales, bitters, porters, stouts and IPAs."]
["Whitelabs","WLP090 ","WLP090 San Diego Super Yeast",{"$f":"Tableau46[[#This Row],[Fournisseur]]&\" - \"&Tableau46[[#This Row],[Levure]]","v":"Whitelabs - WLP090 San Diego Super Yeast"},"76 - 83%",18.3,20,"Moyenne  -  Haute",65,68,"10 - 15%",null,null,"A low ester producing strain, it’s known for quick fermentations and producing a neutral flavor and aroma profile similar to WLP001 California Ale Yeast®.\nDue to high attenuation, this strain produces very dry beers with increased perceived bitterness.\nIt also has a high alcohol tolerance which is suitable for a variety of styles and beverages from double IPAs to barleywines, ciders and mead.\nThis is a great all around house strain and ideal for breweries who produce hop-forward beers."]
["Whitelabs","WLP518 ","WLP518 Opshaug Kveik Ale Yeast",{"$f":"Tableau46[[#This Row],[Fournisseur]]&\" - \"&Tableau46[[#This Row],[Levure]]","v":"Whitelabs - WLP518 Opshaug Kveik Ale Yeast"},"70 - 80%",25,30,"Moyenne  -  Haute",77,86,"8 - 12%",null,null,"Sourced from our friend Lars Marius Garshol, this kveik strain was isolated from a mixed culture which belonged to Harald Opshaug, a farmhouse brewer in Stranda, Norway.\nThis strain was originally used in the 1990s to produce several kornøl-style beers.\nIt is a clean fermenting yeast and has tolerated temperatures up to 91°F (33°C) while finishing fermentation within three to four days.\nThe hop-forward, clean characteristics of this strain make it ideal for IPAs and pale ales."]
["Whitelabs","WLP780 ","WLP780 Thai Rice Chong Yeast",{"$f":"Tableau46[[#This Row],[Fournisseur]]&\" - \"&Tableau46[[#This Row],[Levure]]","v":"Whitelabs - WLP780 Thai Rice Chong Yeast"},0.76,"N/A","N/A","N/A","N/A","N/A","10 - 15%",null,null,"Typically used for making rice wine but has shown to ferment beer just fine.\nThe ester profile is very fruity and produces a surprising amount of alcohol (15%).\nThe aroma and flavor were highly favorable compared to rice wine made with the traditional yeast balls."]
["Whitelabs","WLP002 ","WLP002 English Ale Yeast",{"$f":"Tableau46[[#This Row],[Fournisseur]]&\" - \"&Tableau46[[#This Row],[Levure]]","v":"Whitelabs - WLP002 English Ale Yeast"},"63 - 68%",18.3,20,"Très  Haute",65,68,"5 to 10%",null,null,"This is a classic ESB strain from one of England’s largest independent breweries.\nWhile it is traditionally used for English-style ales including milds, bitters, porters, and stouts, it is also ideal for American-style pale ales and IPAs.\nResidual sweetness accentuates malt character along with mild fruity esters, adding complexity to the flavor and aroma of finished beers.\nSlight diacetyl production is common.\nDue to this strain’s high flocculation, the beer will finish clear and the yeast can easily be harvested from the fermenter for future use.\nIt is common for this yeast to look coagulated."]
["Wyeast","1007","German Ale 1007",{"$f":"Tableau46[[#This Row],[Fournisseur]]&\" - \"&Tableau46[[#This Row],[Levure]]","v":"Wyeast - German Ale 1007"},"73 - 77%",12.8,20,"Basse",55,68,11,"American Wheat Beer,\nBerliner Weisse,\nAltbier,\nKölsch,\nInternational Amber Lager,\nAlternative Grain Beer,\nWheatWine,\nBière de Garde,\nHistorical Beer: Gose,\nHistorical Beer: Lichtenhainer,\nHistorical Beer: Grodziskie","WLP036 Düsseldorf Alt Yeast","A true top cropping yeast with low ester formation and a broad temperature range.\nFermentation at higher temperatures may produce mild fruitiness.\nThis powdery strain results in yeast that remains in suspension post fermentation.\nBeers mature rapidly, even when cold fermentation is used. Low or no detectable diacetyl."]
["Wyeast","1028","London Ale 1028",{"$f":"Tableau46[[#This Row],[Fournisseur]]&\" - \"&Tableau46[[#This Row],[Levure]]","v":"Wyeast - London Ale 1028"},"73% - 77%",15.6,22.2,"Basse - Moyenne",60,72,11,"Dark Mild,\nBritish Brown Ale,\nEnglish Porter,\nAmerican Porter,\nIrish Stout,\nIrish Extra Stout,\nImperial Stout,\nTropical Stout,\nForeign Extra Stout,\nEnglish Barleywine,\nOld Ale","WLP013 London Ale","A rich mineral profile that is bold and crisp with some fruitiness.\nOften used for higher gravity ales and when a high level of attenuation is desired."]
["Wyeast","1056","American Ale 1056",{"$f":"Tableau46[[#This Row],[Fournisseur]]&\" - \"&Tableau46[[#This Row],[Levure]]","v":"Wyeast - American Ale 1056"},"73 - 77%",15.6,22.2,"Basse - Moyenne",60,72,11,"American Pale Ale,\nAmerican Amber Ale,\nAmerican Brown Ale,\nAmerican IPA,\nDouble IPA,\nSpecialty IPA: Black IPA,\nSpecialty IPA: Brown IPA,\nSpecialty IPA: Red IPA,\nSpecialty IPA: Rye IPA,\nSpecialty IPA: White IPA,\nAmerican Stout,\nImperial Stout,\nAmerican Barleywine,\nEnglish Porter,\nIrish Stout,\nIrish Red Ale,\nCream Ale,\nWee Heavy,\nAutumn Seasonal Beer,\nWinter Seasonal Beer,\nClassic Style smoked Beer,\nSpecialty Smoked Beer,\nWood-Aged Beer,\nSpecialty Wood-Aged Beer,\nFruit Beer,\nFruit and Spice Beer,\nSpecialty Fruit Beer,\nSpice, Herb or Vegetable Beer,\nBraggot,\nHistorical Beer: Piwo Grodziskie,\nAlternative Sugar Beer","WLP001 California Ale Yeast","Very clean, crisp flavor characteristics with low fruitness and mild ester production.\nA very versatile yeast for styles that desire dominant malt and hop character.\nThis strain makes a wonderful \"House\" strain. Mild citrus notes develop with cooler 60-66F (15-19C) fermentations.\nNormally requires filtration for bright beers."]
["Wyeast","1084","Irish Ale 1084",{"$f":"Tableau46[[#This Row],[Fournisseur]]&\" - \"&Tableau46[[#This Row],[Levure]]","v":"Wyeast - Irish Ale 1084"},"71 - 75%",16.7,22.2,"Moyenne",62,72,12,"Irish Stout,\nIrish Red Ale,\nAmerican Amber Ale,\nAmerican Porter,\nBaltic Porter,\nSweet Stout,\nOatmeal Stout,\nTropical Stout,\nForeign Extra Stout,\nDouble IPA,\nScottish Light,\nScottish Heavy,\nScottish Export,\nWee Heavy,\nAmerican Barleywine,\nClassic Style Smoked Beer,\nSpecialty Smoked Beer,\nWood-Aged Beer,\nSpecialty Wood-Aged Beer,\nSpice, Herb or Vegetable Beer","WLP004 Irish Ale","This versatile yeast ferments extremely well in dark worts.\nIt is a good choice for most high gravity beers.\nBeers fermented in the lower temperature range produce a dry, crisp profile with subtle fruitiness.\nFruit and complex esters will increase when fermentation temperatures are above 64°F (18°C)."]
["Wyeast","1098","British Ale 1098",{"$f":"Tableau46[[#This Row],[Fournisseur]]&\" - \"&Tableau46[[#This Row],[Levure]]","v":"Wyeast - British Ale 1098"},"73 - 75%",17.8,22.2,"Moyenne",64,72,10,"British Brown Ale,\nAmerican Porter,\nEnglish IPA,\nBlonde Ale,\nScottish Light,\nScottish Heavy,\nScottish Export,\nEnglish Barleywine,\nBritish Golden Ale,\nAutralian Sparkling Ale","WLP007 Dry English Ale\nFermentis S04","This yeast allows malt and hop character to dominate the profile.\nIt ferments dry and crisp, producing well-balanced beers with a clean and neutral finish.\nFerments well down to 64°F (18°C)."]
["Wyeast","1187","Ringwood Ale 1187",{"$f":"Tableau46[[#This Row],[Fournisseur]]&\" - \"&Tableau46[[#This Row],[Levure]]","v":"Wyeast - Ringwood Ale 1187"},"68 - 72%",17.8,23.3,"Haute",64,74,10,"English Porter,\nAmerican Porter,\nAmerican Brown Ale,\nDark Mild,\nHistorical Beer: London Brown Ale,\nSweet Stout,\nOatmeal Stout,\nAmerican Stout,\nAmerican IPA,\nSpecialty IPA: Black IPA,\nSpecialty IPA: Brown IPA,\nSpecialty IPA: Red IPA,\nSpecialty IPA: White IPA,\nFruit Beer,\nFruit and Spice Beer,\nSpecialty Fruit Beer,","WLP005 British Ale Yeast","A top cropping yeast strain with unique fermentation and flavor characteristics.\nExpect distinct fruit esters with a malty, complex profile.\nFlocculation is high, and the beer will clear well without filtration.\nA thorough diacetyl rest is recommended after fermentation is complete.\nThis strain can be a slow starter and fermenter."]
["Wyeast","1214","Belgian Abbey Style Ale 1214",{"$f":"Tableau46[[#This Row],[Fournisseur]]&\" - \"&Tableau46[[#This Row],[Levure]]","v":"Wyeast - Belgian Abbey Style Ale 1214"},"74 - 78%",20,25.6,"Basse - Moyenne",68,78,12,"Belgian Dark Strong Ale,\nBelgian Tripel,\nBelgian Dubbel,\nWitbier,\nAutumn Seasonal Beer,\nWinter Seasonal Beer,\nSpecialty IPA: Belgian IPA,\nSpecialty IPA: White IPA","WLP500 Monastery Ale","A widely used and alcohol tolerant Abbey yeast that is suitable for a variety of Belgian style ales.\nThis strain produces a nice ester profile as well as slightly spicy alcohol notes.\nIt can be slow to start; however, it attenuates well."]
["Wyeast","1272","American Ale II 1272",{"$f":"Tableau46[[#This Row],[Fournisseur]]&\" - \"&Tableau46[[#This Row],[Levure]]","v":"Wyeast - American Ale II 1272"},"72 - 76%",15.6,22.2,"Moyenne",60,72,10,"Blond Ale,\nAmerican Pale Ale,\nAmerican Stong Ale,\nAmerican Amber Ale,\nAmerican Brown Ale,\nAmerican IPA,\nDouble IPA,\nSpecialty IPA: Black IPA,\nSpecialty IPA: Brown IPA,\nSpecialty IPA: Red IPA,\nSpecialty IPA: Rye IPA,\nSpecialty IPA: White IPA,\nAmerican Barleywine,\nAmerican Porter,\nAmerican Stout,\nImperial Stout,\nCream Ale,\nIrish Red Ale,\nWee Heavy,\nBritish Strong Ale,\nAutumn Seasonal Beer,\nWinter Seasonal Beer,\nClassic Style Smoked Beer,\nSpecialty Smoked Beer,\nWood-Aged Beer,\nFruit Beer,\nFruit and Spice Beer,\nSpecialty Fruit Beer,\nSpice Herb or Vegetable Beer,\nHistorial Beer: Kentucky Common\n","WLP051 California Ale V","With many of the best qualities that brewers look for when brewing American styles of beer, this strain’s performance is consistent and it makes great beer.\nThis versatile strain is a very good choice for a “House” strain.\nExpect a soft, clean profile with hints of nut, and a slightly tart finish.\nFerment at warmer temperatures to accentuate hop character with an increased fruitiness.\nOr, ferment cool for a clean, light citrus character.\nIt attenuates well and is reliably flocculent, producing bright beer without filtration."]
["Wyeast","1275","Thames Valley Ale 1275",{"$f":"Tableau46[[#This Row],[Fournisseur]]&\" - \"&Tableau46[[#This Row],[Levure]]","v":"Wyeast - Thames Valley Ale 1275"},"72 - 76%",16.7,22.2,"Basse - Moyenne",62,72,10,"Ordinary Bitter,\nBest Bitter,\nStrong Bitter,\nBritish Brown Ale,\nAltbier,\nEnglish Porter,\nAmerican Porter,\nIrish Stout,\nIrish Extra Stout,\nTropical Stout,\nForeign Extra Stout.","WLP023 Burton Ale","This strain produces classic British bitters with a rich, complex flavor profile.\nThe yeast has a light malt character, low fruitiness, low esters and is clean and well balanced."]
["Wyeast","1335","British Ale II 1335",{"$f":"Tableau46[[#This Row],[Fournisseur]]&\" - \"&Tableau46[[#This Row],[Levure]]","v":"Wyeast - British Ale II 1335"},"73 - 76%",22.8,24.4,"Haute",73,76,10,"Ordinaty Bitter,\nBest Bitter,\nStrong Bitter,\nBritish Brown Ale,\nAmerican Brown Ale,\nEnglish Porter,\nIrish Stout,\nIrish Extra Stout,\nEnglish IPA\nEnglish Barleywine,\nTropical Stout,\nForeign Extra Stout,\nCream Ale,\nIrish Red Ale.","WLP025 Southwold Ale","A classic British ale profile with good flocculation and malty flavor characteristics.\nIt will finish crisp, clean and fairly dry."]
["Wyeast","1388","Belgian Strong Ale 1388",{"$f":"Tableau46[[#This Row],[Fournisseur]]&\" - \"&Tableau46[[#This Row],[Levure]]","v":"Wyeast - Belgian Strong Ale 1388"},"74 - 78%",17.8,26.7,"Basse",64,80,12,"Belgian Tripel,\nBelgian Golden Ale\nBière de Garde,\nAutumn Seasonal Beer,\nWinter Seasonal Beer,\nSpecialty IPA: Belgian IPA.","WLP570 Belgian Golden Ale Yeast","The classic choice for brewing golden strong ales.\nThis alcohol tolerant strain will produce a complex ester profile balanced nicely with subtle phenolics.\nMalt flavors and aromas will remain even with a well attenuated dry, tart finish. This strain is prone to stalling at approximately 1.035; racking or slight aeration will encourage it to finish fermentation.\n\nThis Wyeast yeast strain has been classified as Saccharomyces cerevisiae var. diastaticus using rapid PCR analysis.\nThis strain carries the STA1 gene, which is the “signature” gene of Saccharomyces cerevisiae var. diastaticus and will be found in all diastaticus strains."]
["Wyeast","1728","Scottish Ale 1728",{"$f":"Tableau46[[#This Row],[Fournisseur]]&\" - \"&Tableau46[[#This Row],[Levure]]","v":"Wyeast - Scottish Ale 1728"},"69 - 73%",12.8,23.9,"Haute",55,75,12,"Scottish Light,\nScottish Heavy,\nScottish Export,\nWee Heavy,\nIrish Extra Stout,\nTropical Stout,\nForeign Extra Stout,\nImperial Stout,\nDouble IPA,\nAmerican Barleywine,\nBaltic Porter,\nOld Ale,\nAutumn Seasonal Beer,\nWinter Seasonal Beer,\nClassic Style Smoked Beer,\nSpecialty Smoked Beer,\nWood-Aged Beer,\nSpecialty Wood-Aged Beer,\nBraggot.","WLP028 Edinburgh Ale","Our Scottish ale strain is ideally suited for the strong, malty ales of Scotland.\nThis strain is very versatile, and is often used as a “House” strain as it ferments neutral and clean.\nHigher fermentation temperatures will result in an increased ester profile."]
["Wyeast","1762","Belgian Abbey Style Ale II 1762",{"$f":"Tableau46[[#This Row],[Fournisseur]]&\" - \"&Tableau46[[#This Row],[Levure]]","v":"Wyeast - Belgian Abbey Style Ale II 1762"},"73 - 77%",18.3,23.9,"Moyenne",65,75,12,"Belgian Dark Strong Ale,\nBelgian Golden Strong Ale,\nBelgian Blond Ale,\nBière de Garde,\nAmerican Barleywine,\nWee Heavy,\nImperial Stout,\nSpecialty IPA: Belgian IPA.","WLP540 Abbey IV Ale Yeast","An excellent yeast strain for use in Belgian dark strong ales.\nThis strain has a relatively “clean profile” which allows a rich malt and distinctive ethanol character to shine.\nDelicate dried fruit esters can be produced when used at higher fermentation temperatures or in a high gravity wort."]
["Wyeast","1968","London ESB Ale 1968",{"$f":"Tableau46[[#This Row],[Fournisseur]]&\" - \"&Tableau46[[#This Row],[Levure]]","v":"Wyeast - London ESB Ale 1968"},"67 - 71%",17.8,22.2,"Haute",64,72,9,"Ordinary Bitter,\nBest Bitter,\nStong Bitter,\nDark Mild,\nHistorical Beer: London Brown Ale,\nEnglish IPA,\nBritish Strong Ale,\nOld Ale,\nEnglish Barleywine,\nWood-Aged Beer,\nSpecialty Wood-Aged Beer,\nFruit Beer,\nFruit and Spice Beer,\nSpice, Herb and Vegetables Beer.","WLP002 English Ale\n Lallemand Danstar Munton’s Ale Yeast","A very good cask conditioned ale strain, this extremely flocculant yeast produces distinctly malty beers.\nAttenuation levels are typically less than most other yeast strains which results in a slightly sweeter finish.\nAles produced with this strain tend to be fruity, increasingly so with higher fermentation temperatures of 70-74°F (21-23° C).\nA thorough diacetyl rest is recommended after fermentation is complete.\nBright beers are easily achieved within days without any filtration."]
["Wyeast","2001 PC","Pilsner Urquell H-Strain 2001 PC",{"$f":"Tableau46[[#This Row],[Fournisseur]]&\" - \"&Tableau46[[#This Row],[Levure]]","v":"Wyeast - Pilsner Urquell H-Strain 2001 PC"},"72 - 76%",8.9,13.3,"Moyenne - Haute",48,56,9,"Czech Premium Pale Lager","WLP800 Pilsner Lager","With a mild fruit and floral aroma this strain has a very dry and clean palate with a full mouthfeel and nice subtle malt character.\nIt has a very clean and neutral finish."]
["Wyeast","2007","Pilsen Lager 2007",{"$f":"Tableau46[[#This Row],[Fournisseur]]&\" - \"&Tableau46[[#This Row],[Levure]]","v":"Wyeast - Pilsen Lager 2007"},null,17.8,17.8,null,null,null,null,null,"WLP840 American Pilsner Lager Yeast"]
["Wyeast","2112","California Lager 2112",{"$f":"Tableau46[[#This Row],[Fournisseur]]&\" - \"&Tableau46[[#This Row],[Levure]]","v":"Wyeast - California Lager 2112"},null,17.8,17.8,null,null,null,null,null,"WLP810 San Francisco Lager Yeast"]
["Wyeast","2124","Bohemian Lager 2124",{"$f":"Tableau46[[#This Row],[Fournisseur]]&\" - \"&Tableau46[[#This Row],[Levure]]","v":"Wyeast - Bohemian Lager 2124"},null,17.8,17.8,null,null,null,null,null,"WLP820 Oktoberfest Lager Yeast"]
["Wyeast","2206","Bavarian Lager 2206",{"$f":"Tableau46[[#This Row],[Fournisseur]]&\" - \"&Tableau46[[#This Row],[Levure]]","v":"Wyeast - Bavarian Lager 2206"},null,17.8,17.8,null,null,null,null,null,"WLP830 German Lager Yeast"]
["Wyeast","2247 PC","European Lager 2247 PC",{"$f":"Tableau46[[#This Row],[Fournisseur]]&\" - \"&Tableau46[[#This Row],[Levure]]","v":"Wyeast - European Lager 2247 PC"},null,17.8,17.8,null,null,null,null,null,"WLP920 Old Bavarian Lager Yeast"]
["Wyeast","2272 PC","North American Lager 2272 PC",{"$f":"Tableau46[[#This Row],[Fournisseur]]&\" - \"&Tableau46[[#This Row],[Levure]]","v":"Wyeast - North American Lager 2272 PC"},null,17.8,17.8,null,null,null,null,null,"WLP840 American Pilsner Lager Yeast"]
["Wyeast","2308","Munich Lager 2308",{"$f":"Tableau46[[#This Row],[Fournisseur]]&\" - \"&Tableau46[[#This Row],[Levure]]","v":"Wyeast - Munich Lager 2308"},null,17.8,17.8,null,null,null,null,null,"WLP838 Southern German Lager Yeast"]
["Wyeast","2487 PC","Hella Bock Lager 2487 PC",{"$f":"Tableau46[[#This Row],[Fournisseur]]&\" - \"&Tableau46[[#This Row],[Levure]]","v":"Wyeast - Hella Bock Lager 2487 PC"},null,17.8,17.8,null,null,null,null,null,"WLP833 German Bock Yeast"]
["Wyeast","2575 PC","Kölsch II 2575 PC",{"$f":"Tableau46[[#This Row],[Fournisseur]]&\" - \"&Tableau46[[#This Row],[Levure]]","v":"Wyeast - Kölsch II 2575 PC"},"73 - 77%",12.8,21.1,"Basse",55,70,10,"Kölsch,\nAltbier,\nInternational Amber Lager,\nFestBier","WLP003 German Ale II","This authentic Kӧlsch strain from one of Germany’s leading brewing schools has a rich flavor profile which accentuates a soft malt finish.\nIt has Low or no detectable diacetyl production and will also ferment well at colder temperatures for fast lager type beers."]
["Wyeast","3068","Weihenstephan Weizen 3068",{"$f":"Tableau46[[#This Row],[Fournisseur]]&\" - \"&Tableau46[[#This Row],[Levure]]","v":"Wyeast - Weihenstephan Weizen 3068"},"73 - 77%",17.8,23.9,"Basse",64,75,10,"Weissbier,\nWeizenBock,\nDunkles Weizen,\nHistorical Beer: Roggenbier,\nHistorical Beer: Sahti,\nFruit Beer,\nFruit and Spice Beer,\nSpecialty Fruit Beer.","WLP300 Hefeweizen Ale","The classic and most popular German wheat beer strain used worldwide.\nThis yeast strain produces a beautiful and delicate balance of banana esters and clove phenolics.\nThe balance can be manipulated towards ester production through increasing the fermentation temperature, increasing the wort density, and decreasing the pitch rate.\nOver pitching can result in a near complete loss of banana character.\nDecreasing the ester level will allow a higher clove character to be perceived.\nSulfur is commonly produced, but will dissipate with conditioning.\nThis strain is very powdery and will remain in suspension for an extended amount of time following attenuation.\nThis is true top cropping yeast and requires fermenter headspace of 33%."]
["Wyeast","3333 PC","German Wheat 3333 PC",{"$f":"Tableau46[[#This Row],[Fournisseur]]&\" - \"&Tableau46[[#This Row],[Levure]]","v":"Wyeast - German Wheat 3333 PC"},"70 - 76%",17.2,23.9,"Haute",63,75,10,"Weissbier,\nWeizenBock,\nDunkles Weizen,\nHistorical Beer: Roggenbier,\nHistorical Beer: Sahti."," WLP380 Hefeweizen IV Ale Yeast","A highly flocculent German wheat beer strain that is the perfect choice for use in Kristallweizen.\nThis yeast strain produces a beautiful and delicate balance of banana esters and clove phenolics similar to the popular Wyeast 3068.\nHowever, this strain will sediment rapidly, resulting in bright beer without filtration.\nThe balance can be manipulated towards ester production through increasing fermentation temperature, increasing the wort density, and decreasing the pitch rate.\nOver pitching can result in a near complete loss of banana character.\nSulfur is commonly produced, but will dissipate with conditioning."]
["Wyeast","3463 PC","Forbidden Fruit 3463 PC",{"$f":"Tableau46[[#This Row],[Fournisseur]]&\" - \"&Tableau46[[#This Row],[Levure]]","v":"Wyeast - Forbidden Fruit 3463 PC"},"72 - 76%",17.2,24.4,"Basse",63,76,12,"Witbier,\nSpecialty IPA: White IPA.","WLP720 Sweet Mead /Wine Yeast","A widely-used strain in the production of Witbier and Grand Cru.\nThis yeast will produce spicy phenolics which are balanced nicely by a complex ester profile.\nThe subtle fruit character and dry tart finish will complement wheat malt, orange peel and spice additions typical of Wits."]
["Wyeast","3522","Belgian Ardennes 3522",{"$f":"Tableau46[[#This Row],[Fournisseur]]&\" - \"&Tableau46[[#This Row],[Levure]]","v":"Wyeast - Belgian Ardennes 3522"},"72 - 76%",18.3,24.4,"Haute",65,76,12,"Belgian Pale Ale,\nBelgian Dubbel,\nBelgian Golden Strong Ale,\nBelgian Dark Strong Ale,\nBelgian Blond Ale,\nOud Bruin,\nSpecialty IPA: Belgian IPA","WLP550 Belgian Ale Yeast","One of the great and versatile strains for the production of classic Belgian style ales.\nThis strain produces a beautiful balance of delicate fruit esters and subtle spicy notes, with neither one dominating.\nUnlike many other Belgian style strains, this strain is highly flocculent and results in bright beers."]
["Wyeast","3638","Bavarian Wheat 3638",{"$f":"Tableau46[[#This Row],[Fournisseur]]&\" - \"&Tableau46[[#This Row],[Levure]]","v":"Wyeast - Bavarian Wheat 3638"},"70 - 76%",17.8,23.9,"Basse",64,75,10,"Weissbier,\nWeizenBock,\nDunkles Weizen,\nHistorical Beer: Roggenbier.","WLP351 Bavarian Weizen Yeast","A complex alternative to the standard German wheat strain profile.\nThis strain produces apple, pear, and plum esters in addition to the dominant banana character.\nThe esters are complemented nicely by clove and subtle vanilla phenolics.\nThe balance can be manipulated towards ester production through increasing fermentation temperature, increasing the wort density, and decreasing the pitch rate.\nOver pitching can result in a near complete loss of banana character. Decreasing the ester level will allow a higher clove character to be perceived.\nSulfur is commonly produced, but will dissipate with conditioning.\nThis strain is very powdery and will remain in suspension for an extended amount of time following attenuation.\nThis is true top cropping yeast and requires fermenter headspace of 33%."]
["Wyeast","3724","Belgian Saison 3724",{"$f":"Tableau46[[#This Row],[Fournisseur]]&\" - \"&Tableau46[[#This Row],[Levure]]","v":"Wyeast - Belgian Saison 3724"},"76 - 80%",21.1,35,"Basse",70,95,12,"Saison","WLP565 Saison Ale Yeast","This strain is the classic farmhouse ale yeast. A traditional yeast that is spicy with complex aromatics, including bubble gum.\nIt is very tart and dry on the palate with a mild fruitiness. Expect a crisp, mildly acidic finish that will benefit from elevated fermentation temperatures.\nThis strain is notorious for a rapid and vigorous start to fermentation, only to stick around 1.035 S.G. Fermentation will finish, given time and warm temperatures.\nWarm fermentation temperatures, at least 90°F (32°C), or the use of a secondary strain can accelerate attenuation.\n\n This Wyeast yeast strain has been classified as Saccharomyces cerevisiae var. diastaticus using rapid PCR analysis. This strain carries the STA1 gene, which is the “signature” gene of Saccharomyces cerevisiae var. diastaticus and will be found in all diastaticus strains."]
["Wyeast","3787","Trappist Style High Gravity 3787",{"$f":"Tableau46[[#This Row],[Fournisseur]]&\" - \"&Tableau46[[#This Row],[Levure]]","v":"Wyeast - Trappist Style High Gravity 3787"},"74 - 78%",17.8,25.6,"Moyenne",64,78,11,"Belgian Dubbel,\nBelgian Tripel,\nBelgian Golden Strong Ale,\nBière de Garde,\nTrappist Single,\nSpecialty IPA: Belgian IPA","WLP530 Abbey Ale Yeast","A classic strain for brewing Belgian dubbel or Belgian tripel.\nThis Abbey strain produces a nice balance of complex fruity esters and phenolics, making it desirable for use in other Belgian style ales as well.\nA flocculent, true top cropping yeast (additional headspace is recommended), that will work over a broad temperature range.\nThis strain makes a great Belgian style “house” strain."]
["Wyeast","3864 PC","Canadian/Belgian Ale 3864 PC",{"$f":"Tableau46[[#This Row],[Fournisseur]]&\" - \"&Tableau46[[#This Row],[Levure]]","v":"Wyeast - Canadian/Belgian Ale 3864 PC"},"75 - 79%",18.3,26.7,"Moyenne",65,80,12,"Belgian Dubbel,\nBelgian Tripel,\nBelgian Golden Strong Ale,\nBière de Garde,\nWitbier",null,"This alcohol-tolerant strain produces complex and well-balanced Belgian Abbey-style ales.\nBanana and fruit esters are complemented nicely with mild levels of phenolics and hints of acidity.\nEster levels may be elevated by increasing gravity and fermentation temperatures.\nThis Wyeast yeast strain has been classified as Saccharomyces cerevisiae var. diastaticus using rapid PCR analysis. This strain carries the STA1 gene, which is the “signature” gene of Saccharomyces cerevisiae var. diastaticus and will be found in all diastaticus strains."]
["Wyeast","3944","Belgian Witbier 3944",{"$f":"Tableau46[[#This Row],[Fournisseur]]&\" - \"&Tableau46[[#This Row],[Levure]]","v":"Wyeast - Belgian Witbier 3944"},"72% - 76%",16.7,23.9,"Moyenne",62,75,11,"Witbier,\nBelgian Dubbel,\nBelgian Tripel,\nAutumn Seasonal Beer,\nWintel Seasonal Beer,\nSpice, herb, or Vegetable Beer,\nSpecialty IPA: Belgian IPA,\nSpecialty IPA: White IPA","WLP400 Belgian Wit","This versatile witbier yeast strain can be used in a variety of Belgian style ales.\nThis strain produces a complex flavor profile dominated by spicy phenolics with low to moderate ester production.\nIt is a great strain choice when you want a delicate clove profile not to be overshadowed by esters.\nIt will ferment fairly dry with a slightly tart finish that compliments the use of oats, malted and unmalted wheat.\nThis strain is a true top cropping yeast requiring full fermenter headspace of 33%."]
["Wyeast",3068,"Weihenstephan Weizen",{"$f":"Tableau46[[#This Row],[Fournisseur]]&\" - \"&Tableau46[[#This Row],[Levure]]","v":"Wyeast - Weihenstephan Weizen"},"73-77%",18,24,"Basse",64.400000000000006,75.2,10,"Weissbier",null,"La souche de bière de blé allemande classique la plus populaire utilisée dans le monde entier. Cette souche de levure produit un bel et délicat équilibre d'esters de banane et de clou de girofle phenolics. L'équilibre peut être manipulé vers la production d'ester par l'augmentation de la température de fermentation, l'augmentation de la densité de moût et la diminution du taux d'ensemencement. Le sur-ensemencement peut aboutir à une perte presque complète du caractère de banane. La diminution de ce niveau d'ester permettra à un caractère de clou de girofle d'être perçue alors de façon prédominante. Du soufre est généralement produit, mais se dissipera avec le conditionnement. Cette souche est très pulvérulente et restera en suspension pour un temps prolongé après l'atténuation. Elle est une véritable souche de \"top cropping\" et nécessite un espace vide dans le fermenteur de 33% afin d'éviter toutdébordement."]
[null,null,null,{"$f":"Tableau46[[#This Row],[Fournisseur]]&\" - \"&Tableau46[[#This Row],[Levure]]","v":" - "}]
[null,null,null,{"$f":"Tableau46[[#This Row],[Fournisseur]]&\" - \"&Tableau46[[#This Row],[Levure]]","v":" - "}]
[null,null,null,{"$f":"Tableau46[[#This Row],[Fournisseur]]&\" - \"&Tableau46[[#This Row],[Levure]]","v":" - "}]
[null,null,null,{"$f":"Tableau46[[#This Row],[Fournisseur]]&\" - \"&Tableau46[[#This Row],[Levure]]","v":" - "}]
[null,null,null,{"$f":"Tableau46[[#This Row],[Fournisseur]]&\" - \"&Tableau46[[#This Row],[Levure]]","v":" - "}]
[null,null,null,{"$f":"Tableau46[[#This Row],[Fournisseur]]&\" - \"&Tableau46[[#This Row],[Levure]]","v":" - "}]
[null,null,null,{"$f":"Tableau46[[#This Row],[Fournisseur]]&\" - \"&Tableau46[[#This Row],[Levure]]","v":" - "}]
[null,null,null,{"$f":"Tableau46[[#This Row],[Fournisseur]]&\" - \"&Tableau46[[#This Row],[Levure]]","v":" - "}]
[null,null,null,{"$f":"Tableau46[[#This Row],[Fournisseur]]&\" - \"&Tableau46[[#This Row],[Levure]]","v":" - "}]
[null,null,null,{"$f":"Tableau46[[#This Row],[Fournisseur]]&\" - \"&Tableau46[[#This Row],[Levure]]","v":" - "}]
[null,null,null,{"$f":"Tableau46[[#This Row],[Fournisseur]]&\" - \"&Tableau46[[#This Row],[Levure]]","v":" - "}]
[null,null,null,{"$f":"Tableau46[[#This Row],[Fournisseur]]&\" - \"&Tableau46[[#This Row],[Levure]]","v":" - "}]
[null,null,null,{"$f":"Tableau46[[#This Row],[Fournisseur]]&\" - \"&Tableau46[[#This Row],[Levure]]","v":" - "}]
[null,null,null,{"$f":"Tableau46[[#This Row],[Fournisseur]]&\" - \"&Tableau46[[#This Row],[Levure]]","v":" - "}]
[null,null,null,{"$f":"Tableau46[[#This Row],[Fournisseur]]&\" - \"&Tableau46[[#This Row],[Levure]]","v":" - "}]
[null,null,null,{"$f":"Tableau46[[#This Row],[Fournisseur]]&\" - \"&Tableau46[[#This Row],[Levure]]","v":" - "}]
[null,null,null,{"$f":"Tableau46[[#This Row],[Fournisseur]]&\" - \"&Tableau46[[#This Row],[Levure]]","v":" - "}]
[null,null,null,{"$f":"Tableau46[[#This Row],[Fournisseur]]&\" - \"&Tableau46[[#This Row],[Levure]]","v":" - "}]
[null,null,null,{"$f":"Tableau46[[#This Row],[Fournisseur]]&\" - \"&Tableau46[[#This Row],[Levure]]","v":" - "}]
[null,null,null,{"$f":"Tableau46[[#This Row],[Fournisseur]]&\" - \"&Tableau46[[#This Row],[Levure]]","v":" - "}]
[null,null,null,{"$f":"Tableau46[[#This Row],[Fournisseur]]&\" - \"&Tableau46[[#This Row],[Levure]]","v":" - "}]
[null,null,null,{"$f":"Tableau46[[#This Row],[Fournisseur]]&\" - \"&Tableau46[[#This Row],[Levure]]","v":" - "}]
[null,null,null,{"$f":"Tableau46[[#This Row],[Fournisseur]]&\" - \"&Tableau46[[#This Row],[Levure]]","v":" - "}]
[null,null,null,{"$f":"Tableau46[[#This Row],[Fournisseur]]&\" - \"&Tableau46[[#This Row],[Levure]]","v":" - "}]
[null,null,null,{"$f":"Tableau46[[#This Row],[Fournisseur]]&\" - \"&Tableau46[[#This Row],[Levure]]","v":" - "}]
[null,null,null,{"$f":"Tableau46[[#This Row],[Fournisseur]]&\" - \"&Tableau46[[#This Row],[Levure]]","v":" - "}]
[null,null,null,{"$f":"Tableau46[[#This Row],[Fournisseur]]&\" - \"&Tableau46[[#This Row],[Levure]]","v":" - "}]
[null,null,null,{"$f":"Tableau46[[#This Row],[Fournisseur]]&\" - \"&Tableau46[[#This Row],[Levure]]","v":" - "}]
[null,null,null,{"$f":"Tableau46[[#This Row],[Fournisseur]]&\" - \"&Tableau46[[#This Row],[Levure]]","v":" - "}]
[null,null,null,{"$f":"Tableau46[[#This Row],[Fournisseur]]&\" - \"&Tableau46[[#This Row],[Levure]]","v":" - "}]
[null,null,null,{"$f":"Tableau46[[#This Row],[Fournisseur]]&\" - \"&Tableau46[[#This Row],[Levure]]","v":" - "}]
[null,null,null,{"$f":"Tableau46[[#This Row],[Fournisseur]]&\" - \"&Tableau46[[#This Row],[Levure]]","v":" - "}]
[null,null,null,{"$f":"Tableau46[[#This Row],[Fournisseur]]&\" - \"&Tableau46[[#This Row],[Levure]]","v":" - "}]
[null,null,null,{"$f":"Tableau46[[#This Row],[Fournisseur]]&\" - \"&Tableau46[[#This Row],[Levure]]","v":" - "}]
[null,null,null,{"$f":"Tableau46[[#This Row],[Fournisseur]]&\" - \"&Tableau46[[#This Row],[Levure]]","v":" - "}]
[null,null,null,{"$f":"Tableau46[[#This Row],[Fournisseur]]&\" - \"&Tableau46[[#This Row],[Levure]]","v":" - "}]
[null,null,null,{"$f":"Tableau46[[#This Row],[Fournisseur]]&\" - \"&Tableau46[[#This Row],[Levure]]","v":" - "}]
[null,null,null,{"$f":"Tableau46[[#This Row],[Fournisseur]]&\" - \"&Tableau46[[#This Row],[Levure]]","v":" - "}]
[null,null,null,{"$f":"Tableau46[[#This Row],[Fournisseur]]&\" - \"&Tableau46[[#This Row],[Levure]]","v":" - "}]
[null,null,null,{"$f":"Tableau46[[#This Row],[Fournisseur]]&\" - \"&Tableau46[[#This Row],[Levure]]","v":" - "}]
[null,null,null,{"$f":"Tableau46[[#This Row],[Fournisseur]]&\" - \"&Tableau46[[#This Row],[Levure]]","v":" - "}]
[null,null,null,{"$f":"Tableau46[[#This Row],[Fournisseur]]&\" - \"&Tableau46[[#This Row],[Levure]]","v":" - "}]
[null,null,null,{"$f":"Tableau46[[#This Row],[Fournisseur]]&\" - \"&Tableau46[[#This Row],[Levure]]","v":" - "}]
[null,null,null,{"$f":"Tableau46[[#This Row],[Fournisseur]]&\" - \"&Tableau46[[#This Row],[Levure]]","v":" - "}]
[null,null,null,{"$f":"Tableau46[[#This Row],[Fournisseur]]&\" - \"&Tableau46[[#This Row],[Levure]]","v":" - "}]
[null,null,null,{"$f":"Tableau46[[#This Row],[Fournisseur]]&\" - \"&Tableau46[[#This Row],[Levure]]","v":" - "}]
[null,null,null,{"$f":"Tableau46[[#This Row],[Fournisseur]]&\" - \"&Tableau46[[#This Row],[Levure]]","v":" - "}]
[null,null,null,{"$f":"Tableau46[[#This Row],[Fournisseur]]&\" - \"&Tableau46[[#This Row],[Levure]]","v":" - "}]
[null,null,null,{"$f":"Tableau46[[#This Row],[Fournisseur]]&\" - \"&Tableau46[[#This Row],[Levure]]","v":" - "}]
[null,null,null,{"$f":"Tableau46[[#This Row],[Fournisseur]]&\" - \"&Tableau46[[#This Row],[Levure]]","v":" - "}]
[null,null,null,{"$f":"Tableau46[[#This Row],[Fournisseur]]&\" - \"&Tableau46[[#This Row],[Levure]]","v":" - "}]
[null,null,null,{"$f":"Tableau46[[#This Row],[Fournisseur]]&\" - \"&Tableau46[[#This Row],[Levure]]","v":" - "}]
[null,null,null,{"$f":"Tableau46[[#This Row],[Fournisseur]]&\" - \"&Tableau46[[#This Row],[Levure]]","v":" - "}]
[null,null,null,{"$f":"Tableau46[[#This Row],[Fournisseur]]&\" - \"&Tableau46[[#This Row],[Levure]]","v":" - "}]
[null,null,null,{"$f":"Tableau46[[#This Row],[Fournisseur]]&\" - \"&Tableau46[[#This Row],[Levure]]","v":" - "}]
[null,null,null,{"$f":"Tableau46[[#This Row],[Fournisseur]]&\" - \"&Tableau46[[#This Row],[Levure]]","v":" - "}]
[null,null,null,{"$f":"Tableau46[[#This Row],[Fournisseur]]&\" - \"&Tableau46[[#This Row],[Levure]]","v":" - "}]
[null,null,null,{"$f":"Tableau46[[#This Row],[Fournisseur]]&\" - \"&Tableau46[[#This Row],[Levure]]","v":" - "}]
[null,null,null,{"$f":"Tableau46[[#This Row],[Fournisseur]]&\" - \"&Tableau46[[#This Row],[Levure]]","v":" - "}]
[null,null,null,{"$f":"Tableau46[[#This Row],[Fournisseur]]&\" - \"&Tableau46[[#This Row],[Levure]]","v":" - "}]
[null,null,null,{"$f":"Tableau46[[#This Row],[Fournisseur]]&\" - \"&Tableau46[[#This Row],[Levure]]","v":" - "}]
[null,null,null,{"$f":"Tableau46[[#This Row],[Fournisseur]]&\" - \"&Tableau46[[#This Row],[Levure]]","v":" - "}]
[null,null,null,{"$f":"Tableau46[[#This Row],[Fournisseur]]&\" - \"&Tableau46[[#This Row],[Levure]]","v":" - "}]
[null,null,null,{"$f":"Tableau46[[#This Row],[Fournisseur]]&\" - \"&Tableau46[[#This Row],[Levure]]","v":" - "}]
[null,null,null,{"$f":"Tableau46[[#This Row],[Fournisseur]]&\" - \"&Tableau46[[#This Row],[Levure]]","v":" - "}]
[null,null,null,{"$f":"Tableau46[[#This Row],[Fournisseur]]&\" - \"&Tableau46[[#This Row],[Levure]]","v":" - "}]
[null,null,null,{"$f":"Tableau46[[#This Row],[Fournisseur]]&\" - \"&Tableau46[[#This Row],[Levure]]","v":" - "}]
[null,null,null,{"$f":"Tableau46[[#This Row],[Fournisseur]]&\" - \"&Tableau46[[#This Row],[Levure]]","v":" - "}]
[null,null,null,{"$f":"Tableau46[[#This Row],[Fournisseur]]&\" - \"&Tableau46[[#This Row],[Levure]]","v":" - "}]
[null,null,null,{"$f":"Tableau46[[#This Row],[Fournisseur]]&\" - \"&Tableau46[[#This Row],[Levure]]","v":" - "}]
[null,null,null,{"$f":"Tableau46[[#This Row],[Fournisseur]]&\" - \"&Tableau46[[#This Row],[Levure]]","v":" - "}]
[null,null,null,{"$f":"Tableau46[[#This Row],[Fournisseur]]&\" - \"&Tableau46[[#This Row],[Levure]]","v":" - "}]
[null,null,null,{"$f":"Tableau46[[#This Row],[Fournisseur]]&\" - \"&Tableau46[[#This Row],[Levure]]","v":" - "}]
[null,null,null,{"$f":"Tableau46[[#This Row],[Fournisseur]]&\" - \"&Tableau46[[#This Row],[Levure]]","v":" - "}]
[null,null,null,{"$f":"Tableau46[[#This Row],[Fournisseur]]&\" - \"&Tableau46[[#This Row],[Levure]]","v":" - "}]
[null,null,null,{"$f":"Tableau46[[#This Row],[Fournisseur]]&\" - \"&Tableau46[[#This Row],[Levure]]","v":" - "}]
[null,null,null,{"$f":"Tableau46[[#This Row],[Fournisseur]]&\" - \"&Tableau46[[#This Row],[Levure]]","v":" - "}]
[null,null,null,{"$f":"Tableau46[[#This Row],[Fournisseur]]&\" - \"&Tableau46[[#This Row],[Levure]]","v":" - "}]
[null,null,null,{"$f":"Tableau46[[#This Row],[Fournisseur]]&\" - \"&Tableau46[[#This Row],[Levure]]","v":" - "}]
[null,null,null,{"$f":"Tableau46[[#This Row],[Fournisseur]]&\" - \"&Tableau46[[#This Row],[Levure]]","v":" - "}]
[null,null,null,{"$f":"Tableau46[[#This Row],[Fournisseur]]&\" - \"&Tableau46[[#This Row],[Levure]]","v":" - "}]
[null,null,null,{"$f":"Tableau46[[#This Row],[Fournisseur]]&\" - \"&Tableau46[[#This Row],[Levure]]","v":" - "}]
[null,null,null,{"$f":"Tableau46[[#This Row],[Fournisseur]]&\" - \"&Tableau46[[#This Row],[Levure]]","v":" - "}]
[null,null,null,{"$f":"Tableau46[[#This Row],[Fournisseur]]&\" - \"&Tableau46[[#This Row],[Levure]]","v":" - "}]
[null,null,null,{"$f":"Tableau46[[#This Row],[Fournisseur]]&\" - \"&Tableau46[[#This Row],[Levure]]","v":" - "}]
[null,null,null,{"$f":"Tableau46[[#This Row],[Fournisseur]]&\" - \"&Tableau46[[#This Row],[Levure]]","v":" - "}]
[null,null,null,{"$f":"Tableau46[[#This Row],[Fournisseur]]&\" - \"&Tableau46[[#This Row],[Levure]]","v":" - "}]
[null,null,null,{"$f":"Tableau46[[#This Row],[Fournisseur]]&\" - \"&Tableau46[[#This Row],[Levure]]","v":" - "}]
[null,null,null,{"$f":"Tableau46[[#This Row],[Fournisseur]]&\" - \"&Tableau46[[#This Row],[Levure]]","v":" - "}]
[null,null,null,{"$f":"Tableau46[[#This Row],[Fournisseur]]&\" - \"&Tableau46[[#This Row],[Levure]]","v":" - "}]
[null,null,null,{"$f":"Tableau46[[#This Row],[Fournisseur]]&\" - \"&Tableau46[[#This Row],[Levure]]","v":" - "}]
[null,null,null,{"$f":"Tableau46[[#This Row],[Fournisseur]]&\" - \"&Tableau46[[#This Row],[Levure]]","v":" - "}]
[null,null,null,{"$f":"Tableau46[[#This Row],[Fournisseur]]&\" - \"&Tableau46[[#This Row],[Levure]]","v":" - "}]
[null,null,null,{"$f":"Tableau46[[#This Row],[Fournisseur]]&\" - \"&Tableau46[[#This Row],[Levure]]","v":" - "}]
[null,null,null,{"$f":"Tableau46[[#This Row],[Fournisseur]]&\" - \"&Tableau46[[#This Row],[Levure]]","v":" - "}]
[null,null,null,{"$f":"Tableau46[[#This Row],[Fournisseur]]&\" - \"&Tableau46[[#This Row],[Levure]]","v":" - "}]
[null,null,null,{"$f":"Tableau46[[#This Row],[Fournisseur]]&\" - \"&Tableau46[[#This Row],[Levure]]","v":" - "}]
[null,null,null,{"$f":"Tableau46[[#This Row],[Fournisseur]]&\" - \"&Tableau46[[#This Row],[Levure]]","v":" - "}]
[null,null,null,{"$f":"Tableau46[[#This Row],[Fournisseur]]&\" - \"&Tableau46[[#This Row],[Levure]]","v":" - "}]
[null,null,null,{"$f":"Tableau46[[#This Row],[Fournisseur]]&\" - \"&Tableau46[[#This Row],[Levure]]","v":" - "}]
[null,null,null,{"$f":"Tableau46[[#This Row],[Fournisseur]]&\" - \"&Tableau46[[#This Row],[Levure]]","v":" - "}]
[null,null,null,{"$f":"Tableau46[[#This Row],[Fournisseur]]&\" - \"&Tableau46[[#This Row],[Levure]]","v":" - "}]
[null,null,null,{"$f":"Tableau46[[#This Row],[Fournisseur]]&\" - \"&Tableau46[[#This Row],[Levure]]","v":" - "}]
[null,null,null,{"$f":"Tableau46[[#This Row],[Fournisseur]]&\" - \"&Tableau46[[#This Row],[Levure]]","v":" - "}]
[null,null,null,{"$f":"Tableau46[[#This Row],[Fournisseur]]&\" - \"&Tableau46[[#This Row],[Levure]]","v":" - "}]
[null,null,null,{"$f":"Tableau46[[#This Row],[Fournisseur]]&\" - \"&Tableau46[[#This Row],[Levure]]","v":" - "}]
[null,null,null,{"$f":"Tableau46[[#This Row],[Fournisseur]]&\" - \"&Tableau46[[#This Row],[Levure]]","v":" - "}]
[null,null,null,{"$f":"Tableau46[[#This Row],[Fournisseur]]&\" - \"&Tableau46[[#This Row],[Levure]]","v":" - "}]
[null,null,null,{"$f":"Tableau46[[#This Row],[Fournisseur]]&\" - \"&Tableau46[[#This Row],[Levure]]","v":" - "}]
[null,null,null,{"$f":"Tableau46[[#This Row],[Fournisseur]]&\" - \"&Tableau46[[#This Row],[Levure]]","v":" - "}]
[null,null,null,{"$f":"Tableau46[[#This Row],[Fournisseur]]&\" - \"&Tableau46[[#This Row],[Levure]]","v":" - "}]
[null,null,null,{"$f":"Tableau46[[#This Row],[Fournisseur]]&\" - \"&Tableau46[[#This Row],[Levure]]","v":" - "}]
[null,null,null,{"$f":"Tableau46[[#This Row],[Fournisseur]]&\" - \"&Tableau46[[#This Row],[Levure]]","v":" - "}]
[null,null,null,{"$f":"Tableau46[[#This Row],[Fournisseur]]&\" - \"&Tableau46[[#This Row],[Levure]]","v":" - "}]
[null,null,null,{"$f":"Tableau46[[#This Row],[Fournisseur]]&\" - \"&Tableau46[[#This Row],[Levure]]","v":" - "}]
[null,null,null,{"$f":"Tableau46[[#This Row],[Fournisseur]]&\" - \"&Tableau46[[#This Row],[Levure]]","v":" - "}]
[null,null,null,{"$f":"Tableau46[[#This Row],[Fournisseur]]&\" - \"&Tableau46[[#This Row],[Levure]]","v":" - "}]
[null,null,null,{"$f":"Tableau46[[#This Row],[Fournisseur]]&\" - \"&Tableau46[[#This Row],[Levure]]","v":" - "}]
[null,null,null,{"$f":"Tableau46[[#This Row],[Fournisseur]]&\" - \"&Tableau46[[#This Row],[Levure]]","v":" - "}]
[null,null,null,{"$f":"Tableau46[[#This Row],[Fournisseur]]&\" - \"&Tableau46[[#This Row],[Levure]]","v":" - "}]
[null,null,null,{"$f":"Tableau46[[#This Row],[Fournisseur]]&\" - \"&Tableau46[[#This Row],[Levure]]","v":" - "}]
[null,null,null,{"$f":"Tableau46[[#This Row],[Fournisseur]]&\" - \"&Tableau46[[#This Row],[Levure]]","v":" - "}]
[null,null,null,{"$f":"Tableau46[[#This Row],[Fournisseur]]&\" - \"&Tableau46[[#This Row],[Levure]]","v":" - "}]
[null,null,null,{"$f":"Tableau46[[#This Row],[Fournisseur]]&\" - \"&Tableau46[[#This Row],[Levure]]","v":" - "}]
[null,null,null,{"$f":"Tableau46[[#This Row],[Fournisseur]]&\" - \"&Tableau46[[#This Row],[Levure]]","v":" - "}]
[null,null,null,{"$f":"Tableau46[[#This Row],[Fournisseur]]&\" - \"&Tableau46[[#This Row],[Levure]]","v":" - "}]
[null,null,null,{"$f":"Tableau46[[#This Row],[Fournisseur]]&\" - \"&Tableau46[[#This Row],[Levure]]","v":" - "}]
[null,null,null,{"$f":"Tableau46[[#This Row],[Fournisseur]]&\" - \"&Tableau46[[#This Row],[Levure]]","v":" - "}]
[null,null,null,{"$f":"Tableau46[[#This Row],[Fournisseur]]&\" - \"&Tableau46[[#This Row],[Levure]]","v":" - "}]
[null,null,null,{"$f":"Tableau46[[#This Row],[Fournisseur]]&\" - \"&Tableau46[[#This Row],[Levure]]","v":" - "}]
[null,null,null,{"$f":"Tableau46[[#This Row],[Fournisseur]]&\" - \"&Tableau46[[#This Row],[Levure]]","v":" - "}]
[null,null,null,{"$f":"Tableau46[[#This Row],[Fournisseur]]&\" - \"&Tableau46[[#This Row],[Levure]]","v":" - "}]
[null,null,null,{"$f":"Tableau46[[#This Row],[Fournisseur]]&\" - \"&Tableau46[[#This Row],[Levure]]","v":" - "}]
[null,null,null,{"$f":"Tableau46[[#This Row],[Fournisseur]]&\" - \"&Tableau46[[#This Row],[Levure]]","v":" - "}]
[null,null,null,{"$f":"Tableau46[[#This Row],[Fournisseur]]&\" - \"&Tableau46[[#This Row],[Levure]]","v":" - "}]
[null,null,null,{"$f":"Tableau46[[#This Row],[Fournisseur]]&\" - \"&Tableau46[[#This Row],[Levure]]","v":" - "}]
[null,null,null,{"$f":"Tableau46[[#This Row],[Fournisseur]]&\" - \"&Tableau46[[#This Row],[Levure]]","v":" - "}]
[null,null,null,{"$f":"Tableau46[[#This Row],[Fournisseur]]&\" - \"&Tableau46[[#This Row],[Levure]]","v":" - "}]
[null,null,null,{"$f":"Tableau46[[#This Row],[Fournisseur]]&\" - \"&Tableau46[[#This Row],[Levure]]","v":" - "}]
[null,null,null,{"$f":"Tableau46[[#This Row],[Fournisseur]]&\" - \"&Tableau46[[#This Row],[Levure]]","v":" - "}]
[null,null,null,{"$f":"Tableau46[[#This Row],[Fournisseur]]&\" - \"&Tableau46[[#This Row],[Levure]]","v":" - "}]
[null,null,null,{"$f":"Tableau46[[#This Row],[Fournisseur]]&\" - \"&Tableau46[[#This Row],[Levure]]","v":" - "}]
[null,null,null,{"$f":"Tableau46[[#This Row],[Fournisseur]]&\" - \"&Tableau46[[#This Row],[Levure]]","v":" - "}]
[null,null,null,{"$f":"Tableau46[[#This Row],[Fournisseur]]&\" - \"&Tableau46[[#This Row],[Levure]]","v":" - "}]
[null,null,null,{"$f":"Tableau46[[#This Row],[Fournisseur]]&\" - \"&Tableau46[[#This Row],[Levure]]","v":" - "}]
[null,null,null,{"$f":"Tableau46[[#This Row],[Fournisseur]]&\" - \"&Tableau46[[#This Row],[Levure]]","v":" - "}]
[null,null,null,{"$f":"Tableau46[[#This Row],[Fournisseur]]&\" - \"&Tableau46[[#This Row],[Levure]]","v":" - "}]
[null,null,null,{"$f":"Tableau46[[#This Row],[Fournisseur]]&\" - \"&Tableau46[[#This Row],[Levure]]","v":" - "}]
[null,null,null,{"$f":"Tableau46[[#This Row],[Fournisseur]]&\" - \"&Tableau46[[#This Row],[Levure]]","v":" - "}]
[null,null,null,{"$f":"Tableau46[[#This Row],[Fournisseur]]&\" - \"&Tableau46[[#This Row],[Levure]]","v":" - "}]
[null,null,null,{"$f":"Tableau46[[#This Row],[Fournisseur]]&\" - \"&Tableau46[[#This Row],[Levure]]","v":" - "}]
[null,null,null,{"$f":"Tableau46[[#This Row],[Fournisseur]]&\" - \"&Tableau46[[#This Row],[Levure]]","v":" - "}]
[null,null,null,{"$f":"Tableau46[[#This Row],[Fournisseur]]&\" - \"&Tableau46[[#This Row],[Levure]]","v":" - "}]
[null,null,null,{"$f":"Tableau46[[#This Row],[Fournisseur]]&\" - \"&Tableau46[[#This Row],[Levure]]","v":" - "}]
[null,null,null,{"$f":"Tableau46[[#This Row],[Fournisseur]]&\" - \"&Tableau46[[#This Row],[Levure]]","v":" - "}]
[null,null,null,{"$f":"Tableau46[[#This Row],[Fournisseur]]&\" - \"&Tableau46[[#This Row],[Levure]]","v":" - "}]
[null,null,null,{"$f":"Tableau46[[#This Row],[Fournisseur]]&\" - \"&Tableau46[[#This Row],[Levure]]","v":" - "}]
[null,null,null,{"$f":"Tableau46[[#This Row],[Fournisseur]]&\" - \"&Tableau46[[#This Row],[Levure]]","v":" - "}]
[null,null,null,{"$f":"Tableau46[[#This Row],[Fournisseur]]&\" - \"&Tableau46[[#This Row],[Levure]]","v":" - "}]
[null,null,null,{"$f":"Tableau46[[#This Row],[Fournisseur]]&\" - \"&Tableau46[[#This Row],[Levure]]","v":" - "}]
[null,null,null,{"$f":"Tableau46[[#This Row],[Fournisseur]]&\" - \"&Tableau46[[#This Row],[Levure]]","v":" - "}]
[null,null,null,{"$f":"Tableau46[[#This Row],[Fournisseur]]&\" - \"&Tableau46[[#This Row],[Levure]]","v":" - "}]
[null,null,null,{"$f":"Tableau46[[#This Row],[Fournisseur]]&\" - \"&Tableau46[[#This Row],[Levure]]","v":" - "}]
[null,null,null,{"$f":"Tableau46[[#This Row],[Fournisseur]]&\" - \"&Tableau46[[#This Row],[Levure]]","v":" - "}]
[null,null,null,{"$f":"Tableau46[[#This Row],[Fournisseur]]&\" - \"&Tableau46[[#This Row],[Levure]]","v":" - "}]
[null,null,null,{"$f":"Tableau46[[#This Row],[Fournisseur]]&\" - \"&Tableau46[[#This Row],[Levure]]","v":" - "}]
[null,null,null,{"$f":"Tableau46[[#This Row],[Fournisseur]]&\" - \"&Tableau46[[#This Row],[Levure]]","v":" - "}]
[null,null,null,{"$f":"Tableau46[[#This Row],[Fournisseur]]&\" - \"&Tableau46[[#This Row],[Levure]]","v":" - "}]
[null,null,null,{"$f":"Tableau46[[#This Row],[Fournisseur]]&\" - \"&Tableau46[[#This Row],[Levure]]","v":" - "}]
[null,null,null,{"$f":"Tableau46[[#This Row],[Fournisseur]]&\" - \"&Tableau46[[#This Row],[Levure]]","v":" - "}]
[null,null,null,{"$f":"Tableau46[[#This Row],[Fournisseur]]&\" - \"&Tableau46[[#This Row],[Levure]]","v":" - "}]
[null,null,null,{"$f":"Tableau46[[#This Row],[Fournisseur]]&\" - \"&Tableau46[[#This Row],[Levure]]","v":" - "}]
[null,null,null,{"$f":"Tableau46[[#This Row],[Fournisseur]]&\" - \"&Tableau46[[#This Row],[Levure]]","v":" - "}]
[null,null,null,{"$f":"Tableau46[[#This Row],[Fournisseur]]&\" - \"&Tableau46[[#This Row],[Levure]]","v":" - "}]
[null,null,null,{"$f":"Tableau46[[#This Row],[Fournisseur]]&\" - \"&Tableau46[[#This Row],[Levure]]","v":" - "}]
[null,null,null,{"$f":"Tableau46[[#This Row],[Fournisseur]]&\" - \"&Tableau46[[#This Row],[Levure]]","v":" - "}]
[null,null,null,{"$f":"Tableau46[[#This Row],[Fournisseur]]&\" - \"&Tableau46[[#This Row],[Levure]]","v":" - "}]